From: dpdklab@iol.unh.edu
To: Test Report <test-report@dpdk.org>
Cc: dpdklab@iol.unh.edu, David Marchand <david.marchand@redhat.com>,
Thomas Monjalon <thomas@monjalon.net>
Subject: |SUCCESS| pw125134 [PATCH] [v1] eventdev/timer: use loop to check for timeout events
Date: Sat, 18 Mar 2023 06:40:35 +0000 (UTC) [thread overview]
Message-ID: <20230318064035.9384060217@dpdk-ubuntu.dpdklab.iol.unh.edu> (raw)
Test-Label: iol-testing
Test-Status: SUCCESS
http://dpdk.org/patch/125134
_Testing PASS_
Submitter: Shijith Thotton <sthotton@marvell.com>
Date: Wednesday, March 15 2023 08:00:42
DPDK git baseline: Repo:dpdk
Branch: master
CommitID:baf13c3135d0c5998fff7edc23fb89412dc89246
125134 --> testing pass
Test environment and result as below:
+----------------------------------------+--------------------+----------------------+----------------+
| Environment | dpdk_meson_compile | dpdk_mingw64_compile | dpdk_unit_test |
+========================================+====================+======================+================+
| FreeBSD 13 | PASS | SKIPPED | SKIPPED |
+----------------------------------------+--------------------+----------------------+----------------+
| Ubuntu 20.04 ARM GCC Native | PASS | SKIPPED | PASS |
+----------------------------------------+--------------------+----------------------+----------------+
| Windows Server 2019 | PASS | PASS | PASS |
+----------------------------------------+--------------------+----------------------+----------------+
| Ubuntu 20.04 ARM Clang Native | PASS | SKIPPED | PASS |
+----------------------------------------+--------------------+----------------------+----------------+
| Ubuntu 20.04 ARM GCC Cross Compile | PASS | SKIPPED | SKIPPED |
+----------------------------------------+--------------------+----------------------+----------------+
| Ubuntu 20.04 ARM Clang Cross Compile | PASS | SKIPPED | SKIPPED |
+----------------------------------------+--------------------+----------------------+----------------+
| Ubuntu 20.04 aarch32 GCC Cross Compile | PASS | SKIPPED | SKIPPED |
+----------------------------------------+--------------------+----------------------+----------------+
| CentOS Stream 8 | PASS | SKIPPED | SKIPPED |
+----------------------------------------+--------------------+----------------------+----------------+
| Debian Bullseye | PASS | SKIPPED | PASS |
+----------------------------------------+--------------------+----------------------+----------------+
| Debian Buster | PASS | SKIPPED | PASS |
+----------------------------------------+--------------------+----------------------+----------------+
| RHEL8 | PASS | SKIPPED | PASS |
+----------------------------------------+--------------------+----------------------+----------------+
| RHEL 7 | PASS | SKIPPED | PASS |
+----------------------------------------+--------------------+----------------------+----------------+
| Ubuntu 20.04 | PASS | SKIPPED | SKIPPED |
+----------------------------------------+--------------------+----------------------+----------------+
| Ubuntu 22.04 | PASS | SKIPPED | PASS |
+----------------------------------------+--------------------+----------------------+----------------+
| openSUSE Leap 15 | PASS | SKIPPED | SKIPPED |
+----------------------------------------+--------------------+----------------------+----------------+
| Ubuntu 20.04 ARM SVE | PASS | SKIPPED | SKIPPED |
+----------------------------------------+--------------------+----------------------+----------------+
| CentOS Stream 9 | PASS | SKIPPED | SKIPPED |
+----------------------------------------+--------------------+----------------------+----------------+
FreeBSD 13
Kernel: 13.0
Compiler: clang 11.0.1
Ubuntu 20.04 ARM GCC Native
Kernel: 5.4.0-53-generic
Compiler: gcc 9.3
Windows Server 2019
Kernel: 10.0
Compiler: clang 14.0 and gcc 8.1.0 (MinGW)
Ubuntu 20.04 ARM Clang Native
Kernel: 5.4.0-53-generic
Compiler: clang 10.0.0-4ubuntu1
Ubuntu 20.04 ARM GCC Cross Compile
Kernel: 5.4.0-72-generic
Compiler: aarch64-linux-gnu-gcc (Ubuntu 9.3.0-17ubuntu1~20.04) 9.3.0
Ubuntu 20.04 ARM Clang Cross Compile
Kernel: 5.4.0-72-generic
Compiler: clang version 10.0.0-4ubuntu1
Ubuntu 20.04 aarch32 GCC Cross Compile
Kernel: 5.4.0-72-generic
Compiler: gcc 9.3.0
CentOS Stream 8
Kernel: 4.18.0-240.10.1.el8_3.x86_64
Compiler: gcc 8.4.1 20200928
Debian Bullseye
Kernel: 5.4.0-122-generic
Compiler: gcc 10.2.1-6
Debian Buster
Kernel: 5.4.0-122-generic
Compiler: gcc 8.3.0-6
RHEL8
Kernel: 4.18.0-240.10.1.el8_3.x86_64
Compiler: gcc 8.3.1 20191121 (Red Hat 8.3.1-5)
RHEL 7
Kernel: 4.18.0-240.10.1.el8_3.x86_64
Compiler: gcc 4.8.5 20150623 (Red Hat 4.8.5-44)
Ubuntu 20.04
Kernel: 4.18.0-240.10.1.el8_3.x86_64
Compiler: gcc 9.3.0-17ubuntu1~20.04
Ubuntu 22.04
Kernel: 4.18.0-240.10.1.el8_3.x86_64
Compiler: gcc 11.3.0
openSUSE Leap 15
Kernel: 4.18.0-240.10.1.el8_3.x86_64
Compiler: gcc 7.5.0
Ubuntu 20.04 ARM SVE
Kernel: 5.4.0-80-generic
Compiler: gcc 10.3.0 (Ubuntu 10.3.0-1ubuntu1~20.04)
CentOS Stream 9
Kernel: 4.18.0-240.10.1.el8_3.x86_64
Compiler: gcc 11.3.1 20220421
To view detailed results, visit:
https://lab.dpdk.org/results/dashboard/patchsets/25740/
UNH-IOL DPDK Community Lab
To manage your email subscriptions, visit:
https://lab.dpdk.org/results/dashboard/preferences/subscriptions/
next reply other threads:[~2023-03-18 6:40 UTC|newest]
Thread overview: 64+ messages / expand[flat|nested] mbox.gz Atom feed top
2023-03-18 6:40 dpdklab [this message]
-- strict thread matches above, loose matches on Subject: below --
2023-03-18 7:02 dpdklab
2023-03-18 7:02 dpdklab
2023-03-18 6:57 dpdklab
2023-03-18 6:56 dpdklab
2023-03-18 6:50 dpdklab
2023-03-18 6:44 dpdklab
2023-03-18 6:39 dpdklab
2023-03-18 6:37 dpdklab
2023-03-18 6:27 dpdklab
2023-03-18 6:26 dpdklab
2023-03-18 6:24 dpdklab
2023-03-18 6:23 dpdklab
2023-03-17 17:49 dpdklab
2023-03-17 17:49 dpdklab
2023-03-17 17:33 dpdklab
2023-03-17 17:31 dpdklab
2023-03-17 17:30 dpdklab
2023-03-17 17:30 dpdklab
2023-03-17 17:16 dpdklab
2023-03-17 17:15 dpdklab
2023-03-17 17:09 dpdklab
2023-03-17 17:08 dpdklab
2023-03-17 17:00 dpdklab
2023-03-17 17:00 dpdklab
2023-03-17 16:45 dpdklab
2023-03-17 11:39 dpdklab
2023-03-17 10:34 dpdklab
2023-03-17 8:19 dpdklab
[not found] <d7f77765b09c5333df105c317344e983a2f1ad45.1678867113.git.sthotton@marvell.com>
2023-03-15 7:50 ` |SUCCESS| pw125134 [PATCH v1] " qemudev
2023-03-15 7:54 ` qemudev
2023-03-15 10:19 ` 0-day Robot
2023-03-15 10:08 |SUCCESS| pw125134 [PATCH] [v1] " dpdklab
2023-03-15 10:01 dpdklab
2023-03-15 9:57 dpdklab
2023-03-15 9:54 dpdklab
2023-03-15 9:54 dpdklab
2023-03-15 9:39 dpdklab
2023-03-15 9:31 dpdklab
2023-03-15 9:26 dpdklab
2023-03-15 9:22 dpdklab
2023-03-15 9:21 dpdklab
2023-03-15 9:18 dpdklab
2023-03-15 9:18 dpdklab
2023-03-15 9:14 dpdklab
2023-03-15 9:07 dpdklab
2023-03-15 9:06 dpdklab
2023-03-15 9:06 dpdklab
2023-03-15 9:01 dpdklab
2023-03-15 9:01 dpdklab
2023-03-15 9:01 dpdklab
2023-03-15 9:00 dpdklab
2023-03-15 8:57 dpdklab
2023-03-15 8:56 dpdklab
2023-03-15 8:52 dpdklab
2023-03-15 8:51 dpdklab
2023-03-15 8:51 dpdklab
2023-03-15 8:48 dpdklab
2023-03-15 8:47 dpdklab
2023-03-15 8:47 dpdklab
2023-03-15 8:45 dpdklab
2023-03-15 8:41 dpdklab
2023-03-15 8:40 dpdklab
2023-03-15 8:34 dpdklab
Reply instructions:
You may reply publicly to this message via plain-text email
using any one of the following methods:
* Save the following mbox file, import it into your mail client,
and reply-to-all from there: mbox
Avoid top-posting and favor interleaved quoting:
https://en.wikipedia.org/wiki/Posting_style#Interleaved_style
* Reply using the --to, --cc, and --in-reply-to
switches of git-send-email(1):
git send-email \
--in-reply-to=20230318064035.9384060217@dpdk-ubuntu.dpdklab.iol.unh.edu \
--to=dpdklab@iol.unh.edu \
--cc=david.marchand@redhat.com \
--cc=test-report@dpdk.org \
--cc=thomas@monjalon.net \
/path/to/YOUR_REPLY
https://kernel.org/pub/software/scm/git/docs/git-send-email.html
* If your mail client supports setting the In-Reply-To header
via mailto: links, try the mailto: link
Be sure your reply has a Subject: header at the top and a blank line
before the message body.
This is a public inbox, see mirroring instructions
for how to clone and mirror all data and code used for this inbox;
as well as URLs for NNTP newsgroup(s).