automatic DPDK test reports
 help / color / mirror / Atom feed
From: dpdklab@iol.unh.edu
To: Test Report <test-report@dpdk.org>
Cc: dpdklab@iol.unh.edu, David Marchand <david.marchand@redhat.com>,
	Thomas Monjalon <thomas@monjalon.net>
Subject: |SUCCESS| pw125135 [PATCH] [v3] net/ice: fix ice dcf control thread crash
Date: Sat, 18 Mar 2023 20:21:46 +0000 (UTC)	[thread overview]
Message-ID: <20230318202146.0B82760217@dpdk-ubuntu.dpdklab.iol.unh.edu> (raw)

Test-Label: iol-testing
Test-Status: SUCCESS
http://dpdk.org/patch/125135

_Testing PASS_

Submitter: Mingjin Ye <mingjinx.ye@intel.com>
Date: Wednesday, March 15 2023 08:20:18 
DPDK git baseline: Repo:dpdk
  Branch: master
  CommitID:baf13c3135d0c5998fff7edc23fb89412dc89246

125135 --> testing pass

Test environment and result as below:

+----------------------------------------+--------------------+----------------------+----------------+
|              Environment               | dpdk_meson_compile | dpdk_mingw64_compile | dpdk_unit_test |
+========================================+====================+======================+================+
| Ubuntu 20.04 ARM Clang Native          | PASS               | SKIPPED              | PASS           |
+----------------------------------------+--------------------+----------------------+----------------+
| Ubuntu 20.04 ARM GCC Native            | PASS               | SKIPPED              | PASS           |
+----------------------------------------+--------------------+----------------------+----------------+
| FreeBSD 13                             | PASS               | SKIPPED              | SKIPPED        |
+----------------------------------------+--------------------+----------------------+----------------+
| Windows Server 2019                    | PASS               | PASS                 | PASS           |
+----------------------------------------+--------------------+----------------------+----------------+
| Ubuntu 20.04 ARM GCC Cross Compile     | PASS               | SKIPPED              | SKIPPED        |
+----------------------------------------+--------------------+----------------------+----------------+
| Ubuntu 20.04 aarch32 GCC Cross Compile | PASS               | SKIPPED              | SKIPPED        |
+----------------------------------------+--------------------+----------------------+----------------+
| Ubuntu 20.04 ARM Clang Cross Compile   | PASS               | SKIPPED              | SKIPPED        |
+----------------------------------------+--------------------+----------------------+----------------+
| CentOS Stream 9                        | PASS               | SKIPPED              | PASS           |
+----------------------------------------+--------------------+----------------------+----------------+
| Ubuntu 22.04                           | PASS               | SKIPPED              | SKIPPED        |
+----------------------------------------+--------------------+----------------------+----------------+
| CentOS Stream 8                        | PASS               | SKIPPED              | SKIPPED        |
+----------------------------------------+--------------------+----------------------+----------------+
| Debian Bullseye                        | PASS               | SKIPPED              | SKIPPED        |
+----------------------------------------+--------------------+----------------------+----------------+
| Ubuntu 20.04                           | PASS               | SKIPPED              | PASS           |
+----------------------------------------+--------------------+----------------------+----------------+
| RHEL8                                  | PASS               | SKIPPED              | SKIPPED        |
+----------------------------------------+--------------------+----------------------+----------------+
| Ubuntu 20.04 ARM SVE                   | PASS               | SKIPPED              | SKIPPED        |
+----------------------------------------+--------------------+----------------------+----------------+
| openSUSE Leap 15                       | PASS               | SKIPPED              | SKIPPED        |
+----------------------------------------+--------------------+----------------------+----------------+
| Debian Buster                          | PASS               | SKIPPED              | SKIPPED        |
+----------------------------------------+--------------------+----------------------+----------------+
| RHEL 7                                 | PASS               | SKIPPED              | SKIPPED        |
+----------------------------------------+--------------------+----------------------+----------------+


Ubuntu 20.04 ARM Clang Native
	Kernel: 5.4.0-53-generic
	Compiler: clang 10.0.0-4ubuntu1

Ubuntu 20.04 ARM GCC Native
	Kernel: 5.4.0-53-generic
	Compiler: gcc 9.3

FreeBSD 13
	Kernel: 13.0
	Compiler: clang 11.0.1

Windows Server 2019
	Kernel: 10.0
	Compiler: clang 14.0 and gcc 8.1.0 (MinGW)

Ubuntu 20.04 ARM GCC Cross Compile
	Kernel: 5.4.0-72-generic
	Compiler: aarch64-linux-gnu-gcc (Ubuntu 9.3.0-17ubuntu1~20.04) 9.3.0

Ubuntu 20.04 aarch32 GCC Cross Compile
	Kernel: 5.4.0-72-generic
	Compiler: gcc 9.3.0

Ubuntu 20.04 ARM Clang Cross Compile
	Kernel: 5.4.0-72-generic
	Compiler: clang version 10.0.0-4ubuntu1

CentOS Stream 9
	Kernel: 4.18.0-240.10.1.el8_3.x86_64
	Compiler: gcc 11.3.1 20220421

Ubuntu 22.04
	Kernel: Container Host Kernel
	Compiler: gcc 11.3.1-2

CentOS Stream 8
	Kernel: 4.18.0-240.10.1.el8_3.x86_64
	Compiler: gcc 8.4.1 20200928

Debian Bullseye
	Kernel: 5.4.0-122-generic
	Compiler: gcc 10.2.1-6

Ubuntu 20.04
	Kernel: 4.18.0-240.10.1.el8_3.x86_64
	Compiler: gcc 9.3.0-17ubuntu1~20.04

RHEL8
	Kernel: 4.18.0-240.10.1.el8_3.x86_64
	Compiler: gcc 8.3.1 20191121 (Red Hat 8.3.1-5)

Ubuntu 20.04 ARM SVE
	Kernel: 5.4.0-80-generic
	Compiler: gcc 10.3.0 (Ubuntu 10.3.0-1ubuntu1~20.04)

openSUSE Leap 15
	Kernel: 4.18.0-240.10.1.el8_3.x86_64
	Compiler: gcc 7.5.0

Debian Buster
	Kernel: 5.4.0-122-generic
	Compiler: gcc 8.3.0-6

RHEL 7
	Kernel: 4.18.0-240.10.1.el8_3.x86_64
	Compiler: gcc 4.8.5 20150623 (Red Hat 4.8.5-44)

To view detailed results, visit:
https://lab.dpdk.org/results/dashboard/patchsets/25741/

UNH-IOL DPDK Community Lab

To manage your email subscriptions, visit: 
https://lab.dpdk.org/results/dashboard/preferences/subscriptions/

             reply	other threads:[~2023-03-18 20:21 UTC|newest]

Thread overview: 66+ messages / expand[flat|nested]  mbox.gz  Atom feed  top
2023-03-18 20:21 dpdklab [this message]
  -- strict thread matches above, loose matches on Subject: below --
2023-03-18 20:57 dpdklab
2023-03-18 20:57 dpdklab
2023-03-18 20:56 dpdklab
2023-03-18 20:51 dpdklab
2023-03-18 20:45 dpdklab
2023-03-18 20:41 dpdklab
2023-03-18 20:40 dpdklab
2023-03-18 20:39 dpdklab
2023-03-18 20:29 dpdklab
2023-03-18 20:25 dpdklab
2023-03-18 20:23 dpdklab
2023-03-18 20:15 dpdklab
2023-03-18 13:31 dpdklab
2023-03-18 13:31 dpdklab
2023-03-18 13:28 dpdklab
2023-03-18 13:24 dpdklab
2023-03-18 13:18 dpdklab
2023-03-18 13:16 dpdklab
2023-03-18 13:16 dpdklab
2023-03-18 13:11 dpdklab
2023-03-18 13:02 dpdklab
2023-03-18 12:59 dpdklab
2023-03-18 12:55 dpdklab
2023-03-18  7:48 dpdklab
2023-03-18  4:53 dpdklab
2023-03-18  2:06 dpdklab
2023-03-17 18:49 dpdklab
2023-03-17 13:44 dpdklab
2023-03-17 12:45 dpdklab
2023-03-15 11:52 dpdklab
2023-03-15 11:04 dpdklab
2023-03-15 11:03 dpdklab
2023-03-15 10:46 dpdklab
2023-03-15 10:45 dpdklab
2023-03-15 10:43 dpdklab
     [not found] <20230315082018.4260-1-mingjinx.ye@intel.com>
2023-03-15  8:14 ` |SUCCESS| pw125135 [PATCH v3] " qemudev
2023-03-15  8:18 ` qemudev
2023-03-15  8:26 ` checkpatch
2023-03-15 10:39 ` 0-day Robot
2023-03-15 10:30 |SUCCESS| pw125135 [PATCH] [v3] " dpdklab
2023-03-15 10:25 dpdklab
2023-03-15 10:13 dpdklab
2023-03-15 10:12 dpdklab
2023-03-15 10:10 dpdklab
2023-03-15 10:05 dpdklab
2023-03-15 10:01 dpdklab
2023-03-15 10:01 dpdklab
2023-03-15 10:00 dpdklab
2023-03-15  9:58 dpdklab
2023-03-15  9:56 dpdklab
2023-03-15  9:56 dpdklab
2023-03-15  9:49 dpdklab
2023-03-15  9:47 dpdklab
2023-03-15  9:47 dpdklab
2023-03-15  9:47 dpdklab
2023-03-15  9:45 dpdklab
2023-03-15  9:41 dpdklab
2023-03-15  9:41 dpdklab
2023-03-15  9:40 dpdklab
2023-03-15  9:36 dpdklab
2023-03-15  9:34 dpdklab
2023-03-15  9:34 dpdklab
2023-03-15  9:26 dpdklab
2023-03-15  9:24 dpdklab
2023-03-15  9:14 dpdklab

Reply instructions:

You may reply publicly to this message via plain-text email
using any one of the following methods:

* Save the following mbox file, import it into your mail client,
  and reply-to-all from there: mbox

  Avoid top-posting and favor interleaved quoting:
  https://en.wikipedia.org/wiki/Posting_style#Interleaved_style

* Reply using the --to, --cc, and --in-reply-to
  switches of git-send-email(1):

  git send-email \
    --in-reply-to=20230318202146.0B82760217@dpdk-ubuntu.dpdklab.iol.unh.edu \
    --to=dpdklab@iol.unh.edu \
    --cc=david.marchand@redhat.com \
    --cc=test-report@dpdk.org \
    --cc=thomas@monjalon.net \
    /path/to/YOUR_REPLY

  https://kernel.org/pub/software/scm/git/docs/git-send-email.html

* If your mail client supports setting the In-Reply-To header
  via mailto: links, try the mailto: link
Be sure your reply has a Subject: header at the top and a blank line before the message body.
This is a public inbox, see mirroring instructions
for how to clone and mirror all data and code used for this inbox;
as well as URLs for NNTP newsgroup(s).