Test-Label: loongarch-compilation Test-Status: SUCCESS http://dpdk.org/patch/125136 _Compilation OK_ Submitter: Zhichao Zeng <zhichaox.zeng@intel.com> Date: Wed, 15 Mar 2023 16:46:17 +0800 DPDK git baseline: Repo:dpdk Branch: main CommitID: baf13c3135d0c5998fff7edc23fb89412dc89246 125136 --> meson & ninja build successfully Test environment and result as below: +---------------------+----------------+ | Environment | compilation | +---------------------+----------------+ | Loongnix-Server 8.3 | PASS | +---------------------+----------------+ Loongnix-Server 8.3 Kernel: 4.19.190+ Compiler: gcc 8.3
Test-Label: loongarch-unit-testing Test-Status: SUCCESS http://dpdk.org/patch/125136 _Unit Testing PASS_ Submitter: Zhichao Zeng <zhichaox.zeng@intel.com> Date: Wed, 15 Mar 2023 16:46:17 +0800 DPDK git baseline: Repo:dpdk Branch: main CommitID: baf13c3135d0c5998fff7edc23fb89412dc89246 125136 --> testing pass Test environment and result as below: +---------------------+----------------+ | Environment | dpdk_unit_test | +---------------------+----------------+ | Loongnix-Server 8.3 | PASS | +---------------------+----------------+ Loongnix-Server 8.3 Kernel: 4.19.190+ Compiler: gcc 8.3 Test result details: 1/103 DPDK:fast-tests / acl_autotest OK 2.88s 2/103 DPDK:fast-tests / atomic_autotest OK 7.38s 3/103 DPDK:fast-tests / bitmap_autotest OK 0.07s 4/103 DPDK:fast-tests / bpf_autotest OK 0.07s 5/103 DPDK:fast-tests / bpf_convert_autotest OK 0.07s 6/103 DPDK:fast-tests / bitops_autotest OK 0.07s 7/103 DPDK:fast-tests / byteorder_autotest OK 0.07s 8/103 DPDK:fast-tests / cksum_autotest OK 0.07s 9/103 DPDK:fast-tests / cmdline_autotest OK 0.07s 10/103 DPDK:fast-tests / common_autotest OK 0.92s 11/103 DPDK:fast-tests / cpuflags_autotest OK 0.07s 12/103 DPDK:fast-tests / debug_autotest OK 0.67s 13/103 DPDK:fast-tests / devargs_autotest OK 0.07s 14/103 DPDK:fast-tests / eal_flags_c_opt_autotest OK 0.67s 15/103 DPDK:fast-tests / eal_flags_main_opt_autotest OK 0.22s 16/103 DPDK:fast-tests / eal_flags_n_opt_autotest OK 0.17s 17/103 DPDK:fast-tests / eal_flags_hpet_autotest OK 0.12s 18/103 DPDK:fast-tests / eal_flags_no_huge_autotest OK 0.22s 19/103 DPDK:fast-tests / eal_flags_a_opt_autotest OK 0.27s 20/103 DPDK:fast-tests / eal_flags_b_opt_autotest OK 0.22s 21/103 DPDK:fast-tests / eal_flags_vdev_opt_autotest OK 0.17s 22/103 DPDK:fast-tests / eal_flags_r_opt_autotest OK 0.17s 23/103 DPDK:fast-tests / eal_flags_mem_autotest OK 0.52s 24/103 DPDK:fast-tests / eal_flags_file_prefix_autotest OK 22.36s 25/103 DPDK:fast-tests / eal_flags_misc_autotest OK 0.77s 26/103 DPDK:fast-tests / eal_fs_autotest OK 0.07s 27/103 DPDK:fast-tests / errno_autotest OK 0.07s 28/103 DPDK:fast-tests / ethdev_link_status OK 0.07s 29/103 DPDK:fast-tests / event_ring_autotest OK 0.07s 30/103 DPDK:fast-tests / fib_autotest OK 0.87s 31/103 DPDK:fast-tests / fib6_autotest OK 0.87s 32/103 DPDK:fast-tests / func_reentrancy_autotest OK 2.23s 33/103 DPDK:fast-tests / hash_autotest OK 1.02s 34/103 DPDK:fast-tests / interrupt_autotest OK 1.37s 35/103 DPDK:fast-tests / ipfrag_autotest OK 0.07s 36/103 DPDK:fast-tests / lcores_autotest OK 1.17s 37/103 DPDK:fast-tests / logs_autotest OK 0.07s 38/103 DPDK:fast-tests / lpm_autotest OK 5.91s 39/103 DPDK:fast-tests / lpm6_autotest OK 8.87s 40/103 DPDK:fast-tests / malloc_autotest OK 60.55s 41/103 DPDK:fast-tests / mbuf_autotest OK 6.68s 42/103 DPDK:fast-tests / mcslock_autotest OK 4.82s 43/103 DPDK:fast-tests / memcpy_autotest OK 6.68s 44/103 DPDK:fast-tests / memory_autotest OK 0.12s 45/103 DPDK:fast-tests / mempool_autotest OK 0.47s 46/103 DPDK:fast-tests / memzone_autotest OK 0.17s 47/103 DPDK:fast-tests / meter_autotest OK 0.07s 48/103 DPDK:fast-tests / multiprocess_autotest OK 0.17s 49/103 DPDK:fast-tests / per_lcore_autotest OK 0.17s 50/103 DPDK:fast-tests / pflock_autotest OK 0.87s 51/103 DPDK:fast-tests / prefetch_autotest OK 0.07s 52/103 DPDK:fast-tests / rcu_qsbr_autotest OK 0.57s 53/103 DPDK:fast-tests / pie_autotest OK 0.07s 54/103 DPDK:fast-tests / rib_autotest OK 10.30s 55/103 DPDK:fast-tests / rib6_autotest OK 10.30s 56/103 DPDK:fast-tests / ring_autotest OK 0.12s 57/103 DPDK:fast-tests / rwlock_test1_autotest OK 0.82s 58/103 DPDK:fast-tests / rwlock_rda_autotest OK 5.07s 59/103 DPDK:fast-tests / rwlock_rds_wrm_autotest OK 5.07s 60/103 DPDK:fast-tests / rwlock_rde_wro_autotest OK 5.07s 61/103 DPDK:fast-tests / sched_autotest OK 0.07s 62/103 DPDK:fast-tests / security_autotest OK 0.07s 63/103 DPDK:fast-tests / seqlock_autotest OK 2.07s 64/103 DPDK:fast-tests / spinlock_autotest OK 0.17s 65/103 DPDK:fast-tests / stack_autotest OK 0.87s 66/103 DPDK:fast-tests / stack_lf_autotest SKIP 0.07s exit status 77 67/103 DPDK:fast-tests / string_autotest OK 0.07s 68/103 DPDK:fast-tests / tailq_autotest OK 0.07s 69/103 DPDK:fast-tests / ticketlock_autotest OK 0.22s 70/103 DPDK:fast-tests / timer_autotest OK 3.92s 71/103 DPDK:fast-tests / user_delay_us OK 0.07s 72/103 DPDK:fast-tests / version_autotest OK 0.07s 73/103 DPDK:fast-tests / crc_autotest OK 0.07s 74/103 DPDK:fast-tests / distributor_autotest OK 1.22s 75/103 DPDK:fast-tests / eventdev_common_autotest OK 0.07s 76/103 DPDK:fast-tests / fbarray_autotest OK 0.07s 77/103 DPDK:fast-tests / hash_readwrite_func_autotest OK 6.43s 78/103 DPDK:fast-tests / ipsec_autotest SKIP 0.07s exit status 77 79/103 DPDK:fast-tests / kni_autotest SKIP 0.07s exit status 77 80/103 DPDK:fast-tests / kvargs_autotest OK 0.07s 81/103 DPDK:fast-tests / member_autotest OK 1.22s 82/103 DPDK:fast-tests / power_cpufreq_autotest SKIP 0.07s exit status 77 83/103 DPDK:fast-tests / power_autotest OK 0.07s 84/103 DPDK:fast-tests / power_kvm_vm_autotest SKIP 0.07s exit status 77 85/103 DPDK:fast-tests / power_intel_uncore_autotest SKIP 0.07s exit status 77 86/103 DPDK:fast-tests / reorder_autotest OK 0.12s 87/103 DPDK:fast-tests / service_autotest OK 3.27s 88/103 DPDK:fast-tests / thash_autotest OK 0.07s 89/103 DPDK:fast-tests / threads_autotest OK 0.27s 90/103 DPDK:fast-tests / trace_autotest OK 0.07s 91/103 DPDK:fast-tests / trace_autotest_with_traces OK 0.12s 92/103 DPDK:fast-tests / metrics_autotest OK 0.07s 93/103 DPDK:fast-tests / telemetry_json_autotest OK 0.07s 94/103 DPDK:fast-tests / telemetry_data_autotest OK 0.07s 95/103 DPDK:fast-tests / table_autotest OK 10.11s 96/103 DPDK:fast-tests / ring_pmd_autotest OK 0.07s 97/103 DPDK:fast-tests / event_eth_tx_adapter_autotest OK 1.47s 98/103 DPDK:fast-tests / bitratestats_autotest OK 0.07s 99/103 DPDK:fast-tests / latencystats_autotest OK 0.07s 100/103 DPDK:fast-tests / pdump_autotest OK 5.17s 101/103 DPDK:fast-tests / vdev_autotest OK 0.07s 102/103 DPDK:fast-tests / compressdev_autotest SKIP 0.07s exit status 77 103/103 DPDK:fast-tests / telemetry_all OK 14.84s Ok: 96 Expected Fail: 0 Fail: 0 Unexpected Pass: 0 Skipped: 7 Timeout: 0
Test-Label: checkpatch Test-Status: SUCCESS http://dpdk.org/patch/125136 _coding style OK_
Test-Label: iol-intel-Functional Test-Status: SUCCESS http://dpdk.org/patch/125136 _Functional Testing PASS_ Submitter: Zhichao Zeng <zhichaox.zeng@intel.com> Date: Wednesday, March 15 2023 08:46:17 DPDK git baseline: Repo:dpdk Branch: master CommitID:baf13c3135d0c5998fff7edc23fb89412dc89246 125136 --> functional testing pass Test environment and result as below: Ubuntu 20.04 ARM Kernel: 4.15.0-132-generic Compiler: gcc 7.5 NIC: Arm Intel Corporation Ethernet Converged Network Adapter XL710-QDA2 40000 Mbps Target: x86_64-native-linuxapp-gcc Fail/Total: 0/2 To view detailed results, visit: https://lab.dpdk.org/results/dashboard/patchsets/25742/ UNH-IOL DPDK Community Lab To manage your email subscriptions, visit: https://lab.dpdk.org/results/dashboard/preferences/subscriptions/
Test-Label: iol-broadcom-Functional Test-Status: SUCCESS http://dpdk.org/patch/125136 _Functional Testing PASS_ Submitter: Zhichao Zeng <zhichaox.zeng@intel.com> Date: Wednesday, March 15 2023 08:46:17 DPDK git baseline: Repo:dpdk Branch: master CommitID:baf13c3135d0c5998fff7edc23fb89412dc89246 125136 --> functional testing pass Test environment and result as below: Ubuntu 22.04 Kernel: 5.15.0-58-generic x86_64 Compiler: gcc gcc (Ubuntu 11.2.0-19ubuntu1) 11.2.0 NIC: Broadcom Inc. and subsidiaries BCM957508-P2100G Dual-Port 100 Gb/s QSFP56 100 Mbps Target: x86_64-native-linuxapp-gcc Fail/Total: 0/2 To view detailed results, visit: https://lab.dpdk.org/results/dashboard/patchsets/25742/ UNH-IOL DPDK Community Lab To manage your email subscriptions, visit: https://lab.dpdk.org/results/dashboard/preferences/subscriptions/
Test-Label: iol-mellanox-Performance Test-Status: SUCCESS http://dpdk.org/patch/125136 _Performance Testing PASS_ Submitter: Zhichao Zeng <zhichaox.zeng@intel.com> Date: Wednesday, March 15 2023 08:46:17 DPDK git baseline: Repo:dpdk Branch: master CommitID:baf13c3135d0c5998fff7edc23fb89412dc89246 125136 --> performance testing pass Test environment and result as below: Ubuntu 20.04 Kernel: 4.15.0-generic Compiler: gcc 7.4 NIC: Mellanox ConnectX-5 100000 Mbps Target: x86_64-native-linuxapp-gcc Fail/Total: 0/6 Detail performance results: +------------+---------+----------+-------------+------------------------------+ | frame_size | txd/rxd | num_cpus | num_threads | throughput difference from | | | | | | expected | +============+=========+==========+=============+==============================+ | 64 | 256 | 1 | 1 | 0.0% | +------------+---------+----------+-------------+------------------------------+ | 128 | 256 | 1 | 1 | 0.0% | +------------+---------+----------+-------------+------------------------------+ | 1024 | 256 | 1 | 1 | -0.2% | +------------+---------+----------+-------------+------------------------------+ | 256 | 256 | 1 | 1 | 0.4% | +------------+---------+----------+-------------+------------------------------+ | 1518 | 256 | 1 | 1 | -0.2% | +------------+---------+----------+-------------+------------------------------+ | 512 | 256 | 1 | 1 | 0.3% | +------------+---------+----------+-------------+------------------------------+ To view detailed results, visit: https://lab.dpdk.org/results/dashboard/patchsets/25742/ UNH-IOL DPDK Community Lab To manage your email subscriptions, visit: https://lab.dpdk.org/results/dashboard/preferences/subscriptions/
Test-Label: iol-broadcom-Functional Test-Status: SUCCESS http://dpdk.org/patch/125136 _Functional Testing PASS_ Submitter: Zhichao Zeng <zhichaox.zeng@intel.com> Date: Wednesday, March 15 2023 08:46:17 DPDK git baseline: Repo:dpdk Branch: master CommitID:baf13c3135d0c5998fff7edc23fb89412dc89246 125136 --> functional testing pass Test environment and result as below: Ubuntu 22.04 Kernel: 5.15.0-58-generic x86_64 Compiler: gcc gcc (Ubuntu 11.2.0-19ubuntu1) 11.2.0 NIC: Broadcom Inc. and subsidiaries BCM957508-P2100G Dual-Port 100 Gb/s QSFP56 100 Mbps Target: x86_64-native-linuxapp-gcc Fail/Total: 0/2 Arm Ampere Altra - Ubuntu 20.04.4 Kernel: 5.4.0-137-generic aarch64 Compiler: gcc 9.4 NIC: Broadcom Inc. and subsidiaries BCM957508-P2100G Dual-Port 100 Gb/s QSFP56 100 Mbps Target: x86_64-native-linuxapp-gcc Fail/Total: 0/1 To view detailed results, visit: https://lab.dpdk.org/results/dashboard/patchsets/25742/ UNH-IOL DPDK Community Lab To manage your email subscriptions, visit: https://lab.dpdk.org/results/dashboard/preferences/subscriptions/
Test-Label: iol-broadcom-Performance Test-Status: SUCCESS http://dpdk.org/patch/125136 _Performance Testing PASS_ Submitter: Zhichao Zeng <zhichaox.zeng@intel.com> Date: Wednesday, March 15 2023 08:46:17 DPDK git baseline: Repo:dpdk Branch: master CommitID:baf13c3135d0c5998fff7edc23fb89412dc89246 125136 --> performance testing pass Test environment and result as below: Ubuntu 20.04 ARM Kernel: 4.15.0-132-generic Compiler: gcc 7.5 NIC: Arm Broadcom Inc. brcm_57414 25000 Mbps Target: x86_64-native-linuxapp-gcc Fail/Total: 0/2 Detail performance results: +------------+---------+----------+-------------+------------------------------+ | frame_size | txd/rxd | num_cpus | num_threads | throughput difference from | | | | | | expected | +============+=========+==========+=============+==============================+ | 64 | 512 | 1 | 1 | 0.0% | +------------+---------+----------+-------------+------------------------------+ | 64 | 2048 | 1 | 1 | 1.4% | +------------+---------+----------+-------------+------------------------------+ To view detailed results, visit: https://lab.dpdk.org/results/dashboard/patchsets/25742/ UNH-IOL DPDK Community Lab To manage your email subscriptions, visit: https://lab.dpdk.org/results/dashboard/preferences/subscriptions/
Test-Label: iol-broadcom-Performance Test-Status: SUCCESS http://dpdk.org/patch/125136 _Performance Testing PASS_ Submitter: Zhichao Zeng <zhichaox.zeng@intel.com> Date: Wednesday, March 15 2023 08:46:17 DPDK git baseline: Repo:dpdk Branch: master CommitID:baf13c3135d0c5998fff7edc23fb89412dc89246 125136 --> performance testing pass Test environment and result as below: Ubuntu 20.04 ARM Kernel: 4.15.0-132-generic Compiler: gcc 7.5 NIC: Arm Broadcom Inc. brcm_57414 25000 Mbps Target: x86_64-native-linuxapp-gcc Fail/Total: 0/2 Detail performance results: +------------+---------+----------+-------------+------------------------------+ | frame_size | txd/rxd | num_cpus | num_threads | throughput difference from | | | | | | expected | +============+=========+==========+=============+==============================+ | 64 | 512 | 1 | 1 | 0.0% | +------------+---------+----------+-------------+------------------------------+ | 64 | 2048 | 1 | 1 | 1.4% | +------------+---------+----------+-------------+------------------------------+ Ubuntu 22.04 Kernel: 5.15.0-39-generic Compiler: gcc gcc (Ubuntu 11.2.0-19ubuntu1) 11.2.0 NIC: Broadcom Inc. and subsidiaries BCM57414 NetXtreme-E 10Gb/25Gb RDMA Ethernet Controller 16d7 25 Mbps Target: x86_64-native-linuxapp-gcc Fail/Total: 0/3 Detail performance results: +------------+---------+----------+-------------+------------------------------+ | frame_size | txd/rxd | num_cpus | num_threads | throughput difference from | | | | | | expected | +============+=========+==========+=============+==============================+ | 64 | 128 | 1 | 1 | -0.1% | +------------+---------+----------+-------------+------------------------------+ | 64 | 512 | 1 | 1 | -0.1% | +------------+---------+----------+-------------+------------------------------+ | 64 | 2048 | 1 | 1 | -0.1% | +------------+---------+----------+-------------+------------------------------+ To view detailed results, visit: https://lab.dpdk.org/results/dashboard/patchsets/25742/ UNH-IOL DPDK Community Lab To manage your email subscriptions, visit: https://lab.dpdk.org/results/dashboard/preferences/subscriptions/
Test-Label: iol-intel-Performance Test-Status: SUCCESS http://dpdk.org/patch/125136 _Performance Testing PASS_ Submitter: Zhichao Zeng <zhichaox.zeng@intel.com> Date: Wednesday, March 15 2023 08:46:17 DPDK git baseline: Repo:dpdk Branch: master CommitID:baf13c3135d0c5998fff7edc23fb89412dc89246 125136 --> performance testing pass Test environment and result as below: Arm Ampere Altra - Ubuntu 20.04.4 Kernel: 5.4.0-137-generic aarch64 Compiler: gcc 9.4 NIC: Intel Corporation Ethernet Converged Network Adapter XL710-QDA2 40000 Mbps Target: x86_64-native-linuxapp-gcc Fail/Total: 0/2 Detail performance results: +------------+---------+----------+-------------+------------------------------+ | frame_size | txd/rxd | num_cpus | num_threads | throughput difference from | | | | | | expected | +============+=========+==========+=============+==============================+ | 64 | 512 | 1 | 1 | 0.1% | +------------+---------+----------+-------------+------------------------------+ | 64 | 2048 | 1 | 1 | -1.0% | +------------+---------+----------+-------------+------------------------------+ To view detailed results, visit: https://lab.dpdk.org/results/dashboard/patchsets/25742/ UNH-IOL DPDK Community Lab To manage your email subscriptions, visit: https://lab.dpdk.org/results/dashboard/preferences/subscriptions/
Test-Label: iol-intel-Functional Test-Status: SUCCESS http://dpdk.org/patch/125136 _Functional Testing PASS_ Submitter: Zhichao Zeng <zhichaox.zeng@intel.com> Date: Wednesday, March 15 2023 08:46:17 DPDK git baseline: Repo:dpdk Branch: master CommitID:baf13c3135d0c5998fff7edc23fb89412dc89246 125136 --> functional testing pass Test environment and result as below: Ubuntu 20.04 ARM Kernel: 4.15.0-132-generic Compiler: gcc 7.5 NIC: Arm Intel Corporation Ethernet Converged Network Adapter XL710-QDA2 40000 Mbps Target: x86_64-native-linuxapp-gcc Fail/Total: 0/2 Arm Ampere Altra - Ubuntu 20.04.4 Kernel: 5.4.0-137-generic aarch64 Compiler: gcc 9.4 NIC: Intel Corporation Ethernet Converged Network Adapter XL710-QDA2 40000 Mbps Target: x86_64-native-linuxapp-gcc Fail/Total: 0/1 To view detailed results, visit: https://lab.dpdk.org/results/dashboard/patchsets/25742/ UNH-IOL DPDK Community Lab To manage your email subscriptions, visit: https://lab.dpdk.org/results/dashboard/preferences/subscriptions/
Test-Label: iol-broadcom-Functional Test-Status: SUCCESS http://dpdk.org/patch/125136 _Functional Testing PASS_ Submitter: Zhichao Zeng <zhichaox.zeng@intel.com> Date: Wednesday, March 15 2023 08:46:17 DPDK git baseline: Repo:dpdk Branch: master CommitID:baf13c3135d0c5998fff7edc23fb89412dc89246 125136 --> functional testing pass Test environment and result as below: Ubuntu 22.04 Kernel: 5.15.0-58-generic x86_64 Compiler: gcc gcc (Ubuntu 11.2.0-19ubuntu1) 11.2.0 NIC: Broadcom Inc. and subsidiaries BCM957508-P2100G Dual-Port 100 Gb/s QSFP56 100 Mbps Target: x86_64-native-linuxapp-gcc Fail/Total: 0/2 Arm Ampere Altra - Ubuntu 20.04.4 Kernel: 5.4.0-137-generic aarch64 Compiler: gcc 9.4 NIC: Broadcom Inc. and subsidiaries BCM957508-P2100G Dual-Port 100 Gb/s QSFP56 100 Mbps Target: x86_64-native-linuxapp-gcc Fail/Total: 0/1 Ubuntu 20.04 ARM Kernel: 4.15.0-132-generic Compiler: gcc 7.5 NIC: Arm Broadcom Inc. brcm_57414 25000 Mbps Target: x86_64-native-linuxapp-gcc Fail/Total: 0/1 To view detailed results, visit: https://lab.dpdk.org/results/dashboard/patchsets/25742/ UNH-IOL DPDK Community Lab To manage your email subscriptions, visit: https://lab.dpdk.org/results/dashboard/preferences/subscriptions/
From: robot@bytheb.org Test-Label: github-robot: build Test-Status: SUCCESS http://patchwork.dpdk.org/patch/125136/ _github build: passed_ Build URL: https://github.com/ovsrobot/dpdk/actions/runs/4424498582
Test-Label: iol-mellanox-Performance Test-Status: SUCCESS http://dpdk.org/patch/125136 _Performance Testing PASS_ Submitter: Zhichao Zeng <zhichaox.zeng@intel.com> Date: Wednesday, March 15 2023 08:46:17 DPDK git baseline: Repo:dpdk Branch: master CommitID:baf13c3135d0c5998fff7edc23fb89412dc89246 125136 --> performance testing pass Test environment and result as below: Ubuntu 20.04 Kernel: 4.15.0-generic Compiler: gcc 7.4 NIC: Mellanox ConnectX-5 100000 Mbps Target: x86_64-native-linuxapp-gcc Fail/Total: 0/6 Detail performance results: +------------+---------+----------+-------------+------------------------------+ | frame_size | txd/rxd | num_cpus | num_threads | throughput difference from | | | | | | expected | +============+=========+==========+=============+==============================+ | 64 | 256 | 1 | 1 | 0.3% | +------------+---------+----------+-------------+------------------------------+ | 128 | 256 | 1 | 1 | 0.1% | +------------+---------+----------+-------------+------------------------------+ | 1024 | 256 | 1 | 1 | 0.0% | +------------+---------+----------+-------------+------------------------------+ | 256 | 256 | 1 | 1 | 0.1% | +------------+---------+----------+-------------+------------------------------+ | 1518 | 256 | 1 | 1 | -0.0% | +------------+---------+----------+-------------+------------------------------+ | 512 | 256 | 1 | 1 | 0.1% | +------------+---------+----------+-------------+------------------------------+ To view detailed results, visit: https://lab.dpdk.org/results/dashboard/patchsets/25742/ UNH-IOL DPDK Community Lab To manage your email subscriptions, visit: https://lab.dpdk.org/results/dashboard/preferences/subscriptions/
Test-Label: iol-intel-Performance Test-Status: SUCCESS http://dpdk.org/patch/125136 _Performance Testing PASS_ Submitter: Zhichao Zeng <zhichaox.zeng@intel.com> Date: Wednesday, March 15 2023 08:46:17 DPDK git baseline: Repo:dpdk Branch: master CommitID:baf13c3135d0c5998fff7edc23fb89412dc89246 125136 --> performance testing pass Test environment and result as below: Arm Ampere Altra - Ubuntu 20.04.4 Kernel: 5.4.0-137-generic aarch64 Compiler: gcc 9.4 NIC: Intel Corporation Ethernet Converged Network Adapter XL710-QDA2 40000 Mbps Target: x86_64-native-linuxapp-gcc Fail/Total: 0/2 Detail performance results: +------------+---------+----------+-------------+------------------------------+ | frame_size | txd/rxd | num_cpus | num_threads | throughput difference from | | | | | | expected | +============+=========+==========+=============+==============================+ | 64 | 512 | 1 | 1 | 0.1% | +------------+---------+----------+-------------+------------------------------+ | 64 | 2048 | 1 | 1 | -1.0% | +------------+---------+----------+-------------+------------------------------+ Ubuntu 20.04 Kernel: 4.15.0-generic Compiler: gcc 7.4 NIC: Intel Corporation Ethernet Converged Network Adapter XL710-QDA2 40000 Mbps Target: x86_64-native-linuxapp-gcc Fail/Total: 0/4 Detail performance results: +----------+-------------+---------+------------+------------------------------+ | num_cpus | num_threads | txd/rxd | frame_size | throughput difference from | | | | | | expected | +==========+=============+=========+============+==============================+ | 1 | 2 | 512 | 64 | 1.3% | +----------+-------------+---------+------------+------------------------------+ | 1 | 2 | 2048 | 64 | 3.2% | +----------+-------------+---------+------------+------------------------------+ | 1 | 1 | 512 | 64 | -0.5% | +----------+-------------+---------+------------+------------------------------+ | 1 | 1 | 2048 | 64 | 2.3% | +----------+-------------+---------+------------+------------------------------+ To view detailed results, visit: https://lab.dpdk.org/results/dashboard/patchsets/25742/ UNH-IOL DPDK Community Lab To manage your email subscriptions, visit: https://lab.dpdk.org/results/dashboard/preferences/subscriptions/
Test-Label: iol-broadcom-Functional Test-Status: SUCCESS http://dpdk.org/patch/125136 _Functional Testing PASS_ Submitter: Zhichao Zeng <zhichaox.zeng@intel.com> Date: Wednesday, March 15 2023 08:46:17 DPDK git baseline: Repo:dpdk Branch: master CommitID:baf13c3135d0c5998fff7edc23fb89412dc89246 125136 --> functional testing pass Test environment and result as below: Ubuntu 22.04 Kernel: 5.15.0-58-generic x86_64 Compiler: gcc gcc (Ubuntu 11.2.0-19ubuntu1) 11.2.0 NIC: Broadcom Inc. and subsidiaries BCM957508-P2100G Dual-Port 100 Gb/s QSFP56 100 Mbps Target: x86_64-native-linuxapp-gcc Fail/Total: 0/2 To view detailed results, visit: https://lab.dpdk.org/results/dashboard/patchsets/25742/ UNH-IOL DPDK Community Lab To manage your email subscriptions, visit: https://lab.dpdk.org/results/dashboard/preferences/subscriptions/
Test-Label: iol-broadcom-Functional Test-Status: SUCCESS http://dpdk.org/patch/125136 _Functional Testing PASS_ Submitter: Zhichao Zeng <zhichaox.zeng@intel.com> Date: Wednesday, March 15 2023 08:46:17 DPDK git baseline: Repo:dpdk Branch: master CommitID:baf13c3135d0c5998fff7edc23fb89412dc89246 125136 --> functional testing pass Test environment and result as below: Ubuntu 22.04 Kernel: 5.15.0-58-generic x86_64 Compiler: gcc gcc (Ubuntu 11.2.0-19ubuntu1) 11.2.0 NIC: Broadcom Inc. and subsidiaries BCM957508-P2100G Dual-Port 100 Gb/s QSFP56 100 Mbps Target: x86_64-native-linuxapp-gcc Fail/Total: 0/2 Ubuntu 20.04 ARM Kernel: 4.15.0-132-generic Compiler: gcc 7.5 NIC: Arm Broadcom Inc. brcm_57414 25000 Mbps Target: x86_64-native-linuxapp-gcc Fail/Total: 0/1 To view detailed results, visit: https://lab.dpdk.org/results/dashboard/patchsets/25742/ UNH-IOL DPDK Community Lab To manage your email subscriptions, visit: https://lab.dpdk.org/results/dashboard/preferences/subscriptions/
Test-Label: iol-intel-Functional Test-Status: SUCCESS http://dpdk.org/patch/125136 _Functional Testing PASS_ Submitter: Zhichao Zeng <zhichaox.zeng@intel.com> Date: Wednesday, March 15 2023 08:46:17 DPDK git baseline: Repo:dpdk Branch: master CommitID:baf13c3135d0c5998fff7edc23fb89412dc89246 125136 --> functional testing pass Test environment and result as below: Ubuntu 20.04 ARM Kernel: 4.15.0-132-generic Compiler: gcc 7.5 NIC: Arm Intel Corporation Ethernet Converged Network Adapter XL710-QDA2 40000 Mbps Target: x86_64-native-linuxapp-gcc Fail/Total: 0/2 Ubuntu 20.04 Kernel: 4.15.0-generic Compiler: gcc 7.4 NIC: Intel Corporation Ethernet Converged Network Adapter 82599ES 10000 Mbps Target: x86_64-native-linuxapp-gcc Fail/Total: 0/2 Arm Ampere Altra - Ubuntu 20.04.4 Kernel: 5.4.0-137-generic aarch64 Compiler: gcc 9.4 NIC: Intel Corporation Ethernet Converged Network Adapter XL710-QDA2 40000 Mbps Target: x86_64-native-linuxapp-gcc Fail/Total: 0/1 To view detailed results, visit: https://lab.dpdk.org/results/dashboard/patchsets/25742/ UNH-IOL DPDK Community Lab To manage your email subscriptions, visit: https://lab.dpdk.org/results/dashboard/preferences/subscriptions/
Test-Label: iol-intel-Functional Test-Status: SUCCESS http://dpdk.org/patch/125136 _Functional Testing PASS_ Submitter: Zhichao Zeng <zhichaox.zeng@intel.com> Date: Wednesday, March 15 2023 08:46:17 DPDK git baseline: Repo:dpdk Branch: master CommitID:baf13c3135d0c5998fff7edc23fb89412dc89246 125136 --> functional testing pass Test environment and result as below: Ubuntu 20.04 ARM Kernel: 4.15.0-132-generic Compiler: gcc 7.5 NIC: Arm Intel Corporation Ethernet Converged Network Adapter XL710-QDA2 40000 Mbps Target: x86_64-native-linuxapp-gcc Fail/Total: 0/2 Ubuntu 20.04 Kernel: 4.15.0-generic Compiler: gcc 7.4 NIC: Intel Corporation Ethernet Converged Network Adapter 82599ES 10000 Mbps Target: x86_64-native-linuxapp-gcc Fail/Total: 0/2 Ubuntu 20.04 Kernel: 4.15.0-generic Compiler: gcc 7.4 NIC: Intel Corporation Ethernet Converged Network Adapter XL710-QDA2 40000 Mbps Target: x86_64-native-linuxapp-gcc Fail/Total: 0/2 Arm Ampere Altra - Ubuntu 20.04.4 Kernel: 5.4.0-137-generic aarch64 Compiler: gcc 9.4 NIC: Intel Corporation Ethernet Converged Network Adapter XL710-QDA2 40000 Mbps Target: x86_64-native-linuxapp-gcc Fail/Total: 0/1 To view detailed results, visit: https://lab.dpdk.org/results/dashboard/patchsets/25742/ UNH-IOL DPDK Community Lab To manage your email subscriptions, visit: https://lab.dpdk.org/results/dashboard/preferences/subscriptions/
Test-Label: iol-broadcom-Performance Test-Status: SUCCESS http://dpdk.org/patch/125136 _Performance Testing PASS_ Submitter: Zhichao Zeng <zhichaox.zeng@intel.com> Date: Wednesday, March 15 2023 08:46:17 DPDK git baseline: Repo:dpdk Branch: master CommitID:baf13c3135d0c5998fff7edc23fb89412dc89246 125136 --> performance testing pass Test environment and result as below: Ubuntu 22.04 Kernel: 5.15.0-39-generic Compiler: gcc gcc (Ubuntu 11.2.0-19ubuntu1) 11.2.0 NIC: Broadcom Inc. and subsidiaries BCM57414 NetXtreme-E 10Gb/25Gb RDMA Ethernet Controller 16d7 25 Mbps Target: x86_64-native-linuxapp-gcc Fail/Total: 0/3 Detail performance results: +------------+---------+----------+-------------+------------------------------+ | frame_size | txd/rxd | num_cpus | num_threads | throughput difference from | | | | | | expected | +============+=========+==========+=============+==============================+ | 64 | 128 | 1 | 1 | -0.0% | +------------+---------+----------+-------------+------------------------------+ | 64 | 512 | 1 | 1 | 0.1% | +------------+---------+----------+-------------+------------------------------+ | 64 | 2048 | 1 | 1 | 0.1% | +------------+---------+----------+-------------+------------------------------+ To view detailed results, visit: https://lab.dpdk.org/results/dashboard/patchsets/25742/ UNH-IOL DPDK Community Lab To manage your email subscriptions, visit: https://lab.dpdk.org/results/dashboard/preferences/subscriptions/
Test-Label: iol-broadcom-Performance Test-Status: SUCCESS http://dpdk.org/patch/125136 _Performance Testing PASS_ Submitter: Zhichao Zeng <zhichaox.zeng@intel.com> Date: Wednesday, March 15 2023 08:46:17 DPDK git baseline: Repo:dpdk Branch: master CommitID:baf13c3135d0c5998fff7edc23fb89412dc89246 125136 --> performance testing pass Test environment and result as below: Ubuntu 22.04 Kernel: 5.15.0-39-generic Compiler: gcc gcc (Ubuntu 11.2.0-19ubuntu1) 11.2.0 NIC: Broadcom Inc. and subsidiaries BCM57414 NetXtreme-E 10Gb/25Gb RDMA Ethernet Controller 16d7 25 Mbps Target: x86_64-native-linuxapp-gcc Fail/Total: 0/3 Detail performance results: +------------+---------+----------+-------------+------------------------------+ | frame_size | txd/rxd | num_cpus | num_threads | throughput difference from | | | | | | expected | +============+=========+==========+=============+==============================+ | 64 | 128 | 1 | 1 | -0.0% | +------------+---------+----------+-------------+------------------------------+ | 64 | 512 | 1 | 1 | 0.1% | +------------+---------+----------+-------------+------------------------------+ | 64 | 2048 | 1 | 1 | 0.1% | +------------+---------+----------+-------------+------------------------------+ Ubuntu 20.04 ARM Kernel: 4.15.0-132-generic Compiler: gcc 7.5 NIC: Arm Broadcom Inc. brcm_57414 25000 Mbps Target: x86_64-native-linuxapp-gcc Fail/Total: 0/2 Detail performance results: +------------+---------+----------+-------------+------------------------------+ | frame_size | txd/rxd | num_cpus | num_threads | throughput difference from | | | | | | expected | +============+=========+==========+=============+==============================+ | 64 | 512 | 1 | 1 | 1.0% | +------------+---------+----------+-------------+------------------------------+ | 64 | 2048 | 1 | 1 | 5.0% | +------------+---------+----------+-------------+------------------------------+ To view detailed results, visit: https://lab.dpdk.org/results/dashboard/patchsets/25742/ UNH-IOL DPDK Community Lab To manage your email subscriptions, visit: https://lab.dpdk.org/results/dashboard/preferences/subscriptions/
Test-Label: iol-intel-Functional Test-Status: SUCCESS http://dpdk.org/patch/125136 _Functional Testing PASS_ Submitter: Zhichao Zeng <zhichaox.zeng@intel.com> Date: Wednesday, March 15 2023 08:46:17 DPDK git baseline: Repo:dpdk Branch: master CommitID:baf13c3135d0c5998fff7edc23fb89412dc89246 125136 --> functional testing pass Test environment and result as below: Ubuntu 20.04 ARM Kernel: 4.15.0-132-generic Compiler: gcc 7.5 NIC: Arm Intel Corporation Ethernet Converged Network Adapter XL710-QDA2 40000 Mbps Target: x86_64-native-linuxapp-gcc Fail/Total: 0/2 To view detailed results, visit: https://lab.dpdk.org/results/dashboard/patchsets/25742/ UNH-IOL DPDK Community Lab To manage your email subscriptions, visit: https://lab.dpdk.org/results/dashboard/preferences/subscriptions/
Test-Label: iol-intel-Performance Test-Status: SUCCESS http://dpdk.org/patch/125136 _Performance Testing PASS_ Submitter: Zhichao Zeng <zhichaox.zeng@intel.com> Date: Wednesday, March 15 2023 08:46:17 DPDK git baseline: Repo:dpdk Branch: master CommitID:baf13c3135d0c5998fff7edc23fb89412dc89246 125136 --> performance testing pass Test environment and result as below: Arm Ampere Altra - Ubuntu 20.04.4 Kernel: 5.4.0-137-generic aarch64 Compiler: gcc 9.4 NIC: Intel Corporation Ethernet Converged Network Adapter XL710-QDA2 40000 Mbps Target: x86_64-native-linuxapp-gcc Fail/Total: 0/2 Detail performance results: +------------+---------+----------+-------------+------------------------------+ | frame_size | txd/rxd | num_cpus | num_threads | throughput difference from | | | | | | expected | +============+=========+==========+=============+==============================+ | 64 | 512 | 1 | 1 | -0.8% | +------------+---------+----------+-------------+------------------------------+ | 64 | 2048 | 1 | 1 | 0.1% | +------------+---------+----------+-------------+------------------------------+ To view detailed results, visit: https://lab.dpdk.org/results/dashboard/patchsets/25742/ UNH-IOL DPDK Community Lab To manage your email subscriptions, visit: https://lab.dpdk.org/results/dashboard/preferences/subscriptions/
Test-Label: iol-broadcom-Functional Test-Status: SUCCESS http://dpdk.org/patch/125136 _Functional Testing PASS_ Submitter: Zhichao Zeng <zhichaox.zeng@intel.com> Date: Wednesday, March 15 2023 08:46:17 DPDK git baseline: Repo:dpdk Branch: master CommitID:baf13c3135d0c5998fff7edc23fb89412dc89246 125136 --> functional testing pass Test environment and result as below: Ubuntu 22.04 Kernel: 5.15.0-58-generic x86_64 Compiler: gcc gcc (Ubuntu 11.2.0-19ubuntu1) 11.2.0 NIC: Broadcom Inc. and subsidiaries BCM957508-P2100G Dual-Port 100 Gb/s QSFP56 100 Mbps Target: x86_64-native-linuxapp-gcc Fail/Total: 0/2 Arm Ampere Altra - Ubuntu 20.04.4 Kernel: 5.4.0-137-generic aarch64 Compiler: gcc 9.4 NIC: Broadcom Inc. and subsidiaries BCM957508-P2100G Dual-Port 100 Gb/s QSFP56 100 Mbps Target: x86_64-native-linuxapp-gcc Fail/Total: 0/1 Ubuntu 20.04 ARM Kernel: 4.15.0-132-generic Compiler: gcc 7.5 NIC: Arm Broadcom Inc. brcm_57414 25000 Mbps Target: x86_64-native-linuxapp-gcc Fail/Total: 0/1 To view detailed results, visit: https://lab.dpdk.org/results/dashboard/patchsets/25742/ UNH-IOL DPDK Community Lab To manage your email subscriptions, visit: https://lab.dpdk.org/results/dashboard/preferences/subscriptions/
Test-Label: iol-intel-Performance Test-Status: SUCCESS http://dpdk.org/patch/125136 _Performance Testing PASS_ Submitter: Zhichao Zeng <zhichaox.zeng@intel.com> Date: Wednesday, March 15 2023 08:46:17 DPDK git baseline: Repo:dpdk Branch: master CommitID:baf13c3135d0c5998fff7edc23fb89412dc89246 125136 --> performance testing pass Test environment and result as below: Arm Ampere Altra - Ubuntu 20.04.4 Kernel: 5.4.0-137-generic aarch64 Compiler: gcc 9.4 NIC: Intel Corporation Ethernet Converged Network Adapter XL710-QDA2 40000 Mbps Target: x86_64-native-linuxapp-gcc Fail/Total: 0/2 Detail performance results: +------------+---------+----------+-------------+------------------------------+ | frame_size | txd/rxd | num_cpus | num_threads | throughput difference from | | | | | | expected | +============+=========+==========+=============+==============================+ | 64 | 512 | 1 | 1 | 0.1% | +------------+---------+----------+-------------+------------------------------+ | 64 | 2048 | 1 | 1 | -1.0% | +------------+---------+----------+-------------+------------------------------+ Ubuntu 20.04 Kernel: 4.15.0-generic Compiler: gcc 7.4 NIC: Intel Corporation Ethernet Converged Network Adapter XL710-QDA2 40000 Mbps Target: x86_64-native-linuxapp-gcc Fail/Total: 0/4 Detail performance results: +----------+-------------+---------+------------+------------------------------+ | num_cpus | num_threads | txd/rxd | frame_size | throughput difference from | | | | | | expected | +==========+=============+=========+============+==============================+ | 1 | 2 | 512 | 64 | 1.3% | +----------+-------------+---------+------------+------------------------------+ | 1 | 2 | 2048 | 64 | 3.2% | +----------+-------------+---------+------------+------------------------------+ | 1 | 1 | 512 | 64 | -0.5% | +----------+-------------+---------+------------+------------------------------+ | 1 | 1 | 2048 | 64 | 2.3% | +----------+-------------+---------+------------+------------------------------+ Ubuntu 20.04 Kernel: 4.15.0-generic Compiler: gcc 7.4 NIC: Intel Corporation Ethernet Converged Network Adapter 82599ES 10000 Mbps Target: x86_64-native-linuxapp-gcc Fail/Total: 0/6 Detail performance results: +----------+-------------+---------+------------+------------------------------+ | num_cpus | num_threads | txd/rxd | frame_size | throughput difference from | | | | | | expected | +==========+=============+=========+============+==============================+ | 1 | 2 | 128 | 64 | -1.6% | +----------+-------------+---------+------------+------------------------------+ | 1 | 2 | 512 | 64 | -0.0% | +----------+-------------+---------+------------+------------------------------+ | 1 | 2 | 2048 | 64 | -0.2% | +----------+-------------+---------+------------+------------------------------+ | 1 | 1 | 128 | 64 | 0.3% | +----------+-------------+---------+------------+------------------------------+ | 1 | 1 | 512 | 64 | 1.8% | +----------+-------------+---------+------------+------------------------------+ | 1 | 1 | 2048 | 64 | 0.2% | +----------+-------------+---------+------------+------------------------------+ To view detailed results, visit: https://lab.dpdk.org/results/dashboard/patchsets/25742/ UNH-IOL DPDK Community Lab To manage your email subscriptions, visit: https://lab.dpdk.org/results/dashboard/preferences/subscriptions/
Test-Label: iol-intel-Functional Test-Status: SUCCESS http://dpdk.org/patch/125136 _Functional Testing PASS_ Submitter: Zhichao Zeng <zhichaox.zeng@intel.com> Date: Wednesday, March 15 2023 08:46:17 DPDK git baseline: Repo:dpdk Branch: master CommitID:baf13c3135d0c5998fff7edc23fb89412dc89246 125136 --> functional testing pass Test environment and result as below: Ubuntu 20.04 ARM Kernel: 4.15.0-132-generic Compiler: gcc 7.5 NIC: Arm Intel Corporation Ethernet Converged Network Adapter XL710-QDA2 40000 Mbps Target: x86_64-native-linuxapp-gcc Fail/Total: 0/2 Arm Ampere Altra - Ubuntu 20.04.4 Kernel: 5.4.0-137-generic aarch64 Compiler: gcc 9.4 NIC: Intel Corporation Ethernet Converged Network Adapter XL710-QDA2 40000 Mbps Target: x86_64-native-linuxapp-gcc Fail/Total: 0/1 To view detailed results, visit: https://lab.dpdk.org/results/dashboard/patchsets/25742/ UNH-IOL DPDK Community Lab To manage your email subscriptions, visit: https://lab.dpdk.org/results/dashboard/preferences/subscriptions/
Test-Label: iol-x86_64-compile-testing Test-Status: SUCCESS http://dpdk.org/patch/125136 _Testing PASS_ Submitter: Zhichao Zeng <zhichaox.zeng@intel.com> Date: Wednesday, March 15 2023 08:46:17 DPDK git baseline: Repo:dpdk Branch: master CommitID:baf13c3135d0c5998fff7edc23fb89412dc89246 125136 --> testing pass Test environment and result as below: +------------------+--------------------+ | Environment | dpdk_meson_compile | +==================+====================+ | FreeBSD 13 | PASS | +------------------+--------------------+ | Debian Bullseye | PASS | +------------------+--------------------+ | Ubuntu 22.04 | PASS | +------------------+--------------------+ | CentOS Stream 9 | PASS | +------------------+--------------------+ | Debian Buster | PASS | +------------------+--------------------+ | RHEL8 | PASS | +------------------+--------------------+ | Ubuntu 20.04 | PASS | +------------------+--------------------+ | openSUSE Leap 15 | PASS | +------------------+--------------------+ | RHEL 7 | PASS | +------------------+--------------------+ | CentOS Stream 8 | PASS | +------------------+--------------------+ FreeBSD 13 Kernel: 13.0 Compiler: clang 11.0.1 Debian Bullseye Kernel: 5.4.0-122-generic Compiler: gcc 10.2.1-6 Ubuntu 22.04 Kernel: Container Host Kernel Compiler: gcc 11.3.1-2 CentOS Stream 9 Kernel: 4.18.0-240.10.1.el8_3.x86_64 Compiler: gcc 11.3.1 20220421 Debian Buster Kernel: 5.4.0-122-generic Compiler: gcc 8.3.0-6 RHEL8 Kernel: 4.18.0-240.10.1.el8_3.x86_64 Compiler: gcc 8.3.1 20191121 (Red Hat 8.3.1-5) Ubuntu 20.04 Kernel: 4.18.0-240.10.1.el8_3.x86_64 Compiler: gcc 9.3.0-17ubuntu1~20.04 openSUSE Leap 15 Kernel: 4.18.0-240.10.1.el8_3.x86_64 Compiler: gcc 7.5.0 RHEL 7 Kernel: 4.18.0-240.10.1.el8_3.x86_64 Compiler: gcc 4.8.5 20150623 (Red Hat 4.8.5-44) CentOS Stream 8 Kernel: 4.18.0-240.10.1.el8_3.x86_64 Compiler: gcc 8.4.1 20200928 To view detailed results, visit: https://lab.dpdk.org/results/dashboard/patchsets/25742/ UNH-IOL DPDK Community Lab To manage your email subscriptions, visit: https://lab.dpdk.org/results/dashboard/preferences/subscriptions/
Test-Label: iol-intel-Performance Test-Status: SUCCESS http://dpdk.org/patch/125136 _Performance Testing PASS_ Submitter: Zhichao Zeng <zhichaox.zeng@intel.com> Date: Wednesday, March 15 2023 08:46:17 DPDK git baseline: Repo:dpdk Branch: master CommitID:baf13c3135d0c5998fff7edc23fb89412dc89246 125136 --> performance testing pass Test environment and result as below: Arm Ampere Altra - Ubuntu 20.04.4 Kernel: 5.4.0-137-generic aarch64 Compiler: gcc 9.4 NIC: Intel Corporation Ethernet Converged Network Adapter XL710-QDA2 40000 Mbps Target: x86_64-native-linuxapp-gcc Fail/Total: 0/2 Detail performance results: +------------+---------+----------+-------------+------------------------------+ | frame_size | txd/rxd | num_cpus | num_threads | throughput difference from | | | | | | expected | +============+=========+==========+=============+==============================+ | 64 | 512 | 1 | 1 | -0.8% | +------------+---------+----------+-------------+------------------------------+ | 64 | 2048 | 1 | 1 | 0.1% | +------------+---------+----------+-------------+------------------------------+ Ubuntu 20.04 Kernel: 4.15.0-generic Compiler: gcc 7.4 NIC: Intel Corporation Ethernet Converged Network Adapter XL710-QDA2 40000 Mbps Target: x86_64-native-linuxapp-gcc Fail/Total: 0/4 Detail performance results: +----------+-------------+---------+------------+------------------------------+ | num_cpus | num_threads | txd/rxd | frame_size | throughput difference from | | | | | | expected | +==========+=============+=========+============+==============================+ | 1 | 2 | 512 | 64 | 1.1% | +----------+-------------+---------+------------+------------------------------+ | 1 | 2 | 2048 | 64 | 1.7% | +----------+-------------+---------+------------+------------------------------+ | 1 | 1 | 512 | 64 | -2.1% | +----------+-------------+---------+------------+------------------------------+ | 1 | 1 | 2048 | 64 | -3.1% | +----------+-------------+---------+------------+------------------------------+ To view detailed results, visit: https://lab.dpdk.org/results/dashboard/patchsets/25742/ UNH-IOL DPDK Community Lab To manage your email subscriptions, visit: https://lab.dpdk.org/results/dashboard/preferences/subscriptions/
Test-Label: iol-intel-Functional Test-Status: SUCCESS http://dpdk.org/patch/125136 _Functional Testing PASS_ Submitter: Zhichao Zeng <zhichaox.zeng@intel.com> Date: Wednesday, March 15 2023 08:46:17 DPDK git baseline: Repo:dpdk Branch: master CommitID:baf13c3135d0c5998fff7edc23fb89412dc89246 125136 --> functional testing pass Test environment and result as below: Ubuntu 20.04 ARM Kernel: 4.15.0-132-generic Compiler: gcc 7.5 NIC: Arm Intel Corporation Ethernet Converged Network Adapter XL710-QDA2 40000 Mbps Target: x86_64-native-linuxapp-gcc Fail/Total: 0/2 Ubuntu 20.04 Kernel: 4.15.0-generic Compiler: gcc 7.4 NIC: Intel Corporation Ethernet Converged Network Adapter XL710-QDA2 40000 Mbps Target: x86_64-native-linuxapp-gcc Fail/Total: 0/2 Arm Ampere Altra - Ubuntu 20.04.4 Kernel: 5.4.0-137-generic aarch64 Compiler: gcc 9.4 NIC: Intel Corporation Ethernet Converged Network Adapter XL710-QDA2 40000 Mbps Target: x86_64-native-linuxapp-gcc Fail/Total: 0/1 To view detailed results, visit: https://lab.dpdk.org/results/dashboard/patchsets/25742/ UNH-IOL DPDK Community Lab To manage your email subscriptions, visit: https://lab.dpdk.org/results/dashboard/preferences/subscriptions/
Test-Label: iol-aarch64-unit-testing Test-Status: SUCCESS http://dpdk.org/patch/125136 _Testing PASS_ Submitter: Zhichao Zeng <zhichaox.zeng@intel.com> Date: Wednesday, March 15 2023 08:46:17 DPDK git baseline: Repo:dpdk Branch: master CommitID:baf13c3135d0c5998fff7edc23fb89412dc89246 125136 --> testing pass Test environment and result as below: +-------------------------------+---------------------------+----------------+------------------------------+--------------+ | Environment | cryptodev_sw_zuc_autotest | dpdk_unit_test | cryptodev_sw_snow3g_autotest | lpm_autotest | +===============================+===========================+================+==============================+==============+ | Debian 11 | PASS | SKIPPED | PASS | SKIPPED | +-------------------------------+---------------------------+----------------+------------------------------+--------------+ | Ubuntu 20.04 ARM Clang Native | SKIPPED | PASS | SKIPPED | SKIPPED | +-------------------------------+---------------------------+----------------+------------------------------+--------------+ | Ubuntu 20.04 ARM GCC Native | SKIPPED | PASS | SKIPPED | SKIPPED | +-------------------------------+---------------------------+----------------+------------------------------+--------------+ | Ubuntu 20.04 ARM SVE | SKIPPED | SKIPPED | SKIPPED | PASS | +-------------------------------+---------------------------+----------------+------------------------------+--------------+ Debian 11 Kernel: Container Host Kernel Compiler: gcc 10.2.1 Ubuntu 20.04 ARM Clang Native Kernel: 5.4.0-53-generic Compiler: clang 10.0.0-4ubuntu1 Ubuntu 20.04 ARM GCC Native Kernel: 5.4.0-53-generic Compiler: gcc 9.3 Ubuntu 20.04 ARM SVE Kernel: 5.4.0-80-generic Compiler: gcc 10.3.0 (Ubuntu 10.3.0-1ubuntu1~20.04) To view detailed results, visit: https://lab.dpdk.org/results/dashboard/patchsets/25742/ UNH-IOL DPDK Community Lab To manage your email subscriptions, visit: https://lab.dpdk.org/results/dashboard/preferences/subscriptions/
Test-Label: iol-intel-Functional Test-Status: SUCCESS http://dpdk.org/patch/125136 _Functional Testing PASS_ Submitter: Zhichao Zeng <zhichaox.zeng@intel.com> Date: Wednesday, March 15 2023 08:46:17 DPDK git baseline: Repo:dpdk Branch: master CommitID:baf13c3135d0c5998fff7edc23fb89412dc89246 125136 --> functional testing pass Test environment and result as below: Ubuntu 20.04 ARM Kernel: 4.15.0-132-generic Compiler: gcc 7.5 NIC: Arm Intel Corporation Ethernet Converged Network Adapter XL710-QDA2 40000 Mbps Target: x86_64-native-linuxapp-gcc Fail/Total: 0/2 Ubuntu 20.04 Kernel: 4.15.0-generic Compiler: gcc 7.4 NIC: Intel Corporation Ethernet Converged Network Adapter XL710-QDA2 40000 Mbps Target: x86_64-native-linuxapp-gcc Fail/Total: 0/2 Ubuntu 20.04 Kernel: 4.15.0-generic Compiler: gcc 7.4 NIC: Intel Corporation Ethernet Converged Network Adapter 82599ES 10000 Mbps Target: x86_64-native-linuxapp-gcc Fail/Total: 0/2 Arm Ampere Altra - Ubuntu 20.04.4 Kernel: 5.4.0-137-generic aarch64 Compiler: gcc 9.4 NIC: Intel Corporation Ethernet Converged Network Adapter XL710-QDA2 40000 Mbps Target: x86_64-native-linuxapp-gcc Fail/Total: 0/1 To view detailed results, visit: https://lab.dpdk.org/results/dashboard/patchsets/25742/ UNH-IOL DPDK Community Lab To manage your email subscriptions, visit: https://lab.dpdk.org/results/dashboard/preferences/subscriptions/
Test-Label: iol-x86_64-compile-testing Test-Status: SUCCESS http://dpdk.org/patch/125136 _Testing PASS_ Submitter: Zhichao Zeng <zhichaox.zeng@intel.com> Date: Wednesday, March 15 2023 08:46:17 DPDK git baseline: Repo:dpdk Branch: master CommitID:baf13c3135d0c5998fff7edc23fb89412dc89246 125136 --> testing pass Test environment and result as below: +------------------+--------------------+ | Environment | dpdk_meson_compile | +==================+====================+ | FreeBSD 13 | PASS | +------------------+--------------------+ | CentOS Stream 8 | PASS | +------------------+--------------------+ | CentOS Stream 9 | PASS | +------------------+--------------------+ | RHEL 7 | PASS | +------------------+--------------------+ | Ubuntu 22.04 | PASS | +------------------+--------------------+ | Debian Buster | PASS | +------------------+--------------------+ | Debian Bullseye | PASS | +------------------+--------------------+ | RHEL8 | PASS | +------------------+--------------------+ | Ubuntu 20.04 | PASS | +------------------+--------------------+ | openSUSE Leap 15 | PASS | +------------------+--------------------+ FreeBSD 13 Kernel: 13.0 Compiler: clang 11.0.1 CentOS Stream 8 Kernel: 4.18.0-240.10.1.el8_3.x86_64 Compiler: gcc 8.4.1 20200928 CentOS Stream 9 Kernel: 4.18.0-240.10.1.el8_3.x86_64 Compiler: gcc 11.3.1 20220421 RHEL 7 Kernel: 4.18.0-240.10.1.el8_3.x86_64 Compiler: gcc 4.8.5 20150623 (Red Hat 4.8.5-44) Ubuntu 22.04 Kernel: Container Host Kernel Compiler: gcc 12.2.1-2 Debian Buster Kernel: 5.4.0-122-generic Compiler: gcc 8.3.0-6 Debian Bullseye Kernel: 5.4.0-122-generic Compiler: gcc 10.2.1-6 RHEL8 Kernel: 4.18.0-240.10.1.el8_3.x86_64 Compiler: gcc 8.3.1 20191121 (Red Hat 8.3.1-5) Ubuntu 20.04 Kernel: 4.18.0-240.10.1.el8_3.x86_64 Compiler: gcc 9.3.0-17ubuntu1~20.04 openSUSE Leap 15 Kernel: 4.18.0-240.10.1.el8_3.x86_64 Compiler: gcc 7.5.0 To view detailed results, visit: https://lab.dpdk.org/results/dashboard/patchsets/25742/ UNH-IOL DPDK Community Lab To manage your email subscriptions, visit: https://lab.dpdk.org/results/dashboard/preferences/subscriptions/
Test-Label: iol-aarch64-unit-testing Test-Status: SUCCESS http://dpdk.org/patch/125136 _Testing PASS_ Submitter: Zhichao Zeng <zhichaox.zeng@intel.com> Date: Wednesday, March 15 2023 08:46:17 DPDK git baseline: Repo:dpdk Branch: master CommitID:baf13c3135d0c5998fff7edc23fb89412dc89246 125136 --> testing pass Test environment and result as below: +-------------------------------+---------------------------+------------------------------+--------------+----------------+ | Environment | cryptodev_sw_zuc_autotest | cryptodev_sw_snow3g_autotest | lpm_autotest | dpdk_unit_test | +===============================+===========================+==============================+==============+================+ | Debian 11 | PASS | PASS | SKIPPED | SKIPPED | +-------------------------------+---------------------------+------------------------------+--------------+----------------+ | Ubuntu 20.04 ARM SVE | SKIPPED | SKIPPED | PASS | SKIPPED | +-------------------------------+---------------------------+------------------------------+--------------+----------------+ | Ubuntu 20.04 ARM GCC Native | SKIPPED | SKIPPED | SKIPPED | PASS | +-------------------------------+---------------------------+------------------------------+--------------+----------------+ | Ubuntu 20.04 ARM Clang Native | SKIPPED | SKIPPED | SKIPPED | PASS | +-------------------------------+---------------------------+------------------------------+--------------+----------------+ Debian 11 Kernel: Container Host Kernel Compiler: gcc 10.2.1 Ubuntu 20.04 ARM SVE Kernel: 5.4.0-80-generic Compiler: gcc 10.3.0 (Ubuntu 10.3.0-1ubuntu1~20.04) Ubuntu 20.04 ARM GCC Native Kernel: 5.4.0-53-generic Compiler: gcc 9.3 Ubuntu 20.04 ARM Clang Native Kernel: 5.4.0-53-generic Compiler: clang 10.0.0-4ubuntu1 To view detailed results, visit: https://lab.dpdk.org/results/dashboard/patchsets/25742/ UNH-IOL DPDK Community Lab To manage your email subscriptions, visit: https://lab.dpdk.org/results/dashboard/preferences/subscriptions/
Test-Label: iol-aarch64-compile-testing Test-Status: SUCCESS http://dpdk.org/patch/125136 _Testing PASS_ Submitter: Zhichao Zeng <zhichaox.zeng@intel.com> Date: Wednesday, March 15 2023 08:46:17 DPDK git baseline: Repo:dpdk Branch: master CommitID:baf13c3135d0c5998fff7edc23fb89412dc89246 125136 --> testing pass Test environment and result as below: +----------------------------------------+--------------------+ | Environment | dpdk_meson_compile | +========================================+====================+ | Ubuntu 20.04 ARM Clang Native | PASS | +----------------------------------------+--------------------+ | Ubuntu 20.04 ARM GCC Native | PASS | +----------------------------------------+--------------------+ | Ubuntu 20.04 ARM GCC Cross Compile | PASS | +----------------------------------------+--------------------+ | Ubuntu 20.04 aarch32 GCC Cross Compile | PASS | +----------------------------------------+--------------------+ | Ubuntu 20.04 ARM Clang Cross Compile | PASS | +----------------------------------------+--------------------+ | Ubuntu 20.04 ARM SVE | PASS | +----------------------------------------+--------------------+ Ubuntu 20.04 ARM Clang Native Kernel: 5.4.0-53-generic Compiler: clang 10.0.0-4ubuntu1 Ubuntu 20.04 ARM GCC Native Kernel: 5.4.0-53-generic Compiler: gcc 9.3 Ubuntu 20.04 ARM GCC Cross Compile Kernel: 5.4.0-72-generic Compiler: aarch64-linux-gnu-gcc (Ubuntu 9.3.0-17ubuntu1~20.04) 9.3.0 Ubuntu 20.04 aarch32 GCC Cross Compile Kernel: 5.4.0-72-generic Compiler: gcc 9.3.0 Ubuntu 20.04 ARM Clang Cross Compile Kernel: 5.4.0-72-generic Compiler: clang version 10.0.0-4ubuntu1 Ubuntu 20.04 ARM SVE Kernel: 5.4.0-80-generic Compiler: gcc 10.3.0 (Ubuntu 10.3.0-1ubuntu1~20.04) To view detailed results, visit: https://lab.dpdk.org/results/dashboard/patchsets/25742/ UNH-IOL DPDK Community Lab To manage your email subscriptions, visit: https://lab.dpdk.org/results/dashboard/preferences/subscriptions/
Test-Label: iol-intel-Performance Test-Status: SUCCESS http://dpdk.org/patch/125136 _Performance Testing PASS_ Submitter: Zhichao Zeng <zhichaox.zeng@intel.com> Date: Wednesday, March 15 2023 08:46:17 DPDK git baseline: Repo:dpdk Branch: master CommitID:baf13c3135d0c5998fff7edc23fb89412dc89246 125136 --> performance testing pass Test environment and result as below: Arm Ampere Altra - Ubuntu 20.04.4 Kernel: 5.4.0-137-generic aarch64 Compiler: gcc 9.4 NIC: Intel Corporation Ethernet Converged Network Adapter XL710-QDA2 40000 Mbps Target: x86_64-native-linuxapp-gcc Fail/Total: 0/2 Detail performance results: +------------+---------+----------+-------------+------------------------------+ | frame_size | txd/rxd | num_cpus | num_threads | throughput difference from | | | | | | expected | +============+=========+==========+=============+==============================+ | 64 | 512 | 1 | 1 | -0.8% | +------------+---------+----------+-------------+------------------------------+ | 64 | 2048 | 1 | 1 | 0.1% | +------------+---------+----------+-------------+------------------------------+ Ubuntu 20.04 Kernel: 4.15.0-generic Compiler: gcc 7.4 NIC: Intel Corporation Ethernet Converged Network Adapter XL710-QDA2 40000 Mbps Target: x86_64-native-linuxapp-gcc Fail/Total: 0/4 Detail performance results: +----------+-------------+---------+------------+------------------------------+ | num_cpus | num_threads | txd/rxd | frame_size | throughput difference from | | | | | | expected | +==========+=============+=========+============+==============================+ | 1 | 2 | 512 | 64 | 1.1% | +----------+-------------+---------+------------+------------------------------+ | 1 | 2 | 2048 | 64 | 1.7% | +----------+-------------+---------+------------+------------------------------+ | 1 | 1 | 512 | 64 | -2.1% | +----------+-------------+---------+------------+------------------------------+ | 1 | 1 | 2048 | 64 | -3.1% | +----------+-------------+---------+------------+------------------------------+ Ubuntu 20.04 Kernel: 4.15.0-generic Compiler: gcc 7.4 NIC: Intel Corporation Ethernet Converged Network Adapter 82599ES 10000 Mbps Target: x86_64-native-linuxapp-gcc Fail/Total: 0/6 Detail performance results: +----------+-------------+---------+------------+------------------------------+ | num_cpus | num_threads | txd/rxd | frame_size | throughput difference from | | | | | | expected | +==========+=============+=========+============+==============================+ | 1 | 2 | 128 | 64 | -1.6% | +----------+-------------+---------+------------+------------------------------+ | 1 | 2 | 512 | 64 | -0.0% | +----------+-------------+---------+------------+------------------------------+ | 1 | 2 | 2048 | 64 | -0.0% | +----------+-------------+---------+------------+------------------------------+ | 1 | 1 | 128 | 64 | 1.4% | +----------+-------------+---------+------------+------------------------------+ | 1 | 1 | 512 | 64 | 1.7% | +----------+-------------+---------+------------+------------------------------+ | 1 | 1 | 2048 | 64 | 0.2% | +----------+-------------+---------+------------+------------------------------+ To view detailed results, visit: https://lab.dpdk.org/results/dashboard/patchsets/25742/ UNH-IOL DPDK Community Lab To manage your email subscriptions, visit: https://lab.dpdk.org/results/dashboard/preferences/subscriptions/
Test-Label: iol-aarch64-compile-testing Test-Status: SUCCESS http://dpdk.org/patch/125136 _Testing PASS_ Submitter: Zhichao Zeng <zhichaox.zeng@intel.com> Date: Wednesday, March 15 2023 08:46:17 DPDK git baseline: Repo:dpdk Branch: master CommitID:baf13c3135d0c5998fff7edc23fb89412dc89246 125136 --> testing pass Test environment and result as below: +----------------------------------------+--------------------+ | Environment | dpdk_meson_compile | +========================================+====================+ | Ubuntu 20.04 ARM Clang Native | PASS | +----------------------------------------+--------------------+ | Ubuntu 20.04 ARM GCC Native | PASS | +----------------------------------------+--------------------+ | Ubuntu 20.04 ARM Clang Cross Compile | PASS | +----------------------------------------+--------------------+ | Ubuntu 20.04 ARM GCC Cross Compile | PASS | +----------------------------------------+--------------------+ | Ubuntu 20.04 aarch32 GCC Cross Compile | PASS | +----------------------------------------+--------------------+ | Ubuntu 20.04 ARM SVE | PASS | +----------------------------------------+--------------------+ Ubuntu 20.04 ARM Clang Native Kernel: 5.4.0-53-generic Compiler: clang 10.0.0-4ubuntu1 Ubuntu 20.04 ARM GCC Native Kernel: 5.4.0-53-generic Compiler: gcc 9.3 Ubuntu 20.04 ARM Clang Cross Compile Kernel: 5.4.0-72-generic Compiler: clang version 10.0.0-4ubuntu1 Ubuntu 20.04 ARM GCC Cross Compile Kernel: 5.4.0-72-generic Compiler: aarch64-linux-gnu-gcc (Ubuntu 9.3.0-17ubuntu1~20.04) 9.3.0 Ubuntu 20.04 aarch32 GCC Cross Compile Kernel: 5.4.0-72-generic Compiler: gcc 9.3.0 Ubuntu 20.04 ARM SVE Kernel: 5.4.0-80-generic Compiler: gcc 10.3.0 (Ubuntu 10.3.0-1ubuntu1~20.04) To view detailed results, visit: https://lab.dpdk.org/results/dashboard/patchsets/25742/ UNH-IOL DPDK Community Lab To manage your email subscriptions, visit: https://lab.dpdk.org/results/dashboard/preferences/subscriptions/
Test-Label: iol-abi-testing Test-Status: SUCCESS http://dpdk.org/patch/125136 _Testing PASS_ Submitter: Zhichao Zeng <zhichaox.zeng@intel.com> Date: Wednesday, March 15 2023 08:46:17 DPDK git baseline: Repo:dpdk Branch: master CommitID:baf13c3135d0c5998fff7edc23fb89412dc89246 125136 --> testing pass Test environment and result as below: +------------------+----------+ | Environment | abi_test | +==================+==========+ | CentOS Stream 8 | PASS | +------------------+----------+ | RHEL8 | PASS | +------------------+----------+ | Ubuntu 22.04 | PASS | +------------------+----------+ | RHEL 7 | PASS | +------------------+----------+ | openSUSE Leap 15 | PASS | +------------------+----------+ | Ubuntu 20.04 | PASS | +------------------+----------+ | Debian Bullseye | PASS | +------------------+----------+ | CentOS Stream 9 | PASS | +------------------+----------+ | Debian Buster | PASS | +------------------+----------+ CentOS Stream 8 Kernel: 4.18.0-240.10.1.el8_3.x86_64 Compiler: gcc 8.4.1 20200928 RHEL8 Kernel: 4.18.0-240.10.1.el8_3.x86_64 Compiler: gcc 8.3.1 20191121 (Red Hat 8.3.1-5) Ubuntu 22.04 Kernel: 4.18.0-240.10.1.el8_3.x86_64 Compiler: gcc 11.3.0 RHEL 7 Kernel: 4.18.0-240.10.1.el8_3.x86_64 Compiler: gcc 4.8.5 20150623 (Red Hat 4.8.5-44) openSUSE Leap 15 Kernel: 4.18.0-240.10.1.el8_3.x86_64 Compiler: gcc 7.5.0 Ubuntu 20.04 Kernel: 4.18.0-240.10.1.el8_3.x86_64 Compiler: gcc 9.3.0-17ubuntu1~20.04 Debian Bullseye Kernel: 5.4.0-122-generic Compiler: gcc 10.2.1-6 CentOS Stream 9 Kernel: 4.18.0-240.10.1.el8_3.x86_64 Compiler: gcc 11.3.1 20220421 Debian Buster Kernel: 5.4.0-122-generic Compiler: gcc 8.3.0-6 To view detailed results, visit: https://lab.dpdk.org/results/dashboard/patchsets/25742/ UNH-IOL DPDK Community Lab To manage your email subscriptions, visit: https://lab.dpdk.org/results/dashboard/preferences/subscriptions/
Test-Label: iol-abi-testing Test-Status: SUCCESS http://dpdk.org/patch/125136 _Testing PASS_ Submitter: Zhichao Zeng <zhichaox.zeng@intel.com> Date: Wednesday, March 15 2023 08:46:17 DPDK git baseline: Repo:dpdk Branch: master CommitID:baf13c3135d0c5998fff7edc23fb89412dc89246 125136 --> testing pass Test environment and result as below: +------------------+----------+ | Environment | abi_test | +==================+==========+ | Debian Buster | PASS | +------------------+----------+ | openSUSE Leap 15 | PASS | +------------------+----------+ | Ubuntu 22.04 | PASS | +------------------+----------+ | CentOS Stream 9 | PASS | +------------------+----------+ | Debian Bullseye | PASS | +------------------+----------+ | RHEL8 | PASS | +------------------+----------+ | Ubuntu 20.04 | PASS | +------------------+----------+ | RHEL 7 | PASS | +------------------+----------+ | CentOS Stream 8 | PASS | +------------------+----------+ Debian Buster Kernel: 5.4.0-122-generic Compiler: gcc 8.3.0-6 openSUSE Leap 15 Kernel: 4.18.0-240.10.1.el8_3.x86_64 Compiler: gcc 7.5.0 Ubuntu 22.04 Kernel: Container Host Kernel Compiler: gcc 12.2.1-2 CentOS Stream 9 Kernel: 4.18.0-240.10.1.el8_3.x86_64 Compiler: gcc 11.3.1 20220421 Debian Bullseye Kernel: 5.4.0-122-generic Compiler: gcc 10.2.1-6 RHEL8 Kernel: 4.18.0-240.10.1.el8_3.x86_64 Compiler: gcc 8.3.1 20191121 (Red Hat 8.3.1-5) Ubuntu 20.04 Kernel: 4.18.0-240.10.1.el8_3.x86_64 Compiler: gcc 9.3.0-17ubuntu1~20.04 RHEL 7 Kernel: 4.18.0-240.10.1.el8_3.x86_64 Compiler: gcc 4.8.5 20150623 (Red Hat 4.8.5-44) CentOS Stream 8 Kernel: 4.18.0-240.10.1.el8_3.x86_64 Compiler: gcc 8.4.1 20200928 To view detailed results, visit: https://lab.dpdk.org/results/dashboard/patchsets/25742/ UNH-IOL DPDK Community Lab To manage your email subscriptions, visit: https://lab.dpdk.org/results/dashboard/preferences/subscriptions/
Test-Label: iol-testing Test-Status: SUCCESS http://dpdk.org/patch/125136 _Testing PASS_ Submitter: Zhichao Zeng <zhichaox.zeng@intel.com> Date: Wednesday, March 15 2023 08:46:17 DPDK git baseline: Repo:dpdk Branch: master CommitID:baf13c3135d0c5998fff7edc23fb89412dc89246 125136 --> testing pass Test environment and result as below: +--------------+----------------------+ | Environment | dpdk_fips_validation | +==============+======================+ | Ubuntu 20.04 | PASS | +--------------+----------------------+ Ubuntu 20.04 Kernel: 4.18.0-240.10.1.el8_3.x86_64 Compiler: gcc 9.3.0-17ubuntu1~20.04 To view detailed results, visit: https://lab.dpdk.org/results/dashboard/patchsets/25742/ UNH-IOL DPDK Community Lab To manage your email subscriptions, visit: https://lab.dpdk.org/results/dashboard/preferences/subscriptions/
Test-Label: iol-testing Test-Status: SUCCESS http://dpdk.org/patch/125136 _Testing PASS_ Submitter: Zhichao Zeng <zhichaox.zeng@intel.com> Date: Wednesday, March 15 2023 08:46:17 DPDK git baseline: Repo:dpdk Branch: master CommitID:baf13c3135d0c5998fff7edc23fb89412dc89246 125136 --> testing pass Test environment and result as below: +----------------------------------------+--------------------+----------------------+----------------+ | Environment | dpdk_meson_compile | dpdk_mingw64_compile | dpdk_unit_test | +========================================+====================+======================+================+ | FreeBSD 13 | PASS | SKIPPED | SKIPPED | +----------------------------------------+--------------------+----------------------+----------------+ | Windows Server 2019 | PASS | PASS | PASS | +----------------------------------------+--------------------+----------------------+----------------+ | Ubuntu 20.04 ARM Clang Native | PASS | SKIPPED | PASS | +----------------------------------------+--------------------+----------------------+----------------+ | Ubuntu 20.04 ARM GCC Native | PASS | SKIPPED | PASS | +----------------------------------------+--------------------+----------------------+----------------+ | Debian Bullseye | PASS | SKIPPED | PASS | +----------------------------------------+--------------------+----------------------+----------------+ | Ubuntu 22.04 | PASS | SKIPPED | SKIPPED | +----------------------------------------+--------------------+----------------------+----------------+ | CentOS Stream 9 | PASS | SKIPPED | SKIPPED | +----------------------------------------+--------------------+----------------------+----------------+ | Debian Buster | PASS | SKIPPED | SKIPPED | +----------------------------------------+--------------------+----------------------+----------------+ | RHEL8 | PASS | SKIPPED | SKIPPED | +----------------------------------------+--------------------+----------------------+----------------+ | Ubuntu 20.04 | PASS | SKIPPED | SKIPPED | +----------------------------------------+--------------------+----------------------+----------------+ | openSUSE Leap 15 | PASS | SKIPPED | SKIPPED | +----------------------------------------+--------------------+----------------------+----------------+ | Ubuntu 20.04 ARM GCC Cross Compile | PASS | SKIPPED | SKIPPED | +----------------------------------------+--------------------+----------------------+----------------+ | RHEL 7 | PASS | SKIPPED | SKIPPED | +----------------------------------------+--------------------+----------------------+----------------+ | Ubuntu 20.04 aarch32 GCC Cross Compile | PASS | SKIPPED | SKIPPED | +----------------------------------------+--------------------+----------------------+----------------+ | CentOS Stream 8 | PASS | SKIPPED | SKIPPED | +----------------------------------------+--------------------+----------------------+----------------+ | Ubuntu 20.04 ARM Clang Cross Compile | PASS | SKIPPED | SKIPPED | +----------------------------------------+--------------------+----------------------+----------------+ | Ubuntu 20.04 ARM SVE | PASS | SKIPPED | SKIPPED | +----------------------------------------+--------------------+----------------------+----------------+ FreeBSD 13 Kernel: 13.0 Compiler: clang 11.0.1 Windows Server 2019 Kernel: 10.0 Compiler: clang 14.0 and gcc 8.1.0 (MinGW) Ubuntu 20.04 ARM Clang Native Kernel: 5.4.0-53-generic Compiler: clang 10.0.0-4ubuntu1 Ubuntu 20.04 ARM GCC Native Kernel: 5.4.0-53-generic Compiler: gcc 9.3 Debian Bullseye Kernel: 5.4.0-122-generic Compiler: gcc 10.2.1-6 Ubuntu 22.04 Kernel: Container Host Kernel Compiler: gcc 11.3.1-2 CentOS Stream 9 Kernel: 4.18.0-240.10.1.el8_3.x86_64 Compiler: gcc 11.3.1 20220421 Debian Buster Kernel: 5.4.0-122-generic Compiler: gcc 8.3.0-6 RHEL8 Kernel: 4.18.0-240.10.1.el8_3.x86_64 Compiler: gcc 8.3.1 20191121 (Red Hat 8.3.1-5) Ubuntu 20.04 Kernel: 4.18.0-240.10.1.el8_3.x86_64 Compiler: gcc 9.3.0-17ubuntu1~20.04 openSUSE Leap 15 Kernel: 4.18.0-240.10.1.el8_3.x86_64 Compiler: gcc 7.5.0 Ubuntu 20.04 ARM GCC Cross Compile Kernel: 5.4.0-72-generic Compiler: aarch64-linux-gnu-gcc (Ubuntu 9.3.0-17ubuntu1~20.04) 9.3.0 RHEL 7 Kernel: 4.18.0-240.10.1.el8_3.x86_64 Compiler: gcc 4.8.5 20150623 (Red Hat 4.8.5-44) Ubuntu 20.04 aarch32 GCC Cross Compile Kernel: 5.4.0-72-generic Compiler: gcc 9.3.0 CentOS Stream 8 Kernel: 4.18.0-240.10.1.el8_3.x86_64 Compiler: gcc 8.4.1 20200928 Ubuntu 20.04 ARM Clang Cross Compile Kernel: 5.4.0-72-generic Compiler: clang version 10.0.0-4ubuntu1 Ubuntu 20.04 ARM SVE Kernel: 5.4.0-80-generic Compiler: gcc 10.3.0 (Ubuntu 10.3.0-1ubuntu1~20.04) To view detailed results, visit: https://lab.dpdk.org/results/dashboard/patchsets/25742/ UNH-IOL DPDK Community Lab To manage your email subscriptions, visit: https://lab.dpdk.org/results/dashboard/preferences/subscriptions/
Test-Label: iol-testing Test-Status: SUCCESS http://dpdk.org/patch/125136 _Testing PASS_ Submitter: Zhichao Zeng <zhichaox.zeng@intel.com> Date: Wednesday, March 15 2023 08:46:17 DPDK git baseline: Repo:dpdk Branch: master CommitID:baf13c3135d0c5998fff7edc23fb89412dc89246 125136 --> testing pass Test environment and result as below: +----------------------------------------+--------------------+----------------------+----------------+ | Environment | dpdk_meson_compile | dpdk_mingw64_compile | dpdk_unit_test | +========================================+====================+======================+================+ | FreeBSD 13 | PASS | SKIPPED | SKIPPED | +----------------------------------------+--------------------+----------------------+----------------+ | Windows Server 2019 | PASS | PASS | PASS | +----------------------------------------+--------------------+----------------------+----------------+ | Ubuntu 20.04 ARM Clang Native | PASS | SKIPPED | PASS | +----------------------------------------+--------------------+----------------------+----------------+ | Ubuntu 20.04 ARM GCC Native | PASS | SKIPPED | PASS | +----------------------------------------+--------------------+----------------------+----------------+ | Debian Bullseye | PASS | SKIPPED | PASS | +----------------------------------------+--------------------+----------------------+----------------+ | Ubuntu 22.04 | PASS | SKIPPED | SKIPPED | +----------------------------------------+--------------------+----------------------+----------------+ | CentOS Stream 9 | PASS | SKIPPED | SKIPPED | +----------------------------------------+--------------------+----------------------+----------------+ | Debian Buster | PASS | SKIPPED | SKIPPED | +----------------------------------------+--------------------+----------------------+----------------+ | RHEL8 | PASS | SKIPPED | SKIPPED | +----------------------------------------+--------------------+----------------------+----------------+ | Ubuntu 20.04 | PASS | SKIPPED | SKIPPED | +----------------------------------------+--------------------+----------------------+----------------+ | openSUSE Leap 15 | PASS | SKIPPED | PASS | +----------------------------------------+--------------------+----------------------+----------------+ | Ubuntu 20.04 ARM GCC Cross Compile | PASS | SKIPPED | SKIPPED | +----------------------------------------+--------------------+----------------------+----------------+ | RHEL 7 | PASS | SKIPPED | SKIPPED | +----------------------------------------+--------------------+----------------------+----------------+ | Ubuntu 20.04 aarch32 GCC Cross Compile | PASS | SKIPPED | SKIPPED | +----------------------------------------+--------------------+----------------------+----------------+ | CentOS Stream 8 | PASS | SKIPPED | SKIPPED | +----------------------------------------+--------------------+----------------------+----------------+ | Ubuntu 20.04 ARM Clang Cross Compile | PASS | SKIPPED | SKIPPED | +----------------------------------------+--------------------+----------------------+----------------+ | Ubuntu 20.04 ARM SVE | PASS | SKIPPED | SKIPPED | +----------------------------------------+--------------------+----------------------+----------------+ FreeBSD 13 Kernel: 13.0 Compiler: clang 11.0.1 Windows Server 2019 Kernel: 10.0 Compiler: clang 14.0 and gcc 8.1.0 (MinGW) Ubuntu 20.04 ARM Clang Native Kernel: 5.4.0-53-generic Compiler: clang 10.0.0-4ubuntu1 Ubuntu 20.04 ARM GCC Native Kernel: 5.4.0-53-generic Compiler: gcc 9.3 Debian Bullseye Kernel: 5.4.0-122-generic Compiler: gcc 10.2.1-6 Ubuntu 22.04 Kernel: Container Host Kernel Compiler: gcc 11.3.1-2 CentOS Stream 9 Kernel: 4.18.0-240.10.1.el8_3.x86_64 Compiler: gcc 11.3.1 20220421 Debian Buster Kernel: 5.4.0-122-generic Compiler: gcc 8.3.0-6 RHEL8 Kernel: 4.18.0-240.10.1.el8_3.x86_64 Compiler: gcc 8.3.1 20191121 (Red Hat 8.3.1-5) Ubuntu 20.04 Kernel: 4.18.0-240.10.1.el8_3.x86_64 Compiler: gcc 9.3.0-17ubuntu1~20.04 openSUSE Leap 15 Kernel: 4.18.0-240.10.1.el8_3.x86_64 Compiler: gcc 7.5.0 Ubuntu 20.04 ARM GCC Cross Compile Kernel: 5.4.0-72-generic Compiler: aarch64-linux-gnu-gcc (Ubuntu 9.3.0-17ubuntu1~20.04) 9.3.0 RHEL 7 Kernel: 4.18.0-240.10.1.el8_3.x86_64 Compiler: gcc 4.8.5 20150623 (Red Hat 4.8.5-44) Ubuntu 20.04 aarch32 GCC Cross Compile Kernel: 5.4.0-72-generic Compiler: gcc 9.3.0 CentOS Stream 8 Kernel: 4.18.0-240.10.1.el8_3.x86_64 Compiler: gcc 8.4.1 20200928 Ubuntu 20.04 ARM Clang Cross Compile Kernel: 5.4.0-72-generic Compiler: clang version 10.0.0-4ubuntu1 Ubuntu 20.04 ARM SVE Kernel: 5.4.0-80-generic Compiler: gcc 10.3.0 (Ubuntu 10.3.0-1ubuntu1~20.04) To view detailed results, visit: https://lab.dpdk.org/results/dashboard/patchsets/25742/ UNH-IOL DPDK Community Lab To manage your email subscriptions, visit: https://lab.dpdk.org/results/dashboard/preferences/subscriptions/
Test-Label: iol-testing Test-Status: SUCCESS http://dpdk.org/patch/125136 _Testing PASS_ Submitter: Zhichao Zeng <zhichaox.zeng@intel.com> Date: Wednesday, March 15 2023 08:46:17 DPDK git baseline: Repo:dpdk Branch: master CommitID:baf13c3135d0c5998fff7edc23fb89412dc89246 125136 --> testing pass Test environment and result as below: +----------------------------------------+--------------------+----------------------+----------------+ | Environment | dpdk_meson_compile | dpdk_mingw64_compile | dpdk_unit_test | +========================================+====================+======================+================+ | FreeBSD 13 | PASS | SKIPPED | SKIPPED | +----------------------------------------+--------------------+----------------------+----------------+ | Windows Server 2019 | PASS | PASS | PASS | +----------------------------------------+--------------------+----------------------+----------------+ | Ubuntu 20.04 ARM Clang Native | PASS | SKIPPED | PASS | +----------------------------------------+--------------------+----------------------+----------------+ | Ubuntu 20.04 ARM GCC Native | PASS | SKIPPED | PASS | +----------------------------------------+--------------------+----------------------+----------------+ | Debian Bullseye | PASS | SKIPPED | PASS | +----------------------------------------+--------------------+----------------------+----------------+ | Ubuntu 22.04 | PASS | SKIPPED | SKIPPED | +----------------------------------------+--------------------+----------------------+----------------+ | CentOS Stream 9 | PASS | SKIPPED | SKIPPED | +----------------------------------------+--------------------+----------------------+----------------+ | Debian Buster | PASS | SKIPPED | PASS | +----------------------------------------+--------------------+----------------------+----------------+ | RHEL8 | PASS | SKIPPED | SKIPPED | +----------------------------------------+--------------------+----------------------+----------------+ | Ubuntu 20.04 | PASS | SKIPPED | SKIPPED | +----------------------------------------+--------------------+----------------------+----------------+ | openSUSE Leap 15 | PASS | SKIPPED | PASS | +----------------------------------------+--------------------+----------------------+----------------+ | Ubuntu 20.04 ARM GCC Cross Compile | PASS | SKIPPED | SKIPPED | +----------------------------------------+--------------------+----------------------+----------------+ | RHEL 7 | PASS | SKIPPED | SKIPPED | +----------------------------------------+--------------------+----------------------+----------------+ | Ubuntu 20.04 aarch32 GCC Cross Compile | PASS | SKIPPED | SKIPPED | +----------------------------------------+--------------------+----------------------+----------------+ | CentOS Stream 8 | PASS | SKIPPED | SKIPPED | +----------------------------------------+--------------------+----------------------+----------------+ | Ubuntu 20.04 ARM Clang Cross Compile | PASS | SKIPPED | SKIPPED | +----------------------------------------+--------------------+----------------------+----------------+ | Ubuntu 20.04 ARM SVE | PASS | SKIPPED | SKIPPED | +----------------------------------------+--------------------+----------------------+----------------+ FreeBSD 13 Kernel: 13.0 Compiler: clang 11.0.1 Windows Server 2019 Kernel: 10.0 Compiler: clang 14.0 and gcc 8.1.0 (MinGW) Ubuntu 20.04 ARM Clang Native Kernel: 5.4.0-53-generic Compiler: clang 10.0.0-4ubuntu1 Ubuntu 20.04 ARM GCC Native Kernel: 5.4.0-53-generic Compiler: gcc 9.3 Debian Bullseye Kernel: 5.4.0-122-generic Compiler: gcc 10.2.1-6 Ubuntu 22.04 Kernel: Container Host Kernel Compiler: gcc 11.3.1-2 CentOS Stream 9 Kernel: 4.18.0-240.10.1.el8_3.x86_64 Compiler: gcc 11.3.1 20220421 Debian Buster Kernel: 5.4.0-122-generic Compiler: gcc 8.3.0-6 RHEL8 Kernel: 4.18.0-240.10.1.el8_3.x86_64 Compiler: gcc 8.3.1 20191121 (Red Hat 8.3.1-5) Ubuntu 20.04 Kernel: 4.18.0-240.10.1.el8_3.x86_64 Compiler: gcc 9.3.0-17ubuntu1~20.04 openSUSE Leap 15 Kernel: 4.18.0-240.10.1.el8_3.x86_64 Compiler: gcc 7.5.0 Ubuntu 20.04 ARM GCC Cross Compile Kernel: 5.4.0-72-generic Compiler: aarch64-linux-gnu-gcc (Ubuntu 9.3.0-17ubuntu1~20.04) 9.3.0 RHEL 7 Kernel: 4.18.0-240.10.1.el8_3.x86_64 Compiler: gcc 4.8.5 20150623 (Red Hat 4.8.5-44) Ubuntu 20.04 aarch32 GCC Cross Compile Kernel: 5.4.0-72-generic Compiler: gcc 9.3.0 CentOS Stream 8 Kernel: 4.18.0-240.10.1.el8_3.x86_64 Compiler: gcc 8.4.1 20200928 Ubuntu 20.04 ARM Clang Cross Compile Kernel: 5.4.0-72-generic Compiler: clang version 10.0.0-4ubuntu1 Ubuntu 20.04 ARM SVE Kernel: 5.4.0-80-generic Compiler: gcc 10.3.0 (Ubuntu 10.3.0-1ubuntu1~20.04) To view detailed results, visit: https://lab.dpdk.org/results/dashboard/patchsets/25742/ UNH-IOL DPDK Community Lab To manage your email subscriptions, visit: https://lab.dpdk.org/results/dashboard/preferences/subscriptions/
Test-Label: iol-testing Test-Status: SUCCESS http://dpdk.org/patch/125136 _Testing PASS_ Submitter: Zhichao Zeng <zhichaox.zeng@intel.com> Date: Wednesday, March 15 2023 08:46:17 DPDK git baseline: Repo:dpdk Branch: master CommitID:baf13c3135d0c5998fff7edc23fb89412dc89246 125136 --> testing pass Test environment and result as below: +----------------------------------------+--------------------+----------------------+----------------+ | Environment | dpdk_meson_compile | dpdk_mingw64_compile | dpdk_unit_test | +========================================+====================+======================+================+ | FreeBSD 13 | PASS | SKIPPED | SKIPPED | +----------------------------------------+--------------------+----------------------+----------------+ | Windows Server 2019 | PASS | PASS | PASS | +----------------------------------------+--------------------+----------------------+----------------+ | Ubuntu 20.04 ARM Clang Native | PASS | SKIPPED | PASS | +----------------------------------------+--------------------+----------------------+----------------+ | Ubuntu 20.04 ARM GCC Native | PASS | SKIPPED | PASS | +----------------------------------------+--------------------+----------------------+----------------+ | Debian Bullseye | PASS | SKIPPED | PASS | +----------------------------------------+--------------------+----------------------+----------------+ | Ubuntu 22.04 | PASS | SKIPPED | SKIPPED | +----------------------------------------+--------------------+----------------------+----------------+ | CentOS Stream 9 | PASS | SKIPPED | SKIPPED | +----------------------------------------+--------------------+----------------------+----------------+ | Debian Buster | PASS | SKIPPED | PASS | +----------------------------------------+--------------------+----------------------+----------------+ | RHEL8 | PASS | SKIPPED | SKIPPED | +----------------------------------------+--------------------+----------------------+----------------+ | Ubuntu 20.04 | PASS | SKIPPED | SKIPPED | +----------------------------------------+--------------------+----------------------+----------------+ | openSUSE Leap 15 | PASS | SKIPPED | PASS | +----------------------------------------+--------------------+----------------------+----------------+ | Ubuntu 20.04 ARM GCC Cross Compile | PASS | SKIPPED | SKIPPED | +----------------------------------------+--------------------+----------------------+----------------+ | RHEL 7 | PASS | SKIPPED | SKIPPED | +----------------------------------------+--------------------+----------------------+----------------+ | Ubuntu 20.04 aarch32 GCC Cross Compile | PASS | SKIPPED | SKIPPED | +----------------------------------------+--------------------+----------------------+----------------+ | CentOS Stream 8 | PASS | SKIPPED | PASS | +----------------------------------------+--------------------+----------------------+----------------+ | Ubuntu 20.04 ARM Clang Cross Compile | PASS | SKIPPED | SKIPPED | +----------------------------------------+--------------------+----------------------+----------------+ | Ubuntu 20.04 ARM SVE | PASS | SKIPPED | SKIPPED | +----------------------------------------+--------------------+----------------------+----------------+ FreeBSD 13 Kernel: 13.0 Compiler: clang 11.0.1 Windows Server 2019 Kernel: 10.0 Compiler: clang 14.0 and gcc 8.1.0 (MinGW) Ubuntu 20.04 ARM Clang Native Kernel: 5.4.0-53-generic Compiler: clang 10.0.0-4ubuntu1 Ubuntu 20.04 ARM GCC Native Kernel: 5.4.0-53-generic Compiler: gcc 9.3 Debian Bullseye Kernel: 5.4.0-122-generic Compiler: gcc 10.2.1-6 Ubuntu 22.04 Kernel: Container Host Kernel Compiler: gcc 11.3.1-2 CentOS Stream 9 Kernel: 4.18.0-240.10.1.el8_3.x86_64 Compiler: gcc 11.3.1 20220421 Debian Buster Kernel: 5.4.0-122-generic Compiler: gcc 8.3.0-6 RHEL8 Kernel: 4.18.0-240.10.1.el8_3.x86_64 Compiler: gcc 8.3.1 20191121 (Red Hat 8.3.1-5) Ubuntu 20.04 Kernel: 4.18.0-240.10.1.el8_3.x86_64 Compiler: gcc 9.3.0-17ubuntu1~20.04 openSUSE Leap 15 Kernel: 4.18.0-240.10.1.el8_3.x86_64 Compiler: gcc 7.5.0 Ubuntu 20.04 ARM GCC Cross Compile Kernel: 5.4.0-72-generic Compiler: aarch64-linux-gnu-gcc (Ubuntu 9.3.0-17ubuntu1~20.04) 9.3.0 RHEL 7 Kernel: 4.18.0-240.10.1.el8_3.x86_64 Compiler: gcc 4.8.5 20150623 (Red Hat 4.8.5-44) Ubuntu 20.04 aarch32 GCC Cross Compile Kernel: 5.4.0-72-generic Compiler: gcc 9.3.0 CentOS Stream 8 Kernel: 4.18.0-240.10.1.el8_3.x86_64 Compiler: gcc 8.4.1 20200928 Ubuntu 20.04 ARM Clang Cross Compile Kernel: 5.4.0-72-generic Compiler: clang version 10.0.0-4ubuntu1 Ubuntu 20.04 ARM SVE Kernel: 5.4.0-80-generic Compiler: gcc 10.3.0 (Ubuntu 10.3.0-1ubuntu1~20.04) To view detailed results, visit: https://lab.dpdk.org/results/dashboard/patchsets/25742/ UNH-IOL DPDK Community Lab To manage your email subscriptions, visit: https://lab.dpdk.org/results/dashboard/preferences/subscriptions/
Test-Label: iol-testing Test-Status: SUCCESS http://dpdk.org/patch/125136 _Testing PASS_ Submitter: Zhichao Zeng <zhichaox.zeng@intel.com> Date: Wednesday, March 15 2023 08:46:17 DPDK git baseline: Repo:dpdk Branch: master CommitID:baf13c3135d0c5998fff7edc23fb89412dc89246 125136 --> testing pass Test environment and result as below: +----------------------------------------+--------------------+----------------------+----------------+ | Environment | dpdk_meson_compile | dpdk_mingw64_compile | dpdk_unit_test | +========================================+====================+======================+================+ | FreeBSD 13 | PASS | SKIPPED | SKIPPED | +----------------------------------------+--------------------+----------------------+----------------+ | Windows Server 2019 | PASS | PASS | PASS | +----------------------------------------+--------------------+----------------------+----------------+ | Ubuntu 20.04 ARM Clang Native | PASS | SKIPPED | PASS | +----------------------------------------+--------------------+----------------------+----------------+ | Ubuntu 20.04 ARM GCC Native | PASS | SKIPPED | PASS | +----------------------------------------+--------------------+----------------------+----------------+ | Debian Bullseye | PASS | SKIPPED | PASS | +----------------------------------------+--------------------+----------------------+----------------+ | Ubuntu 22.04 | PASS | SKIPPED | SKIPPED | +----------------------------------------+--------------------+----------------------+----------------+ | CentOS Stream 9 | PASS | SKIPPED | SKIPPED | +----------------------------------------+--------------------+----------------------+----------------+ | Debian Buster | PASS | SKIPPED | PASS | +----------------------------------------+--------------------+----------------------+----------------+ | RHEL8 | PASS | SKIPPED | SKIPPED | +----------------------------------------+--------------------+----------------------+----------------+ | Ubuntu 20.04 | PASS | SKIPPED | PASS | +----------------------------------------+--------------------+----------------------+----------------+ | openSUSE Leap 15 | PASS | SKIPPED | PASS | +----------------------------------------+--------------------+----------------------+----------------+ | Ubuntu 20.04 ARM GCC Cross Compile | PASS | SKIPPED | SKIPPED | +----------------------------------------+--------------------+----------------------+----------------+ | RHEL 7 | PASS | SKIPPED | SKIPPED | +----------------------------------------+--------------------+----------------------+----------------+ | Ubuntu 20.04 aarch32 GCC Cross Compile | PASS | SKIPPED | SKIPPED | +----------------------------------------+--------------------+----------------------+----------------+ | CentOS Stream 8 | PASS | SKIPPED | PASS | +----------------------------------------+--------------------+----------------------+----------------+ | Ubuntu 20.04 ARM Clang Cross Compile | PASS | SKIPPED | SKIPPED | +----------------------------------------+--------------------+----------------------+----------------+ | Ubuntu 20.04 ARM SVE | PASS | SKIPPED | SKIPPED | +----------------------------------------+--------------------+----------------------+----------------+ FreeBSD 13 Kernel: 13.0 Compiler: clang 11.0.1 Windows Server 2019 Kernel: 10.0 Compiler: clang 14.0 and gcc 8.1.0 (MinGW) Ubuntu 20.04 ARM Clang Native Kernel: 5.4.0-53-generic Compiler: clang 10.0.0-4ubuntu1 Ubuntu 20.04 ARM GCC Native Kernel: 5.4.0-53-generic Compiler: gcc 9.3 Debian Bullseye Kernel: 5.4.0-122-generic Compiler: gcc 10.2.1-6 Ubuntu 22.04 Kernel: Container Host Kernel Compiler: gcc 11.3.1-2 CentOS Stream 9 Kernel: 4.18.0-240.10.1.el8_3.x86_64 Compiler: gcc 11.3.1 20220421 Debian Buster Kernel: 5.4.0-122-generic Compiler: gcc 8.3.0-6 RHEL8 Kernel: 4.18.0-240.10.1.el8_3.x86_64 Compiler: gcc 8.3.1 20191121 (Red Hat 8.3.1-5) Ubuntu 20.04 Kernel: 4.18.0-240.10.1.el8_3.x86_64 Compiler: gcc 9.3.0-17ubuntu1~20.04 openSUSE Leap 15 Kernel: 4.18.0-240.10.1.el8_3.x86_64 Compiler: gcc 7.5.0 Ubuntu 20.04 ARM GCC Cross Compile Kernel: 5.4.0-72-generic Compiler: aarch64-linux-gnu-gcc (Ubuntu 9.3.0-17ubuntu1~20.04) 9.3.0 RHEL 7 Kernel: 4.18.0-240.10.1.el8_3.x86_64 Compiler: gcc 4.8.5 20150623 (Red Hat 4.8.5-44) Ubuntu 20.04 aarch32 GCC Cross Compile Kernel: 5.4.0-72-generic Compiler: gcc 9.3.0 CentOS Stream 8 Kernel: 4.18.0-240.10.1.el8_3.x86_64 Compiler: gcc 8.4.1 20200928 Ubuntu 20.04 ARM Clang Cross Compile Kernel: 5.4.0-72-generic Compiler: clang version 10.0.0-4ubuntu1 Ubuntu 20.04 ARM SVE Kernel: 5.4.0-80-generic Compiler: gcc 10.3.0 (Ubuntu 10.3.0-1ubuntu1~20.04) To view detailed results, visit: https://lab.dpdk.org/results/dashboard/patchsets/25742/ UNH-IOL DPDK Community Lab To manage your email subscriptions, visit: https://lab.dpdk.org/results/dashboard/preferences/subscriptions/
Test-Label: iol-testing Test-Status: SUCCESS http://dpdk.org/patch/125136 _Testing PASS_ Submitter: Zhichao Zeng <zhichaox.zeng@intel.com> Date: Wednesday, March 15 2023 08:46:17 DPDK git baseline: Repo:dpdk Branch: master CommitID:baf13c3135d0c5998fff7edc23fb89412dc89246 125136 --> testing pass Test environment and result as below: +----------------------------------------+--------------------+----------------------+----------------+ | Environment | dpdk_meson_compile | dpdk_mingw64_compile | dpdk_unit_test | +========================================+====================+======================+================+ | FreeBSD 13 | PASS | SKIPPED | SKIPPED | +----------------------------------------+--------------------+----------------------+----------------+ | Windows Server 2019 | PASS | PASS | PASS | +----------------------------------------+--------------------+----------------------+----------------+ | Ubuntu 20.04 ARM Clang Native | PASS | SKIPPED | PASS | +----------------------------------------+--------------------+----------------------+----------------+ | Ubuntu 20.04 ARM GCC Native | PASS | SKIPPED | PASS | +----------------------------------------+--------------------+----------------------+----------------+ | Debian Bullseye | PASS | SKIPPED | PASS | +----------------------------------------+--------------------+----------------------+----------------+ | Ubuntu 22.04 | PASS | SKIPPED | SKIPPED | +----------------------------------------+--------------------+----------------------+----------------+ | CentOS Stream 9 | PASS | SKIPPED | SKIPPED | +----------------------------------------+--------------------+----------------------+----------------+ | Debian Buster | PASS | SKIPPED | PASS | +----------------------------------------+--------------------+----------------------+----------------+ | RHEL8 | PASS | SKIPPED | SKIPPED | +----------------------------------------+--------------------+----------------------+----------------+ | Ubuntu 20.04 | PASS | SKIPPED | PASS | +----------------------------------------+--------------------+----------------------+----------------+ | openSUSE Leap 15 | PASS | SKIPPED | PASS | +----------------------------------------+--------------------+----------------------+----------------+ | Ubuntu 20.04 ARM GCC Cross Compile | PASS | SKIPPED | SKIPPED | +----------------------------------------+--------------------+----------------------+----------------+ | RHEL 7 | PASS | SKIPPED | PASS | +----------------------------------------+--------------------+----------------------+----------------+ | Ubuntu 20.04 aarch32 GCC Cross Compile | PASS | SKIPPED | SKIPPED | +----------------------------------------+--------------------+----------------------+----------------+ | CentOS Stream 8 | PASS | SKIPPED | PASS | +----------------------------------------+--------------------+----------------------+----------------+ | Ubuntu 20.04 ARM Clang Cross Compile | PASS | SKIPPED | SKIPPED | +----------------------------------------+--------------------+----------------------+----------------+ | Ubuntu 20.04 ARM SVE | PASS | SKIPPED | SKIPPED | +----------------------------------------+--------------------+----------------------+----------------+ FreeBSD 13 Kernel: 13.0 Compiler: clang 11.0.1 Windows Server 2019 Kernel: 10.0 Compiler: clang 14.0 and gcc 8.1.0 (MinGW) Ubuntu 20.04 ARM Clang Native Kernel: 5.4.0-53-generic Compiler: clang 10.0.0-4ubuntu1 Ubuntu 20.04 ARM GCC Native Kernel: 5.4.0-53-generic Compiler: gcc 9.3 Debian Bullseye Kernel: 5.4.0-122-generic Compiler: gcc 10.2.1-6 Ubuntu 22.04 Kernel: Container Host Kernel Compiler: gcc 11.3.1-2 CentOS Stream 9 Kernel: 4.18.0-240.10.1.el8_3.x86_64 Compiler: gcc 11.3.1 20220421 Debian Buster Kernel: 5.4.0-122-generic Compiler: gcc 8.3.0-6 RHEL8 Kernel: 4.18.0-240.10.1.el8_3.x86_64 Compiler: gcc 8.3.1 20191121 (Red Hat 8.3.1-5) Ubuntu 20.04 Kernel: 4.18.0-240.10.1.el8_3.x86_64 Compiler: gcc 9.3.0-17ubuntu1~20.04 openSUSE Leap 15 Kernel: 4.18.0-240.10.1.el8_3.x86_64 Compiler: gcc 7.5.0 Ubuntu 20.04 ARM GCC Cross Compile Kernel: 5.4.0-72-generic Compiler: aarch64-linux-gnu-gcc (Ubuntu 9.3.0-17ubuntu1~20.04) 9.3.0 RHEL 7 Kernel: 4.18.0-240.10.1.el8_3.x86_64 Compiler: gcc 4.8.5 20150623 (Red Hat 4.8.5-44) Ubuntu 20.04 aarch32 GCC Cross Compile Kernel: 5.4.0-72-generic Compiler: gcc 9.3.0 CentOS Stream 8 Kernel: 4.18.0-240.10.1.el8_3.x86_64 Compiler: gcc 8.4.1 20200928 Ubuntu 20.04 ARM Clang Cross Compile Kernel: 5.4.0-72-generic Compiler: clang version 10.0.0-4ubuntu1 Ubuntu 20.04 ARM SVE Kernel: 5.4.0-80-generic Compiler: gcc 10.3.0 (Ubuntu 10.3.0-1ubuntu1~20.04) To view detailed results, visit: https://lab.dpdk.org/results/dashboard/patchsets/25742/ UNH-IOL DPDK Community Lab To manage your email subscriptions, visit: https://lab.dpdk.org/results/dashboard/preferences/subscriptions/
Test-Label: iol-testing Test-Status: SUCCESS http://dpdk.org/patch/125136 _Testing PASS_ Submitter: Zhichao Zeng <zhichaox.zeng@intel.com> Date: Wednesday, March 15 2023 08:46:17 DPDK git baseline: Repo:dpdk Branch: master CommitID:baf13c3135d0c5998fff7edc23fb89412dc89246 125136 --> testing pass Test environment and result as below: +----------------------------------------+--------------------+----------------------+----------------+ | Environment | dpdk_meson_compile | dpdk_mingw64_compile | dpdk_unit_test | +========================================+====================+======================+================+ | FreeBSD 13 | PASS | SKIPPED | SKIPPED | +----------------------------------------+--------------------+----------------------+----------------+ | Windows Server 2019 | PASS | PASS | PASS | +----------------------------------------+--------------------+----------------------+----------------+ | Ubuntu 20.04 ARM Clang Native | PASS | SKIPPED | PASS | +----------------------------------------+--------------------+----------------------+----------------+ | Ubuntu 20.04 ARM GCC Native | PASS | SKIPPED | PASS | +----------------------------------------+--------------------+----------------------+----------------+ | Debian Bullseye | PASS | SKIPPED | PASS | +----------------------------------------+--------------------+----------------------+----------------+ | Ubuntu 22.04 | PASS | SKIPPED | PASS | +----------------------------------------+--------------------+----------------------+----------------+ | CentOS Stream 9 | PASS | SKIPPED | PASS | +----------------------------------------+--------------------+----------------------+----------------+ | Debian Buster | PASS | SKIPPED | PASS | +----------------------------------------+--------------------+----------------------+----------------+ | RHEL8 | PASS | SKIPPED | SKIPPED | +----------------------------------------+--------------------+----------------------+----------------+ | Ubuntu 20.04 | PASS | SKIPPED | PASS | +----------------------------------------+--------------------+----------------------+----------------+ | openSUSE Leap 15 | PASS | SKIPPED | PASS | +----------------------------------------+--------------------+----------------------+----------------+ | Ubuntu 20.04 ARM GCC Cross Compile | PASS | SKIPPED | SKIPPED | +----------------------------------------+--------------------+----------------------+----------------+ | RHEL 7 | PASS | SKIPPED | PASS | +----------------------------------------+--------------------+----------------------+----------------+ | Ubuntu 20.04 aarch32 GCC Cross Compile | PASS | SKIPPED | SKIPPED | +----------------------------------------+--------------------+----------------------+----------------+ | CentOS Stream 8 | PASS | SKIPPED | PASS | +----------------------------------------+--------------------+----------------------+----------------+ | Ubuntu 20.04 ARM Clang Cross Compile | PASS | SKIPPED | SKIPPED | +----------------------------------------+--------------------+----------------------+----------------+ | Ubuntu 20.04 ARM SVE | PASS | SKIPPED | SKIPPED | +----------------------------------------+--------------------+----------------------+----------------+ FreeBSD 13 Kernel: 13.0 Compiler: clang 11.0.1 Windows Server 2019 Kernel: 10.0 Compiler: clang 14.0 and gcc 8.1.0 (MinGW) Ubuntu 20.04 ARM Clang Native Kernel: 5.4.0-53-generic Compiler: clang 10.0.0-4ubuntu1 Ubuntu 20.04 ARM GCC Native Kernel: 5.4.0-53-generic Compiler: gcc 9.3 Debian Bullseye Kernel: 5.4.0-122-generic Compiler: gcc 10.2.1-6 Ubuntu 22.04 Kernel: Container Host Kernel Compiler: gcc 11.3.1-2 CentOS Stream 9 Kernel: 4.18.0-240.10.1.el8_3.x86_64 Compiler: gcc 11.3.1 20220421 Debian Buster Kernel: 5.4.0-122-generic Compiler: gcc 8.3.0-6 RHEL8 Kernel: 4.18.0-240.10.1.el8_3.x86_64 Compiler: gcc 8.3.1 20191121 (Red Hat 8.3.1-5) Ubuntu 20.04 Kernel: 4.18.0-240.10.1.el8_3.x86_64 Compiler: gcc 9.3.0-17ubuntu1~20.04 openSUSE Leap 15 Kernel: 4.18.0-240.10.1.el8_3.x86_64 Compiler: gcc 7.5.0 Ubuntu 20.04 ARM GCC Cross Compile Kernel: 5.4.0-72-generic Compiler: aarch64-linux-gnu-gcc (Ubuntu 9.3.0-17ubuntu1~20.04) 9.3.0 RHEL 7 Kernel: 4.18.0-240.10.1.el8_3.x86_64 Compiler: gcc 4.8.5 20150623 (Red Hat 4.8.5-44) Ubuntu 20.04 aarch32 GCC Cross Compile Kernel: 5.4.0-72-generic Compiler: gcc 9.3.0 CentOS Stream 8 Kernel: 4.18.0-240.10.1.el8_3.x86_64 Compiler: gcc 8.4.1 20200928 Ubuntu 20.04 ARM Clang Cross Compile Kernel: 5.4.0-72-generic Compiler: clang version 10.0.0-4ubuntu1 Ubuntu 20.04 ARM SVE Kernel: 5.4.0-80-generic Compiler: gcc 10.3.0 (Ubuntu 10.3.0-1ubuntu1~20.04) To view detailed results, visit: https://lab.dpdk.org/results/dashboard/patchsets/25742/ UNH-IOL DPDK Community Lab To manage your email subscriptions, visit: https://lab.dpdk.org/results/dashboard/preferences/subscriptions/
Test-Label: iol-testing Test-Status: SUCCESS http://dpdk.org/patch/125136 _Testing PASS_ Submitter: Zhichao Zeng <zhichaox.zeng@intel.com> Date: Wednesday, March 15 2023 08:46:17 DPDK git baseline: Repo:dpdk Branch: master CommitID:baf13c3135d0c5998fff7edc23fb89412dc89246 125136 --> testing pass Test environment and result as below: +----------------------------------------+--------------------+----------------------+----------------+ | Environment | dpdk_meson_compile | dpdk_mingw64_compile | dpdk_unit_test | +========================================+====================+======================+================+ | FreeBSD 13 | PASS | SKIPPED | SKIPPED | +----------------------------------------+--------------------+----------------------+----------------+ | Windows Server 2019 | PASS | PASS | PASS | +----------------------------------------+--------------------+----------------------+----------------+ | Ubuntu 20.04 ARM Clang Native | PASS | SKIPPED | PASS | +----------------------------------------+--------------------+----------------------+----------------+ | Ubuntu 20.04 ARM GCC Native | PASS | SKIPPED | PASS | +----------------------------------------+--------------------+----------------------+----------------+ | Debian Bullseye | PASS | SKIPPED | PASS | +----------------------------------------+--------------------+----------------------+----------------+ | Ubuntu 22.04 | PASS | SKIPPED | PASS | +----------------------------------------+--------------------+----------------------+----------------+ | CentOS Stream 9 | PASS | SKIPPED | PASS | +----------------------------------------+--------------------+----------------------+----------------+ | Debian Buster | PASS | SKIPPED | PASS | +----------------------------------------+--------------------+----------------------+----------------+ | RHEL8 | PASS | SKIPPED | SKIPPED | +----------------------------------------+--------------------+----------------------+----------------+ | Ubuntu 20.04 | PASS | SKIPPED | PASS | +----------------------------------------+--------------------+----------------------+----------------+ | openSUSE Leap 15 | PASS | SKIPPED | PASS | +----------------------------------------+--------------------+----------------------+----------------+ | Ubuntu 20.04 ARM GCC Cross Compile | PASS | SKIPPED | SKIPPED | +----------------------------------------+--------------------+----------------------+----------------+ | RHEL 7 | PASS | SKIPPED | PASS | +----------------------------------------+--------------------+----------------------+----------------+ | Ubuntu 20.04 aarch32 GCC Cross Compile | PASS | SKIPPED | SKIPPED | +----------------------------------------+--------------------+----------------------+----------------+ | CentOS Stream 8 | PASS | SKIPPED | PASS | +----------------------------------------+--------------------+----------------------+----------------+ | Ubuntu 20.04 ARM Clang Cross Compile | PASS | SKIPPED | SKIPPED | +----------------------------------------+--------------------+----------------------+----------------+ | Ubuntu 20.04 ARM SVE | PASS | SKIPPED | SKIPPED | +----------------------------------------+--------------------+----------------------+----------------+ FreeBSD 13 Kernel: 13.0 Compiler: clang 11.0.1 Windows Server 2019 Kernel: 10.0 Compiler: clang 14.0 and gcc 8.1.0 (MinGW) Ubuntu 20.04 ARM Clang Native Kernel: 5.4.0-53-generic Compiler: clang 10.0.0-4ubuntu1 Ubuntu 20.04 ARM GCC Native Kernel: 5.4.0-53-generic Compiler: gcc 9.3 Debian Bullseye Kernel: 5.4.0-122-generic Compiler: gcc 10.2.1-6 Ubuntu 22.04 Kernel: Container Host Kernel Compiler: gcc 11.3.1-2 CentOS Stream 9 Kernel: 4.18.0-240.10.1.el8_3.x86_64 Compiler: gcc 11.3.1 20220421 Debian Buster Kernel: 5.4.0-122-generic Compiler: gcc 8.3.0-6 RHEL8 Kernel: 4.18.0-240.10.1.el8_3.x86_64 Compiler: gcc 8.3.1 20191121 (Red Hat 8.3.1-5) Ubuntu 20.04 Kernel: 4.18.0-240.10.1.el8_3.x86_64 Compiler: gcc 9.3.0-17ubuntu1~20.04 openSUSE Leap 15 Kernel: 4.18.0-240.10.1.el8_3.x86_64 Compiler: gcc 7.5.0 Ubuntu 20.04 ARM GCC Cross Compile Kernel: 5.4.0-72-generic Compiler: aarch64-linux-gnu-gcc (Ubuntu 9.3.0-17ubuntu1~20.04) 9.3.0 RHEL 7 Kernel: 4.18.0-240.10.1.el8_3.x86_64 Compiler: gcc 4.8.5 20150623 (Red Hat 4.8.5-44) Ubuntu 20.04 aarch32 GCC Cross Compile Kernel: 5.4.0-72-generic Compiler: gcc 9.3.0 CentOS Stream 8 Kernel: 4.18.0-240.10.1.el8_3.x86_64 Compiler: gcc 8.4.1 20200928 Ubuntu 20.04 ARM Clang Cross Compile Kernel: 5.4.0-72-generic Compiler: clang version 10.0.0-4ubuntu1 Ubuntu 20.04 ARM SVE Kernel: 5.4.0-80-generic Compiler: gcc 10.3.0 (Ubuntu 10.3.0-1ubuntu1~20.04) To view detailed results, visit: https://lab.dpdk.org/results/dashboard/patchsets/25742/ UNH-IOL DPDK Community Lab To manage your email subscriptions, visit: https://lab.dpdk.org/results/dashboard/preferences/subscriptions/
Test-Label: iol-testing Test-Status: SUCCESS http://dpdk.org/patch/125136 _Testing PASS_ Submitter: Zhichao Zeng <zhichaox.zeng@intel.com> Date: Wednesday, March 15 2023 08:46:17 DPDK git baseline: Repo:dpdk Branch: master CommitID:baf13c3135d0c5998fff7edc23fb89412dc89246 125136 --> testing pass Test environment and result as below: +----------------------------------------+--------------------+----------------------+----------------+ | Environment | dpdk_meson_compile | dpdk_mingw64_compile | dpdk_unit_test | +========================================+====================+======================+================+ | FreeBSD 13 | PASS | SKIPPED | SKIPPED | +----------------------------------------+--------------------+----------------------+----------------+ | Windows Server 2019 | PASS | PASS | PASS | +----------------------------------------+--------------------+----------------------+----------------+ | Ubuntu 20.04 ARM Clang Native | PASS | SKIPPED | PASS | +----------------------------------------+--------------------+----------------------+----------------+ | Ubuntu 20.04 ARM GCC Native | PASS | SKIPPED | PASS | +----------------------------------------+--------------------+----------------------+----------------+ | Debian Bullseye | PASS | SKIPPED | PASS | +----------------------------------------+--------------------+----------------------+----------------+ | Ubuntu 22.04 | PASS | SKIPPED | PASS | +----------------------------------------+--------------------+----------------------+----------------+ | CentOS Stream 9 | PASS | SKIPPED | PASS | +----------------------------------------+--------------------+----------------------+----------------+ | Debian Buster | PASS | SKIPPED | PASS | +----------------------------------------+--------------------+----------------------+----------------+ | RHEL8 | PASS | SKIPPED | SKIPPED | +----------------------------------------+--------------------+----------------------+----------------+ | Ubuntu 20.04 | PASS | SKIPPED | PASS | +----------------------------------------+--------------------+----------------------+----------------+ | openSUSE Leap 15 | PASS | SKIPPED | PASS | +----------------------------------------+--------------------+----------------------+----------------+ | Ubuntu 20.04 ARM GCC Cross Compile | PASS | SKIPPED | SKIPPED | +----------------------------------------+--------------------+----------------------+----------------+ | RHEL 7 | PASS | SKIPPED | PASS | +----------------------------------------+--------------------+----------------------+----------------+ | Ubuntu 20.04 aarch32 GCC Cross Compile | PASS | SKIPPED | SKIPPED | +----------------------------------------+--------------------+----------------------+----------------+ | CentOS Stream 8 | PASS | SKIPPED | PASS | +----------------------------------------+--------------------+----------------------+----------------+ | Ubuntu 20.04 ARM Clang Cross Compile | PASS | SKIPPED | SKIPPED | +----------------------------------------+--------------------+----------------------+----------------+ | Ubuntu 20.04 ARM SVE | PASS | SKIPPED | SKIPPED | +----------------------------------------+--------------------+----------------------+----------------+ FreeBSD 13 Kernel: 13.0 Compiler: clang 11.0.1 Windows Server 2019 Kernel: 10.0 Compiler: clang 14.0 and gcc 8.1.0 (MinGW) Ubuntu 20.04 ARM Clang Native Kernel: 5.4.0-53-generic Compiler: clang 10.0.0-4ubuntu1 Ubuntu 20.04 ARM GCC Native Kernel: 5.4.0-53-generic Compiler: gcc 9.3 Debian Bullseye Kernel: 5.4.0-122-generic Compiler: gcc 10.2.1-6 Ubuntu 22.04 Kernel: Container Host Kernel Compiler: gcc 11.3.1-2 CentOS Stream 9 Kernel: 4.18.0-240.10.1.el8_3.x86_64 Compiler: gcc 11.3.1 20220421 Debian Buster Kernel: 5.4.0-122-generic Compiler: gcc 8.3.0-6 RHEL8 Kernel: 4.18.0-240.10.1.el8_3.x86_64 Compiler: gcc 8.3.1 20191121 (Red Hat 8.3.1-5) Ubuntu 20.04 Kernel: 4.18.0-240.10.1.el8_3.x86_64 Compiler: gcc 9.3.0-17ubuntu1~20.04 openSUSE Leap 15 Kernel: 4.18.0-240.10.1.el8_3.x86_64 Compiler: gcc 7.5.0 Ubuntu 20.04 ARM GCC Cross Compile Kernel: 5.4.0-72-generic Compiler: aarch64-linux-gnu-gcc (Ubuntu 9.3.0-17ubuntu1~20.04) 9.3.0 RHEL 7 Kernel: 4.18.0-240.10.1.el8_3.x86_64 Compiler: gcc 4.8.5 20150623 (Red Hat 4.8.5-44) Ubuntu 20.04 aarch32 GCC Cross Compile Kernel: 5.4.0-72-generic Compiler: gcc 9.3.0 CentOS Stream 8 Kernel: 4.18.0-240.10.1.el8_3.x86_64 Compiler: gcc 8.4.1 20200928 Ubuntu 20.04 ARM Clang Cross Compile Kernel: 5.4.0-72-generic Compiler: clang version 10.0.0-4ubuntu1 Ubuntu 20.04 ARM SVE Kernel: 5.4.0-80-generic Compiler: gcc 10.3.0 (Ubuntu 10.3.0-1ubuntu1~20.04) To view detailed results, visit: https://lab.dpdk.org/results/dashboard/patchsets/25742/ UNH-IOL DPDK Community Lab To manage your email subscriptions, visit: https://lab.dpdk.org/results/dashboard/preferences/subscriptions/
Test-Label: iol-testing Test-Status: SUCCESS http://dpdk.org/patch/125136 _Testing PASS_ Submitter: Zhichao Zeng <zhichaox.zeng@intel.com> Date: Wednesday, March 15 2023 08:46:17 DPDK git baseline: Repo:dpdk Branch: master CommitID:baf13c3135d0c5998fff7edc23fb89412dc89246 125136 --> testing pass Test environment and result as below: +----------------------------------------+--------------------+----------------------+----------------+ | Environment | dpdk_meson_compile | dpdk_mingw64_compile | dpdk_unit_test | +========================================+====================+======================+================+ | FreeBSD 13 | PASS | SKIPPED | SKIPPED | +----------------------------------------+--------------------+----------------------+----------------+ | Windows Server 2019 | PASS | PASS | PASS | +----------------------------------------+--------------------+----------------------+----------------+ | Ubuntu 20.04 ARM Clang Native | PASS | SKIPPED | PASS | +----------------------------------------+--------------------+----------------------+----------------+ | Ubuntu 20.04 ARM GCC Native | PASS | SKIPPED | PASS | +----------------------------------------+--------------------+----------------------+----------------+ | Debian Bullseye | PASS | SKIPPED | PASS | +----------------------------------------+--------------------+----------------------+----------------+ | Ubuntu 22.04 | PASS | SKIPPED | PASS | +----------------------------------------+--------------------+----------------------+----------------+ | CentOS Stream 9 | PASS | SKIPPED | PASS | +----------------------------------------+--------------------+----------------------+----------------+ | Debian Buster | PASS | SKIPPED | PASS | +----------------------------------------+--------------------+----------------------+----------------+ | RHEL8 | PASS | SKIPPED | SKIPPED | +----------------------------------------+--------------------+----------------------+----------------+ | Ubuntu 20.04 | PASS | SKIPPED | PASS | +----------------------------------------+--------------------+----------------------+----------------+ | openSUSE Leap 15 | PASS | SKIPPED | PASS | +----------------------------------------+--------------------+----------------------+----------------+ | Ubuntu 20.04 ARM GCC Cross Compile | PASS | SKIPPED | SKIPPED | +----------------------------------------+--------------------+----------------------+----------------+ | RHEL 7 | PASS | SKIPPED | PASS | +----------------------------------------+--------------------+----------------------+----------------+ | Ubuntu 20.04 aarch32 GCC Cross Compile | PASS | SKIPPED | SKIPPED | +----------------------------------------+--------------------+----------------------+----------------+ | CentOS Stream 8 | PASS | SKIPPED | PASS | +----------------------------------------+--------------------+----------------------+----------------+ | Ubuntu 20.04 ARM Clang Cross Compile | PASS | SKIPPED | SKIPPED | +----------------------------------------+--------------------+----------------------+----------------+ | Ubuntu 20.04 ARM SVE | PASS | SKIPPED | SKIPPED | +----------------------------------------+--------------------+----------------------+----------------+ FreeBSD 13 Kernel: 13.0 Compiler: clang 11.0.1 Windows Server 2019 Kernel: 10.0 Compiler: clang 14.0 and gcc 8.1.0 (MinGW) Ubuntu 20.04 ARM Clang Native Kernel: 5.4.0-53-generic Compiler: clang 10.0.0-4ubuntu1 Ubuntu 20.04 ARM GCC Native Kernel: 5.4.0-53-generic Compiler: gcc 9.3 Debian Bullseye Kernel: 5.4.0-122-generic Compiler: gcc 10.2.1-6 Ubuntu 22.04 Kernel: Container Host Kernel Compiler: gcc 11.3.1-2 CentOS Stream 9 Kernel: 4.18.0-240.10.1.el8_3.x86_64 Compiler: gcc 11.3.1 20220421 Debian Buster Kernel: 5.4.0-122-generic Compiler: gcc 8.3.0-6 RHEL8 Kernel: 4.18.0-240.10.1.el8_3.x86_64 Compiler: gcc 8.3.1 20191121 (Red Hat 8.3.1-5) Ubuntu 20.04 Kernel: 4.18.0-240.10.1.el8_3.x86_64 Compiler: gcc 9.3.0-17ubuntu1~20.04 openSUSE Leap 15 Kernel: 4.18.0-240.10.1.el8_3.x86_64 Compiler: gcc 7.5.0 Ubuntu 20.04 ARM GCC Cross Compile Kernel: 5.4.0-72-generic Compiler: aarch64-linux-gnu-gcc (Ubuntu 9.3.0-17ubuntu1~20.04) 9.3.0 RHEL 7 Kernel: 4.18.0-240.10.1.el8_3.x86_64 Compiler: gcc 4.8.5 20150623 (Red Hat 4.8.5-44) Ubuntu 20.04 aarch32 GCC Cross Compile Kernel: 5.4.0-72-generic Compiler: gcc 9.3.0 CentOS Stream 8 Kernel: 4.18.0-240.10.1.el8_3.x86_64 Compiler: gcc 8.4.1 20200928 Ubuntu 20.04 ARM Clang Cross Compile Kernel: 5.4.0-72-generic Compiler: clang version 10.0.0-4ubuntu1 Ubuntu 20.04 ARM SVE Kernel: 5.4.0-80-generic Compiler: gcc 10.3.0 (Ubuntu 10.3.0-1ubuntu1~20.04) To view detailed results, visit: https://lab.dpdk.org/results/dashboard/patchsets/25742/ UNH-IOL DPDK Community Lab To manage your email subscriptions, visit: https://lab.dpdk.org/results/dashboard/preferences/subscriptions/
Test-Label: iol-testing Test-Status: SUCCESS http://dpdk.org/patch/125136 _Testing PASS_ Submitter: Zhichao Zeng <zhichaox.zeng@intel.com> Date: Wednesday, March 15 2023 08:46:17 DPDK git baseline: Repo:dpdk Branch: master CommitID:baf13c3135d0c5998fff7edc23fb89412dc89246 125136 --> testing pass Test environment and result as below: +----------------------------------------+--------------------+----------------------+----------------+ | Environment | dpdk_meson_compile | dpdk_mingw64_compile | dpdk_unit_test | +========================================+====================+======================+================+ | FreeBSD 13 | PASS | SKIPPED | SKIPPED | +----------------------------------------+--------------------+----------------------+----------------+ | Windows Server 2019 | PASS | PASS | PASS | +----------------------------------------+--------------------+----------------------+----------------+ | Ubuntu 20.04 ARM Clang Native | PASS | SKIPPED | PASS | +----------------------------------------+--------------------+----------------------+----------------+ | Ubuntu 20.04 ARM GCC Native | PASS | SKIPPED | PASS | +----------------------------------------+--------------------+----------------------+----------------+ | Debian Bullseye | PASS | SKIPPED | PASS | +----------------------------------------+--------------------+----------------------+----------------+ | Ubuntu 22.04 | PASS | SKIPPED | PASS | +----------------------------------------+--------------------+----------------------+----------------+ | CentOS Stream 9 | PASS | SKIPPED | PASS | +----------------------------------------+--------------------+----------------------+----------------+ | Debian Buster | PASS | SKIPPED | PASS | +----------------------------------------+--------------------+----------------------+----------------+ | RHEL8 | PASS | SKIPPED | PASS | +----------------------------------------+--------------------+----------------------+----------------+ | Ubuntu 20.04 | PASS | SKIPPED | PASS | +----------------------------------------+--------------------+----------------------+----------------+ | openSUSE Leap 15 | PASS | SKIPPED | PASS | +----------------------------------------+--------------------+----------------------+----------------+ | Ubuntu 20.04 ARM GCC Cross Compile | PASS | SKIPPED | SKIPPED | +----------------------------------------+--------------------+----------------------+----------------+ | RHEL 7 | PASS | SKIPPED | PASS | +----------------------------------------+--------------------+----------------------+----------------+ | Ubuntu 20.04 aarch32 GCC Cross Compile | PASS | SKIPPED | SKIPPED | +----------------------------------------+--------------------+----------------------+----------------+ | CentOS Stream 8 | PASS | SKIPPED | PASS | +----------------------------------------+--------------------+----------------------+----------------+ | Ubuntu 20.04 ARM Clang Cross Compile | PASS | SKIPPED | SKIPPED | +----------------------------------------+--------------------+----------------------+----------------+ | Ubuntu 20.04 ARM SVE | PASS | SKIPPED | SKIPPED | +----------------------------------------+--------------------+----------------------+----------------+ FreeBSD 13 Kernel: 13.0 Compiler: clang 11.0.1 Windows Server 2019 Kernel: 10.0 Compiler: clang 14.0 and gcc 8.1.0 (MinGW) Ubuntu 20.04 ARM Clang Native Kernel: 5.4.0-53-generic Compiler: clang 10.0.0-4ubuntu1 Ubuntu 20.04 ARM GCC Native Kernel: 5.4.0-53-generic Compiler: gcc 9.3 Debian Bullseye Kernel: 5.4.0-122-generic Compiler: gcc 10.2.1-6 Ubuntu 22.04 Kernel: Container Host Kernel Compiler: gcc 11.3.1-2 CentOS Stream 9 Kernel: 4.18.0-240.10.1.el8_3.x86_64 Compiler: gcc 11.3.1 20220421 Debian Buster Kernel: 5.4.0-122-generic Compiler: gcc 8.3.0-6 RHEL8 Kernel: 4.18.0-240.10.1.el8_3.x86_64 Compiler: gcc 8.3.1 20191121 (Red Hat 8.3.1-5) Ubuntu 20.04 Kernel: 4.18.0-240.10.1.el8_3.x86_64 Compiler: gcc 9.3.0-17ubuntu1~20.04 openSUSE Leap 15 Kernel: 4.18.0-240.10.1.el8_3.x86_64 Compiler: gcc 7.5.0 Ubuntu 20.04 ARM GCC Cross Compile Kernel: 5.4.0-72-generic Compiler: aarch64-linux-gnu-gcc (Ubuntu 9.3.0-17ubuntu1~20.04) 9.3.0 RHEL 7 Kernel: 4.18.0-240.10.1.el8_3.x86_64 Compiler: gcc 4.8.5 20150623 (Red Hat 4.8.5-44) Ubuntu 20.04 aarch32 GCC Cross Compile Kernel: 5.4.0-72-generic Compiler: gcc 9.3.0 CentOS Stream 8 Kernel: 4.18.0-240.10.1.el8_3.x86_64 Compiler: gcc 8.4.1 20200928 Ubuntu 20.04 ARM Clang Cross Compile Kernel: 5.4.0-72-generic Compiler: clang version 10.0.0-4ubuntu1 Ubuntu 20.04 ARM SVE Kernel: 5.4.0-80-generic Compiler: gcc 10.3.0 (Ubuntu 10.3.0-1ubuntu1~20.04) To view detailed results, visit: https://lab.dpdk.org/results/dashboard/patchsets/25742/ UNH-IOL DPDK Community Lab To manage your email subscriptions, visit: https://lab.dpdk.org/results/dashboard/preferences/subscriptions/
Test-Label: iol-x86_64-unit-testing Test-Status: SUCCESS http://dpdk.org/patch/125136 _Testing PASS_ Submitter: Zhichao Zeng <zhichaox.zeng@intel.com> Date: Wednesday, March 15 2023 08:46:17 DPDK git baseline: Repo:dpdk Branch: master CommitID:baf13c3135d0c5998fff7edc23fb89412dc89246 125136 --> testing pass Test environment and result as below: +---------------------+----------------+ | Environment | dpdk_unit_test | +=====================+================+ | Windows Server 2019 | PASS | +---------------------+----------------+ | Debian Bullseye | PASS | +---------------------+----------------+ | openSUSE Leap 15 | PASS | +---------------------+----------------+ | Debian Buster | PASS | +---------------------+----------------+ | CentOS Stream 8 | PASS | +---------------------+----------------+ | Ubuntu 20.04 | PASS | +---------------------+----------------+ | RHEL 7 | PASS | +---------------------+----------------+ | CentOS Stream 9 | PASS | +---------------------+----------------+ | Ubuntu 22.04 | PASS | +---------------------+----------------+ | RHEL8 | PASS | +---------------------+----------------+ Windows Server 2019 Kernel: 10.0 Compiler: clang 14.0 and gcc 8.1.0 (MinGW) Debian Bullseye Kernel: 5.4.0-122-generic Compiler: gcc 10.2.1-6 openSUSE Leap 15 Kernel: 4.18.0-240.10.1.el8_3.x86_64 Compiler: gcc 7.5.0 Debian Buster Kernel: 5.4.0-122-generic Compiler: gcc 8.3.0-6 CentOS Stream 8 Kernel: 4.18.0-240.10.1.el8_3.x86_64 Compiler: gcc 8.4.1 20200928 Ubuntu 20.04 Kernel: 4.18.0-240.10.1.el8_3.x86_64 Compiler: gcc 9.3.0-17ubuntu1~20.04 RHEL 7 Kernel: 4.18.0-240.10.1.el8_3.x86_64 Compiler: gcc 4.8.5 20150623 (Red Hat 4.8.5-44) CentOS Stream 9 Kernel: 4.18.0-240.10.1.el8_3.x86_64 Compiler: gcc 11.3.1 20220421 Ubuntu 22.04 Kernel: 4.18.0-240.10.1.el8_3.x86_64 Compiler: gcc 11.3.0 RHEL8 Kernel: 4.18.0-240.10.1.el8_3.x86_64 Compiler: gcc 8.3.1 20191121 (Red Hat 8.3.1-5) To view detailed results, visit: https://lab.dpdk.org/results/dashboard/patchsets/25742/ UNH-IOL DPDK Community Lab To manage your email subscriptions, visit: https://lab.dpdk.org/results/dashboard/preferences/subscriptions/
Test-Label: iol-testing Test-Status: SUCCESS http://dpdk.org/patch/125136 _Testing PASS_ Submitter: Zhichao Zeng <zhichaox.zeng@intel.com> Date: Wednesday, March 15 2023 08:46:17 DPDK git baseline: Repo:dpdk Branch: master CommitID:baf13c3135d0c5998fff7edc23fb89412dc89246 125136 --> testing pass Test environment and result as below: +--------------+----------------------+ | Environment | dpdk_fips_validation | +==============+======================+ | Ubuntu 20.04 | PASS | +--------------+----------------------+ Ubuntu 20.04 Kernel: 4.18.0-240.10.1.el8_3.x86_64 Compiler: gcc 9.3.0-17ubuntu1~20.04 To view detailed results, visit: https://lab.dpdk.org/results/dashboard/patchsets/25742/ UNH-IOL DPDK Community Lab To manage your email subscriptions, visit: https://lab.dpdk.org/results/dashboard/preferences/subscriptions/
Test-Label: iol-testing Test-Status: SUCCESS http://dpdk.org/patch/125136 _Testing PASS_ Submitter: Zhichao Zeng <zhichaox.zeng@intel.com> Date: Wednesday, March 15 2023 08:46:17 DPDK git baseline: Repo:dpdk Branch: master CommitID:baf13c3135d0c5998fff7edc23fb89412dc89246 125136 --> testing pass Test environment and result as below: +----------------------------------------+--------------------+----------------------+----------------+ | Environment | dpdk_meson_compile | dpdk_mingw64_compile | dpdk_unit_test | +========================================+====================+======================+================+ | FreeBSD 13 | PASS | SKIPPED | SKIPPED | +----------------------------------------+--------------------+----------------------+----------------+ | CentOS Stream 8 | PASS | SKIPPED | SKIPPED | +----------------------------------------+--------------------+----------------------+----------------+ | Windows Server 2019 | PASS | PASS | PASS | +----------------------------------------+--------------------+----------------------+----------------+ | CentOS Stream 9 | PASS | SKIPPED | SKIPPED | +----------------------------------------+--------------------+----------------------+----------------+ | RHEL 7 | PASS | SKIPPED | SKIPPED | +----------------------------------------+--------------------+----------------------+----------------+ | Ubuntu 22.04 | PASS | SKIPPED | PASS | +----------------------------------------+--------------------+----------------------+----------------+ | Debian Buster | PASS | SKIPPED | SKIPPED | +----------------------------------------+--------------------+----------------------+----------------+ | Debian Bullseye | PASS | SKIPPED | SKIPPED | +----------------------------------------+--------------------+----------------------+----------------+ | RHEL8 | PASS | SKIPPED | SKIPPED | +----------------------------------------+--------------------+----------------------+----------------+ | Ubuntu 20.04 | PASS | SKIPPED | SKIPPED | +----------------------------------------+--------------------+----------------------+----------------+ | openSUSE Leap 15 | PASS | SKIPPED | SKIPPED | +----------------------------------------+--------------------+----------------------+----------------+ | Ubuntu 20.04 ARM Clang Native | PASS | SKIPPED | PASS | +----------------------------------------+--------------------+----------------------+----------------+ | Ubuntu 20.04 ARM GCC Native | PASS | SKIPPED | PASS | +----------------------------------------+--------------------+----------------------+----------------+ | Ubuntu 20.04 ARM Clang Cross Compile | PASS | SKIPPED | SKIPPED | +----------------------------------------+--------------------+----------------------+----------------+ | Ubuntu 20.04 ARM GCC Cross Compile | PASS | SKIPPED | SKIPPED | +----------------------------------------+--------------------+----------------------+----------------+ | Ubuntu 20.04 aarch32 GCC Cross Compile | PASS | SKIPPED | SKIPPED | +----------------------------------------+--------------------+----------------------+----------------+ | Ubuntu 20.04 ARM SVE | PASS | SKIPPED | SKIPPED | +----------------------------------------+--------------------+----------------------+----------------+ FreeBSD 13 Kernel: 13.0 Compiler: clang 11.0.1 CentOS Stream 8 Kernel: 4.18.0-240.10.1.el8_3.x86_64 Compiler: gcc 8.4.1 20200928 Windows Server 2019 Kernel: 10.0 Compiler: clang 14.0 and gcc 8.1.0 (MinGW) CentOS Stream 9 Kernel: 4.18.0-240.10.1.el8_3.x86_64 Compiler: gcc 11.3.1 20220421 RHEL 7 Kernel: 4.18.0-240.10.1.el8_3.x86_64 Compiler: gcc 4.8.5 20150623 (Red Hat 4.8.5-44) Ubuntu 22.04 Kernel: Container Host Kernel Compiler: gcc 12.2.1-2 Debian Buster Kernel: 5.4.0-122-generic Compiler: gcc 8.3.0-6 Debian Bullseye Kernel: 5.4.0-122-generic Compiler: gcc 10.2.1-6 RHEL8 Kernel: 4.18.0-240.10.1.el8_3.x86_64 Compiler: gcc 8.3.1 20191121 (Red Hat 8.3.1-5) Ubuntu 20.04 Kernel: 4.18.0-240.10.1.el8_3.x86_64 Compiler: gcc 9.3.0-17ubuntu1~20.04 openSUSE Leap 15 Kernel: 4.18.0-240.10.1.el8_3.x86_64 Compiler: gcc 7.5.0 Ubuntu 20.04 ARM Clang Native Kernel: 5.4.0-53-generic Compiler: clang 10.0.0-4ubuntu1 Ubuntu 20.04 ARM GCC Native Kernel: 5.4.0-53-generic Compiler: gcc 9.3 Ubuntu 20.04 ARM Clang Cross Compile Kernel: 5.4.0-72-generic Compiler: clang version 10.0.0-4ubuntu1 Ubuntu 20.04 ARM GCC Cross Compile Kernel: 5.4.0-72-generic Compiler: aarch64-linux-gnu-gcc (Ubuntu 9.3.0-17ubuntu1~20.04) 9.3.0 Ubuntu 20.04 aarch32 GCC Cross Compile Kernel: 5.4.0-72-generic Compiler: gcc 9.3.0 Ubuntu 20.04 ARM SVE Kernel: 5.4.0-80-generic Compiler: gcc 10.3.0 (Ubuntu 10.3.0-1ubuntu1~20.04) To view detailed results, visit: https://lab.dpdk.org/results/dashboard/patchsets/25742/ UNH-IOL DPDK Community Lab To manage your email subscriptions, visit: https://lab.dpdk.org/results/dashboard/preferences/subscriptions/
Test-Label: iol-testing Test-Status: SUCCESS http://dpdk.org/patch/125136 _Testing PASS_ Submitter: Zhichao Zeng <zhichaox.zeng@intel.com> Date: Wednesday, March 15 2023 08:46:17 DPDK git baseline: Repo:dpdk Branch: master CommitID:baf13c3135d0c5998fff7edc23fb89412dc89246 125136 --> testing pass Test environment and result as below: +----------------------------------------+--------------------+----------------------+----------------+ | Environment | dpdk_meson_compile | dpdk_mingw64_compile | dpdk_unit_test | +========================================+====================+======================+================+ | FreeBSD 13 | PASS | SKIPPED | SKIPPED | +----------------------------------------+--------------------+----------------------+----------------+ | CentOS Stream 8 | PASS | SKIPPED | SKIPPED | +----------------------------------------+--------------------+----------------------+----------------+ | Windows Server 2019 | PASS | PASS | PASS | +----------------------------------------+--------------------+----------------------+----------------+ | CentOS Stream 9 | PASS | SKIPPED | SKIPPED | +----------------------------------------+--------------------+----------------------+----------------+ | RHEL 7 | PASS | SKIPPED | SKIPPED | +----------------------------------------+--------------------+----------------------+----------------+ | Ubuntu 22.04 | PASS | SKIPPED | PASS | +----------------------------------------+--------------------+----------------------+----------------+ | Debian Buster | PASS | SKIPPED | SKIPPED | +----------------------------------------+--------------------+----------------------+----------------+ | Debian Bullseye | PASS | SKIPPED | SKIPPED | +----------------------------------------+--------------------+----------------------+----------------+ | RHEL8 | PASS | SKIPPED | SKIPPED | +----------------------------------------+--------------------+----------------------+----------------+ | Ubuntu 20.04 | PASS | SKIPPED | SKIPPED | +----------------------------------------+--------------------+----------------------+----------------+ | openSUSE Leap 15 | PASS | SKIPPED | PASS | +----------------------------------------+--------------------+----------------------+----------------+ | Ubuntu 20.04 ARM Clang Native | PASS | SKIPPED | PASS | +----------------------------------------+--------------------+----------------------+----------------+ | Ubuntu 20.04 ARM GCC Native | PASS | SKIPPED | PASS | +----------------------------------------+--------------------+----------------------+----------------+ | Ubuntu 20.04 ARM Clang Cross Compile | PASS | SKIPPED | SKIPPED | +----------------------------------------+--------------------+----------------------+----------------+ | Ubuntu 20.04 ARM GCC Cross Compile | PASS | SKIPPED | SKIPPED | +----------------------------------------+--------------------+----------------------+----------------+ | Ubuntu 20.04 aarch32 GCC Cross Compile | PASS | SKIPPED | SKIPPED | +----------------------------------------+--------------------+----------------------+----------------+ | Ubuntu 20.04 ARM SVE | PASS | SKIPPED | SKIPPED | +----------------------------------------+--------------------+----------------------+----------------+ FreeBSD 13 Kernel: 13.0 Compiler: clang 11.0.1 CentOS Stream 8 Kernel: 4.18.0-240.10.1.el8_3.x86_64 Compiler: gcc 8.4.1 20200928 Windows Server 2019 Kernel: 10.0 Compiler: clang 14.0 and gcc 8.1.0 (MinGW) CentOS Stream 9 Kernel: 4.18.0-240.10.1.el8_3.x86_64 Compiler: gcc 11.3.1 20220421 RHEL 7 Kernel: 4.18.0-240.10.1.el8_3.x86_64 Compiler: gcc 4.8.5 20150623 (Red Hat 4.8.5-44) Ubuntu 22.04 Kernel: Container Host Kernel Compiler: gcc 12.2.1-2 Debian Buster Kernel: 5.4.0-122-generic Compiler: gcc 8.3.0-6 Debian Bullseye Kernel: 5.4.0-122-generic Compiler: gcc 10.2.1-6 RHEL8 Kernel: 4.18.0-240.10.1.el8_3.x86_64 Compiler: gcc 8.3.1 20191121 (Red Hat 8.3.1-5) Ubuntu 20.04 Kernel: 4.18.0-240.10.1.el8_3.x86_64 Compiler: gcc 9.3.0-17ubuntu1~20.04 openSUSE Leap 15 Kernel: 4.18.0-240.10.1.el8_3.x86_64 Compiler: gcc 7.5.0 Ubuntu 20.04 ARM Clang Native Kernel: 5.4.0-53-generic Compiler: clang 10.0.0-4ubuntu1 Ubuntu 20.04 ARM GCC Native Kernel: 5.4.0-53-generic Compiler: gcc 9.3 Ubuntu 20.04 ARM Clang Cross Compile Kernel: 5.4.0-72-generic Compiler: clang version 10.0.0-4ubuntu1 Ubuntu 20.04 ARM GCC Cross Compile Kernel: 5.4.0-72-generic Compiler: aarch64-linux-gnu-gcc (Ubuntu 9.3.0-17ubuntu1~20.04) 9.3.0 Ubuntu 20.04 aarch32 GCC Cross Compile Kernel: 5.4.0-72-generic Compiler: gcc 9.3.0 Ubuntu 20.04 ARM SVE Kernel: 5.4.0-80-generic Compiler: gcc 10.3.0 (Ubuntu 10.3.0-1ubuntu1~20.04) To view detailed results, visit: https://lab.dpdk.org/results/dashboard/patchsets/25742/ UNH-IOL DPDK Community Lab To manage your email subscriptions, visit: https://lab.dpdk.org/results/dashboard/preferences/subscriptions/
Test-Label: iol-testing Test-Status: SUCCESS http://dpdk.org/patch/125136 _Testing PASS_ Submitter: Zhichao Zeng <zhichaox.zeng@intel.com> Date: Wednesday, March 15 2023 08:46:17 DPDK git baseline: Repo:dpdk Branch: master CommitID:baf13c3135d0c5998fff7edc23fb89412dc89246 125136 --> testing pass Test environment and result as below: +----------------------------------------+--------------------+----------------------+----------------+ | Environment | dpdk_meson_compile | dpdk_mingw64_compile | dpdk_unit_test | +========================================+====================+======================+================+ | FreeBSD 13 | PASS | SKIPPED | SKIPPED | +----------------------------------------+--------------------+----------------------+----------------+ | CentOS Stream 8 | PASS | SKIPPED | SKIPPED | +----------------------------------------+--------------------+----------------------+----------------+ | Windows Server 2019 | PASS | PASS | PASS | +----------------------------------------+--------------------+----------------------+----------------+ | CentOS Stream 9 | PASS | SKIPPED | SKIPPED | +----------------------------------------+--------------------+----------------------+----------------+ | RHEL 7 | PASS | SKIPPED | SKIPPED | +----------------------------------------+--------------------+----------------------+----------------+ | Ubuntu 22.04 | PASS | SKIPPED | PASS | +----------------------------------------+--------------------+----------------------+----------------+ | Debian Buster | PASS | SKIPPED | PASS | +----------------------------------------+--------------------+----------------------+----------------+ | Debian Bullseye | PASS | SKIPPED | SKIPPED | +----------------------------------------+--------------------+----------------------+----------------+ | RHEL8 | PASS | SKIPPED | SKIPPED | +----------------------------------------+--------------------+----------------------+----------------+ | Ubuntu 20.04 | PASS | SKIPPED | SKIPPED | +----------------------------------------+--------------------+----------------------+----------------+ | openSUSE Leap 15 | PASS | SKIPPED | PASS | +----------------------------------------+--------------------+----------------------+----------------+ | Ubuntu 20.04 ARM Clang Native | PASS | SKIPPED | PASS | +----------------------------------------+--------------------+----------------------+----------------+ | Ubuntu 20.04 ARM GCC Native | PASS | SKIPPED | PASS | +----------------------------------------+--------------------+----------------------+----------------+ | Ubuntu 20.04 ARM Clang Cross Compile | PASS | SKIPPED | SKIPPED | +----------------------------------------+--------------------+----------------------+----------------+ | Ubuntu 20.04 ARM GCC Cross Compile | PASS | SKIPPED | SKIPPED | +----------------------------------------+--------------------+----------------------+----------------+ | Ubuntu 20.04 aarch32 GCC Cross Compile | PASS | SKIPPED | SKIPPED | +----------------------------------------+--------------------+----------------------+----------------+ | Ubuntu 20.04 ARM SVE | PASS | SKIPPED | SKIPPED | +----------------------------------------+--------------------+----------------------+----------------+ FreeBSD 13 Kernel: 13.0 Compiler: clang 11.0.1 CentOS Stream 8 Kernel: 4.18.0-240.10.1.el8_3.x86_64 Compiler: gcc 8.4.1 20200928 Windows Server 2019 Kernel: 10.0 Compiler: clang 14.0 and gcc 8.1.0 (MinGW) CentOS Stream 9 Kernel: 4.18.0-240.10.1.el8_3.x86_64 Compiler: gcc 11.3.1 20220421 RHEL 7 Kernel: 4.18.0-240.10.1.el8_3.x86_64 Compiler: gcc 4.8.5 20150623 (Red Hat 4.8.5-44) Ubuntu 22.04 Kernel: Container Host Kernel Compiler: gcc 12.2.1-2 Debian Buster Kernel: 5.4.0-122-generic Compiler: gcc 8.3.0-6 Debian Bullseye Kernel: 5.4.0-122-generic Compiler: gcc 10.2.1-6 RHEL8 Kernel: 4.18.0-240.10.1.el8_3.x86_64 Compiler: gcc 8.3.1 20191121 (Red Hat 8.3.1-5) Ubuntu 20.04 Kernel: 4.18.0-240.10.1.el8_3.x86_64 Compiler: gcc 9.3.0-17ubuntu1~20.04 openSUSE Leap 15 Kernel: 4.18.0-240.10.1.el8_3.x86_64 Compiler: gcc 7.5.0 Ubuntu 20.04 ARM Clang Native Kernel: 5.4.0-53-generic Compiler: clang 10.0.0-4ubuntu1 Ubuntu 20.04 ARM GCC Native Kernel: 5.4.0-53-generic Compiler: gcc 9.3 Ubuntu 20.04 ARM Clang Cross Compile Kernel: 5.4.0-72-generic Compiler: clang version 10.0.0-4ubuntu1 Ubuntu 20.04 ARM GCC Cross Compile Kernel: 5.4.0-72-generic Compiler: aarch64-linux-gnu-gcc (Ubuntu 9.3.0-17ubuntu1~20.04) 9.3.0 Ubuntu 20.04 aarch32 GCC Cross Compile Kernel: 5.4.0-72-generic Compiler: gcc 9.3.0 Ubuntu 20.04 ARM SVE Kernel: 5.4.0-80-generic Compiler: gcc 10.3.0 (Ubuntu 10.3.0-1ubuntu1~20.04) To view detailed results, visit: https://lab.dpdk.org/results/dashboard/patchsets/25742/ UNH-IOL DPDK Community Lab To manage your email subscriptions, visit: https://lab.dpdk.org/results/dashboard/preferences/subscriptions/
Test-Label: iol-testing Test-Status: SUCCESS http://dpdk.org/patch/125136 _Testing PASS_ Submitter: Zhichao Zeng <zhichaox.zeng@intel.com> Date: Wednesday, March 15 2023 08:46:17 DPDK git baseline: Repo:dpdk Branch: master CommitID:baf13c3135d0c5998fff7edc23fb89412dc89246 125136 --> testing pass Test environment and result as below: +----------------------------------------+--------------------+----------------------+----------------+ | Environment | dpdk_meson_compile | dpdk_mingw64_compile | dpdk_unit_test | +========================================+====================+======================+================+ | FreeBSD 13 | PASS | SKIPPED | SKIPPED | +----------------------------------------+--------------------+----------------------+----------------+ | CentOS Stream 8 | PASS | SKIPPED | SKIPPED | +----------------------------------------+--------------------+----------------------+----------------+ | Windows Server 2019 | PASS | PASS | PASS | +----------------------------------------+--------------------+----------------------+----------------+ | CentOS Stream 9 | PASS | SKIPPED | SKIPPED | +----------------------------------------+--------------------+----------------------+----------------+ | RHEL 7 | PASS | SKIPPED | PASS | +----------------------------------------+--------------------+----------------------+----------------+ | Ubuntu 22.04 | PASS | SKIPPED | PASS | +----------------------------------------+--------------------+----------------------+----------------+ | Debian Buster | PASS | SKIPPED | PASS | +----------------------------------------+--------------------+----------------------+----------------+ | Debian Bullseye | PASS | SKIPPED | SKIPPED | +----------------------------------------+--------------------+----------------------+----------------+ | RHEL8 | PASS | SKIPPED | SKIPPED | +----------------------------------------+--------------------+----------------------+----------------+ | Ubuntu 20.04 | PASS | SKIPPED | SKIPPED | +----------------------------------------+--------------------+----------------------+----------------+ | openSUSE Leap 15 | PASS | SKIPPED | PASS | +----------------------------------------+--------------------+----------------------+----------------+ | Ubuntu 20.04 ARM Clang Native | PASS | SKIPPED | PASS | +----------------------------------------+--------------------+----------------------+----------------+ | Ubuntu 20.04 ARM GCC Native | PASS | SKIPPED | PASS | +----------------------------------------+--------------------+----------------------+----------------+ | Ubuntu 20.04 ARM Clang Cross Compile | PASS | SKIPPED | SKIPPED | +----------------------------------------+--------------------+----------------------+----------------+ | Ubuntu 20.04 ARM GCC Cross Compile | PASS | SKIPPED | SKIPPED | +----------------------------------------+--------------------+----------------------+----------------+ | Ubuntu 20.04 aarch32 GCC Cross Compile | PASS | SKIPPED | SKIPPED | +----------------------------------------+--------------------+----------------------+----------------+ | Ubuntu 20.04 ARM SVE | PASS | SKIPPED | SKIPPED | +----------------------------------------+--------------------+----------------------+----------------+ FreeBSD 13 Kernel: 13.0 Compiler: clang 11.0.1 CentOS Stream 8 Kernel: 4.18.0-240.10.1.el8_3.x86_64 Compiler: gcc 8.4.1 20200928 Windows Server 2019 Kernel: 10.0 Compiler: clang 14.0 and gcc 8.1.0 (MinGW) CentOS Stream 9 Kernel: 4.18.0-240.10.1.el8_3.x86_64 Compiler: gcc 11.3.1 20220421 RHEL 7 Kernel: 4.18.0-240.10.1.el8_3.x86_64 Compiler: gcc 4.8.5 20150623 (Red Hat 4.8.5-44) Ubuntu 22.04 Kernel: Container Host Kernel Compiler: gcc 12.2.1-2 Debian Buster Kernel: 5.4.0-122-generic Compiler: gcc 8.3.0-6 Debian Bullseye Kernel: 5.4.0-122-generic Compiler: gcc 10.2.1-6 RHEL8 Kernel: 4.18.0-240.10.1.el8_3.x86_64 Compiler: gcc 8.3.1 20191121 (Red Hat 8.3.1-5) Ubuntu 20.04 Kernel: 4.18.0-240.10.1.el8_3.x86_64 Compiler: gcc 9.3.0-17ubuntu1~20.04 openSUSE Leap 15 Kernel: 4.18.0-240.10.1.el8_3.x86_64 Compiler: gcc 7.5.0 Ubuntu 20.04 ARM Clang Native Kernel: 5.4.0-53-generic Compiler: clang 10.0.0-4ubuntu1 Ubuntu 20.04 ARM GCC Native Kernel: 5.4.0-53-generic Compiler: gcc 9.3 Ubuntu 20.04 ARM Clang Cross Compile Kernel: 5.4.0-72-generic Compiler: clang version 10.0.0-4ubuntu1 Ubuntu 20.04 ARM GCC Cross Compile Kernel: 5.4.0-72-generic Compiler: aarch64-linux-gnu-gcc (Ubuntu 9.3.0-17ubuntu1~20.04) 9.3.0 Ubuntu 20.04 aarch32 GCC Cross Compile Kernel: 5.4.0-72-generic Compiler: gcc 9.3.0 Ubuntu 20.04 ARM SVE Kernel: 5.4.0-80-generic Compiler: gcc 10.3.0 (Ubuntu 10.3.0-1ubuntu1~20.04) To view detailed results, visit: https://lab.dpdk.org/results/dashboard/patchsets/25742/ UNH-IOL DPDK Community Lab To manage your email subscriptions, visit: https://lab.dpdk.org/results/dashboard/preferences/subscriptions/
Test-Label: iol-testing Test-Status: SUCCESS http://dpdk.org/patch/125136 _Testing PASS_ Submitter: Zhichao Zeng <zhichaox.zeng@intel.com> Date: Wednesday, March 15 2023 08:46:17 DPDK git baseline: Repo:dpdk Branch: master CommitID:baf13c3135d0c5998fff7edc23fb89412dc89246 125136 --> testing pass Test environment and result as below: +----------------------------------------+--------------------+----------------------+----------------+ | Environment | dpdk_meson_compile | dpdk_mingw64_compile | dpdk_unit_test | +========================================+====================+======================+================+ | FreeBSD 13 | PASS | SKIPPED | SKIPPED | +----------------------------------------+--------------------+----------------------+----------------+ | CentOS Stream 8 | PASS | SKIPPED | SKIPPED | +----------------------------------------+--------------------+----------------------+----------------+ | Windows Server 2019 | PASS | PASS | PASS | +----------------------------------------+--------------------+----------------------+----------------+ | CentOS Stream 9 | PASS | SKIPPED | SKIPPED | +----------------------------------------+--------------------+----------------------+----------------+ | RHEL 7 | PASS | SKIPPED | PASS | +----------------------------------------+--------------------+----------------------+----------------+ | Ubuntu 22.04 | PASS | SKIPPED | PASS | +----------------------------------------+--------------------+----------------------+----------------+ | Debian Buster | PASS | SKIPPED | PASS | +----------------------------------------+--------------------+----------------------+----------------+ | Debian Bullseye | PASS | SKIPPED | SKIPPED | +----------------------------------------+--------------------+----------------------+----------------+ | RHEL8 | PASS | SKIPPED | SKIPPED | +----------------------------------------+--------------------+----------------------+----------------+ | Ubuntu 20.04 | PASS | SKIPPED | SKIPPED | +----------------------------------------+--------------------+----------------------+----------------+ | openSUSE Leap 15 | PASS | SKIPPED | PASS | +----------------------------------------+--------------------+----------------------+----------------+ | Ubuntu 20.04 ARM Clang Native | PASS | SKIPPED | PASS | +----------------------------------------+--------------------+----------------------+----------------+ | Ubuntu 20.04 ARM GCC Native | PASS | SKIPPED | PASS | +----------------------------------------+--------------------+----------------------+----------------+ | Ubuntu 20.04 ARM Clang Cross Compile | PASS | SKIPPED | SKIPPED | +----------------------------------------+--------------------+----------------------+----------------+ | Ubuntu 20.04 ARM GCC Cross Compile | PASS | SKIPPED | SKIPPED | +----------------------------------------+--------------------+----------------------+----------------+ | Ubuntu 20.04 aarch32 GCC Cross Compile | PASS | SKIPPED | SKIPPED | +----------------------------------------+--------------------+----------------------+----------------+ | Ubuntu 20.04 ARM SVE | PASS | SKIPPED | SKIPPED | +----------------------------------------+--------------------+----------------------+----------------+ FreeBSD 13 Kernel: 13.0 Compiler: clang 11.0.1 CentOS Stream 8 Kernel: 4.18.0-240.10.1.el8_3.x86_64 Compiler: gcc 8.4.1 20200928 Windows Server 2019 Kernel: 10.0 Compiler: clang 14.0 and gcc 8.1.0 (MinGW) CentOS Stream 9 Kernel: 4.18.0-240.10.1.el8_3.x86_64 Compiler: gcc 11.3.1 20220421 RHEL 7 Kernel: 4.18.0-240.10.1.el8_3.x86_64 Compiler: gcc 4.8.5 20150623 (Red Hat 4.8.5-44) Ubuntu 22.04 Kernel: Container Host Kernel Compiler: gcc 12.2.1-2 Debian Buster Kernel: 5.4.0-122-generic Compiler: gcc 8.3.0-6 Debian Bullseye Kernel: 5.4.0-122-generic Compiler: gcc 10.2.1-6 RHEL8 Kernel: 4.18.0-240.10.1.el8_3.x86_64 Compiler: gcc 8.3.1 20191121 (Red Hat 8.3.1-5) Ubuntu 20.04 Kernel: 4.18.0-240.10.1.el8_3.x86_64 Compiler: gcc 9.3.0-17ubuntu1~20.04 openSUSE Leap 15 Kernel: 4.18.0-240.10.1.el8_3.x86_64 Compiler: gcc 7.5.0 Ubuntu 20.04 ARM Clang Native Kernel: 5.4.0-53-generic Compiler: clang 10.0.0-4ubuntu1 Ubuntu 20.04 ARM GCC Native Kernel: 5.4.0-53-generic Compiler: gcc 9.3 Ubuntu 20.04 ARM Clang Cross Compile Kernel: 5.4.0-72-generic Compiler: clang version 10.0.0-4ubuntu1 Ubuntu 20.04 ARM GCC Cross Compile Kernel: 5.4.0-72-generic Compiler: aarch64-linux-gnu-gcc (Ubuntu 9.3.0-17ubuntu1~20.04) 9.3.0 Ubuntu 20.04 aarch32 GCC Cross Compile Kernel: 5.4.0-72-generic Compiler: gcc 9.3.0 Ubuntu 20.04 ARM SVE Kernel: 5.4.0-80-generic Compiler: gcc 10.3.0 (Ubuntu 10.3.0-1ubuntu1~20.04) To view detailed results, visit: https://lab.dpdk.org/results/dashboard/patchsets/25742/ UNH-IOL DPDK Community Lab To manage your email subscriptions, visit: https://lab.dpdk.org/results/dashboard/preferences/subscriptions/
Test-Label: iol-testing Test-Status: SUCCESS http://dpdk.org/patch/125136 _Testing PASS_ Submitter: Zhichao Zeng <zhichaox.zeng@intel.com> Date: Wednesday, March 15 2023 08:46:17 DPDK git baseline: Repo:dpdk Branch: master CommitID:baf13c3135d0c5998fff7edc23fb89412dc89246 125136 --> testing pass Test environment and result as below: +----------------------------------------+--------------------+----------------------+----------------+ | Environment | dpdk_meson_compile | dpdk_mingw64_compile | dpdk_unit_test | +========================================+====================+======================+================+ | FreeBSD 13 | PASS | SKIPPED | SKIPPED | +----------------------------------------+--------------------+----------------------+----------------+ | CentOS Stream 8 | PASS | SKIPPED | SKIPPED | +----------------------------------------+--------------------+----------------------+----------------+ | Windows Server 2019 | PASS | PASS | PASS | +----------------------------------------+--------------------+----------------------+----------------+ | CentOS Stream 9 | PASS | SKIPPED | SKIPPED | +----------------------------------------+--------------------+----------------------+----------------+ | RHEL 7 | PASS | SKIPPED | PASS | +----------------------------------------+--------------------+----------------------+----------------+ | Ubuntu 22.04 | PASS | SKIPPED | PASS | +----------------------------------------+--------------------+----------------------+----------------+ | Debian Buster | PASS | SKIPPED | PASS | +----------------------------------------+--------------------+----------------------+----------------+ | Debian Bullseye | PASS | SKIPPED | SKIPPED | +----------------------------------------+--------------------+----------------------+----------------+ | RHEL8 | PASS | SKIPPED | SKIPPED | +----------------------------------------+--------------------+----------------------+----------------+ | Ubuntu 20.04 | PASS | SKIPPED | PASS | +----------------------------------------+--------------------+----------------------+----------------+ | openSUSE Leap 15 | PASS | SKIPPED | PASS | +----------------------------------------+--------------------+----------------------+----------------+ | Ubuntu 20.04 ARM Clang Native | PASS | SKIPPED | PASS | +----------------------------------------+--------------------+----------------------+----------------+ | Ubuntu 20.04 ARM GCC Native | PASS | SKIPPED | PASS | +----------------------------------------+--------------------+----------------------+----------------+ | Ubuntu 20.04 ARM Clang Cross Compile | PASS | SKIPPED | SKIPPED | +----------------------------------------+--------------------+----------------------+----------------+ | Ubuntu 20.04 ARM GCC Cross Compile | PASS | SKIPPED | SKIPPED | +----------------------------------------+--------------------+----------------------+----------------+ | Ubuntu 20.04 aarch32 GCC Cross Compile | PASS | SKIPPED | SKIPPED | +----------------------------------------+--------------------+----------------------+----------------+ | Ubuntu 20.04 ARM SVE | PASS | SKIPPED | SKIPPED | +----------------------------------------+--------------------+----------------------+----------------+ FreeBSD 13 Kernel: 13.0 Compiler: clang 11.0.1 CentOS Stream 8 Kernel: 4.18.0-240.10.1.el8_3.x86_64 Compiler: gcc 8.4.1 20200928 Windows Server 2019 Kernel: 10.0 Compiler: clang 14.0 and gcc 8.1.0 (MinGW) CentOS Stream 9 Kernel: 4.18.0-240.10.1.el8_3.x86_64 Compiler: gcc 11.3.1 20220421 RHEL 7 Kernel: 4.18.0-240.10.1.el8_3.x86_64 Compiler: gcc 4.8.5 20150623 (Red Hat 4.8.5-44) Ubuntu 22.04 Kernel: Container Host Kernel Compiler: gcc 12.2.1-2 Debian Buster Kernel: 5.4.0-122-generic Compiler: gcc 8.3.0-6 Debian Bullseye Kernel: 5.4.0-122-generic Compiler: gcc 10.2.1-6 RHEL8 Kernel: 4.18.0-240.10.1.el8_3.x86_64 Compiler: gcc 8.3.1 20191121 (Red Hat 8.3.1-5) Ubuntu 20.04 Kernel: 4.18.0-240.10.1.el8_3.x86_64 Compiler: gcc 9.3.0-17ubuntu1~20.04 openSUSE Leap 15 Kernel: 4.18.0-240.10.1.el8_3.x86_64 Compiler: gcc 7.5.0 Ubuntu 20.04 ARM Clang Native Kernel: 5.4.0-53-generic Compiler: clang 10.0.0-4ubuntu1 Ubuntu 20.04 ARM GCC Native Kernel: 5.4.0-53-generic Compiler: gcc 9.3 Ubuntu 20.04 ARM Clang Cross Compile Kernel: 5.4.0-72-generic Compiler: clang version 10.0.0-4ubuntu1 Ubuntu 20.04 ARM GCC Cross Compile Kernel: 5.4.0-72-generic Compiler: aarch64-linux-gnu-gcc (Ubuntu 9.3.0-17ubuntu1~20.04) 9.3.0 Ubuntu 20.04 aarch32 GCC Cross Compile Kernel: 5.4.0-72-generic Compiler: gcc 9.3.0 Ubuntu 20.04 ARM SVE Kernel: 5.4.0-80-generic Compiler: gcc 10.3.0 (Ubuntu 10.3.0-1ubuntu1~20.04) To view detailed results, visit: https://lab.dpdk.org/results/dashboard/patchsets/25742/ UNH-IOL DPDK Community Lab To manage your email subscriptions, visit: https://lab.dpdk.org/results/dashboard/preferences/subscriptions/
Test-Label: iol-testing Test-Status: SUCCESS http://dpdk.org/patch/125136 _Testing PASS_ Submitter: Zhichao Zeng <zhichaox.zeng@intel.com> Date: Wednesday, March 15 2023 08:46:17 DPDK git baseline: Repo:dpdk Branch: master CommitID:baf13c3135d0c5998fff7edc23fb89412dc89246 125136 --> testing pass Test environment and result as below: +----------------------------------------+--------------------+----------------------+----------------+ | Environment | dpdk_meson_compile | dpdk_mingw64_compile | dpdk_unit_test | +========================================+====================+======================+================+ | FreeBSD 13 | PASS | SKIPPED | SKIPPED | +----------------------------------------+--------------------+----------------------+----------------+ | CentOS Stream 8 | PASS | SKIPPED | SKIPPED | +----------------------------------------+--------------------+----------------------+----------------+ | Windows Server 2019 | PASS | PASS | PASS | +----------------------------------------+--------------------+----------------------+----------------+ | CentOS Stream 9 | PASS | SKIPPED | SKIPPED | +----------------------------------------+--------------------+----------------------+----------------+ | RHEL 7 | PASS | SKIPPED | PASS | +----------------------------------------+--------------------+----------------------+----------------+ | Ubuntu 22.04 | PASS | SKIPPED | PASS | +----------------------------------------+--------------------+----------------------+----------------+ | Debian Buster | PASS | SKIPPED | PASS | +----------------------------------------+--------------------+----------------------+----------------+ | Debian Bullseye | PASS | SKIPPED | SKIPPED | +----------------------------------------+--------------------+----------------------+----------------+ | RHEL8 | PASS | SKIPPED | PASS | +----------------------------------------+--------------------+----------------------+----------------+ | Ubuntu 20.04 | PASS | SKIPPED | PASS | +----------------------------------------+--------------------+----------------------+----------------+ | openSUSE Leap 15 | PASS | SKIPPED | PASS | +----------------------------------------+--------------------+----------------------+----------------+ | Ubuntu 20.04 ARM Clang Native | PASS | SKIPPED | PASS | +----------------------------------------+--------------------+----------------------+----------------+ | Ubuntu 20.04 ARM GCC Native | PASS | SKIPPED | PASS | +----------------------------------------+--------------------+----------------------+----------------+ | Ubuntu 20.04 ARM Clang Cross Compile | PASS | SKIPPED | SKIPPED | +----------------------------------------+--------------------+----------------------+----------------+ | Ubuntu 20.04 ARM GCC Cross Compile | PASS | SKIPPED | SKIPPED | +----------------------------------------+--------------------+----------------------+----------------+ | Ubuntu 20.04 aarch32 GCC Cross Compile | PASS | SKIPPED | SKIPPED | +----------------------------------------+--------------------+----------------------+----------------+ | Ubuntu 20.04 ARM SVE | PASS | SKIPPED | SKIPPED | +----------------------------------------+--------------------+----------------------+----------------+ FreeBSD 13 Kernel: 13.0 Compiler: clang 11.0.1 CentOS Stream 8 Kernel: 4.18.0-240.10.1.el8_3.x86_64 Compiler: gcc 8.4.1 20200928 Windows Server 2019 Kernel: 10.0 Compiler: clang 14.0 and gcc 8.1.0 (MinGW) CentOS Stream 9 Kernel: 4.18.0-240.10.1.el8_3.x86_64 Compiler: gcc 11.3.1 20220421 RHEL 7 Kernel: 4.18.0-240.10.1.el8_3.x86_64 Compiler: gcc 4.8.5 20150623 (Red Hat 4.8.5-44) Ubuntu 22.04 Kernel: Container Host Kernel Compiler: gcc 12.2.1-2 Debian Buster Kernel: 5.4.0-122-generic Compiler: gcc 8.3.0-6 Debian Bullseye Kernel: 5.4.0-122-generic Compiler: gcc 10.2.1-6 RHEL8 Kernel: 4.18.0-240.10.1.el8_3.x86_64 Compiler: gcc 8.3.1 20191121 (Red Hat 8.3.1-5) Ubuntu 20.04 Kernel: 4.18.0-240.10.1.el8_3.x86_64 Compiler: gcc 9.3.0-17ubuntu1~20.04 openSUSE Leap 15 Kernel: 4.18.0-240.10.1.el8_3.x86_64 Compiler: gcc 7.5.0 Ubuntu 20.04 ARM Clang Native Kernel: 5.4.0-53-generic Compiler: clang 10.0.0-4ubuntu1 Ubuntu 20.04 ARM GCC Native Kernel: 5.4.0-53-generic Compiler: gcc 9.3 Ubuntu 20.04 ARM Clang Cross Compile Kernel: 5.4.0-72-generic Compiler: clang version 10.0.0-4ubuntu1 Ubuntu 20.04 ARM GCC Cross Compile Kernel: 5.4.0-72-generic Compiler: aarch64-linux-gnu-gcc (Ubuntu 9.3.0-17ubuntu1~20.04) 9.3.0 Ubuntu 20.04 aarch32 GCC Cross Compile Kernel: 5.4.0-72-generic Compiler: gcc 9.3.0 Ubuntu 20.04 ARM SVE Kernel: 5.4.0-80-generic Compiler: gcc 10.3.0 (Ubuntu 10.3.0-1ubuntu1~20.04) To view detailed results, visit: https://lab.dpdk.org/results/dashboard/patchsets/25742/ UNH-IOL DPDK Community Lab To manage your email subscriptions, visit: https://lab.dpdk.org/results/dashboard/preferences/subscriptions/
Test-Label: iol-testing Test-Status: SUCCESS http://dpdk.org/patch/125136 _Testing PASS_ Submitter: Zhichao Zeng <zhichaox.zeng@intel.com> Date: Wednesday, March 15 2023 08:46:17 DPDK git baseline: Repo:dpdk Branch: master CommitID:baf13c3135d0c5998fff7edc23fb89412dc89246 125136 --> testing pass Test environment and result as below: +----------------------------------------+--------------------+----------------------+----------------+ | Environment | dpdk_meson_compile | dpdk_mingw64_compile | dpdk_unit_test | +========================================+====================+======================+================+ | FreeBSD 13 | PASS | SKIPPED | SKIPPED | +----------------------------------------+--------------------+----------------------+----------------+ | CentOS Stream 8 | PASS | SKIPPED | SKIPPED | +----------------------------------------+--------------------+----------------------+----------------+ | Windows Server 2019 | PASS | PASS | PASS | +----------------------------------------+--------------------+----------------------+----------------+ | CentOS Stream 9 | PASS | SKIPPED | PASS | +----------------------------------------+--------------------+----------------------+----------------+ | RHEL 7 | PASS | SKIPPED | PASS | +----------------------------------------+--------------------+----------------------+----------------+ | Ubuntu 22.04 | PASS | SKIPPED | PASS | +----------------------------------------+--------------------+----------------------+----------------+ | Debian Buster | PASS | SKIPPED | PASS | +----------------------------------------+--------------------+----------------------+----------------+ | Debian Bullseye | PASS | SKIPPED | SKIPPED | +----------------------------------------+--------------------+----------------------+----------------+ | RHEL8 | PASS | SKIPPED | PASS | +----------------------------------------+--------------------+----------------------+----------------+ | Ubuntu 20.04 | PASS | SKIPPED | PASS | +----------------------------------------+--------------------+----------------------+----------------+ | openSUSE Leap 15 | PASS | SKIPPED | PASS | +----------------------------------------+--------------------+----------------------+----------------+ | Ubuntu 20.04 ARM Clang Native | PASS | SKIPPED | PASS | +----------------------------------------+--------------------+----------------------+----------------+ | Ubuntu 20.04 ARM GCC Native | PASS | SKIPPED | PASS | +----------------------------------------+--------------------+----------------------+----------------+ | Ubuntu 20.04 ARM Clang Cross Compile | PASS | SKIPPED | SKIPPED | +----------------------------------------+--------------------+----------------------+----------------+ | Ubuntu 20.04 ARM GCC Cross Compile | PASS | SKIPPED | SKIPPED | +----------------------------------------+--------------------+----------------------+----------------+ | Ubuntu 20.04 aarch32 GCC Cross Compile | PASS | SKIPPED | SKIPPED | +----------------------------------------+--------------------+----------------------+----------------+ | Ubuntu 20.04 ARM SVE | PASS | SKIPPED | SKIPPED | +----------------------------------------+--------------------+----------------------+----------------+ FreeBSD 13 Kernel: 13.0 Compiler: clang 11.0.1 CentOS Stream 8 Kernel: 4.18.0-240.10.1.el8_3.x86_64 Compiler: gcc 8.4.1 20200928 Windows Server 2019 Kernel: 10.0 Compiler: clang 14.0 and gcc 8.1.0 (MinGW) CentOS Stream 9 Kernel: 4.18.0-240.10.1.el8_3.x86_64 Compiler: gcc 11.3.1 20220421 RHEL 7 Kernel: 4.18.0-240.10.1.el8_3.x86_64 Compiler: gcc 4.8.5 20150623 (Red Hat 4.8.5-44) Ubuntu 22.04 Kernel: Container Host Kernel Compiler: gcc 12.2.1-2 Debian Buster Kernel: 5.4.0-122-generic Compiler: gcc 8.3.0-6 Debian Bullseye Kernel: 5.4.0-122-generic Compiler: gcc 10.2.1-6 RHEL8 Kernel: 4.18.0-240.10.1.el8_3.x86_64 Compiler: gcc 8.3.1 20191121 (Red Hat 8.3.1-5) Ubuntu 20.04 Kernel: 4.18.0-240.10.1.el8_3.x86_64 Compiler: gcc 9.3.0-17ubuntu1~20.04 openSUSE Leap 15 Kernel: 4.18.0-240.10.1.el8_3.x86_64 Compiler: gcc 7.5.0 Ubuntu 20.04 ARM Clang Native Kernel: 5.4.0-53-generic Compiler: clang 10.0.0-4ubuntu1 Ubuntu 20.04 ARM GCC Native Kernel: 5.4.0-53-generic Compiler: gcc 9.3 Ubuntu 20.04 ARM Clang Cross Compile Kernel: 5.4.0-72-generic Compiler: clang version 10.0.0-4ubuntu1 Ubuntu 20.04 ARM GCC Cross Compile Kernel: 5.4.0-72-generic Compiler: aarch64-linux-gnu-gcc (Ubuntu 9.3.0-17ubuntu1~20.04) 9.3.0 Ubuntu 20.04 aarch32 GCC Cross Compile Kernel: 5.4.0-72-generic Compiler: gcc 9.3.0 Ubuntu 20.04 ARM SVE Kernel: 5.4.0-80-generic Compiler: gcc 10.3.0 (Ubuntu 10.3.0-1ubuntu1~20.04) To view detailed results, visit: https://lab.dpdk.org/results/dashboard/patchsets/25742/ UNH-IOL DPDK Community Lab To manage your email subscriptions, visit: https://lab.dpdk.org/results/dashboard/preferences/subscriptions/
Test-Label: iol-testing Test-Status: SUCCESS http://dpdk.org/patch/125136 _Testing PASS_ Submitter: Zhichao Zeng <zhichaox.zeng@intel.com> Date: Wednesday, March 15 2023 08:46:17 DPDK git baseline: Repo:dpdk Branch: master CommitID:baf13c3135d0c5998fff7edc23fb89412dc89246 125136 --> testing pass Test environment and result as below: +----------------------------------------+--------------------+----------------------+----------------+ | Environment | dpdk_meson_compile | dpdk_mingw64_compile | dpdk_unit_test | +========================================+====================+======================+================+ | FreeBSD 13 | PASS | SKIPPED | SKIPPED | +----------------------------------------+--------------------+----------------------+----------------+ | CentOS Stream 8 | PASS | SKIPPED | PASS | +----------------------------------------+--------------------+----------------------+----------------+ | Windows Server 2019 | PASS | PASS | PASS | +----------------------------------------+--------------------+----------------------+----------------+ | CentOS Stream 9 | PASS | SKIPPED | PASS | +----------------------------------------+--------------------+----------------------+----------------+ | RHEL 7 | PASS | SKIPPED | PASS | +----------------------------------------+--------------------+----------------------+----------------+ | Ubuntu 22.04 | PASS | SKIPPED | PASS | +----------------------------------------+--------------------+----------------------+----------------+ | Debian Buster | PASS | SKIPPED | PASS | +----------------------------------------+--------------------+----------------------+----------------+ | Debian Bullseye | PASS | SKIPPED | SKIPPED | +----------------------------------------+--------------------+----------------------+----------------+ | RHEL8 | PASS | SKIPPED | PASS | +----------------------------------------+--------------------+----------------------+----------------+ | Ubuntu 20.04 | PASS | SKIPPED | PASS | +----------------------------------------+--------------------+----------------------+----------------+ | openSUSE Leap 15 | PASS | SKIPPED | PASS | +----------------------------------------+--------------------+----------------------+----------------+ | Ubuntu 20.04 ARM Clang Native | PASS | SKIPPED | PASS | +----------------------------------------+--------------------+----------------------+----------------+ | Ubuntu 20.04 ARM GCC Native | PASS | SKIPPED | PASS | +----------------------------------------+--------------------+----------------------+----------------+ | Ubuntu 20.04 ARM Clang Cross Compile | PASS | SKIPPED | SKIPPED | +----------------------------------------+--------------------+----------------------+----------------+ | Ubuntu 20.04 ARM GCC Cross Compile | PASS | SKIPPED | SKIPPED | +----------------------------------------+--------------------+----------------------+----------------+ | Ubuntu 20.04 aarch32 GCC Cross Compile | PASS | SKIPPED | SKIPPED | +----------------------------------------+--------------------+----------------------+----------------+ | Ubuntu 20.04 ARM SVE | PASS | SKIPPED | SKIPPED | +----------------------------------------+--------------------+----------------------+----------------+ FreeBSD 13 Kernel: 13.0 Compiler: clang 11.0.1 CentOS Stream 8 Kernel: 4.18.0-240.10.1.el8_3.x86_64 Compiler: gcc 8.4.1 20200928 Windows Server 2019 Kernel: 10.0 Compiler: clang 14.0 and gcc 8.1.0 (MinGW) CentOS Stream 9 Kernel: 4.18.0-240.10.1.el8_3.x86_64 Compiler: gcc 11.3.1 20220421 RHEL 7 Kernel: 4.18.0-240.10.1.el8_3.x86_64 Compiler: gcc 4.8.5 20150623 (Red Hat 4.8.5-44) Ubuntu 22.04 Kernel: Container Host Kernel Compiler: gcc 12.2.1-2 Debian Buster Kernel: 5.4.0-122-generic Compiler: gcc 8.3.0-6 Debian Bullseye Kernel: 5.4.0-122-generic Compiler: gcc 10.2.1-6 RHEL8 Kernel: 4.18.0-240.10.1.el8_3.x86_64 Compiler: gcc 8.3.1 20191121 (Red Hat 8.3.1-5) Ubuntu 20.04 Kernel: 4.18.0-240.10.1.el8_3.x86_64 Compiler: gcc 9.3.0-17ubuntu1~20.04 openSUSE Leap 15 Kernel: 4.18.0-240.10.1.el8_3.x86_64 Compiler: gcc 7.5.0 Ubuntu 20.04 ARM Clang Native Kernel: 5.4.0-53-generic Compiler: clang 10.0.0-4ubuntu1 Ubuntu 20.04 ARM GCC Native Kernel: 5.4.0-53-generic Compiler: gcc 9.3 Ubuntu 20.04 ARM Clang Cross Compile Kernel: 5.4.0-72-generic Compiler: clang version 10.0.0-4ubuntu1 Ubuntu 20.04 ARM GCC Cross Compile Kernel: 5.4.0-72-generic Compiler: aarch64-linux-gnu-gcc (Ubuntu 9.3.0-17ubuntu1~20.04) 9.3.0 Ubuntu 20.04 aarch32 GCC Cross Compile Kernel: 5.4.0-72-generic Compiler: gcc 9.3.0 Ubuntu 20.04 ARM SVE Kernel: 5.4.0-80-generic Compiler: gcc 10.3.0 (Ubuntu 10.3.0-1ubuntu1~20.04) To view detailed results, visit: https://lab.dpdk.org/results/dashboard/patchsets/25742/ UNH-IOL DPDK Community Lab To manage your email subscriptions, visit: https://lab.dpdk.org/results/dashboard/preferences/subscriptions/
Test-Label: iol-testing Test-Status: SUCCESS http://dpdk.org/patch/125136 _Testing PASS_ Submitter: Zhichao Zeng <zhichaox.zeng@intel.com> Date: Wednesday, March 15 2023 08:46:17 DPDK git baseline: Repo:dpdk Branch: master CommitID:baf13c3135d0c5998fff7edc23fb89412dc89246 125136 --> testing pass Test environment and result as below: +----------------------------------------+--------------------+----------------------+----------------+ | Environment | dpdk_meson_compile | dpdk_mingw64_compile | dpdk_unit_test | +========================================+====================+======================+================+ | FreeBSD 13 | PASS | SKIPPED | SKIPPED | +----------------------------------------+--------------------+----------------------+----------------+ | CentOS Stream 8 | PASS | SKIPPED | PASS | +----------------------------------------+--------------------+----------------------+----------------+ | Windows Server 2019 | PASS | PASS | PASS | +----------------------------------------+--------------------+----------------------+----------------+ | CentOS Stream 9 | PASS | SKIPPED | PASS | +----------------------------------------+--------------------+----------------------+----------------+ | RHEL 7 | PASS | SKIPPED | PASS | +----------------------------------------+--------------------+----------------------+----------------+ | Ubuntu 22.04 | PASS | SKIPPED | PASS | +----------------------------------------+--------------------+----------------------+----------------+ | Debian Buster | PASS | SKIPPED | PASS | +----------------------------------------+--------------------+----------------------+----------------+ | Debian Bullseye | PASS | SKIPPED | SKIPPED | +----------------------------------------+--------------------+----------------------+----------------+ | RHEL8 | PASS | SKIPPED | PASS | +----------------------------------------+--------------------+----------------------+----------------+ | Ubuntu 20.04 | PASS | SKIPPED | PASS | +----------------------------------------+--------------------+----------------------+----------------+ | openSUSE Leap 15 | PASS | SKIPPED | PASS | +----------------------------------------+--------------------+----------------------+----------------+ | Ubuntu 20.04 ARM Clang Native | PASS | SKIPPED | PASS | +----------------------------------------+--------------------+----------------------+----------------+ | Ubuntu 20.04 ARM GCC Native | PASS | SKIPPED | PASS | +----------------------------------------+--------------------+----------------------+----------------+ | Ubuntu 20.04 ARM Clang Cross Compile | PASS | SKIPPED | SKIPPED | +----------------------------------------+--------------------+----------------------+----------------+ | Ubuntu 20.04 ARM GCC Cross Compile | PASS | SKIPPED | SKIPPED | +----------------------------------------+--------------------+----------------------+----------------+ | Ubuntu 20.04 aarch32 GCC Cross Compile | PASS | SKIPPED | SKIPPED | +----------------------------------------+--------------------+----------------------+----------------+ | Ubuntu 20.04 ARM SVE | PASS | SKIPPED | SKIPPED | +----------------------------------------+--------------------+----------------------+----------------+ FreeBSD 13 Kernel: 13.0 Compiler: clang 11.0.1 CentOS Stream 8 Kernel: 4.18.0-240.10.1.el8_3.x86_64 Compiler: gcc 8.4.1 20200928 Windows Server 2019 Kernel: 10.0 Compiler: clang 14.0 and gcc 8.1.0 (MinGW) CentOS Stream 9 Kernel: 4.18.0-240.10.1.el8_3.x86_64 Compiler: gcc 11.3.1 20220421 RHEL 7 Kernel: 4.18.0-240.10.1.el8_3.x86_64 Compiler: gcc 4.8.5 20150623 (Red Hat 4.8.5-44) Ubuntu 22.04 Kernel: Container Host Kernel Compiler: gcc 12.2.1-2 Debian Buster Kernel: 5.4.0-122-generic Compiler: gcc 8.3.0-6 Debian Bullseye Kernel: 5.4.0-122-generic Compiler: gcc 10.2.1-6 RHEL8 Kernel: 4.18.0-240.10.1.el8_3.x86_64 Compiler: gcc 8.3.1 20191121 (Red Hat 8.3.1-5) Ubuntu 20.04 Kernel: 4.18.0-240.10.1.el8_3.x86_64 Compiler: gcc 9.3.0-17ubuntu1~20.04 openSUSE Leap 15 Kernel: 4.18.0-240.10.1.el8_3.x86_64 Compiler: gcc 7.5.0 Ubuntu 20.04 ARM Clang Native Kernel: 5.4.0-53-generic Compiler: clang 10.0.0-4ubuntu1 Ubuntu 20.04 ARM GCC Native Kernel: 5.4.0-53-generic Compiler: gcc 9.3 Ubuntu 20.04 ARM Clang Cross Compile Kernel: 5.4.0-72-generic Compiler: clang version 10.0.0-4ubuntu1 Ubuntu 20.04 ARM GCC Cross Compile Kernel: 5.4.0-72-generic Compiler: aarch64-linux-gnu-gcc (Ubuntu 9.3.0-17ubuntu1~20.04) 9.3.0 Ubuntu 20.04 aarch32 GCC Cross Compile Kernel: 5.4.0-72-generic Compiler: gcc 9.3.0 Ubuntu 20.04 ARM SVE Kernel: 5.4.0-80-generic Compiler: gcc 10.3.0 (Ubuntu 10.3.0-1ubuntu1~20.04) To view detailed results, visit: https://lab.dpdk.org/results/dashboard/patchsets/25742/ UNH-IOL DPDK Community Lab To manage your email subscriptions, visit: https://lab.dpdk.org/results/dashboard/preferences/subscriptions/
Test-Label: iol-testing Test-Status: SUCCESS http://dpdk.org/patch/125136 _Testing PASS_ Submitter: Zhichao Zeng <zhichaox.zeng@intel.com> Date: Wednesday, March 15 2023 08:46:17 DPDK git baseline: Repo:dpdk Branch: master CommitID:baf13c3135d0c5998fff7edc23fb89412dc89246 125136 --> testing pass Test environment and result as below: +----------------------------------------+--------------------+----------------------+----------------+ | Environment | dpdk_meson_compile | dpdk_mingw64_compile | dpdk_unit_test | +========================================+====================+======================+================+ | FreeBSD 13 | PASS | SKIPPED | SKIPPED | +----------------------------------------+--------------------+----------------------+----------------+ | CentOS Stream 8 | PASS | SKIPPED | PASS | +----------------------------------------+--------------------+----------------------+----------------+ | Windows Server 2019 | PASS | PASS | PASS | +----------------------------------------+--------------------+----------------------+----------------+ | CentOS Stream 9 | PASS | SKIPPED | PASS | +----------------------------------------+--------------------+----------------------+----------------+ | RHEL 7 | PASS | SKIPPED | PASS | +----------------------------------------+--------------------+----------------------+----------------+ | Ubuntu 22.04 | PASS | SKIPPED | PASS | +----------------------------------------+--------------------+----------------------+----------------+ | Debian Buster | PASS | SKIPPED | PASS | +----------------------------------------+--------------------+----------------------+----------------+ | Debian Bullseye | PASS | SKIPPED | PASS | +----------------------------------------+--------------------+----------------------+----------------+ | RHEL8 | PASS | SKIPPED | PASS | +----------------------------------------+--------------------+----------------------+----------------+ | Ubuntu 20.04 | PASS | SKIPPED | PASS | +----------------------------------------+--------------------+----------------------+----------------+ | openSUSE Leap 15 | PASS | SKIPPED | PASS | +----------------------------------------+--------------------+----------------------+----------------+ | Ubuntu 20.04 ARM Clang Native | PASS | SKIPPED | PASS | +----------------------------------------+--------------------+----------------------+----------------+ | Ubuntu 20.04 ARM GCC Native | PASS | SKIPPED | PASS | +----------------------------------------+--------------------+----------------------+----------------+ | Ubuntu 20.04 ARM Clang Cross Compile | PASS | SKIPPED | SKIPPED | +----------------------------------------+--------------------+----------------------+----------------+ | Ubuntu 20.04 ARM GCC Cross Compile | PASS | SKIPPED | SKIPPED | +----------------------------------------+--------------------+----------------------+----------------+ | Ubuntu 20.04 aarch32 GCC Cross Compile | PASS | SKIPPED | SKIPPED | +----------------------------------------+--------------------+----------------------+----------------+ | Ubuntu 20.04 ARM SVE | PASS | SKIPPED | SKIPPED | +----------------------------------------+--------------------+----------------------+----------------+ FreeBSD 13 Kernel: 13.0 Compiler: clang 11.0.1 CentOS Stream 8 Kernel: 4.18.0-240.10.1.el8_3.x86_64 Compiler: gcc 8.4.1 20200928 Windows Server 2019 Kernel: 10.0 Compiler: clang 14.0 and gcc 8.1.0 (MinGW) CentOS Stream 9 Kernel: 4.18.0-240.10.1.el8_3.x86_64 Compiler: gcc 11.3.1 20220421 RHEL 7 Kernel: 4.18.0-240.10.1.el8_3.x86_64 Compiler: gcc 4.8.5 20150623 (Red Hat 4.8.5-44) Ubuntu 22.04 Kernel: Container Host Kernel Compiler: gcc 12.2.1-2 Debian Buster Kernel: 5.4.0-122-generic Compiler: gcc 8.3.0-6 Debian Bullseye Kernel: 5.4.0-122-generic Compiler: gcc 10.2.1-6 RHEL8 Kernel: 4.18.0-240.10.1.el8_3.x86_64 Compiler: gcc 8.3.1 20191121 (Red Hat 8.3.1-5) Ubuntu 20.04 Kernel: 4.18.0-240.10.1.el8_3.x86_64 Compiler: gcc 9.3.0-17ubuntu1~20.04 openSUSE Leap 15 Kernel: 4.18.0-240.10.1.el8_3.x86_64 Compiler: gcc 7.5.0 Ubuntu 20.04 ARM Clang Native Kernel: 5.4.0-53-generic Compiler: clang 10.0.0-4ubuntu1 Ubuntu 20.04 ARM GCC Native Kernel: 5.4.0-53-generic Compiler: gcc 9.3 Ubuntu 20.04 ARM Clang Cross Compile Kernel: 5.4.0-72-generic Compiler: clang version 10.0.0-4ubuntu1 Ubuntu 20.04 ARM GCC Cross Compile Kernel: 5.4.0-72-generic Compiler: aarch64-linux-gnu-gcc (Ubuntu 9.3.0-17ubuntu1~20.04) 9.3.0 Ubuntu 20.04 aarch32 GCC Cross Compile Kernel: 5.4.0-72-generic Compiler: gcc 9.3.0 Ubuntu 20.04 ARM SVE Kernel: 5.4.0-80-generic Compiler: gcc 10.3.0 (Ubuntu 10.3.0-1ubuntu1~20.04) To view detailed results, visit: https://lab.dpdk.org/results/dashboard/patchsets/25742/ UNH-IOL DPDK Community Lab To manage your email subscriptions, visit: https://lab.dpdk.org/results/dashboard/preferences/subscriptions/
Test-Label: iol-testing Test-Status: SUCCESS http://dpdk.org/patch/125136 _Testing PASS_ Submitter: Zhichao Zeng <zhichaox.zeng@intel.com> Date: Wednesday, March 15 2023 08:46:17 DPDK git baseline: Repo:dpdk Branch: master CommitID:baf13c3135d0c5998fff7edc23fb89412dc89246 125136 --> testing pass Test environment and result as below: +----------------------------------------+--------------------+----------------------+----------------+ | Environment | dpdk_meson_compile | dpdk_mingw64_compile | dpdk_unit_test | +========================================+====================+======================+================+ | FreeBSD 13 | PASS | SKIPPED | SKIPPED | +----------------------------------------+--------------------+----------------------+----------------+ | CentOS Stream 8 | PASS | SKIPPED | PASS | +----------------------------------------+--------------------+----------------------+----------------+ | Windows Server 2019 | PASS | PASS | PASS | +----------------------------------------+--------------------+----------------------+----------------+ | CentOS Stream 9 | PASS | SKIPPED | PASS | +----------------------------------------+--------------------+----------------------+----------------+ | RHEL 7 | PASS | SKIPPED | PASS | +----------------------------------------+--------------------+----------------------+----------------+ | Ubuntu 22.04 | PASS | SKIPPED | PASS | +----------------------------------------+--------------------+----------------------+----------------+ | Debian Buster | PASS | SKIPPED | PASS | +----------------------------------------+--------------------+----------------------+----------------+ | Debian Bullseye | PASS | SKIPPED | PASS | +----------------------------------------+--------------------+----------------------+----------------+ | RHEL8 | PASS | SKIPPED | PASS | +----------------------------------------+--------------------+----------------------+----------------+ | Ubuntu 20.04 | PASS | SKIPPED | PASS | +----------------------------------------+--------------------+----------------------+----------------+ | openSUSE Leap 15 | PASS | SKIPPED | PASS | +----------------------------------------+--------------------+----------------------+----------------+ | Ubuntu 20.04 ARM Clang Native | PASS | SKIPPED | PASS | +----------------------------------------+--------------------+----------------------+----------------+ | Ubuntu 20.04 ARM GCC Native | PASS | SKIPPED | PASS | +----------------------------------------+--------------------+----------------------+----------------+ | Ubuntu 20.04 ARM Clang Cross Compile | PASS | SKIPPED | SKIPPED | +----------------------------------------+--------------------+----------------------+----------------+ | Ubuntu 20.04 ARM GCC Cross Compile | PASS | SKIPPED | SKIPPED | +----------------------------------------+--------------------+----------------------+----------------+ | Ubuntu 20.04 aarch32 GCC Cross Compile | PASS | SKIPPED | SKIPPED | +----------------------------------------+--------------------+----------------------+----------------+ | Ubuntu 20.04 ARM SVE | PASS | SKIPPED | SKIPPED | +----------------------------------------+--------------------+----------------------+----------------+ FreeBSD 13 Kernel: 13.0 Compiler: clang 11.0.1 CentOS Stream 8 Kernel: 4.18.0-240.10.1.el8_3.x86_64 Compiler: gcc 8.4.1 20200928 Windows Server 2019 Kernel: 10.0 Compiler: clang 14.0 and gcc 8.1.0 (MinGW) CentOS Stream 9 Kernel: 4.18.0-240.10.1.el8_3.x86_64 Compiler: gcc 11.3.1 20220421 RHEL 7 Kernel: 4.18.0-240.10.1.el8_3.x86_64 Compiler: gcc 4.8.5 20150623 (Red Hat 4.8.5-44) Ubuntu 22.04 Kernel: Container Host Kernel Compiler: gcc 12.2.1-2 Debian Buster Kernel: 5.4.0-122-generic Compiler: gcc 8.3.0-6 Debian Bullseye Kernel: 5.4.0-122-generic Compiler: gcc 10.2.1-6 RHEL8 Kernel: 4.18.0-240.10.1.el8_3.x86_64 Compiler: gcc 8.3.1 20191121 (Red Hat 8.3.1-5) Ubuntu 20.04 Kernel: 4.18.0-240.10.1.el8_3.x86_64 Compiler: gcc 9.3.0-17ubuntu1~20.04 openSUSE Leap 15 Kernel: 4.18.0-240.10.1.el8_3.x86_64 Compiler: gcc 7.5.0 Ubuntu 20.04 ARM Clang Native Kernel: 5.4.0-53-generic Compiler: clang 10.0.0-4ubuntu1 Ubuntu 20.04 ARM GCC Native Kernel: 5.4.0-53-generic Compiler: gcc 9.3 Ubuntu 20.04 ARM Clang Cross Compile Kernel: 5.4.0-72-generic Compiler: clang version 10.0.0-4ubuntu1 Ubuntu 20.04 ARM GCC Cross Compile Kernel: 5.4.0-72-generic Compiler: aarch64-linux-gnu-gcc (Ubuntu 9.3.0-17ubuntu1~20.04) 9.3.0 Ubuntu 20.04 aarch32 GCC Cross Compile Kernel: 5.4.0-72-generic Compiler: gcc 9.3.0 Ubuntu 20.04 ARM SVE Kernel: 5.4.0-80-generic Compiler: gcc 10.3.0 (Ubuntu 10.3.0-1ubuntu1~20.04) To view detailed results, visit: https://lab.dpdk.org/results/dashboard/patchsets/25742/ UNH-IOL DPDK Community Lab To manage your email subscriptions, visit: https://lab.dpdk.org/results/dashboard/preferences/subscriptions/
Test-Label: iol-x86_64-unit-testing Test-Status: SUCCESS http://dpdk.org/patch/125136 _Testing PASS_ Submitter: Zhichao Zeng <zhichaox.zeng@intel.com> Date: Wednesday, March 15 2023 08:46:17 DPDK git baseline: Repo:dpdk Branch: master CommitID:baf13c3135d0c5998fff7edc23fb89412dc89246 125136 --> testing pass Test environment and result as below: +---------------------+----------------+ | Environment | dpdk_unit_test | +=====================+================+ | Windows Server 2019 | PASS | +---------------------+----------------+ | Ubuntu 22.04 | PASS | +---------------------+----------------+ | openSUSE Leap 15 | PASS | +---------------------+----------------+ | Debian Buster | PASS | +---------------------+----------------+ | RHEL 7 | PASS | +---------------------+----------------+ | Ubuntu 20.04 | PASS | +---------------------+----------------+ | RHEL8 | PASS | +---------------------+----------------+ | CentOS Stream 9 | PASS | +---------------------+----------------+ | CentOS Stream 8 | PASS | +---------------------+----------------+ | Debian Bullseye | PASS | +---------------------+----------------+ Windows Server 2019 Kernel: 10.0 Compiler: clang 14.0 and gcc 8.1.0 (MinGW) Ubuntu 22.04 Kernel: Container Host Kernel Compiler: gcc 12.2.1-2 openSUSE Leap 15 Kernel: 4.18.0-240.10.1.el8_3.x86_64 Compiler: gcc 7.5.0 Debian Buster Kernel: 5.4.0-122-generic Compiler: gcc 8.3.0-6 RHEL 7 Kernel: 4.18.0-240.10.1.el8_3.x86_64 Compiler: gcc 4.8.5 20150623 (Red Hat 4.8.5-44) Ubuntu 20.04 Kernel: 4.18.0-240.10.1.el8_3.x86_64 Compiler: gcc 9.3.0-17ubuntu1~20.04 RHEL8 Kernel: 4.18.0-240.10.1.el8_3.x86_64 Compiler: gcc 8.3.1 20191121 (Red Hat 8.3.1-5) CentOS Stream 9 Kernel: 4.18.0-240.10.1.el8_3.x86_64 Compiler: gcc 11.3.1 20220421 CentOS Stream 8 Kernel: 4.18.0-240.10.1.el8_3.x86_64 Compiler: gcc 8.4.1 20200928 Debian Bullseye Kernel: 5.4.0-122-generic Compiler: gcc 10.2.1-6 To view detailed results, visit: https://lab.dpdk.org/results/dashboard/patchsets/25742/ UNH-IOL DPDK Community Lab To manage your email subscriptions, visit: https://lab.dpdk.org/results/dashboard/preferences/subscriptions/