From mboxrd@z Thu Jan 1 00:00:00 1970 Return-Path: Received: from mails.dpdk.org (mails.dpdk.org [217.70.189.124]) by inbox.dpdk.org (Postfix) with ESMTP id 88F9F422BC for ; Sun, 19 Mar 2023 09:47:17 +0100 (CET) Received: from mails.dpdk.org (localhost [127.0.0.1]) by mails.dpdk.org (Postfix) with ESMTP id 60DF5410D7; Sun, 19 Mar 2023 09:47:17 +0100 (CET) Received: from mail-io1-f100.google.com (mail-io1-f100.google.com [209.85.166.100]) by mails.dpdk.org (Postfix) with ESMTP id 1D3DB410D7 for ; Sun, 19 Mar 2023 09:47:16 +0100 (CET) Received: by mail-io1-f100.google.com with SMTP id s4so4187180ioj.11 for ; Sun, 19 Mar 2023 01:47:16 -0700 (PDT) DKIM-Signature: v=1; a=rsa-sha256; c=relaxed/relaxed; d=iol.unh.edu; s=unh-iol; t=1679215635; h=date:message-id:cc:to:from:subject:from:to:cc:subject:date :message-id:reply-to; bh=ZsdMvUyLQ1EhP1L2QMfws2tnxl0f+7Mw1ESLi4Wz83w=; b=TrGa+K1bxLiwUU8LNttf/v17B2TtWIwArc2Drx56zGw38/hgD7O+TLJ2de9bcJaWzL Tq8TS84qm/IjGwFshKCzvWtfDQadROa4ZamkjZMq6rsJtmr5JfZONXvMt4+vBEgy7smv fXYcS+Lkk53Npx4eWIScdoTWfVLPLcl8qpniU= X-Google-DKIM-Signature: v=1; a=rsa-sha256; c=relaxed/relaxed; d=1e100.net; s=20210112; t=1679215635; h=date:message-id:cc:to:from:subject:x-gm-message-state:from:to:cc :subject:date:message-id:reply-to; bh=ZsdMvUyLQ1EhP1L2QMfws2tnxl0f+7Mw1ESLi4Wz83w=; b=EpQUqvof4sq0iKyXRBMnRcVRNDcOToRPkRNQTgn3vUdBJkmfIuMuYTBOBMsJAnbazC 57hxYnsp1vzx2LbDn/xji0RkWBOH3tpsN9c/I7OxQkEAPGeU7ba7f7vfQrMPmW7Xqu/E xJJOYxnW/G+57GYdctC3quBFyfRYhFfw690PBkZkeJ5fJil+xOC4IWTJ83VxOLXUu6K/ snZbK9h/KL0Ljovq/rYF9a2s7AbXm6PN0mlLUEk9BkEngXxbgC851fAmPuFIisnFr7IQ SyBEtsCZ2MkYgMpXh0ib2YwXYPpvimIzQ+FpWNkC7H1o8zDwHJraoSCijAPlXg56YUDZ iV0g== X-Gm-Message-State: AO0yUKWvWN4qEQ0xumusb4BHj4odg4vVkRzlFTkZ8SJUPSflulkHrdm0 8r3oyRfIivHCo3jyumatE35sFwb+mjX5ZRGJoGlX6ivF5vQYtMecf3OlX8jtBwdiTA== X-Google-Smtp-Source: AK7set8ElEGe9/xIMi7e/q5YG6R8QZPPVC2yL+O45JaFoZARZYOdaxSal5uFFDFN82cXAg34dfPBzOJJxPoi X-Received: by 2002:a6b:f909:0:b0:753:34ae:a00 with SMTP id j9-20020a6bf909000000b0075334ae0a00mr2834291iog.3.1679215635362; Sun, 19 Mar 2023 01:47:15 -0700 (PDT) Received: from postal.iol.unh.edu (postal.iol.unh.edu. [2606:4100:3880:1234::84]) by smtp-relay.gmail.com with ESMTPS id u191-20020a0223c8000000b003fd73f8ded5sm1052350jau.18.2023.03.19.01.47.15 (version=TLS1_2 cipher=ECDHE-ECDSA-AES128-GCM-SHA256 bits=128/128); Sun, 19 Mar 2023 01:47:15 -0700 (PDT) X-Relaying-Domain: iol.unh.edu Received: from dpdk-ubuntu.dpdklab.iol.unh.edu (unknown [172.18.0.210]) by postal.iol.unh.edu (Postfix) with ESMTP id 0EC98605246B; Sun, 19 Mar 2023 04:47:15 -0400 (EDT) Received: from dpdk-ubuntu-2.dpdklab.iol.unh.edu (localhost [IPv6:::1]) by dpdk-ubuntu.dpdklab.iol.unh.edu (Postfix) with ESMTP id F277D60214; Sun, 19 Mar 2023 08:47:14 +0000 (UTC) Subject: |SUCCESS| [GIT MASTER] 9dae7a15aea76313c592c11db44e1386e85f86fe From: dpdklab@iol.unh.edu To: Test Report Cc: dpdklab@iol.unh.edu, Xueming Li , Christian Ehrhardt , Kevin Traynor , Luca Boccassi Content-Type: text/plain Message-Id: <20230319084714.F277D60214@dpdk-ubuntu.dpdklab.iol.unh.edu> Date: Sun, 19 Mar 2023 08:47:14 +0000 (UTC) X-BeenThere: test-report@dpdk.org X-Mailman-Version: 2.1.29 Precedence: list List-Id: automatic DPDK test reports List-Unsubscribe: , List-Archive: List-Post: List-Help: List-Subscribe: , Errors-To: test-report-bounces@dpdk.org _Testing PASS_ Branch: tags/v22.11 9dae7a15aea76313c592c11db44e1386e85f86fe --> testing pass Test environment and result as below: +-------------------------------+----------------+------------------------------+---------------------------+--------------+ | Environment | dpdk_unit_test | cryptodev_sw_snow3g_autotest | cryptodev_sw_zuc_autotest | lpm_autotest | +===============================+================+==============================+===========================+==============+ | Ubuntu 20.04 ARM GCC Native | PASS | SKIPPED | SKIPPED | SKIPPED | +-------------------------------+----------------+------------------------------+---------------------------+--------------+ | Ubuntu 20.04 ARM Clang Native | PASS | SKIPPED | SKIPPED | SKIPPED | +-------------------------------+----------------+------------------------------+---------------------------+--------------+ | Debian 11 | SKIPPED | PASS | PASS | SKIPPED | +-------------------------------+----------------+------------------------------+---------------------------+--------------+ | Ubuntu 20.04 ARM SVE | SKIPPED | SKIPPED | SKIPPED | PASS | +-------------------------------+----------------+------------------------------+---------------------------+--------------+ Ubuntu 20.04 ARM GCC Native Kernel: 5.4.0-53-generic Compiler: gcc 9.3 Ubuntu 20.04 ARM Clang Native Kernel: 5.4.0-53-generic Compiler: clang 10.0.0-4ubuntu1 Debian 11 Kernel: Container Host Kernel Compiler: gcc 10.2.1 Ubuntu 20.04 ARM SVE Kernel: 5.4.0-80-generic Compiler: gcc 10.3.0 (Ubuntu 10.3.0-1ubuntu1~20.04) To view detailed results, visit: https://lab.dpdk.org/results/dashboard/tarballs/23920/ UNH-IOL DPDK Community Lab To manage your email subscriptions, visit: https://lab.dpdk.org/results/dashboard/preferences/subscriptions/