From mboxrd@z Thu Jan 1 00:00:00 1970 Return-Path: Received: from mails.dpdk.org (mails.dpdk.org [217.70.189.124]) by inbox.dpdk.org (Postfix) with ESMTP id 527EB427DC for ; Mon, 20 Mar 2023 03:53:53 +0100 (CET) Received: from mails.dpdk.org (localhost [127.0.0.1]) by mails.dpdk.org (Postfix) with ESMTP id 4D040406BC; Mon, 20 Mar 2023 03:53:53 +0100 (CET) Received: from mail-il1-f226.google.com (mail-il1-f226.google.com [209.85.166.226]) by mails.dpdk.org (Postfix) with ESMTP id 4C7BC406BC for ; Mon, 20 Mar 2023 03:53:52 +0100 (CET) Received: by mail-il1-f226.google.com with SMTP id h11so5842956ild.11 for ; Sun, 19 Mar 2023 19:53:52 -0700 (PDT) DKIM-Signature: v=1; a=rsa-sha256; c=relaxed/relaxed; d=iol.unh.edu; s=unh-iol; t=1679280831; h=date:message-id:cc:to:from:subject:from:to:cc:subject:date :message-id:reply-to; bh=EZYv9hHZ2dG/0KeFDhzVl5Qh0+Pw17JTx/NRDBPtPS0=; b=ZxZatZwagnZEOFk+kg+kBxOyk8HKerne2WVSPrjtPXF7zSGkjBZaxNUpMrE7i+xIkh rH/t902qb8WnG2Pyrq+DZd2BYuIJTkJ7MeJ0pRH+EG7huRD07vByilbPDulAGObpl9kJ Tto5Emkkz123vh7cXXV+JyrNqTb4xpX/MVPO8= X-Google-DKIM-Signature: v=1; a=rsa-sha256; c=relaxed/relaxed; d=1e100.net; s=20210112; t=1679280831; h=date:message-id:cc:to:from:subject:x-gm-message-state:from:to:cc :subject:date:message-id:reply-to; bh=EZYv9hHZ2dG/0KeFDhzVl5Qh0+Pw17JTx/NRDBPtPS0=; b=ypsB+VR8+TTSqZ+TT2kN3EnI9l4cjO1yAWL/yLkSznKxZjbzwlJ5uQhJHV6sVcJ9hy Jb8a2VxX6owDSsn6o9vwXZs5HhpDNQlszaxUPT8Tbn53hkSFIhaiUagcn2F4tU7Zd/Bp o7AjbWCzpFMtL0bW7TGxXNDemylf1ouMsXCVaj/O1Fkd0XMwwd+YeLBhMJgORMuA3jU1 3PDMpJr58eSQvc0OdnzVlk6mu+k7UrDTaxShlJ9SsctFjroHTZdluzv+WaL4ymCNIAxb mFOeGbBlFoZxTXSXlAis9omdakeWHOY209J1SMXBUbcpfeMlXxFZn7OeC4Ma3mqqCyEJ WKFw== X-Gm-Message-State: AO0yUKVhd9z8n0Z9RVKoWkgJhPJpxJZj1x+yu2dCvlMhRojptt6sMc0B ZG+pznEyIpY5injOaPSmbs4eFnUDX2iblZrnoPKyYYBQhxfsBw== X-Google-Smtp-Source: AK7set+SdcNNkT4wcTTfS+M9rzRwauxwQTALBxXNzxzyNn5Dt1VIIJGcxLdTTMLYe9HZZOhH8QqwQvc2+FEH X-Received: by 2002:a92:c8d0:0:b0:324:735b:d62e with SMTP id c16-20020a92c8d0000000b00324735bd62emr3590448ilq.5.1679280831711; Sun, 19 Mar 2023 19:53:51 -0700 (PDT) Received: from postal.iol.unh.edu (postal.iol.unh.edu. [132.177.123.84]) by smtp-relay.gmail.com with ESMTPS id s3-20020a92c5c3000000b003179c76db7dsm1171366ilt.9.2023.03.19.19.53.51 (version=TLS1_2 cipher=ECDHE-ECDSA-AES128-GCM-SHA256 bits=128/128); Sun, 19 Mar 2023 19:53:51 -0700 (PDT) X-Relaying-Domain: iol.unh.edu Received: from dpdk-ubuntu.dpdklab.iol.unh.edu (unknown [172.18.0.210]) by postal.iol.unh.edu (Postfix) with ESMTP id 470C3605246B; Sun, 19 Mar 2023 22:53:51 -0400 (EDT) Received: from dpdk-ubuntu-2.dpdklab.iol.unh.edu (localhost [IPv6:::1]) by dpdk-ubuntu.dpdklab.iol.unh.edu (Postfix) with ESMTP id 45F6960214; Mon, 20 Mar 2023 02:53:51 +0000 (UTC) Subject: |SUCCESS| [GIT MASTER] 9dae7a15aea76313c592c11db44e1386e85f86fe From: dpdklab@iol.unh.edu To: Test Report Cc: dpdklab@iol.unh.edu, Xueming Li , Christian Ehrhardt , Kevin Traynor , Luca Boccassi Content-Type: text/plain Message-Id: <20230320025351.45F6960214@dpdk-ubuntu.dpdklab.iol.unh.edu> Date: Mon, 20 Mar 2023 02:53:51 +0000 (UTC) X-BeenThere: test-report@dpdk.org X-Mailman-Version: 2.1.29 Precedence: list List-Id: automatic DPDK test reports List-Unsubscribe: , List-Archive: List-Post: List-Help: List-Subscribe: , Errors-To: test-report-bounces@dpdk.org _Testing PASS_ Branch: tags/v22.11 9dae7a15aea76313c592c11db44e1386e85f86fe --> testing pass Test environment and result as below: +------------------------------------+--------------------+----------------------+----------------+ | Environment | dpdk_meson_compile | dpdk_mingw64_compile | dpdk_unit_test | +====================================+====================+======================+================+ | Ubuntu 20.04 ARM Clang Native | PASS | SKIPPED | PASS | +------------------------------------+--------------------+----------------------+----------------+ | Ubuntu 20.04 ARM GCC Native | PASS | SKIPPED | PASS | +------------------------------------+--------------------+----------------------+----------------+ | Ubuntu 20.04 ARM GCC Cross Compile | PASS | SKIPPED | SKIPPED | +------------------------------------+--------------------+----------------------+----------------+ | Ubuntu 20.04 ARM SVE | PASS | SKIPPED | SKIPPED | +------------------------------------+--------------------+----------------------+----------------+ | FreeBSD 13 | PASS | SKIPPED | SKIPPED | +------------------------------------+--------------------+----------------------+----------------+ | Windows Server 2019 | PASS | PASS | PASS | +------------------------------------+--------------------+----------------------+----------------+ | RHEL 7 | PASS | SKIPPED | SKIPPED | +------------------------------------+--------------------+----------------------+----------------+ | Ubuntu 22.04 | PASS | SKIPPED | PASS | +------------------------------------+--------------------+----------------------+----------------+ | CentOS Stream 8 | PASS | SKIPPED | SKIPPED | +------------------------------------+--------------------+----------------------+----------------+ | Debian Bullseye | PASS | SKIPPED | PASS | +------------------------------------+--------------------+----------------------+----------------+ | RHEL8 | PASS | SKIPPED | SKIPPED | +------------------------------------+--------------------+----------------------+----------------+ | Debian Buster | PASS | SKIPPED | SKIPPED | +------------------------------------+--------------------+----------------------+----------------+ | openSUSE Leap 15 | PASS | SKIPPED | SKIPPED | +------------------------------------+--------------------+----------------------+----------------+ | Ubuntu 20.04 | PASS | SKIPPED | PASS | +------------------------------------+--------------------+----------------------+----------------+ | CentOS Stream 9 | PASS | SKIPPED | SKIPPED | +------------------------------------+--------------------+----------------------+----------------+ Ubuntu 20.04 ARM Clang Native Kernel: 5.4.0-53-generic Compiler: clang 10.0.0-4ubuntu1 Ubuntu 20.04 ARM GCC Native Kernel: 5.4.0-53-generic Compiler: gcc 9.3 Ubuntu 20.04 ARM GCC Cross Compile Kernel: 5.4.0-72-generic Compiler: aarch64-linux-gnu-gcc (Ubuntu 9.3.0-17ubuntu1~20.04) 9.3.0 Ubuntu 20.04 ARM SVE Kernel: 5.4.0-80-generic Compiler: gcc 10.3.0 (Ubuntu 10.3.0-1ubuntu1~20.04) FreeBSD 13 Kernel: 13.0 Compiler: clang 11.0.1 Windows Server 2019 Kernel: 10.0 Compiler: clang 14.0 and gcc 8.1.0 (MinGW) RHEL 7 Kernel: 4.18.0-240.10.1.el8_3.x86_64 Compiler: gcc 4.8.5 20150623 (Red Hat 4.8.5-44) Ubuntu 22.04 Kernel: Container Host Kernel Compiler: clang 14.0.5-1.fc36 CentOS Stream 8 Kernel: 4.18.0-240.10.1.el8_3.x86_64 Compiler: gcc 8.4.1 20200928 Debian Bullseye Kernel: 5.4.0-122-generic Compiler: gcc 10.2.1-6 RHEL8 Kernel: 4.18.0-240.10.1.el8_3.x86_64 Compiler: gcc 8.3.1 20191121 (Red Hat 8.3.1-5) Debian Buster Kernel: 5.4.0-122-generic Compiler: gcc 8.3.0-6 openSUSE Leap 15 Kernel: 4.18.0-240.10.1.el8_3.x86_64 Compiler: gcc 7.5.0 Ubuntu 20.04 Kernel: 4.18.0-240.10.1.el8_3.x86_64 Compiler: gcc 9.3.0-17ubuntu1~20.04 CentOS Stream 9 Kernel: 4.18.0-240.10.1.el8_3.x86_64 Compiler: gcc 11.3.1 20220421 To view detailed results, visit: https://lab.dpdk.org/results/dashboard/tarballs/23920/ UNH-IOL DPDK Community Lab To manage your email subscriptions, visit: https://lab.dpdk.org/results/dashboard/preferences/subscriptions/