From mboxrd@z Thu Jan 1 00:00:00 1970 Return-Path: Received: from mails.dpdk.org (mails.dpdk.org [217.70.189.124]) by inbox.dpdk.org (Postfix) with ESMTP id 9A16742833 for ; Fri, 24 Mar 2023 17:09:14 +0100 (CET) Received: from mails.dpdk.org (localhost [127.0.0.1]) by mails.dpdk.org (Postfix) with ESMTP id 7488B4021F; Fri, 24 Mar 2023 17:09:14 +0100 (CET) Received: from mail-io1-f98.google.com (mail-io1-f98.google.com [209.85.166.98]) by mails.dpdk.org (Postfix) with ESMTP id 73A454021F for ; Fri, 24 Mar 2023 17:09:12 +0100 (CET) Received: by mail-io1-f98.google.com with SMTP id t129so950034iof.12 for ; Fri, 24 Mar 2023 09:09:12 -0700 (PDT) DKIM-Signature: v=1; a=rsa-sha256; c=relaxed/relaxed; d=iol.unh.edu; s=unh-iol; t=1679674151; h=date:message-id:cc:to:from:subject:from:to:cc:subject:date :message-id:reply-to; bh=Uf9ArgJBz134+XjRQizkBrFRUc0zXu1Nur0S6sJlTys=; b=Ugn1mzCGLFdVKS3WftYiFhUd/OuuS9GeZ4r+bJWgQagVvPwuINV82Z6zrb0Aqyjz0M 0WvHUJYaP7fJN/dF2FjiRrMihJaxLL/e+GHilbPPBlyUmX1O3Sc3q4sFYKhLIzdvn4IS HOL+Tid3gOaAhtGBUh8bcPuWbcBkyS/cFthaY= X-Google-DKIM-Signature: v=1; a=rsa-sha256; c=relaxed/relaxed; d=1e100.net; s=20210112; t=1679674151; h=date:message-id:cc:to:from:subject:x-gm-message-state:from:to:cc :subject:date:message-id:reply-to; bh=Uf9ArgJBz134+XjRQizkBrFRUc0zXu1Nur0S6sJlTys=; b=cypFvCSnqcq49CVu352s+178iQ54oUWArHhAlWKS63iyLGOnXX+OY5qtkA2djsN9SS d3ZQwmVRUOLwO4ii51MTYop+vo8Sb+uKaNaLAs3R2ul1SWV/D7/j8uX6oeJ6xbBccHgl /c/yd7h1f8OKFJ8qcOoIpV2j7S+k8PzQw4Dwfkiy5E9Ygx8qIo4ZgCGHj8G0wo+Q4wjE gYjfhry9C4z0qqNzbPqr3xI+mxw6IlCfc/QA6lKiz14IdXEzXmA5i++p/KJlY/KNC7Xs +KOJIbABw6+VIM4KGr4S98PXBjEcSb9vAYu61Us/7Ik9A1+bW/CO92KiKfFDXlgLBGYX ICCQ== X-Gm-Message-State: AO0yUKUzaIt1/PZSAik/ckTOLWha1XtflU0WudSQsGsT/YTnyYVmz181 VuByTATEB1noF4HGxnPG/eF9UbwvzOdHw9d3Ey2lPzfjPIhIS3XYMEwDE6Jx4UWmNg== X-Google-Smtp-Source: AK7set8OV7k6N3UyS8LArT3mb3gMbVRD+e7Co+MrZI6TXLh/KwC0iLRXwrLFkKAYr8X/a2R2Hrqyzr+FmiwM X-Received: by 2002:a6b:d911:0:b0:759:706d:a0b2 with SMTP id r17-20020a6bd911000000b00759706da0b2mr820732ioc.13.1679674151712; Fri, 24 Mar 2023 09:09:11 -0700 (PDT) Received: from postal.iol.unh.edu (postal.iol.unh.edu. [2606:4100:3880:1234::84]) by smtp-relay.gmail.com with ESMTPS id z20-20020a027a54000000b003c50ddc1a52sm3324293jad.73.2023.03.24.09.09.11 (version=TLS1_2 cipher=ECDHE-ECDSA-AES128-GCM-SHA256 bits=128/128); Fri, 24 Mar 2023 09:09:11 -0700 (PDT) X-Relaying-Domain: iol.unh.edu Received: from dpdk-ubuntu.dpdklab.iol.unh.edu (unknown [172.18.0.210]) by postal.iol.unh.edu (Postfix) with ESMTP id 423F5605246B; Fri, 24 Mar 2023 12:09:11 -0400 (EDT) Received: from dpdk-ubuntu-2.dpdklab.iol.unh.edu (localhost [IPv6:::1]) by dpdk-ubuntu.dpdklab.iol.unh.edu (Postfix) with ESMTP id 3840160123; Fri, 24 Mar 2023 16:09:11 +0000 (UTC) Subject: |SUCCESS| [GIT MASTER] 9dae7a15aea76313c592c11db44e1386e85f86fe From: dpdklab@iol.unh.edu To: Test Report Cc: dpdklab@iol.unh.edu, Xueming Li , Christian Ehrhardt , Kevin Traynor , Luca Boccassi Content-Type: text/plain Message-Id: <20230324160911.3840160123@dpdk-ubuntu.dpdklab.iol.unh.edu> Date: Fri, 24 Mar 2023 16:09:11 +0000 (UTC) X-BeenThere: test-report@dpdk.org X-Mailman-Version: 2.1.29 Precedence: list List-Id: automatic DPDK test reports List-Unsubscribe: , List-Archive: List-Post: List-Help: List-Subscribe: , Errors-To: test-report-bounces@dpdk.org _Testing PASS_ Branch: tags/v22.11 9dae7a15aea76313c592c11db44e1386e85f86fe --> testing pass Test environment and result as below: +-------------------------------+----------------+------------------------------+---------------------------+--------------+ | Environment | dpdk_unit_test | cryptodev_sw_snow3g_autotest | cryptodev_sw_zuc_autotest | lpm_autotest | +===============================+================+==============================+===========================+==============+ | Ubuntu 20.04 ARM Clang Native | PASS | SKIPPED | SKIPPED | SKIPPED | +-------------------------------+----------------+------------------------------+---------------------------+--------------+ | Ubuntu 20.04 ARM GCC Native | PASS | SKIPPED | SKIPPED | SKIPPED | +-------------------------------+----------------+------------------------------+---------------------------+--------------+ | Debian 11 | SKIPPED | PASS | PASS | SKIPPED | +-------------------------------+----------------+------------------------------+---------------------------+--------------+ | Ubuntu 20.04 ARM SVE | SKIPPED | SKIPPED | SKIPPED | PASS | +-------------------------------+----------------+------------------------------+---------------------------+--------------+ Ubuntu 20.04 ARM Clang Native Kernel: 5.4.0-53-generic Compiler: clang 10.0.0-4ubuntu1 Ubuntu 20.04 ARM GCC Native Kernel: 5.4.0-53-generic Compiler: gcc 9.3 Debian 11 Kernel: Container Host Kernel Compiler: gcc 10.2.1 Ubuntu 20.04 ARM SVE Kernel: 5.4.0-80-generic Compiler: gcc 10.3.0 (Ubuntu 10.3.0-1ubuntu1~20.04) To view detailed results, visit: https://lab.dpdk.org/results/dashboard/tarballs/24044/ UNH-IOL DPDK Community Lab To manage your email subscriptions, visit: https://lab.dpdk.org/results/dashboard/preferences/subscriptions/