From mboxrd@z Thu Jan 1 00:00:00 1970 Return-Path: Received: from mails.dpdk.org (mails.dpdk.org [217.70.189.124]) by inbox.dpdk.org (Postfix) with ESMTP id C9064428BF for ; Mon, 3 Apr 2023 17:54:05 +0200 (CEST) Received: from mails.dpdk.org (localhost [127.0.0.1]) by mails.dpdk.org (Postfix) with ESMTP id B1A1940A7E; Mon, 3 Apr 2023 17:54:05 +0200 (CEST) Received: from mail-pj1-f98.google.com (mail-pj1-f98.google.com [209.85.216.98]) by mails.dpdk.org (Postfix) with ESMTP id 5D0A740A7E for ; Mon, 3 Apr 2023 17:54:04 +0200 (CEST) Received: by mail-pj1-f98.google.com with SMTP id mp3-20020a17090b190300b0023fcc8ce113so33010996pjb.4 for ; Mon, 03 Apr 2023 08:54:04 -0700 (PDT) DKIM-Signature: v=1; a=rsa-sha256; c=relaxed/relaxed; d=iol.unh.edu; s=unh-iol; t=1680537243; h=date:message-id:cc:to:from:subject:from:to:cc:subject:date :message-id:reply-to; bh=74HxKqBcR6GiFaEP+HdYB3TXB4T7faHWzhT1oatxnfc=; b=Q+08I/PrpdvgB58DM03g37fYmgcHPNIlAyTxWE93Vh/QpZNusJxvWGua+yrSF0wecx DUu/9JJp3zgqgoVB2dpHIa/8gUQ7GunQPhkW9vuA3LU2q0URddP5Ko9ZJVXNr4T3n74j GU6rWZSojfbwAaXg8qrZ6LLRxNuamNzvde+zU= X-Google-DKIM-Signature: v=1; a=rsa-sha256; c=relaxed/relaxed; d=1e100.net; s=20210112; t=1680537243; h=date:message-id:cc:to:from:subject:x-gm-message-state:from:to:cc :subject:date:message-id:reply-to; bh=74HxKqBcR6GiFaEP+HdYB3TXB4T7faHWzhT1oatxnfc=; b=uJqtnSPVJcWll+TxhUeg+VMvM/2yUamlF/v2oZguk5gB1U00/tul/d5cl5Fx0GfC0c JS7Iy9+gW3/HafeTy4uOSv2hNqTuEmEplIzG0lQQb4ozdhmeffKDzIHuygZ4C8dpmNZa oxWQRzxtwRfGGWnafzSBekMzYDriC8r9+PZib7dmDp419Xj6uMI+fWjbMBjaDm+faXOg vNN4/g0zMQNLmxYE7xRHl1dmUNRFilIVVbIN5rXS9tvGpZhgHLW2B0D8oSWAWdbwfCly z/Gunga6O2TqiC6gN7JmcheFHG5yRo06BEwT90K18CSOWtwHDWfQmA9IEmxhwVK0HzHs PCkQ== X-Gm-Message-State: AAQBX9cHfGJkQ4q893+8rwhrePhcTBxfHx2WEwa57YiwzT5bX6X1sKNF 8S5BsyqCzdRqEn5ObG8jHIsoO3m9mizW1X0KFU2jo2i3gq6NKyMbGvIHnbDecMMk9A== X-Google-Smtp-Source: AKy350aNfDGzCPgWyQgcc/65ooeX+t6RqGqGxln0hr8cqAdd4/H3Q6le+w+GoeaTG5R+VskJt+0VNClOushR X-Received: by 2002:a17:902:e543:b0:19e:665b:2514 with SMTP id n3-20020a170902e54300b0019e665b2514mr44612717plf.43.1680537243377; Mon, 03 Apr 2023 08:54:03 -0700 (PDT) Received: from postal.iol.unh.edu (postal.iol.unh.edu. [2606:4100:3880:1234::84]) by smtp-relay.gmail.com with ESMTPS id l16-20020a170902f69000b001a203e0852bsm1146107plg.47.2023.04.03.08.54.03 (version=TLS1_2 cipher=ECDHE-ECDSA-AES128-GCM-SHA256 bits=128/128); Mon, 03 Apr 2023 08:54:03 -0700 (PDT) X-Relaying-Domain: iol.unh.edu Received: from dpdk-ubuntu.dpdklab.iol.unh.edu (unknown [172.18.0.210]) by postal.iol.unh.edu (Postfix) with ESMTP id 9E550605246B; Mon, 3 Apr 2023 11:54:02 -0400 (EDT) Received: from dpdk-ubuntu-2.dpdklab.iol.unh.edu (localhost [IPv6:::1]) by dpdk-ubuntu.dpdklab.iol.unh.edu (Postfix) with ESMTP id A35E960123; Mon, 3 Apr 2023 15:54:02 +0000 (UTC) Subject: |SUCCESS| [GIT MASTER] 9dae7a15aea76313c592c11db44e1386e85f86fe From: dpdklab@iol.unh.edu To: Test Report Cc: dpdklab@iol.unh.edu, Xueming Li , Christian Ehrhardt , Kevin Traynor , Luca Boccassi Content-Type: text/plain Message-Id: <20230403155402.A35E960123@dpdk-ubuntu.dpdklab.iol.unh.edu> Date: Mon, 3 Apr 2023 15:54:02 +0000 (UTC) X-BeenThere: test-report@dpdk.org X-Mailman-Version: 2.1.29 Precedence: list List-Id: automatic DPDK test reports List-Unsubscribe: , List-Archive: List-Post: List-Help: List-Subscribe: , Errors-To: test-report-bounces@dpdk.org _Testing PASS_ Branch: tags/v22.11 9dae7a15aea76313c592c11db44e1386e85f86fe --> testing pass Test environment and result as below: +------------------------------------+--------------------+ | Environment | dpdk_meson_compile | +====================================+====================+ | Ubuntu 20.04 ARM Clang Native | PASS | +------------------------------------+--------------------+ | Ubuntu 20.04 ARM GCC Native | PASS | +------------------------------------+--------------------+ | Ubuntu 20.04 ARM GCC Cross Compile | PASS | +------------------------------------+--------------------+ | Ubuntu 20.04 ARM SVE | PASS | +------------------------------------+--------------------+ Ubuntu 20.04 ARM Clang Native Kernel: 5.4.0-53-generic Compiler: clang 10.0.0-4ubuntu1 Ubuntu 20.04 ARM GCC Native Kernel: 5.4.0-53-generic Compiler: gcc 9.3 Ubuntu 20.04 ARM GCC Cross Compile Kernel: 5.4.0-72-generic Compiler: aarch64-linux-gnu-gcc (Ubuntu 9.3.0-17ubuntu1~20.04) 9.3.0 Ubuntu 20.04 ARM SVE Kernel: 5.4.0-80-generic Compiler: gcc 10.3.0 (Ubuntu 10.3.0-1ubuntu1~20.04) To view detailed results, visit: https://lab.dpdk.org/results/dashboard/tarballs/24119/ UNH-IOL DPDK Community Lab To manage your email subscriptions, visit: https://lab.dpdk.org/results/dashboard/preferences/subscriptions/