From mboxrd@z Thu Jan 1 00:00:00 1970 Return-Path: Received: from mails.dpdk.org (mails.dpdk.org [217.70.189.124]) by inbox.dpdk.org (Postfix) with ESMTP id 6F0BF42920 for ; Wed, 12 Apr 2023 06:45:53 +0200 (CEST) Received: from mails.dpdk.org (localhost [127.0.0.1]) by mails.dpdk.org (Postfix) with ESMTP id 6AA324067B; Wed, 12 Apr 2023 06:45:53 +0200 (CEST) Received: from mail-io1-f100.google.com (mail-io1-f100.google.com [209.85.166.100]) by mails.dpdk.org (Postfix) with ESMTP id 89FDE4067B for ; Wed, 12 Apr 2023 06:45:52 +0200 (CEST) Received: by mail-io1-f100.google.com with SMTP id x3so16478384iov.3 for ; Tue, 11 Apr 2023 21:45:52 -0700 (PDT) DKIM-Signature: v=1; a=rsa-sha256; c=relaxed/relaxed; d=iol.unh.edu; s=unh-iol; t=1681274752; x=1683866752; h=date:message-id:cc:to:from:subject:from:to:cc:subject:date :message-id:reply-to; bh=Hb8kTZavIqODBj6MWfbyKoXe0sbvZwLQambwf86djDY=; b=K8zDDUR7zVXKi8Hb7yfA7bElIw9Lu7Kp2Bn3nwHTj8ZirZSDy0/cXUoYVoq5DjAKvO dd9+QDeTjfANBdACDqH0rzCgD/KhouO1KLHXqVobgQilLoIgv63vuelDkW8kXTJhksNY 4jkMHAxrTWj8TpJc5dGqKwcKeDUWLgEszH4aY= X-Google-DKIM-Signature: v=1; a=rsa-sha256; c=relaxed/relaxed; d=1e100.net; s=20210112; t=1681274752; x=1683866752; h=date:message-id:cc:to:from:subject:x-gm-message-state:from:to:cc :subject:date:message-id:reply-to; bh=Hb8kTZavIqODBj6MWfbyKoXe0sbvZwLQambwf86djDY=; b=QniifiGit9Sz+3qAA0dbM3vXN0R7wcGcHSshifi8iwTh1w6vNY/nC9yralCoyVrX8B fs03AdUtjPIbcOoZIPEGqurVjY3RQtS5SsS4vN4Op/KRuu2Bz4Vo1aBAC/dP8ex/M9+o 7BTyoAlSacla+d6u/Uns/0spMkCPBJzCcdhVUnuHyRGif38SW3m5bM361BDv3RW8byGP EMXpg7rrRcAOMwEGfkCQnBpGSTVg735/wAi6uvrEOJgVotVaRbxL4ewwk4KaxfgJkPYR 2APXWK8O52vRqnHMwdLppE2p5ie6xutXG1lSbFBTmx2tlkOSwhmzBHfrAa0scmMN3idE BUBw== X-Gm-Message-State: AAQBX9fio9CBazs6IZlvEId+Q3Exp0Rp7pXU5ZN8IUz/9H+IPROyMCfO 2fRf0ZiUsmMRuFb7zfodKj3LyfU7cl8vYbv2FUVR0e5Qo58U5Q== X-Google-Smtp-Source: AKy350YEVtj1qctU3fir28nS8/Lf6zrK2Vlp2ADnGxneWd62NYd46QEFt7x2ItHtkEPKNTgyqaDEEyToiY81 X-Received: by 2002:a5e:d80d:0:b0:753:568:358e with SMTP id l13-20020a5ed80d000000b007530568358emr2902015iok.20.1681274751889; Tue, 11 Apr 2023 21:45:51 -0700 (PDT) Received: from postal.iol.unh.edu (postal.iol.unh.edu. [132.177.123.84]) by smtp-relay.gmail.com with ESMTPS id u2-20020a056638304200b0040b34c2bc03sm1724770jak.44.2023.04.11.21.45.51 (version=TLS1_2 cipher=ECDHE-ECDSA-AES128-GCM-SHA256 bits=128/128); Tue, 11 Apr 2023 21:45:51 -0700 (PDT) X-Relaying-Domain: iol.unh.edu Received: from dpdk-ubuntu.dpdklab.iol.unh.edu (unknown [IPv6:2606:4100:3880:1722::210]) by postal.iol.unh.edu (Postfix) with ESMTP id 842D0605246B; Wed, 12 Apr 2023 00:45:51 -0400 (EDT) Received: from dpdk-ubuntu-2.dpdklab.iol.unh.edu (localhost [IPv6:::1]) by dpdk-ubuntu.dpdklab.iol.unh.edu (Postfix) with ESMTP id 8283060095; Wed, 12 Apr 2023 04:45:51 +0000 (UTC) Subject: |SUCCESS| [GIT MASTER] 9dae7a15aea76313c592c11db44e1386e85f86fe From: dpdklab@iol.unh.edu To: Test Report Cc: Xueming Li , Christian Ehrhardt , Kevin Traynor , Luca Boccassi Content-Type: text/plain Message-Id: <20230412044551.8283060095@dpdk-ubuntu.dpdklab.iol.unh.edu> Date: Wed, 12 Apr 2023 04:45:51 +0000 (UTC) X-BeenThere: test-report@dpdk.org X-Mailman-Version: 2.1.29 Precedence: list List-Id: automatic DPDK test reports List-Unsubscribe: , List-Archive: List-Post: List-Help: List-Subscribe: , Errors-To: test-report-bounces@dpdk.org _Testing PASS_ Branch: tags/v22.11 9dae7a15aea76313c592c11db44e1386e85f86fe --> testing pass Test environment and result as below: +------------------+----------+ | Environment | abi_test | +==================+==========+ | RHEL 7 | PASS | +------------------+----------+ | Ubuntu 22.04 | PASS | +------------------+----------+ | openSUSE Leap 15 | PASS | +------------------+----------+ | Debian Bullseye | PASS | +------------------+----------+ RHEL 7 Kernel: 4.18.0-240.10.1.el8_3.x86_64 Compiler: gcc 4.8.5 20150623 (Red Hat 4.8.5-44) Ubuntu 22.04 Kernel: Container Host Kernel Compiler: clang 14.0.5-1.fc36 openSUSE Leap 15 Kernel: 4.18.0-240.10.1.el8_3.x86_64 Compiler: gcc 7.5.0 Debian Bullseye Kernel: 5.4.0-122-generic Compiler: gcc 10.2.1-6 To view detailed results, visit: https://lab.dpdk.org/results/dashboard/tarballs/24214/ UNH-IOL DPDK Community Lab To manage your email subscriptions, visit: https://lab.dpdk.org/results/dashboard/preferences/subscriptions/