From mboxrd@z Thu Jan 1 00:00:00 1970 Return-Path: Received: from mails.dpdk.org (mails.dpdk.org [217.70.189.124]) by inbox.dpdk.org (Postfix) with ESMTP id 7C48542967 for ; Mon, 17 Apr 2023 06:52:29 +0200 (CEST) Received: from mails.dpdk.org (localhost [127.0.0.1]) by mails.dpdk.org (Postfix) with ESMTP id 77CEE40698; Mon, 17 Apr 2023 06:52:29 +0200 (CEST) Received: from mail-qv1-f97.google.com (mail-qv1-f97.google.com [209.85.219.97]) by mails.dpdk.org (Postfix) with ESMTP id 562A540698 for ; Mon, 17 Apr 2023 06:52:25 +0200 (CEST) Received: by mail-qv1-f97.google.com with SMTP id dd8so11632962qvb.13 for ; Sun, 16 Apr 2023 21:52:25 -0700 (PDT) DKIM-Signature: v=1; a=rsa-sha256; c=relaxed/relaxed; d=iol.unh.edu; s=unh-iol; t=1681707144; x=1684299144; h=date:message-id:cc:to:from:subject:from:to:cc:subject:date :message-id:reply-to; bh=U+kr8x7qe4wOYQ468BXPd6FKRqpazYK8YyMjHF4Nljg=; b=em0EokMe844EwfcOfAGNQGzLq3O7mQH1vqe/JhgQAuEQBetGv03UvIW2Cy8v9WxNT1 QcVcgEGlnuqRlcuik02YnA5UojjmJi5KfSOOllQmv8pQmIcarqIB4XBAb8ZmaQQZl2Ze 1jOBLioW5w/7vICBAWqtJbJ/WDjPeYgcPfURI= X-Google-DKIM-Signature: v=1; a=rsa-sha256; c=relaxed/relaxed; d=1e100.net; s=20221208; t=1681707144; x=1684299144; h=date:message-id:cc:to:from:subject:x-gm-message-state:from:to:cc :subject:date:message-id:reply-to; bh=U+kr8x7qe4wOYQ468BXPd6FKRqpazYK8YyMjHF4Nljg=; b=QfO2hYODaMxBOZOXBSxd6sFR8eMI0Rh/x6NTY/mZe2+vdRjPz/c0u60GSqwlFsDOP1 oq4lHwv34iUDgwzIRksxUswcE8ofNokcDSPHPgidARJ/u8AAPqvcaux81RsQKLn2P0uw ShRA2Xk8GIhF/njzjRjJhwxbyKTZAGygokErP86xSCC8/MnOunjBvS1QaoqxLCtYhK7N WU1cTNySCIBKsfSzp2nomNW9LRqzO5gQyTHiPWbdKlh2o1KLLVH51mRLqgzsW1TE7PWI pK9nXKFthptz6aQoVI+9+/Lg9Jz9/CZTqGGIqwlv3Vpzvl/Gn1BTZIiwcmUs81LPrZMo C0vA== X-Gm-Message-State: AAQBX9eEdM3PZmyTyjR4r8O+D/PDk6VTfbqW90zD0ZYtj6+Fucffhm+N lx/HiQOYxw5Z/n+1vJlvzhMhRLCZLuFMBnFTVPfLAbR+HyBbyQ== X-Google-Smtp-Source: AKy350Zk+B5MsNHjPSSiXdTwszy2PNJ1AUdUJHMeyZdZmhtSLBKR6HfuoyD7sisLsnVcfiLFRmyuBVWCBtuv X-Received: by 2002:ad4:5b8b:0:b0:5ea:c6f7:6d53 with SMTP id 11-20020ad45b8b000000b005eac6f76d53mr12977351qvp.31.1681707144763; Sun, 16 Apr 2023 21:52:24 -0700 (PDT) Received: from postal.iol.unh.edu (postal.iol.unh.edu. [132.177.123.84]) by smtp-relay.gmail.com with ESMTPS id t25-20020ac86a19000000b003b9bad9795csm3622549qtr.8.2023.04.16.21.52.24 (version=TLS1_2 cipher=ECDHE-ECDSA-AES128-GCM-SHA256 bits=128/128); Sun, 16 Apr 2023 21:52:24 -0700 (PDT) X-Relaying-Domain: iol.unh.edu Received: from dpdk-ubuntu.dpdklab.iol.unh.edu (unknown [IPv6:2606:4100:3880:1722::210]) by postal.iol.unh.edu (Postfix) with ESMTP id 7E7B0605246B; Mon, 17 Apr 2023 00:52:24 -0400 (EDT) Received: from dpdk-ubuntu-2.dpdklab.iol.unh.edu (localhost [IPv6:::1]) by dpdk-ubuntu.dpdklab.iol.unh.edu (Postfix) with ESMTP id 7C6FA60092; Mon, 17 Apr 2023 04:52:24 +0000 (UTC) Subject: |SUCCESS| [GIT MASTER] 9dae7a15aea76313c592c11db44e1386e85f86fe From: dpdklab@iol.unh.edu To: Test Report Cc: dpdklab@iol.unh.edu, Xueming Li , Christian Ehrhardt , Kevin Traynor , Luca Boccassi Content-Type: text/plain Message-Id: <20230417045224.7C6FA60092@dpdk-ubuntu.dpdklab.iol.unh.edu> Date: Mon, 17 Apr 2023 04:52:24 +0000 (UTC) X-BeenThere: test-report@dpdk.org X-Mailman-Version: 2.1.29 Precedence: list List-Id: automatic DPDK test reports List-Unsubscribe: , List-Archive: List-Post: List-Help: List-Subscribe: , Errors-To: test-report-bounces@dpdk.org _Testing PASS_ Branch: tags/v22.11 9dae7a15aea76313c592c11db44e1386e85f86fe --> testing pass Test environment and result as below: +------------------+----------+ | Environment | abi_test | +==================+==========+ | Ubuntu 22.04 | PASS | +------------------+----------+ | RHEL 7 | PASS | +------------------+----------+ | openSUSE Leap 15 | PASS | +------------------+----------+ | CentOS Stream 8 | PASS | +------------------+----------+ Ubuntu 22.04 Kernel: Container Host Kernel Compiler: gcc 11.3.1-2 RHEL 7 Kernel: 4.18.0-240.10.1.el8_3.x86_64 Compiler: gcc 4.8.5 20150623 (Red Hat 4.8.5-44) openSUSE Leap 15 Kernel: 4.18.0-240.10.1.el8_3.x86_64 Compiler: gcc 7.5.0 CentOS Stream 8 Kernel: 4.18.0-240.10.1.el8_3.x86_64 Compiler: gcc 8.4.1 20200928 To view detailed results, visit: https://lab.dpdk.org/results/dashboard/tarballs/24279/ UNH-IOL DPDK Community Lab To manage your email subscriptions, visit: https://lab.dpdk.org/results/dashboard/preferences/subscriptions/