From mboxrd@z Thu Jan 1 00:00:00 1970 Return-Path: Received: from mails.dpdk.org (mails.dpdk.org [217.70.189.124]) by inbox.dpdk.org (Postfix) with ESMTP id B86F742967 for ; Mon, 17 Apr 2023 06:53:52 +0200 (CEST) Received: from mails.dpdk.org (localhost [127.0.0.1]) by mails.dpdk.org (Postfix) with ESMTP id B410140698; Mon, 17 Apr 2023 06:53:52 +0200 (CEST) Received: from mail-oa1-f98.google.com (mail-oa1-f98.google.com [209.85.160.98]) by mails.dpdk.org (Postfix) with ESMTP id 6152940698 for ; Mon, 17 Apr 2023 06:53:51 +0200 (CEST) Received: by mail-oa1-f98.google.com with SMTP id 586e51a60fabf-187e9f8c982so1885151fac.1 for ; Sun, 16 Apr 2023 21:53:51 -0700 (PDT) DKIM-Signature: v=1; a=rsa-sha256; c=relaxed/relaxed; d=iol.unh.edu; s=unh-iol; t=1681707230; x=1684299230; h=date:message-id:cc:to:from:subject:from:to:cc:subject:date :message-id:reply-to; bh=U+kr8x7qe4wOYQ468BXPd6FKRqpazYK8YyMjHF4Nljg=; b=EDg1WuydT89A8v+NplBs0WpvYt1n+GZB1+hnCwFUF4agYkcIrhIei+mByciLoslPKW ku8cmfFGhj9Wx5I56PheCll4hEqNXT4/c9odl6K+JIlnT4QOOSIoUuchfRbN1JR3htjI OtZVDRQkMyl8WkeWsuZuPfK6r7nl2SFg66alE= X-Google-DKIM-Signature: v=1; a=rsa-sha256; c=relaxed/relaxed; d=1e100.net; s=20221208; t=1681707230; x=1684299230; h=date:message-id:cc:to:from:subject:x-gm-message-state:from:to:cc :subject:date:message-id:reply-to; bh=U+kr8x7qe4wOYQ468BXPd6FKRqpazYK8YyMjHF4Nljg=; b=QY8H3lRRnG6yYOMoREIVzTQlSA/1j0JCjgavzobF2hPgqWRHaZGcKs6m8K31cHwrYg 592a3jVrZJI/5DSWIQzaJgTIt24YcyhyF/t6lAZfkscwdpHwN8TzObQNlDziDMZwctIO CTUVShbWYcLW4paXF6Ec00SsNN07EeDo/4DeLiwiSnAZ4iRqICvTlChcPaCuE5JN1e1Z A4Y1XkSUPZDDluED5rTp5OuKAV3AHaZYMmO4gGAowtsOiJTChH2LCgPs53p+zJdofSs1 nfJtre4vryqwfcmv6Gbgj4dGptO+cPTHwuYcxiknv4Cc5/A6o/csvn79EUY+E8rcQH1x ea9g== X-Gm-Message-State: AAQBX9cYKUYm+hPtbIgz6duqXCEILth549aZkT+XV2QJLlAONcnivSJX QEVaTnMLq6K+AyHHSvHjWP4VH2UH8SFZfk8mtHNFIF5b6WuPJw== X-Google-Smtp-Source: AKy350a0NK2PAkbRFuTT4NdID5/pjVHyocXA2IzLoq6gfwv2aWSqOaLClR5+jAOyaaTgnapEeJEOCzFr6iKX X-Received: by 2002:a05:6870:b28e:b0:187:9666:836e with SMTP id c14-20020a056870b28e00b001879666836emr8092264oao.48.1681707230752; Sun, 16 Apr 2023 21:53:50 -0700 (PDT) Received: from postal.iol.unh.edu (postal.iol.unh.edu. [132.177.123.84]) by smtp-relay.gmail.com with ESMTPS id f39-20020a4a892a000000b00541b5bb9fcesm4223088ooi.25.2023.04.16.21.53.50 (version=TLS1_2 cipher=ECDHE-ECDSA-AES128-GCM-SHA256 bits=128/128); Sun, 16 Apr 2023 21:53:50 -0700 (PDT) X-Relaying-Domain: iol.unh.edu Received: from dpdk-ubuntu.dpdklab.iol.unh.edu (unknown [172.18.0.210]) by postal.iol.unh.edu (Postfix) with ESMTP id 46294605246B; Mon, 17 Apr 2023 00:53:50 -0400 (EDT) Received: from dpdk-ubuntu-2.dpdklab.iol.unh.edu (localhost [IPv6:::1]) by dpdk-ubuntu.dpdklab.iol.unh.edu (Postfix) with ESMTP id 41C0360092; Mon, 17 Apr 2023 04:53:50 +0000 (UTC) Subject: |SUCCESS| [GIT MASTER] 9dae7a15aea76313c592c11db44e1386e85f86fe From: dpdklab@iol.unh.edu To: Test Report Cc: dpdklab@iol.unh.edu, Xueming Li , Christian Ehrhardt , Kevin Traynor , Luca Boccassi Content-Type: text/plain Message-Id: <20230417045350.41C0360092@dpdk-ubuntu.dpdklab.iol.unh.edu> Date: Mon, 17 Apr 2023 04:53:50 +0000 (UTC) X-BeenThere: test-report@dpdk.org X-Mailman-Version: 2.1.29 Precedence: list List-Id: automatic DPDK test reports List-Unsubscribe: , List-Archive: List-Post: List-Help: List-Subscribe: , Errors-To: test-report-bounces@dpdk.org _Testing PASS_ Branch: tags/v22.11 9dae7a15aea76313c592c11db44e1386e85f86fe --> testing pass Test environment and result as below: +------------------+----------+ | Environment | abi_test | +==================+==========+ | Ubuntu 22.04 | PASS | +------------------+----------+ | RHEL 7 | PASS | +------------------+----------+ | openSUSE Leap 15 | PASS | +------------------+----------+ | CentOS Stream 8 | PASS | +------------------+----------+ Ubuntu 22.04 Kernel: Container Host Kernel Compiler: gcc 11.3.1-2 RHEL 7 Kernel: 4.18.0-240.10.1.el8_3.x86_64 Compiler: gcc 4.8.5 20150623 (Red Hat 4.8.5-44) openSUSE Leap 15 Kernel: 4.18.0-240.10.1.el8_3.x86_64 Compiler: gcc 7.5.0 CentOS Stream 8 Kernel: 4.18.0-240.10.1.el8_3.x86_64 Compiler: gcc 8.4.1 20200928 To view detailed results, visit: https://lab.dpdk.org/results/dashboard/tarballs/24279/ UNH-IOL DPDK Community Lab To manage your email subscriptions, visit: https://lab.dpdk.org/results/dashboard/preferences/subscriptions/