* |SUCCESS| pw129672 [PATCH v2 ] tap: fix build of TAP BPF program
       [not found] <20230720174558.10265-1-stephen@networkplumber.org>
@ 2023-07-20 17:33 ` qemudev
  2023-07-20 17:37 ` qemudev
                   ` (2 subsequent siblings)
  3 siblings, 0 replies; 31+ messages in thread
From: qemudev @ 2023-07-20 17:33 UTC (permalink / raw)
  To: test-report
Test-Label: loongarch-compilation
Test-Status: SUCCESS
http://dpdk.org/patch/129672
_Compilation OK_
Submitter: Stephen Hemminger <stephen@networkplumber.org>
Date: Thu, 20 Jul 2023 10:45:58 -0700
DPDK git baseline: Repo:dpdk-next-net
  Branch: main
  CommitID: fbafb3676c482dab60c0b5465b47f2ea33893a36
129672 --> meson & ninja build successfully
Test environment and result as below:
+---------------------+----------------+
|     Environment     | compilation    |
+---------------------+----------------+
| Loongnix-Server 8.3 | PASS           |
+---------------------+----------------+
Loongnix-Server 8.3
    Kernel: 4.19.190+
    Compiler: gcc 8.3
^ permalink raw reply	[flat|nested] 31+ messages in thread
* |SUCCESS| pw129672 [PATCH v2 ] tap: fix build of TAP BPF program
       [not found] <20230720174558.10265-1-stephen@networkplumber.org>
  2023-07-20 17:33 ` |SUCCESS| pw129672 [PATCH v2 ] tap: fix build of TAP BPF program qemudev
@ 2023-07-20 17:37 ` qemudev
  2023-07-20 17:47 ` |WARNING| " checkpatch
  2023-07-20 18:38 ` |SUCCESS| " 0-day Robot
  3 siblings, 0 replies; 31+ messages in thread
From: qemudev @ 2023-07-20 17:37 UTC (permalink / raw)
  To: test-report
Test-Label: loongarch-unit-testing
Test-Status: SUCCESS
http://dpdk.org/patch/129672
_Unit Testing PASS_
Submitter: Stephen Hemminger <stephen@networkplumber.org>
Date: Thu, 20 Jul 2023 10:45:58 -0700
DPDK git baseline: Repo:dpdk-next-net
  Branch: main
  CommitID: fbafb3676c482dab60c0b5465b47f2ea33893a36
129672 --> testing pass
Test environment and result as below:
+---------------------+----------------+
|     Environment     | dpdk_unit_test |
+---------------------+----------------+
| Loongnix-Server 8.3 | PASS           |
+---------------------+----------------+
Loongnix-Server 8.3
    Kernel: 4.19.190+
    Compiler: gcc 8.3
Test result details:
  1/107 DPDK:fast-tests / acl_autotest                            OK              2.78s
  2/107 DPDK:fast-tests / atomic_autotest                         OK              6.83s
  3/107 DPDK:fast-tests / bitmap_autotest                         OK              0.07s
  4/107 DPDK:fast-tests / bpf_autotest                            OK              0.07s
  5/107 DPDK:fast-tests / bpf_convert_autotest                    OK              0.07s
  6/107 DPDK:fast-tests / bitops_autotest                         OK              0.07s
  7/107 DPDK:fast-tests / byteorder_autotest                      OK              0.07s
  8/107 DPDK:fast-tests / cksum_autotest                          OK              0.07s
  9/107 DPDK:fast-tests / cmdline_autotest                        OK              0.07s
 10/107 DPDK:fast-tests / common_autotest                         OK              0.92s
 11/107 DPDK:fast-tests / cpuflags_autotest                       OK              0.07s
 12/107 DPDK:fast-tests / debug_autotest                          OK              2.27s
 13/107 DPDK:fast-tests / devargs_autotest                        OK              0.12s
 14/107 DPDK:fast-tests / eal_flags_c_opt_autotest                OK              1.38s
 15/107 DPDK:fast-tests / eal_flags_main_opt_autotest             OK              0.32s
 16/107 DPDK:fast-tests / eal_flags_n_opt_autotest                OK              0.27s
 17/107 DPDK:fast-tests / eal_flags_hpet_autotest                 OK              0.17s
 18/107 DPDK:fast-tests / eal_flags_no_huge_autotest              OK              0.32s
 19/107 DPDK:fast-tests / eal_flags_a_opt_autotest                OK              0.42s
 20/107 DPDK:fast-tests / eal_flags_b_opt_autotest                OK              0.37s
 21/107 DPDK:fast-tests / eal_flags_vdev_opt_autotest             OK              0.27s
 22/107 DPDK:fast-tests / eal_flags_r_opt_autotest                OK              0.27s
 23/107 DPDK:fast-tests / eal_flags_mem_autotest                  OK              0.77s
 24/107 DPDK:fast-tests / eal_flags_file_prefix_autotest          OK             22.42s
 25/107 DPDK:fast-tests / eal_flags_misc_autotest                 OK              1.18s
 26/107 DPDK:fast-tests / eal_fs_autotest                         OK              0.07s
 27/107 DPDK:fast-tests / errno_autotest                          OK              0.07s
 28/107 DPDK:fast-tests / ethdev_link_status                      OK              0.07s
 29/107 DPDK:fast-tests / event_ring_autotest                     OK              0.07s
 30/107 DPDK:fast-tests / fib_autotest                            OK              0.87s
 31/107 DPDK:fast-tests / fib6_autotest                           OK              0.93s
 32/107 DPDK:fast-tests / func_reentrancy_autotest                OK              2.23s
 33/107 DPDK:fast-tests / hash_autotest                           OK              1.07s
 34/107 DPDK:fast-tests / interrupt_autotest                      OK              1.42s
 35/107 DPDK:fast-tests / ipfrag_autotest                         OK              0.12s
 36/107 DPDK:fast-tests / lcores_autotest                         OK              5.13s
 37/107 DPDK:fast-tests / logs_autotest                           OK              0.07s
 38/107 DPDK:fast-tests / lpm_autotest                            OK              5.97s
 39/107 DPDK:fast-tests / lpm6_autotest                           OK              8.88s
 40/107 DPDK:fast-tests / malloc_autotest                         OK             62.11s
 41/107 DPDK:fast-tests / mbuf_autotest                           OK              5.13s
 42/107 DPDK:fast-tests / mcslock_autotest                        OK              4.28s
 43/107 DPDK:fast-tests / memcpy_autotest                         OK              6.73s
 44/107 DPDK:fast-tests / memory_autotest                         OK              0.12s
 45/107 DPDK:fast-tests / mempool_autotest                        OK              0.47s
 46/107 DPDK:fast-tests / memzone_autotest                        OK              0.17s
 47/107 DPDK:fast-tests / meter_autotest                          OK              0.07s
 48/107 DPDK:fast-tests / multiprocess_autotest                   OK              0.27s
 49/107 DPDK:fast-tests / per_lcore_autotest                      OK              0.17s
 50/107 DPDK:fast-tests / pflock_autotest                         OK              0.92s
 51/107 DPDK:fast-tests / prefetch_autotest                       OK              0.07s
 52/107 DPDK:fast-tests / rcu_qsbr_autotest                       OK              0.62s
 53/107 DPDK:fast-tests / pie_autotest                            OK              0.07s
 54/107 DPDK:fast-tests / rib_autotest                            OK             10.35s
 55/107 DPDK:fast-tests / rib6_autotest                           OK             10.35s
 56/107 DPDK:fast-tests / ring_autotest                           OK              0.12s
 57/107 DPDK:fast-tests / rwlock_test1_autotest                   OK              0.87s
 58/107 DPDK:fast-tests / rwlock_rda_autotest                     OK              5.13s
 59/107 DPDK:fast-tests / rwlock_rds_wrm_autotest                 OK              5.13s
 60/107 DPDK:fast-tests / rwlock_rde_wro_autotest                 OK              5.13s
 61/107 DPDK:fast-tests / sched_autotest                          OK              0.07s
 62/107 DPDK:fast-tests / security_autotest                       OK              0.07s
 63/107 DPDK:fast-tests / seqlock_autotest                        OK              2.07s
 64/107 DPDK:fast-tests / spinlock_autotest                       OK              0.17s
 65/107 DPDK:fast-tests / stack_autotest                          OK              0.87s
 66/107 DPDK:fast-tests / stack_lf_autotest                       SKIP            0.07s   exit status 77
 67/107 DPDK:fast-tests / string_autotest                         OK              0.07s
 68/107 DPDK:fast-tests / tailq_autotest                          OK              0.07s
 69/107 DPDK:fast-tests / ticketlock_autotest                     OK              0.27s
 70/107 DPDK:fast-tests / timer_autotest                          OK              3.92s
 71/107 DPDK:fast-tests / user_delay_us                           OK              0.07s
 72/107 DPDK:fast-tests / version_autotest                        OK              0.07s
 73/107 DPDK:fast-tests / crc_autotest                            OK              0.07s
 74/107 DPDK:fast-tests / distributor_autotest                    OK              1.27s
 75/107 DPDK:fast-tests / eventdev_common_autotest                OK              0.07s
 76/107 DPDK:fast-tests / fbarray_autotest                        OK              0.12s
 77/107 DPDK:fast-tests / hash_readwrite_func_autotest            OK              6.49s
 78/107 DPDK:fast-tests / ipsec_autotest                          SKIP            0.12s   exit status 77
 79/107 DPDK:fast-tests / kni_autotest                            SKIP            0.07s   exit status 77
 80/107 DPDK:fast-tests / kvargs_autotest                         OK              0.12s
 81/107 DPDK:fast-tests / member_autotest                         OK              1.27s
 82/107 DPDK:fast-tests / power_cpufreq_autotest                  SKIP            0.07s   exit status 77
 83/107 DPDK:fast-tests / power_autotest                          OK              0.07s
 84/107 DPDK:fast-tests / power_kvm_vm_autotest                   SKIP            0.07s   exit status 77
 85/107 DPDK:fast-tests / power_intel_uncore_autotest             SKIP            0.07s   exit status 77
 86/107 DPDK:fast-tests / reorder_autotest                        OK              0.12s
 87/107 DPDK:fast-tests / service_autotest                        OK              2.82s
 88/107 DPDK:fast-tests / thash_autotest                          OK              0.07s
 89/107 DPDK:fast-tests / threads_autotest                        OK              0.27s
 90/107 DPDK:fast-tests / trace_autotest                          OK              0.07s
 91/107 DPDK:fast-tests / trace_autotest_with_traces              OK              0.12s
 92/107 DPDK:fast-tests / graph_autotest                          OK              0.07s
 93/107 DPDK:fast-tests / node_list_dump                          OK              0.07s
 94/107 DPDK:fast-tests / metrics_autotest                        OK              0.07s
 95/107 DPDK:fast-tests / telemetry_json_autotest                 OK              0.07s
 96/107 DPDK:fast-tests / telemetry_data_autotest                 OK              0.12s
 97/107 DPDK:fast-tests / table_autotest                          OK             10.31s
 98/107 DPDK:fast-tests / ring_pmd_autotest                       OK              0.07s
 99/107 DPDK:fast-tests / event_eth_tx_adapter_autotest           OK              1.72s
100/107 DPDK:fast-tests / bitratestats_autotest                   OK              0.07s
101/107 DPDK:fast-tests / latencystats_autotest                   OK              0.07s
102/107 DPDK:fast-tests / pdump_autotest                          OK              5.23s
103/107 DPDK:fast-tests / vdev_autotest                           OK              0.07s
104/107 DPDK:fast-tests / rawdev_autotest                         OK              0.07s
105/107 DPDK:fast-tests / pdcp_autotest                           SKIP            0.07s   exit status 77
106/107 DPDK:fast-tests / compressdev_autotest                    SKIP            0.07s   exit status 77
107/107 DPDK:fast-tests / telemetry_all                           OK             17.15s
Ok:                 99
Expected Fail:      0
Fail:               0
Unexpected Pass:    0
Skipped:            8
Timeout:            0
^ permalink raw reply	[flat|nested] 31+ messages in thread
* |WARNING| pw129672 [PATCH v2 ] tap: fix build of TAP BPF program
       [not found] <20230720174558.10265-1-stephen@networkplumber.org>
  2023-07-20 17:33 ` |SUCCESS| pw129672 [PATCH v2 ] tap: fix build of TAP BPF program qemudev
  2023-07-20 17:37 ` qemudev
@ 2023-07-20 17:47 ` checkpatch
  2023-07-20 18:38 ` |SUCCESS| " 0-day Robot
  3 siblings, 0 replies; 31+ messages in thread
From: checkpatch @ 2023-07-20 17:47 UTC (permalink / raw)
  To: test-report; +Cc: Stephen Hemminger
Test-Label: checkpatch
Test-Status: WARNING
http://dpdk.org/patch/129672
_coding style issues_
WARNING:CONSTANT_CONVERSION: __constant_htons should be htons
#154: FILE: drivers/net/tap/bpf_api.h:44:
+# define htons(X)		__constant_htons((X))
WARNING:CONSTANT_CONVERSION: __constant_ntohs should be ntohs
#158: FILE: drivers/net/tap/bpf_api.h:48:
+# define ntohs(X)		__constant_ntohs((X))
WARNING:INLINE: plain inline is preferred over __inline__
#169: FILE: drivers/net/tap/bpf_api.h:59:
+#ifndef __inline__
WARNING:INLINE: plain inline is preferred over __inline__
#170: FILE: drivers/net/tap/bpf_api.h:60:
+# define __inline__		__attribute__((always_inline))
ERROR:COMPLEX_MACRO: Macros with complex values should be enclosed in parentheses
#231: FILE: drivers/net/tap/bpf_api.h:121:
+# define __BPF_FUNC(NAME, ...)						\
+	(* NAME)(__VA_ARGS__) __maybe_unused
CHECK:MACRO_ARG_PRECEDENCE: Macro argument 'NAME' may be better as '(NAME)' to avoid precedence issues
#231: FILE: drivers/net/tap/bpf_api.h:121:
+# define __BPF_FUNC(NAME, ...)						\
+	(* NAME)(__VA_ARGS__) __maybe_unused
ERROR:COMPLEX_MACRO: Macros with complex values should be enclosed in parentheses
#236: FILE: drivers/net/tap/bpf_api.h:126:
+# define BPF_FUNC(NAME, ...)						\
+	__BPF_FUNC(NAME, __VA_ARGS__) = (void *) BPF_FUNC_##NAME
CHECK:SPACING: No space is necessary after a cast
#237: FILE: drivers/net/tap/bpf_api.h:127:
+	__BPF_FUNC(NAME, __VA_ARGS__) = (void *) BPF_FUNC_##NAME
WARNING:TRACE_PRINTK: Do not use trace_printk() in production code (this can be ignored if built only with a debug config option)
#262: FILE: drivers/net/tap/bpf_api.h:152:
+		trace_printk(____fmt, sizeof(____fmt), ##__VA_ARGS__);	\
CHECK:SPACING: No space is necessary after a cast
#315: FILE: drivers/net/tap/bpf_api.h:205:
+		      (void *) BPF_FUNC_perf_event_output;
CHECK:SPACING: No space is necessary after a cast
#337: FILE: drivers/net/tap/bpf_api.h:227:
+# define lock_xadd(ptr, val)	((void) __sync_fetch_and_add(ptr, val))
WARNING:TYPO_SPELLING: 'useable' may be misspelled - perhaps 'usable'?
#352: FILE: drivers/net/tap/bpf_api.h:242:
+/* FIXME: __builtin_memcmp() is not yet fully useable unless llvm bug
WARNING:IF_0: Consider removing the code enclosed by this #if 0 and its #endif
#356: FILE: drivers/net/tap/bpf_api.h:246:
+#if 0
total: 2 errors, 7 warnings, 4 checks, 349 lines checked
Warning in drivers/net/tap/bpf_api.h:
Using compiler attribute directly
Warning in drivers/net/tap/bpf_api.h:
Using __sync_xxx builtins
^ permalink raw reply	[flat|nested] 31+ messages in thread
* |SUCCESS| pw129672 [PATCH v2 ] tap: fix build of TAP BPF program
       [not found] <20230720174558.10265-1-stephen@networkplumber.org>
                   ` (2 preceding siblings ...)
  2023-07-20 17:47 ` |WARNING| " checkpatch
@ 2023-07-20 18:38 ` 0-day Robot
  3 siblings, 0 replies; 31+ messages in thread
From: 0-day Robot @ 2023-07-20 18:38 UTC (permalink / raw)
  To: test-report; +Cc: robot
From: robot@bytheb.org
Test-Label: github-robot: build
Test-Status: SUCCESS
http://patchwork.dpdk.org/patch/129672/
_github build: passed_
Build URL: https://github.com/ovsrobot/dpdk/actions/runs/5614343936
^ permalink raw reply	[flat|nested] 31+ messages in thread
* |SUCCESS| pw129672 [PATCH] [v2] tap: fix build of TAP BPF program
@ 2023-07-21  0:34 dpdklab
  0 siblings, 0 replies; 31+ messages in thread
From: dpdklab @ 2023-07-21  0:34 UTC (permalink / raw)
  To: Test Report; +Cc: dpdk-test-reports
Test-Label: iol-broadcom-Functional
Test-Status: SUCCESS
http://dpdk.org/patch/129672
_Functional Testing PASS_
Submitter: Stephen Hemminger <stephen@networkplumber.org>
Date: Thursday, July 20 2023 17:45:58 
DPDK git baseline: Repo:dpdk
  Branch: master
  CommitID:035968c78e798aa6fb81ceb45d06a44412a00912
129672 --> functional testing pass
Test environment and result as below:
Ubuntu 22.04
Kernel: 5.15.0-58-generic x86_64
Compiler: gcc gcc (Ubuntu 11.2.0-19ubuntu1) 11.2.0
NIC: Broadcom Inc. and subsidiaries BCM957508-P2100G Dual-Port 100 Gb/s QSFP56 100 Mbps
Target: x86_64-native-linuxapp-gcc
Fail/Total: 0/2
Ubuntu 20.04 ARM
Kernel: 5.11.0-46-generic
Compiler: gcc 9.4.0
NIC: Arm Broadcom Inc. brcm_57414 25000 Mbps
Target: x86_64-native-linuxapp-gcc
Fail/Total: 0/1
Arm Ampere Altra - Ubuntu 20.04.4
Kernel: 5.4.0-148-generic aarch64
Compiler: gcc 9.4
NIC: Broadcom Inc. and subsidiaries BCM957508-P2100G Dual-Port 100 Gb/s QSFP56 100 Mbps
Target: x86_64-native-linuxapp-gcc
Fail/Total: 0/1
To view detailed results, visit:
https://lab.dpdk.org/results/dashboard/patchsets/27116/
UNH-IOL DPDK Community Lab
To manage your email subscriptions, visit: 
https://lab.dpdk.org/results/dashboard/preferences/subscriptions/
^ permalink raw reply	[flat|nested] 31+ messages in thread
* |SUCCESS| pw129672 [PATCH] [v2] tap: fix build of TAP BPF program
@ 2023-07-21  0:30 dpdklab
  0 siblings, 0 replies; 31+ messages in thread
From: dpdklab @ 2023-07-21  0:30 UTC (permalink / raw)
  To: Test Report; +Cc: dpdk-test-reports
Test-Label: iol-intel-Functional
Test-Status: SUCCESS
http://dpdk.org/patch/129672
_Functional Testing PASS_
Submitter: Stephen Hemminger <stephen@networkplumber.org>
Date: Thursday, July 20 2023 17:45:58 
DPDK git baseline: Repo:dpdk
  Branch: master
  CommitID:035968c78e798aa6fb81ceb45d06a44412a00912
129672 --> functional testing pass
Test environment and result as below:
Ubuntu 20.04
Kernel: 4.15.0-generic
Compiler: gcc 7.4
NIC: Intel Corporation Ethernet Converged Network Adapter XL710-QDA2 40000 Mbps
Target: x86_64-native-linuxapp-gcc
Fail/Total: 0/4
Ubuntu 20.04
Kernel: 4.15.0-generic
Compiler: gcc 7.4
NIC: Intel Corporation Ethernet Converged Network Adapter 82599ES 10000 Mbps
Target: x86_64-native-linuxapp-gcc
Fail/Total: 0/4
Arm Ampere Altra - Ubuntu 20.04.4
Kernel: 5.4.0-148-generic aarch64
Compiler: gcc 9.4
NIC: Intel Corporation Ethernet Converged Network Adapter XL710-QDA2 40000 Mbps
Target: x86_64-native-linuxapp-gcc
Fail/Total: 0/1
Ubuntu 20.04 ARM
Kernel: 4.15.0-132-generic
Compiler: gcc 7.5
NIC: Arm Intel Corporation Ethernet Converged Network Adapter XL710-QDA2 40000 Mbps
Target: x86_64-native-linuxapp-gcc
Fail/Total: 0/2
To view detailed results, visit:
https://lab.dpdk.org/results/dashboard/patchsets/27116/
UNH-IOL DPDK Community Lab
To manage your email subscriptions, visit: 
https://lab.dpdk.org/results/dashboard/preferences/subscriptions/
^ permalink raw reply	[flat|nested] 31+ messages in thread
* |SUCCESS| pw129672 [PATCH] [v2] tap: fix build of TAP BPF program
@ 2023-07-21  0:24 dpdklab
  0 siblings, 0 replies; 31+ messages in thread
From: dpdklab @ 2023-07-21  0:24 UTC (permalink / raw)
  To: Test Report; +Cc: dpdk-test-reports
Test-Label: iol-broadcom-Functional
Test-Status: SUCCESS
http://dpdk.org/patch/129672
_Functional Testing PASS_
Submitter: Stephen Hemminger <stephen@networkplumber.org>
Date: Thursday, July 20 2023 17:45:58 
DPDK git baseline: Repo:dpdk
  Branch: master
  CommitID:035968c78e798aa6fb81ceb45d06a44412a00912
129672 --> functional testing pass
Test environment and result as below:
Ubuntu 22.04
Kernel: 5.15.0-58-generic x86_64
Compiler: gcc gcc (Ubuntu 11.2.0-19ubuntu1) 11.2.0
NIC: Broadcom Inc. and subsidiaries BCM957508-P2100G Dual-Port 100 Gb/s QSFP56 100 Mbps
Target: x86_64-native-linuxapp-gcc
Fail/Total: 0/2
Ubuntu 20.04 ARM
Kernel: 5.11.0-46-generic
Compiler: gcc 9.4.0
NIC: Arm Broadcom Inc. brcm_57414 25000 Mbps
Target: x86_64-native-linuxapp-gcc
Fail/Total: 0/1
To view detailed results, visit:
https://lab.dpdk.org/results/dashboard/patchsets/27116/
UNH-IOL DPDK Community Lab
To manage your email subscriptions, visit: 
https://lab.dpdk.org/results/dashboard/preferences/subscriptions/
^ permalink raw reply	[flat|nested] 31+ messages in thread
* |SUCCESS| pw129672 [PATCH] [v2] tap: fix build of TAP BPF program
@ 2023-07-20 23:59 dpdklab
  0 siblings, 0 replies; 31+ messages in thread
From: dpdklab @ 2023-07-20 23:59 UTC (permalink / raw)
  To: Test Report; +Cc: dpdk-test-reports
Test-Label: iol-intel-Performance
Test-Status: SUCCESS
http://dpdk.org/patch/129672
_Performance Testing PASS_
Submitter: Stephen Hemminger <stephen@networkplumber.org>
Date: Thursday, July 20 2023 17:45:58 
DPDK git baseline: Repo:dpdk
  Branch: master
  CommitID:035968c78e798aa6fb81ceb45d06a44412a00912
129672 --> performance testing pass
Test environment and result as below:
Ubuntu 20.04 ARM
Kernel: 4.15.0-132-generic
Compiler: gcc 7.5
NIC: Arm Intel Corporation Ethernet Converged Network Adapter XL710-QDA2 40000 Mbps
Target: x86_64-native-linuxapp-gcc
Fail/Total: 0/2
Detail performance results: 
+------------+---------+----------+-------------+------------------------------+
| frame_size | txd/rxd | num_cpus | num_threads |  throughput difference from  |
|            |         |          |             |           expected           |
+============+=========+==========+=============+==============================+
| 64         | 512     | 1        | 1           | 0.1%                         |
+------------+---------+----------+-------------+------------------------------+
| 64         | 2048    | 1        | 1           | 0.1%                         |
+------------+---------+----------+-------------+------------------------------+
Ubuntu 20.04
Kernel: 4.15.0-generic
Compiler: gcc 7.4
NIC: Intel Corporation Ethernet Converged Network Adapter 82599ES 10000 Mbps
Target: x86_64-native-linuxapp-gcc
Fail/Total: 0/6
Detail performance results: 
+----------+-------------+---------+------------+------------------------------+
| num_cpus | num_threads | txd/rxd | frame_size |  throughput difference from  |
|          |             |         |            |           expected           |
+==========+=============+=========+============+==============================+
| 1        | 2           | 128     | 64         | 0.0%                         |
+----------+-------------+---------+------------+------------------------------+
| 1        | 2           | 512     | 64         | 0.0%                         |
+----------+-------------+---------+------------+------------------------------+
| 1        | 2           | 2048    | 64         | -0.4%                        |
+----------+-------------+---------+------------+------------------------------+
| 1        | 1           | 128     | 64         | -0.0%                        |
+----------+-------------+---------+------------+------------------------------+
| 1        | 1           | 512     | 64         | 0.1%                         |
+----------+-------------+---------+------------+------------------------------+
| 1        | 1           | 2048    | 64         | -0.2%                        |
+----------+-------------+---------+------------+------------------------------+
Arm Ampere Altra - Ubuntu 20.04.4
Kernel: 5.4.0-148-generic aarch64
Compiler: gcc 9.4
NIC: Intel Corporation Ethernet Converged Network Adapter XL710-QDA2 40000 Mbps
Target: x86_64-native-linuxapp-gcc
Fail/Total: 0/2
Detail performance results: 
+------------+---------+----------+-------------+------------------------------+
| frame_size | txd/rxd | num_cpus | num_threads |  throughput difference from  |
|            |         |          |             |           expected           |
+============+=========+==========+=============+==============================+
| 64         | 512     | 1        | 1           | -0.3%                        |
+------------+---------+----------+-------------+------------------------------+
| 64         | 2048    | 1        | 1           | -0.1%                        |
+------------+---------+----------+-------------+------------------------------+
To view detailed results, visit:
https://lab.dpdk.org/results/dashboard/patchsets/27116/
UNH-IOL DPDK Community Lab
To manage your email subscriptions, visit: 
https://lab.dpdk.org/results/dashboard/preferences/subscriptions/
^ permalink raw reply	[flat|nested] 31+ messages in thread
* |SUCCESS| pw129672 [PATCH] [v2] tap: fix build of TAP BPF program
@ 2023-07-20 23:18 dpdklab
  0 siblings, 0 replies; 31+ messages in thread
From: dpdklab @ 2023-07-20 23:18 UTC (permalink / raw)
  To: Test Report; +Cc: dpdk-test-reports
Test-Label: iol-broadcom-Performance
Test-Status: SUCCESS
http://dpdk.org/patch/129672
_Performance Testing PASS_
Submitter: Stephen Hemminger <stephen@networkplumber.org>
Date: Thursday, July 20 2023 17:45:58 
DPDK git baseline: Repo:dpdk
  Branch: master
  CommitID:035968c78e798aa6fb81ceb45d06a44412a00912
129672 --> performance testing pass
Test environment and result as below:
Ubuntu 22.04
Kernel: 5.15.0-39-generic
Compiler: gcc gcc (Ubuntu 11.2.0-19ubuntu1) 11.2.0
NIC: Broadcom Inc. and subsidiaries BCM57414 NetXtreme-E 10Gb/25Gb RDMA Ethernet Controller 16d7 25 Mbps
Target: x86_64-native-linuxapp-gcc
Fail/Total: 0/3
Detail performance results: 
+------------+---------+----------+-------------+------------------------------+
| frame_size | txd/rxd | num_cpus | num_threads |  throughput difference from  |
|            |         |          |             |           expected           |
+============+=========+==========+=============+==============================+
| 64         | 128     | 1        | 1           | 0.3%                         |
+------------+---------+----------+-------------+------------------------------+
| 64         | 512     | 1        | 1           | 0.1%                         |
+------------+---------+----------+-------------+------------------------------+
| 64         | 2048    | 1        | 1           | -0.0%                        |
+------------+---------+----------+-------------+------------------------------+
Ubuntu 20.04 ARM
Kernel: 5.11.0-46-generic
Compiler: gcc 9.4.0
NIC: Arm Broadcom Inc. brcm_57414 25000 Mbps
Target: x86_64-native-linuxapp-gcc
Fail/Total: 0/2
Detail performance results: 
+------------+---------+----------+-------------+------------------------------+
| frame_size | txd/rxd | num_cpus | num_threads |  throughput difference from  |
|            |         |          |             |           expected           |
+============+=========+==========+=============+==============================+
| 64         | 512     | 1        | 1           | -0.0%                        |
+------------+---------+----------+-------------+------------------------------+
| 64         | 2048    | 1        | 1           | -0.1%                        |
+------------+---------+----------+-------------+------------------------------+
To view detailed results, visit:
https://lab.dpdk.org/results/dashboard/patchsets/27116/
UNH-IOL DPDK Community Lab
To manage your email subscriptions, visit: 
https://lab.dpdk.org/results/dashboard/preferences/subscriptions/
^ permalink raw reply	[flat|nested] 31+ messages in thread
* |SUCCESS| pw129672 [PATCH] [v2] tap: fix build of TAP BPF program
@ 2023-07-20 21:43 dpdklab
  0 siblings, 0 replies; 31+ messages in thread
From: dpdklab @ 2023-07-20 21:43 UTC (permalink / raw)
  To: Test Report; +Cc: dpdk-test-reports
Test-Label: iol-aarch64-compile-testing
Test-Status: SUCCESS
http://dpdk.org/patch/129672
_Testing PASS_
Submitter: Stephen Hemminger <stephen@networkplumber.org>
Date: Thursday, July 20 2023 17:45:58 
DPDK git baseline: Repo:dpdk
  Branch: master
  CommitID:035968c78e798aa6fb81ceb45d06a44412a00912
129672 --> testing pass
Test environment and result as below:
+----------------------------------------+--------------------+
|              Environment               | dpdk_meson_compile |
+========================================+====================+
| Ubuntu 20.04 ARM GCC Cross Compile     | PASS               |
+----------------------------------------+--------------------+
| Debian 11 (Buster) (ARM)               | PASS               |
+----------------------------------------+--------------------+
| Ubuntu 20.04 aarch32 GCC Cross Compile | PASS               |
+----------------------------------------+--------------------+
| CentOS Stream 9 (ARM)                  | PASS               |
+----------------------------------------+--------------------+
| Fedora 37 (ARM)                        | PASS               |
+----------------------------------------+--------------------+
| Fedora 38 (ARM)                        | PASS               |
+----------------------------------------+--------------------+
| Ubuntu 20.04 ARM SVE                   | PASS               |
+----------------------------------------+--------------------+
| Ubuntu 20.04 (ARM)                     | PASS               |
+----------------------------------------+--------------------+
| Ubuntu 20.04 ARM Clang Cross Compile   | PASS               |
+----------------------------------------+--------------------+
| Fedora 38 (ARM Clang)                  | PASS               |
+----------------------------------------+--------------------+
Ubuntu 20.04 ARM GCC Cross Compile
	Kernel: 5.4.0-72-generic
	Compiler: aarch64-linux-gnu-gcc (Ubuntu 9.3.0-17ubuntu1~20.04) 9.3.0
Debian 11 (Buster) (ARM)
	Kernel: Container Host Kernel
	Compiler: gcc 10.2.1
Ubuntu 20.04 aarch32 GCC Cross Compile
	Kernel: 5.4.0-72-generic
	Compiler: gcc 9.3.0
CentOS Stream 9 (ARM)
	Kernel: Container Host Kernel
	Compiler: gcc 11.3.1
Fedora 37 (ARM)
	Kernel: Depends on container host
	Compiler: gcc 12.3.1
Fedora 38 (ARM)
	Kernel: Depends on container host
	Compiler: gcc 13.1.1
Ubuntu 20.04 ARM SVE
	Kernel: 5.4.0-80-generic
	Compiler: gcc 10.3.0 (Ubuntu 10.3.0-1ubuntu1~20.04)
Ubuntu 20.04 (ARM)
	Kernel: Container Host Kernel
	Compiler: gcc 9.4.0
Ubuntu 20.04 ARM Clang Cross Compile
	Kernel: 5.4.0-72-generic
	Compiler: clang version 10.0.0-4ubuntu1
Fedora 38 (ARM Clang)
	Kernel: Depends on container host
	Compiler: clang 16.0.3
To view detailed results, visit:
https://lab.dpdk.org/results/dashboard/patchsets/27116/
UNH-IOL DPDK Community Lab
To manage your email subscriptions, visit: 
https://lab.dpdk.org/results/dashboard/preferences/subscriptions/
^ permalink raw reply	[flat|nested] 31+ messages in thread
* |SUCCESS| pw129672 [PATCH] [v2] tap: fix build of TAP BPF program
@ 2023-07-20 20:18 dpdklab
  0 siblings, 0 replies; 31+ messages in thread
From: dpdklab @ 2023-07-20 20:18 UTC (permalink / raw)
  To: Test Report; +Cc: dpdk-test-reports
Test-Label: iol-x86_64-compile-testing
Test-Status: SUCCESS
http://dpdk.org/patch/129672
_Testing PASS_
Submitter: Stephen Hemminger <stephen@networkplumber.org>
Date: Thursday, July 20 2023 17:45:58 
DPDK git baseline: Repo:dpdk
  Branch: master
  CommitID:035968c78e798aa6fb81ceb45d06a44412a00912
129672 --> testing pass
Test environment and result as below:
+---------------------+--------------------+----------------------+
|     Environment     | dpdk_meson_compile | dpdk_mingw64_compile |
+=====================+====================+======================+
| FreeBSD 13          | PASS               | SKIPPED              |
+---------------------+--------------------+----------------------+
| Debian Bullseye     | PASS               | SKIPPED              |
+---------------------+--------------------+----------------------+
| Fedora 37           | PASS               | SKIPPED              |
+---------------------+--------------------+----------------------+
| openSUSE Leap 15    | PASS               | SKIPPED              |
+---------------------+--------------------+----------------------+
| Fedora 38           | PASS               | SKIPPED              |
+---------------------+--------------------+----------------------+
| CentOS Stream 9     | PASS               | SKIPPED              |
+---------------------+--------------------+----------------------+
| RHEL 7              | PASS               | SKIPPED              |
+---------------------+--------------------+----------------------+
| Windows Server 2019 | PASS               | PASS                 |
+---------------------+--------------------+----------------------+
| CentOS Stream 8     | PASS               | SKIPPED              |
+---------------------+--------------------+----------------------+
| RHEL8               | PASS               | SKIPPED              |
+---------------------+--------------------+----------------------+
| Ubuntu 22.04        | PASS               | SKIPPED              |
+---------------------+--------------------+----------------------+
| Alpine              | PASS               | SKIPPED              |
+---------------------+--------------------+----------------------+
| Debian Buster       | PASS               | SKIPPED              |
+---------------------+--------------------+----------------------+
| Ubuntu 20.04        | PASS               | SKIPPED              |
+---------------------+--------------------+----------------------+
FreeBSD 13
	Kernel: 13.0
	Compiler: clang 11.0.1
Debian Bullseye
	Kernel: 5.4.0-122-generic
	Compiler: gcc 10.2.1-6
Fedora 37
	Kernel: Depends on container host system
	Compiler: gcc 12.3.1
openSUSE Leap 15
	Kernel: 4.18.0-240.10.1.el8_3.x86_64
	Compiler: gcc 7.5.0
Fedora 38
	Kernel: Depends on container host
	Compiler: gcc 13.1.1
CentOS Stream 9
	Kernel: 4.18.0-240.10.1.el8_3.x86_64
	Compiler: gcc 11.3.1 20220421
RHEL 7
	Kernel: 4.18.0-240.10.1.el8_3.x86_64
	Compiler: gcc 4.8.5 20150623 (Red Hat 4.8.5-44)
Windows Server 2019
	Kernel: 10.0
	Compiler: clang 14.0 and gcc 8.1.0 (MinGW)
CentOS Stream 8
	Kernel: 4.18.0-240.10.1.el8_3.x86_64
	Compiler: gcc 8.4.1 20200928
RHEL8
	Kernel: 4.18.0-240.10.1.el8_3.x86_64
	Compiler: gcc 8.3.1 20191121 (Red Hat 8.3.1-5)
Ubuntu 22.04
	Kernel: 4.18.0-240.10.1.el8_3.x86_64
	Compiler: gcc 11.3.0
Alpine
	Kernel: 5.4.0-73-generic
	Compiler: gcc (Alpine 10.3.1_git20210424) 10.3.1 20210424
Debian Buster
	Kernel: 5.4.0-122-generic
	Compiler: gcc 8.3.0-6
Ubuntu 20.04
	Kernel: 4.18.0-240.10.1.el8_3.x86_64
	Compiler: gcc 9.3.0-17ubuntu1~20.04
To view detailed results, visit:
https://lab.dpdk.org/results/dashboard/patchsets/27116/
UNH-IOL DPDK Community Lab
To manage your email subscriptions, visit: 
https://lab.dpdk.org/results/dashboard/preferences/subscriptions/
^ permalink raw reply	[flat|nested] 31+ messages in thread
* |SUCCESS| pw129672 [PATCH] [v2] tap: fix build of TAP BPF program
@ 2023-07-20 19:53 dpdklab
  0 siblings, 0 replies; 31+ messages in thread
From: dpdklab @ 2023-07-20 19:53 UTC (permalink / raw)
  To: Test Report; +Cc: dpdk-test-reports
Test-Label: iol-abi-testing
Test-Status: SUCCESS
http://dpdk.org/patch/129672
_Testing PASS_
Submitter: Stephen Hemminger <stephen@networkplumber.org>
Date: Thursday, July 20 2023 17:45:58 
DPDK git baseline: Repo:dpdk
  Branch: master
  CommitID:035968c78e798aa6fb81ceb45d06a44412a00912
129672 --> testing pass
Test environment and result as below:
+------------------+----------+
|   Environment    | abi_test |
+==================+==========+
| CentOS Stream 8  | PASS     |
+------------------+----------+
| RHEL8            | PASS     |
+------------------+----------+
| Debian Bullseye  | PASS     |
+------------------+----------+
| RHEL 7           | PASS     |
+------------------+----------+
| Fedora 37        | PASS     |
+------------------+----------+
| openSUSE Leap 15 | PASS     |
+------------------+----------+
| Fedora 38        | PASS     |
+------------------+----------+
| Debian Buster    | PASS     |
+------------------+----------+
| CentOS Stream 9  | PASS     |
+------------------+----------+
| Ubuntu 22.04     | PASS     |
+------------------+----------+
CentOS Stream 8
	Kernel: 4.18.0-240.10.1.el8_3.x86_64
	Compiler: gcc 8.4.1 20200928
RHEL8
	Kernel: 4.18.0-240.10.1.el8_3.x86_64
	Compiler: gcc 8.3.1 20191121 (Red Hat 8.3.1-5)
Debian Bullseye
	Kernel: 5.4.0-122-generic
	Compiler: gcc 10.2.1-6
RHEL 7
	Kernel: 4.18.0-240.10.1.el8_3.x86_64
	Compiler: gcc 4.8.5 20150623 (Red Hat 4.8.5-44)
Fedora 37
	Kernel: Depends on container host system
	Compiler: gcc 12.3.1
openSUSE Leap 15
	Kernel: 4.18.0-240.10.1.el8_3.x86_64
	Compiler: gcc 7.5.0
Fedora 38
	Kernel: Depends on container host
	Compiler: gcc 13.1.1
Debian Buster
	Kernel: 5.4.0-122-generic
	Compiler: gcc 8.3.0-6
CentOS Stream 9
	Kernel: 4.18.0-240.10.1.el8_3.x86_64
	Compiler: gcc 11.3.1 20220421
Ubuntu 22.04
	Kernel: 4.18.0-240.10.1.el8_3.x86_64
	Compiler: gcc 11.3.0
To view detailed results, visit:
https://lab.dpdk.org/results/dashboard/patchsets/27116/
UNH-IOL DPDK Community Lab
To manage your email subscriptions, visit: 
https://lab.dpdk.org/results/dashboard/preferences/subscriptions/
^ permalink raw reply	[flat|nested] 31+ messages in thread
* |SUCCESS| pw129672 [PATCH] [v2] tap: fix build of TAP BPF program
@ 2023-07-20 19:37 dpdklab
  0 siblings, 0 replies; 31+ messages in thread
From: dpdklab @ 2023-07-20 19:37 UTC (permalink / raw)
  To: Test Report; +Cc: dpdk-test-reports
Test-Label: iol-aarch-unit-testing
Test-Status: SUCCESS
http://dpdk.org/patch/129672
_Testing PASS_
Submitter: Stephen Hemminger <stephen@networkplumber.org>
Date: Thursday, July 20 2023 17:45:58 
DPDK git baseline: Repo:dpdk
  Branch: master
  CommitID:035968c78e798aa6fb81ceb45d06a44412a00912
129672 --> testing pass
Test environment and result as below:
+-----------------------------+------------------------------+---------------------------+----------------+--------------+
|         Environment         | cryptodev_sw_snow3g_autotest | cryptodev_sw_zuc_autotest | dpdk_unit_test | lpm_autotest |
+=============================+==============================+===========================+================+==============+
| Debian 11                   | PASS                         | PASS                      | SKIPPED        | SKIPPED      |
+-----------------------------+------------------------------+---------------------------+----------------+--------------+
| (32-bit) ARM Ubuntu 20.04.4 | SKIPPED                      | SKIPPED                   | PASS           | SKIPPED      |
+-----------------------------+------------------------------+---------------------------+----------------+--------------+
| Ubuntu 20.04 ARM SVE        | SKIPPED                      | SKIPPED                   | SKIPPED        | PASS         |
+-----------------------------+------------------------------+---------------------------+----------------+--------------+
Debian 11
	Kernel: Container Host Kernel
	Compiler: gcc 10.2.1
(32-bit) ARM Ubuntu 20.04.4
	Kernel: 5.4.0-148-generic aarch64
	Compiler: gcc 9.4
Ubuntu 20.04 ARM SVE
	Kernel: 5.4.0-80-generic
	Compiler: gcc 10.3.0 (Ubuntu 10.3.0-1ubuntu1~20.04)
To view detailed results, visit:
https://lab.dpdk.org/results/dashboard/patchsets/27116/
UNH-IOL DPDK Community Lab
To manage your email subscriptions, visit: 
https://lab.dpdk.org/results/dashboard/preferences/subscriptions/
^ permalink raw reply	[flat|nested] 31+ messages in thread
* |SUCCESS| pw129672 [PATCH] [v2] tap: fix build of TAP BPF program
@ 2023-07-20 19:18 dpdklab
  0 siblings, 0 replies; 31+ messages in thread
From: dpdklab @ 2023-07-20 19:18 UTC (permalink / raw)
  To: Test Report; +Cc: dpdk-test-reports
Test-Label: iol-intel-Functional
Test-Status: SUCCESS
http://dpdk.org/patch/129672
_Functional Testing PASS_
Submitter: Stephen Hemminger <stephen@networkplumber.org>
Date: Thursday, July 20 2023 17:45:58 
DPDK git baseline: Repo:dpdk
  Branch: master
  CommitID:035968c78e798aa6fb81ceb45d06a44412a00912
129672 --> functional testing pass
Test environment and result as below:
Ubuntu 20.04
Kernel: 4.15.0-generic
Compiler: gcc 7.4
NIC: Intel Corporation Ethernet Converged Network Adapter XL710-QDA2 40000 Mbps
Target: x86_64-native-linuxapp-gcc
Fail/Total: 0/4
Ubuntu 20.04
Kernel: 4.15.0-generic
Compiler: gcc 7.4
NIC: Intel Corporation Ethernet Converged Network Adapter 82599ES 10000 Mbps
Target: x86_64-native-linuxapp-gcc
Fail/Total: 0/4
Ubuntu 20.04 ARM
Kernel: 4.15.0-132-generic
Compiler: gcc 7.5
NIC: Arm Intel Corporation Ethernet Converged Network Adapter XL710-QDA2 40000 Mbps
Target: x86_64-native-linuxapp-gcc
Fail/Total: 0/2
To view detailed results, visit:
https://lab.dpdk.org/results/dashboard/patchsets/27116/
UNH-IOL DPDK Community Lab
To manage your email subscriptions, visit: 
https://lab.dpdk.org/results/dashboard/preferences/subscriptions/
^ permalink raw reply	[flat|nested] 31+ messages in thread
* |SUCCESS| pw129672 [PATCH] [v2] tap: fix build of TAP BPF program
@ 2023-07-20 19:17 dpdklab
  0 siblings, 0 replies; 31+ messages in thread
From: dpdklab @ 2023-07-20 19:17 UTC (permalink / raw)
  To: Test Report; +Cc: dpdk-test-reports
Test-Label: iol-x86_64-unit-testing
Test-Status: SUCCESS
http://dpdk.org/patch/129672
_Testing PASS_
Submitter: Stephen Hemminger <stephen@networkplumber.org>
Date: Thursday, July 20 2023 17:45:58 
DPDK git baseline: Repo:dpdk
  Branch: master
  CommitID:035968c78e798aa6fb81ceb45d06a44412a00912
129672 --> testing pass
Test environment and result as below:
+---------------------+----------------+
|     Environment     | dpdk_unit_test |
+=====================+================+
| Windows Server 2019 | PASS           |
+---------------------+----------------+
Windows Server 2019
	Kernel: 10.0
	Compiler: clang 14.0 and gcc 8.1.0 (MinGW)
To view detailed results, visit:
https://lab.dpdk.org/results/dashboard/patchsets/27116/
UNH-IOL DPDK Community Lab
To manage your email subscriptions, visit: 
https://lab.dpdk.org/results/dashboard/preferences/subscriptions/
^ permalink raw reply	[flat|nested] 31+ messages in thread
* |SUCCESS| pw129672 [PATCH] [v2] tap: fix build of TAP BPF program
@ 2023-07-20 19:07 dpdklab
  0 siblings, 0 replies; 31+ messages in thread
From: dpdklab @ 2023-07-20 19:07 UTC (permalink / raw)
  To: Test Report; +Cc: dpdk-test-reports
Test-Label: iol-abi-testing
Test-Status: SUCCESS
http://dpdk.org/patch/129672
_Testing PASS_
Submitter: Stephen Hemminger <stephen@networkplumber.org>
Date: Thursday, July 20 2023 17:45:58 
DPDK git baseline: Repo:dpdk
  Branch: master
  CommitID:035968c78e798aa6fb81ceb45d06a44412a00912
129672 --> testing pass
Test environment and result as below:
+------------------+----------+
|   Environment    | abi_test |
+==================+==========+
| CentOS Stream 8  | PASS     |
+------------------+----------+
| RHEL8            | PASS     |
+------------------+----------+
| Debian Bullseye  | PASS     |
+------------------+----------+
| RHEL 7           | PASS     |
+------------------+----------+
| Fedora 37        | PASS     |
+------------------+----------+
| openSUSE Leap 15 | PASS     |
+------------------+----------+
| Fedora 38        | PASS     |
+------------------+----------+
| Debian Buster    | PASS     |
+------------------+----------+
| CentOS Stream 9  | PASS     |
+------------------+----------+
CentOS Stream 8
	Kernel: 4.18.0-240.10.1.el8_3.x86_64
	Compiler: gcc 8.4.1 20200928
RHEL8
	Kernel: 4.18.0-240.10.1.el8_3.x86_64
	Compiler: gcc 8.3.1 20191121 (Red Hat 8.3.1-5)
Debian Bullseye
	Kernel: 5.4.0-122-generic
	Compiler: gcc 10.2.1-6
RHEL 7
	Kernel: 4.18.0-240.10.1.el8_3.x86_64
	Compiler: gcc 4.8.5 20150623 (Red Hat 4.8.5-44)
Fedora 37
	Kernel: Depends on container host system
	Compiler: gcc 12.3.1
openSUSE Leap 15
	Kernel: 4.18.0-240.10.1.el8_3.x86_64
	Compiler: gcc 7.5.0
Fedora 38
	Kernel: Depends on container host
	Compiler: gcc 13.1.1
Debian Buster
	Kernel: 5.4.0-122-generic
	Compiler: gcc 8.3.0-6
CentOS Stream 9
	Kernel: 4.18.0-240.10.1.el8_3.x86_64
	Compiler: gcc 11.3.1 20220421
To view detailed results, visit:
https://lab.dpdk.org/results/dashboard/patchsets/27116/
UNH-IOL DPDK Community Lab
To manage your email subscriptions, visit: 
https://lab.dpdk.org/results/dashboard/preferences/subscriptions/
^ permalink raw reply	[flat|nested] 31+ messages in thread
* |SUCCESS| pw129672 [PATCH] [v2] tap: fix build of TAP BPF program
@ 2023-07-20 19:07 dpdklab
  0 siblings, 0 replies; 31+ messages in thread
From: dpdklab @ 2023-07-20 19:07 UTC (permalink / raw)
  To: Test Report; +Cc: dpdk-test-reports
Test-Label: iol-intel-Performance
Test-Status: SUCCESS
http://dpdk.org/patch/129672
_Performance Testing PASS_
Submitter: Stephen Hemminger <stephen@networkplumber.org>
Date: Thursday, July 20 2023 17:45:58 
DPDK git baseline: Repo:dpdk
  Branch: master
  CommitID:035968c78e798aa6fb81ceb45d06a44412a00912
129672 --> performance testing pass
Test environment and result as below:
Ubuntu 20.04 ARM
Kernel: 4.15.0-132-generic
Compiler: gcc 7.5
NIC: Arm Intel Corporation Ethernet Converged Network Adapter XL710-QDA2 40000 Mbps
Target: x86_64-native-linuxapp-gcc
Fail/Total: 0/2
Detail performance results: 
+------------+---------+----------+-------------+------------------------------+
| frame_size | txd/rxd | num_cpus | num_threads |  throughput difference from  |
|            |         |          |             |           expected           |
+============+=========+==========+=============+==============================+
| 64         | 512     | 1        | 1           | 0.1%                         |
+------------+---------+----------+-------------+------------------------------+
| 64         | 2048    | 1        | 1           | 0.1%                         |
+------------+---------+----------+-------------+------------------------------+
Ubuntu 20.04
Kernel: 4.15.0-generic
Compiler: gcc 7.4
NIC: Intel Corporation Ethernet Converged Network Adapter 82599ES 10000 Mbps
Target: x86_64-native-linuxapp-gcc
Fail/Total: 0/6
Detail performance results: 
+----------+-------------+---------+------------+------------------------------+
| num_cpus | num_threads | txd/rxd | frame_size |  throughput difference from  |
|          |             |         |            |           expected           |
+==========+=============+=========+============+==============================+
| 1        | 2           | 128     | 64         | 0.0%                         |
+----------+-------------+---------+------------+------------------------------+
| 1        | 2           | 512     | 64         | 0.0%                         |
+----------+-------------+---------+------------+------------------------------+
| 1        | 2           | 2048    | 64         | -0.4%                        |
+----------+-------------+---------+------------+------------------------------+
| 1        | 1           | 128     | 64         | -0.0%                        |
+----------+-------------+---------+------------+------------------------------+
| 1        | 1           | 512     | 64         | 0.1%                         |
+----------+-------------+---------+------------+------------------------------+
| 1        | 1           | 2048    | 64         | -0.2%                        |
+----------+-------------+---------+------------+------------------------------+
To view detailed results, visit:
https://lab.dpdk.org/results/dashboard/patchsets/27116/
UNH-IOL DPDK Community Lab
To manage your email subscriptions, visit: 
https://lab.dpdk.org/results/dashboard/preferences/subscriptions/
^ permalink raw reply	[flat|nested] 31+ messages in thread
* |SUCCESS| pw129672 [PATCH] [v2] tap: fix build of TAP BPF program
@ 2023-07-20 19:00 dpdklab
  0 siblings, 0 replies; 31+ messages in thread
From: dpdklab @ 2023-07-20 19:00 UTC (permalink / raw)
  To: Test Report; +Cc: dpdk-test-reports
Test-Label: iol-abi-testing
Test-Status: SUCCESS
http://dpdk.org/patch/129672
_Testing PASS_
Submitter: Stephen Hemminger <stephen@networkplumber.org>
Date: Thursday, July 20 2023 17:45:58 
DPDK git baseline: Repo:dpdk
  Branch: master
  CommitID:035968c78e798aa6fb81ceb45d06a44412a00912
129672 --> testing pass
Test environment and result as below:
+------------------+----------+
|   Environment    | abi_test |
+==================+==========+
| CentOS Stream 8  | PASS     |
+------------------+----------+
| RHEL8            | PASS     |
+------------------+----------+
| Debian Bullseye  | PASS     |
+------------------+----------+
| RHEL 7           | PASS     |
+------------------+----------+
| Fedora 37        | PASS     |
+------------------+----------+
| openSUSE Leap 15 | PASS     |
+------------------+----------+
| Fedora 38        | PASS     |
+------------------+----------+
| Debian Buster    | PASS     |
+------------------+----------+
| CentOS Stream 9  | PASS     |
+------------------+----------+
CentOS Stream 8
	Kernel: 4.18.0-240.10.1.el8_3.x86_64
	Compiler: gcc 8.4.1 20200928
RHEL8
	Kernel: 4.18.0-240.10.1.el8_3.x86_64
	Compiler: gcc 8.3.1 20191121 (Red Hat 8.3.1-5)
Debian Bullseye
	Kernel: 5.4.0-122-generic
	Compiler: gcc 10.2.1-6
RHEL 7
	Kernel: 4.18.0-240.10.1.el8_3.x86_64
	Compiler: gcc 4.8.5 20150623 (Red Hat 4.8.5-44)
Fedora 37
	Kernel: Depends on container host system
	Compiler: gcc 12.3.1
openSUSE Leap 15
	Kernel: 4.18.0-240.10.1.el8_3.x86_64
	Compiler: gcc 7.5.0
Fedora 38
	Kernel: Depends on container host
	Compiler: gcc 13.1.1
Debian Buster
	Kernel: 5.4.0-122-generic
	Compiler: gcc 8.3.0-6
CentOS Stream 9
	Kernel: 4.18.0-240.10.1.el8_3.x86_64
	Compiler: gcc 11.3.1 20220421
To view detailed results, visit:
https://lab.dpdk.org/results/dashboard/patchsets/27116/
UNH-IOL DPDK Community Lab
To manage your email subscriptions, visit: 
https://lab.dpdk.org/results/dashboard/preferences/subscriptions/
^ permalink raw reply	[flat|nested] 31+ messages in thread
* |SUCCESS| pw129672 [PATCH] [v2] tap: fix build of TAP BPF program
@ 2023-07-20 18:52 dpdklab
  0 siblings, 0 replies; 31+ messages in thread
From: dpdklab @ 2023-07-20 18:52 UTC (permalink / raw)
  To: Test Report; +Cc: Stephen Hemminger
Test-Label: iol-abi-testing
Test-Status: SUCCESS
http://dpdk.org/patch/129672
_Testing PASS_
Submitter: Stephen Hemminger <stephen@networkplumber.org>
Date: Thursday, July 20 2023 17:45:58 
DPDK git baseline: Repo:dpdk
  Branch: master
  CommitID:035968c78e798aa6fb81ceb45d06a44412a00912
129672 --> testing pass
Test environment and result as below:
+------------------+----------+
|   Environment    | abi_test |
+==================+==========+
| CentOS Stream 8  | PASS     |
+------------------+----------+
| RHEL8            | PASS     |
+------------------+----------+
| Debian Bullseye  | PASS     |
+------------------+----------+
| RHEL 7           | PASS     |
+------------------+----------+
| Fedora 37        | PASS     |
+------------------+----------+
| openSUSE Leap 15 | PASS     |
+------------------+----------+
| Fedora 38        | PASS     |
+------------------+----------+
| Debian Buster    | PASS     |
+------------------+----------+
CentOS Stream 8
	Kernel: 4.18.0-240.10.1.el8_3.x86_64
	Compiler: gcc 8.4.1 20200928
RHEL8
	Kernel: 4.18.0-240.10.1.el8_3.x86_64
	Compiler: gcc 8.3.1 20191121 (Red Hat 8.3.1-5)
Debian Bullseye
	Kernel: 5.4.0-122-generic
	Compiler: gcc 10.2.1-6
RHEL 7
	Kernel: 4.18.0-240.10.1.el8_3.x86_64
	Compiler: gcc 4.8.5 20150623 (Red Hat 4.8.5-44)
Fedora 37
	Kernel: Depends on container host system
	Compiler: gcc 12.3.1
openSUSE Leap 15
	Kernel: 4.18.0-240.10.1.el8_3.x86_64
	Compiler: gcc 7.5.0
Fedora 38
	Kernel: Depends on container host
	Compiler: gcc 13.1.1
Debian Buster
	Kernel: 5.4.0-122-generic
	Compiler: gcc 8.3.0-6
To view detailed results, visit:
https://lab.dpdk.org/results/dashboard/patchsets/27116/
UNH-IOL DPDK Community Lab
To manage your email subscriptions, visit: 
https://lab.dpdk.org/results/dashboard/preferences/subscriptions/
^ permalink raw reply	[flat|nested] 31+ messages in thread
* |SUCCESS| pw129672 [PATCH] [v2] tap: fix build of TAP BPF program
@ 2023-07-20 18:51 dpdklab
  0 siblings, 0 replies; 31+ messages in thread
From: dpdklab @ 2023-07-20 18:51 UTC (permalink / raw)
  To: Test Report; +Cc: dpdk-test-reports
Test-Label: iol-broadcom-Functional
Test-Status: SUCCESS
http://dpdk.org/patch/129672
_Functional Testing PASS_
Submitter: Stephen Hemminger <stephen@networkplumber.org>
Date: Thursday, July 20 2023 17:45:58 
DPDK git baseline: Repo:dpdk
  Branch: master
  CommitID:035968c78e798aa6fb81ceb45d06a44412a00912
129672 --> functional testing pass
Test environment and result as below:
Ubuntu 22.04
Kernel: 5.15.0-58-generic x86_64
Compiler: gcc gcc (Ubuntu 11.2.0-19ubuntu1) 11.2.0
NIC: Broadcom Inc. and subsidiaries BCM957508-P2100G Dual-Port 100 Gb/s QSFP56 100 Mbps
Target: x86_64-native-linuxapp-gcc
Fail/Total: 0/2
To view detailed results, visit:
https://lab.dpdk.org/results/dashboard/patchsets/27116/
UNH-IOL DPDK Community Lab
To manage your email subscriptions, visit: 
https://lab.dpdk.org/results/dashboard/preferences/subscriptions/
^ permalink raw reply	[flat|nested] 31+ messages in thread
* |SUCCESS| pw129672 [PATCH] [v2] tap: fix build of TAP BPF program
@ 2023-07-20 18:50 dpdklab
  0 siblings, 0 replies; 31+ messages in thread
From: dpdklab @ 2023-07-20 18:50 UTC (permalink / raw)
  To: Test Report; +Cc: dpdk-test-reports
Test-Label: iol-abi-testing
Test-Status: SUCCESS
http://dpdk.org/patch/129672
_Testing PASS_
Submitter: Stephen Hemminger <stephen@networkplumber.org>
Date: Thursday, July 20 2023 17:45:58 
DPDK git baseline: Repo:dpdk
  Branch: master
  CommitID:035968c78e798aa6fb81ceb45d06a44412a00912
129672 --> testing pass
Test environment and result as below:
+------------------+----------+
|   Environment    | abi_test |
+==================+==========+
| CentOS Stream 8  | PASS     |
+------------------+----------+
| RHEL8            | PASS     |
+------------------+----------+
| Debian Bullseye  | PASS     |
+------------------+----------+
| RHEL 7           | PASS     |
+------------------+----------+
| Fedora 37        | PASS     |
+------------------+----------+
| openSUSE Leap 15 | PASS     |
+------------------+----------+
| Fedora 38        | PASS     |
+------------------+----------+
CentOS Stream 8
	Kernel: 4.18.0-240.10.1.el8_3.x86_64
	Compiler: gcc 8.4.1 20200928
RHEL8
	Kernel: 4.18.0-240.10.1.el8_3.x86_64
	Compiler: gcc 8.3.1 20191121 (Red Hat 8.3.1-5)
Debian Bullseye
	Kernel: 5.4.0-122-generic
	Compiler: gcc 10.2.1-6
RHEL 7
	Kernel: 4.18.0-240.10.1.el8_3.x86_64
	Compiler: gcc 4.8.5 20150623 (Red Hat 4.8.5-44)
Fedora 37
	Kernel: Depends on container host system
	Compiler: gcc 12.3.1
openSUSE Leap 15
	Kernel: 4.18.0-240.10.1.el8_3.x86_64
	Compiler: gcc 7.5.0
Fedora 38
	Kernel: Depends on container host
	Compiler: gcc 13.1.1
To view detailed results, visit:
https://lab.dpdk.org/results/dashboard/patchsets/27116/
UNH-IOL DPDK Community Lab
To manage your email subscriptions, visit: 
https://lab.dpdk.org/results/dashboard/preferences/subscriptions/
^ permalink raw reply	[flat|nested] 31+ messages in thread
* |SUCCESS| pw129672 [PATCH] [v2] tap: fix build of TAP BPF program
@ 2023-07-20 18:50 dpdklab
  0 siblings, 0 replies; 31+ messages in thread
From: dpdklab @ 2023-07-20 18:50 UTC (permalink / raw)
  To: Test Report; +Cc: dpdk-test-reports
Test-Label: iol-abi-testing
Test-Status: SUCCESS
http://dpdk.org/patch/129672
_Testing PASS_
Submitter: Stephen Hemminger <stephen@networkplumber.org>
Date: Thursday, July 20 2023 17:45:58 
DPDK git baseline: Repo:dpdk
  Branch: master
  CommitID:035968c78e798aa6fb81ceb45d06a44412a00912
129672 --> testing pass
Test environment and result as below:
+------------------+----------+
|   Environment    | abi_test |
+==================+==========+
| CentOS Stream 8  | PASS     |
+------------------+----------+
| RHEL8            | PASS     |
+------------------+----------+
| Debian Bullseye  | PASS     |
+------------------+----------+
| RHEL 7           | PASS     |
+------------------+----------+
| Fedora 37        | PASS     |
+------------------+----------+
| openSUSE Leap 15 | PASS     |
+------------------+----------+
| Fedora 38        | PASS     |
+------------------+----------+
CentOS Stream 8
	Kernel: 4.18.0-240.10.1.el8_3.x86_64
	Compiler: gcc 8.4.1 20200928
RHEL8
	Kernel: 4.18.0-240.10.1.el8_3.x86_64
	Compiler: gcc 8.3.1 20191121 (Red Hat 8.3.1-5)
Debian Bullseye
	Kernel: 5.4.0-122-generic
	Compiler: gcc 10.2.1-6
RHEL 7
	Kernel: 4.18.0-240.10.1.el8_3.x86_64
	Compiler: gcc 4.8.5 20150623 (Red Hat 4.8.5-44)
Fedora 37
	Kernel: Depends on container host system
	Compiler: gcc 12.3.1
openSUSE Leap 15
	Kernel: 4.18.0-240.10.1.el8_3.x86_64
	Compiler: gcc 7.5.0
Fedora 38
	Kernel: Depends on container host
	Compiler: gcc 13.1.1
To view detailed results, visit:
https://lab.dpdk.org/results/dashboard/patchsets/27116/
UNH-IOL DPDK Community Lab
To manage your email subscriptions, visit: 
https://lab.dpdk.org/results/dashboard/preferences/subscriptions/
^ permalink raw reply	[flat|nested] 31+ messages in thread
* |SUCCESS| pw129672 [PATCH] [v2] tap: fix build of TAP BPF program
@ 2023-07-20 18:48 dpdklab
  0 siblings, 0 replies; 31+ messages in thread
From: dpdklab @ 2023-07-20 18:48 UTC (permalink / raw)
  To: Test Report; +Cc: dpdk-test-reports
Test-Label: iol-intel-Functional
Test-Status: SUCCESS
http://dpdk.org/patch/129672
_Functional Testing PASS_
Submitter: Stephen Hemminger <stephen@networkplumber.org>
Date: Thursday, July 20 2023 17:45:58 
DPDK git baseline: Repo:dpdk
  Branch: master
  CommitID:035968c78e798aa6fb81ceb45d06a44412a00912
129672 --> functional testing pass
Test environment and result as below:
Ubuntu 20.04
Kernel: 4.15.0-generic
Compiler: gcc 7.4
NIC: Intel Corporation Ethernet Converged Network Adapter XL710-QDA2 40000 Mbps
Target: x86_64-native-linuxapp-gcc
Fail/Total: 0/4
Ubuntu 20.04 ARM
Kernel: 4.15.0-132-generic
Compiler: gcc 7.5
NIC: Arm Intel Corporation Ethernet Converged Network Adapter XL710-QDA2 40000 Mbps
Target: x86_64-native-linuxapp-gcc
Fail/Total: 0/2
To view detailed results, visit:
https://lab.dpdk.org/results/dashboard/patchsets/27116/
UNH-IOL DPDK Community Lab
To manage your email subscriptions, visit: 
https://lab.dpdk.org/results/dashboard/preferences/subscriptions/
^ permalink raw reply	[flat|nested] 31+ messages in thread
* |SUCCESS| pw129672 [PATCH] [v2] tap: fix build of TAP BPF program
@ 2023-07-20 18:46 dpdklab
  0 siblings, 0 replies; 31+ messages in thread
From: dpdklab @ 2023-07-20 18:46 UTC (permalink / raw)
  To: Ali Alnubani, Test Report; +Cc: dpdk-test-reports
Test-Label: iol-mellanox-Performance
Test-Status: SUCCESS
http://dpdk.org/patch/129672
_Performance Testing PASS_
Submitter: Stephen Hemminger <stephen@networkplumber.org>
Date: Thursday, July 20 2023 17:45:58 
DPDK git baseline: Repo:dpdk
  Branch: master
  CommitID:035968c78e798aa6fb81ceb45d06a44412a00912
129672 --> performance testing pass
Test environment and result as below:
Ubuntu 18.04
Kernel: 4.15.0-166-generic
Compiler: gcc 7.5.0
NIC: Mellanox ConnectX-5 100000 Mbps
Target: x86_64-native-linuxapp-gcc
Fail/Total: 0/6
Detail performance results: 
+------------+---------+----------+-------------+------------------------------+
| frame_size | txd/rxd | num_cpus | num_threads |  throughput difference from  |
|            |         |          |             |           expected           |
+============+=========+==========+=============+==============================+
| 64         | 256     | 1        | 1           | -0.1%                        |
+------------+---------+----------+-------------+------------------------------+
| 128        | 256     | 1        | 1           | -0.1%                        |
+------------+---------+----------+-------------+------------------------------+
| 1024       | 256     | 1        | 1           | 0.0%                         |
+------------+---------+----------+-------------+------------------------------+
| 256        | 256     | 1        | 1           | -0.1%                        |
+------------+---------+----------+-------------+------------------------------+
| 1518       | 256     | 1        | 1           | 0.0%                         |
+------------+---------+----------+-------------+------------------------------+
| 512        | 256     | 1        | 1           | -0.4%                        |
+------------+---------+----------+-------------+------------------------------+
To view detailed results, visit:
https://lab.dpdk.org/results/dashboard/patchsets/27116/
UNH-IOL DPDK Community Lab
To manage your email subscriptions, visit: 
https://lab.dpdk.org/results/dashboard/preferences/subscriptions/
^ permalink raw reply	[flat|nested] 31+ messages in thread
* |SUCCESS| pw129672 [PATCH] [v2] tap: fix build of TAP BPF program
@ 2023-07-20 18:45 dpdklab
  0 siblings, 0 replies; 31+ messages in thread
From: dpdklab @ 2023-07-20 18:45 UTC (permalink / raw)
  To: Test Report; +Cc: dpdk-test-reports
Test-Label: iol-broadcom-Performance
Test-Status: SUCCESS
http://dpdk.org/patch/129672
_Performance Testing PASS_
Submitter: Stephen Hemminger <stephen@networkplumber.org>
Date: Thursday, July 20 2023 17:45:58 
DPDK git baseline: Repo:dpdk
  Branch: master
  CommitID:035968c78e798aa6fb81ceb45d06a44412a00912
129672 --> performance testing pass
Test environment and result as below:
Ubuntu 22.04
Kernel: 5.15.0-39-generic
Compiler: gcc gcc (Ubuntu 11.2.0-19ubuntu1) 11.2.0
NIC: Broadcom Inc. and subsidiaries BCM57414 NetXtreme-E 10Gb/25Gb RDMA Ethernet Controller 16d7 25 Mbps
Target: x86_64-native-linuxapp-gcc
Fail/Total: 0/3
Detail performance results: 
+------------+---------+----------+-------------+------------------------------+
| frame_size | txd/rxd | num_cpus | num_threads |  throughput difference from  |
|            |         |          |             |           expected           |
+============+=========+==========+=============+==============================+
| 64         | 128     | 1        | 1           | 0.3%                         |
+------------+---------+----------+-------------+------------------------------+
| 64         | 512     | 1        | 1           | 0.1%                         |
+------------+---------+----------+-------------+------------------------------+
| 64         | 2048    | 1        | 1           | -0.0%                        |
+------------+---------+----------+-------------+------------------------------+
To view detailed results, visit:
https://lab.dpdk.org/results/dashboard/patchsets/27116/
UNH-IOL DPDK Community Lab
To manage your email subscriptions, visit: 
https://lab.dpdk.org/results/dashboard/preferences/subscriptions/
^ permalink raw reply	[flat|nested] 31+ messages in thread
* |SUCCESS| pw129672 [PATCH] [v2] tap: fix build of TAP BPF program
@ 2023-07-20 18:42 dpdklab
  0 siblings, 0 replies; 31+ messages in thread
From: dpdklab @ 2023-07-20 18:42 UTC (permalink / raw)
  To: Test Report; +Cc: dpdk-test-reports
Test-Label: iol-abi-testing
Test-Status: SUCCESS
http://dpdk.org/patch/129672
_Testing PASS_
Submitter: Stephen Hemminger <stephen@networkplumber.org>
Date: Thursday, July 20 2023 17:45:58 
DPDK git baseline: Repo:dpdk
  Branch: master
  CommitID:035968c78e798aa6fb81ceb45d06a44412a00912
129672 --> testing pass
Test environment and result as below:
+-----------------+----------+
|   Environment   | abi_test |
+=================+==========+
| CentOS Stream 8 | PASS     |
+-----------------+----------+
| RHEL8           | PASS     |
+-----------------+----------+
| Debian Bullseye | PASS     |
+-----------------+----------+
| RHEL 7          | PASS     |
+-----------------+----------+
CentOS Stream 8
	Kernel: 4.18.0-240.10.1.el8_3.x86_64
	Compiler: gcc 8.4.1 20200928
RHEL8
	Kernel: 4.18.0-240.10.1.el8_3.x86_64
	Compiler: gcc 8.3.1 20191121 (Red Hat 8.3.1-5)
Debian Bullseye
	Kernel: 5.4.0-122-generic
	Compiler: gcc 10.2.1-6
RHEL 7
	Kernel: 4.18.0-240.10.1.el8_3.x86_64
	Compiler: gcc 4.8.5 20150623 (Red Hat 4.8.5-44)
To view detailed results, visit:
https://lab.dpdk.org/results/dashboard/patchsets/27116/
UNH-IOL DPDK Community Lab
To manage your email subscriptions, visit: 
https://lab.dpdk.org/results/dashboard/preferences/subscriptions/
^ permalink raw reply	[flat|nested] 31+ messages in thread
* |SUCCESS| pw129672 [PATCH] [v2] tap: fix build of TAP BPF program
@ 2023-07-20 18:42 dpdklab
  0 siblings, 0 replies; 31+ messages in thread
From: dpdklab @ 2023-07-20 18:42 UTC (permalink / raw)
  To: Test Report; +Cc: dpdk-test-reports
Test-Label: iol-intel-Functional
Test-Status: SUCCESS
http://dpdk.org/patch/129672
_Functional Testing PASS_
Submitter: Stephen Hemminger <stephen@networkplumber.org>
Date: Thursday, July 20 2023 17:45:58 
DPDK git baseline: Repo:dpdk
  Branch: master
  CommitID:035968c78e798aa6fb81ceb45d06a44412a00912
129672 --> functional testing pass
Test environment and result as below:
Ubuntu 20.04
Kernel: 4.15.0-generic
Compiler: gcc 7.4
NIC: Intel Corporation Ethernet Converged Network Adapter XL710-QDA2 40000 Mbps
Target: x86_64-native-linuxapp-gcc
Fail/Total: 0/4
To view detailed results, visit:
https://lab.dpdk.org/results/dashboard/patchsets/27116/
UNH-IOL DPDK Community Lab
To manage your email subscriptions, visit: 
https://lab.dpdk.org/results/dashboard/preferences/subscriptions/
^ permalink raw reply	[flat|nested] 31+ messages in thread
* |SUCCESS| pw129672 [PATCH] [v2] tap: fix build of TAP BPF program
@ 2023-07-20 18:42 dpdklab
  0 siblings, 0 replies; 31+ messages in thread
From: dpdklab @ 2023-07-20 18:42 UTC (permalink / raw)
  To: Test Report; +Cc: dpdk-test-reports
Test-Label: iol-intel-Performance
Test-Status: SUCCESS
http://dpdk.org/patch/129672
_Performance Testing PASS_
Submitter: Stephen Hemminger <stephen@networkplumber.org>
Date: Thursday, July 20 2023 17:45:58 
DPDK git baseline: Repo:dpdk
  Branch: master
  CommitID:035968c78e798aa6fb81ceb45d06a44412a00912
129672 --> performance testing pass
Test environment and result as below:
Ubuntu 20.04 ARM
Kernel: 4.15.0-132-generic
Compiler: gcc 7.5
NIC: Arm Intel Corporation Ethernet Converged Network Adapter XL710-QDA2 40000 Mbps
Target: x86_64-native-linuxapp-gcc
Fail/Total: 0/2
Detail performance results: 
+------------+---------+----------+-------------+------------------------------+
| frame_size | txd/rxd | num_cpus | num_threads |  throughput difference from  |
|            |         |          |             |           expected           |
+============+=========+==========+=============+==============================+
| 64         | 512     | 1        | 1           | 0.1%                         |
+------------+---------+----------+-------------+------------------------------+
| 64         | 2048    | 1        | 1           | 0.1%                         |
+------------+---------+----------+-------------+------------------------------+
To view detailed results, visit:
https://lab.dpdk.org/results/dashboard/patchsets/27116/
UNH-IOL DPDK Community Lab
To manage your email subscriptions, visit: 
https://lab.dpdk.org/results/dashboard/preferences/subscriptions/
^ permalink raw reply	[flat|nested] 31+ messages in thread
* |SUCCESS| pw129672 [PATCH] [v2] tap: fix build of TAP BPF program
@ 2023-07-20 18:40 dpdklab
  0 siblings, 0 replies; 31+ messages in thread
From: dpdklab @ 2023-07-20 18:40 UTC (permalink / raw)
  To: Test Report; +Cc: Stephen Hemminger
Test-Label: iol-abi-testing
Test-Status: SUCCESS
http://dpdk.org/patch/129672
_Testing PASS_
Submitter: Stephen Hemminger <stephen@networkplumber.org>
Date: Thursday, July 20 2023 17:45:58 
DPDK git baseline: Repo:dpdk
  Branch: master
  CommitID:035968c78e798aa6fb81ceb45d06a44412a00912
129672 --> testing pass
Test environment and result as below:
+-----------------+----------+
|   Environment   | abi_test |
+=================+==========+
| CentOS Stream 8 | PASS     |
+-----------------+----------+
| RHEL8           | PASS     |
+-----------------+----------+
| Debian Bullseye | PASS     |
+-----------------+----------+
CentOS Stream 8
	Kernel: 4.18.0-240.10.1.el8_3.x86_64
	Compiler: gcc 8.4.1 20200928
RHEL8
	Kernel: 4.18.0-240.10.1.el8_3.x86_64
	Compiler: gcc 8.3.1 20191121 (Red Hat 8.3.1-5)
Debian Bullseye
	Kernel: 5.4.0-122-generic
	Compiler: gcc 10.2.1-6
To view detailed results, visit:
https://lab.dpdk.org/results/dashboard/patchsets/27116/
UNH-IOL DPDK Community Lab
To manage your email subscriptions, visit: 
https://lab.dpdk.org/results/dashboard/preferences/subscriptions/
^ permalink raw reply	[flat|nested] 31+ messages in thread
* |SUCCESS| pw129672 [PATCH] [v2] tap: fix build of TAP BPF program
@ 2023-07-20 18:40 dpdklab
  0 siblings, 0 replies; 31+ messages in thread
From: dpdklab @ 2023-07-20 18:40 UTC (permalink / raw)
  To: Test Report; +Cc: Stephen Hemminger
Test-Label: iol-abi-testing
Test-Status: SUCCESS
http://dpdk.org/patch/129672
_Testing PASS_
Submitter: Stephen Hemminger <stephen@networkplumber.org>
Date: Thursday, July 20 2023 17:45:58 
DPDK git baseline: Repo:dpdk
  Branch: master
  CommitID:035968c78e798aa6fb81ceb45d06a44412a00912
129672 --> testing pass
Test environment and result as below:
+-----------------+----------+
|   Environment   | abi_test |
+=================+==========+
| CentOS Stream 8 | PASS     |
+-----------------+----------+
| RHEL8           | PASS     |
+-----------------+----------+
| Debian Bullseye | PASS     |
+-----------------+----------+
CentOS Stream 8
	Kernel: 4.18.0-240.10.1.el8_3.x86_64
	Compiler: gcc 8.4.1 20200928
RHEL8
	Kernel: 4.18.0-240.10.1.el8_3.x86_64
	Compiler: gcc 8.3.1 20191121 (Red Hat 8.3.1-5)
Debian Bullseye
	Kernel: 5.4.0-122-generic
	Compiler: gcc 10.2.1-6
To view detailed results, visit:
https://lab.dpdk.org/results/dashboard/patchsets/27116/
UNH-IOL DPDK Community Lab
To manage your email subscriptions, visit: 
https://lab.dpdk.org/results/dashboard/preferences/subscriptions/
^ permalink raw reply	[flat|nested] 31+ messages in thread
* |SUCCESS| pw129672 [PATCH] [v2] tap: fix build of TAP BPF program
@ 2023-07-20 18:37 dpdklab
  0 siblings, 0 replies; 31+ messages in thread
From: dpdklab @ 2023-07-20 18:37 UTC (permalink / raw)
  To: Test Report; +Cc: dpdk-test-reports
Test-Label: iol-abi-testing
Test-Status: SUCCESS
http://dpdk.org/patch/129672
_Testing PASS_
Submitter: Stephen Hemminger <stephen@networkplumber.org>
Date: Thursday, July 20 2023 17:45:58 
DPDK git baseline: Repo:dpdk
  Branch: master
  CommitID:035968c78e798aa6fb81ceb45d06a44412a00912
129672 --> testing pass
Test environment and result as below:
+-----------------+----------+
|   Environment   | abi_test |
+=================+==========+
| CentOS Stream 8 | PASS     |
+-----------------+----------+
CentOS Stream 8
	Kernel: 4.18.0-240.10.1.el8_3.x86_64
	Compiler: gcc 8.4.1 20200928
To view detailed results, visit:
https://lab.dpdk.org/results/dashboard/patchsets/27116/
UNH-IOL DPDK Community Lab
To manage your email subscriptions, visit: 
https://lab.dpdk.org/results/dashboard/preferences/subscriptions/
^ permalink raw reply	[flat|nested] 31+ messages in thread
end of thread, other threads:[~2023-07-21  0:34 UTC | newest]
Thread overview: 31+ messages (download: mbox.gz / follow: Atom feed)
-- links below jump to the message on this page --
     [not found] <20230720174558.10265-1-stephen@networkplumber.org>
2023-07-20 17:33 ` |SUCCESS| pw129672 [PATCH v2 ] tap: fix build of TAP BPF program qemudev
2023-07-20 17:37 ` qemudev
2023-07-20 17:47 ` |WARNING| " checkpatch
2023-07-20 18:38 ` |SUCCESS| " 0-day Robot
2023-07-20 18:37 |SUCCESS| pw129672 [PATCH] [v2] " dpdklab
2023-07-20 18:40 dpdklab
2023-07-20 18:40 dpdklab
2023-07-20 18:42 dpdklab
2023-07-20 18:42 dpdklab
2023-07-20 18:42 dpdklab
2023-07-20 18:45 dpdklab
2023-07-20 18:46 dpdklab
2023-07-20 18:48 dpdklab
2023-07-20 18:50 dpdklab
2023-07-20 18:50 dpdklab
2023-07-20 18:51 dpdklab
2023-07-20 18:52 dpdklab
2023-07-20 19:00 dpdklab
2023-07-20 19:07 dpdklab
2023-07-20 19:07 dpdklab
2023-07-20 19:17 dpdklab
2023-07-20 19:18 dpdklab
2023-07-20 19:37 dpdklab
2023-07-20 19:53 dpdklab
2023-07-20 20:18 dpdklab
2023-07-20 21:43 dpdklab
2023-07-20 23:18 dpdklab
2023-07-20 23:59 dpdklab
2023-07-21  0:24 dpdklab
2023-07-21  0:30 dpdklab
2023-07-21  0:34 dpdklab
This is a public inbox, see mirroring instructions
for how to clone and mirror all data and code used for this inbox;
as well as URLs for NNTP newsgroup(s).