* |SUCCESS| pw132016-132017 [PATCH v5 2/2] node: add UDP v4 support
[not found] <20230927124100.4108588-2-rkudurumalla@marvell.com>
@ 2023-09-27 12:27 ` qemudev
2023-09-27 12:32 ` qemudev
` (2 subsequent siblings)
3 siblings, 0 replies; 4+ messages in thread
From: qemudev @ 2023-09-27 12:27 UTC (permalink / raw)
To: test-report
Test-Label: loongarch-compilation
Test-Status: SUCCESS
http://dpdk.org/patch/132017
_Compilation OK_
Submitter: Rakesh Kudurumalla <rkudurumalla@marvell.com>
Date: Wed, 27 Sep 2023 18:10:59 +0530
DPDK git baseline: Repo:dpdk
Branch: main
CommitID: 39970abcf4850e070aa4709c87bcac15cb27caf8
132016-132017 --> meson & ninja build successfully
Test environment and result as below:
+---------------------+----------------+
| Environment | compilation |
+---------------------+----------------+
| Loongnix-Server 8.3 | PASS |
+---------------------+----------------+
Loongnix-Server 8.3
Kernel: 4.19.190+
Compiler: gcc 8.3
^ permalink raw reply [flat|nested] 4+ messages in thread
* |SUCCESS| pw132016-132017 [PATCH v5 2/2] node: add UDP v4 support
[not found] <20230927124100.4108588-2-rkudurumalla@marvell.com>
2023-09-27 12:27 ` |SUCCESS| pw132016-132017 [PATCH v5 2/2] node: add UDP v4 support qemudev
@ 2023-09-27 12:32 ` qemudev
2023-09-27 12:41 ` |WARNING| pw132017 " checkpatch
2023-09-27 13:39 ` |SUCCESS| " 0-day Robot
3 siblings, 0 replies; 4+ messages in thread
From: qemudev @ 2023-09-27 12:32 UTC (permalink / raw)
To: test-report
Test-Label: loongarch-unit-testing
Test-Status: SUCCESS
http://dpdk.org/patch/132017
_Unit Testing PASS_
Submitter: Rakesh Kudurumalla <rkudurumalla@marvell.com>
Date: Wed, 27 Sep 2023 18:10:59 +0530
DPDK git baseline: Repo:dpdk
Branch: main
CommitID: 39970abcf4850e070aa4709c87bcac15cb27caf8
132016-132017 --> testing pass
Test environment and result as below:
+---------------------+----------------+
| Environment | dpdk_unit_test |
+---------------------+----------------+
| Loongnix-Server 8.3 | PASS |
+---------------------+----------------+
Loongnix-Server 8.3
Kernel: 4.19.190+
Compiler: gcc 8.3
Test result details:
1/107 DPDK:fast-tests / acl_autotest OK 3.23s
2/107 DPDK:fast-tests / atomic_autotest OK 7.23s
3/107 DPDK:fast-tests / bitcount_autotest OK 0.47s
4/107 DPDK:fast-tests / bitmap_autotest OK 0.47s
5/107 DPDK:fast-tests / bitops_autotest OK 0.47s
6/107 DPDK:fast-tests / bitratestats_autotest OK 0.57s
7/107 DPDK:fast-tests / bpf_autotest OK 0.57s
8/107 DPDK:fast-tests / bpf_convert_autotest OK 0.57s
9/107 DPDK:fast-tests / byteorder_autotest OK 0.57s
10/107 DPDK:fast-tests / cksum_autotest OK 0.57s
11/107 DPDK:fast-tests / cmdline_autotest OK 0.57s
12/107 DPDK:fast-tests / common_autotest OK 1.42s
13/107 DPDK:fast-tests / compressdev_autotest SKIP 0.12s exit status 77
14/107 DPDK:fast-tests / cpuflags_autotest OK 0.32s
15/107 DPDK:fast-tests / crc_autotest OK 0.32s
16/107 DPDK:fast-tests / user_delay_us OK 0.32s
17/107 DPDK:fast-tests / debug_autotest OK 22.01s
18/107 DPDK:fast-tests / devargs_autotest OK 0.32s
19/107 DPDK:fast-tests / distributor_autotest OK 1.27s
20/107 DPDK:fast-tests / eal_flags_c_opt_autotest OK 1.17s
21/107 DPDK:fast-tests / eal_flags_main_opt_autotest OK 0.32s
22/107 DPDK:fast-tests / eal_flags_n_opt_autotest OK 0.27s
23/107 DPDK:fast-tests / eal_flags_hpet_autotest OK 0.17s
24/107 DPDK:fast-tests / eal_flags_no_huge_autotest OK 0.32s
25/107 DPDK:fast-tests / eal_flags_a_opt_autotest OK 0.42s
26/107 DPDK:fast-tests / eal_flags_b_opt_autotest OK 0.37s
27/107 DPDK:fast-tests / eal_flags_vdev_opt_autotest OK 0.27s
28/107 DPDK:fast-tests / eal_flags_r_opt_autotest OK 0.27s
29/107 DPDK:fast-tests / eal_flags_mem_autotest OK 0.72s
30/107 DPDK:fast-tests / eal_flags_file_prefix_autotest OK 22.36s
31/107 DPDK:fast-tests / eal_flags_misc_autotest OK 1.17s
32/107 DPDK:fast-tests / eal_fs_autotest OK 0.32s
33/107 DPDK:fast-tests / errno_autotest OK 0.32s
34/107 DPDK:fast-tests / ethdev_link_status OK 0.32s
35/107 DPDK:fast-tests / event_eth_tx_adapter_autotest OK 1.72s
36/107 DPDK:fast-tests / event_ring_autotest OK 0.32s
37/107 DPDK:fast-tests / eventdev_common_autotest OK 0.32s
38/107 DPDK:fast-tests / fbarray_autotest OK 0.37s
39/107 DPDK:fast-tests / fib_autotest OK 1.02s
40/107 DPDK:fast-tests / fib6_autotest OK 1.07s
41/107 DPDK:fast-tests / func_reentrancy_autotest OK 2.03s
42/107 DPDK:fast-tests / graph_autotest OK 0.52s
43/107 DPDK:fast-tests / node_list_dump OK 0.32s
44/107 DPDK:fast-tests / hash_autotest OK 1.32s
45/107 DPDK:fast-tests / hash_readwrite_func_autotest OK 6.48s
46/107 DPDK:fast-tests / interrupt_autotest OK 1.62s
47/107 DPDK:fast-tests / ipfrag_autotest OK 0.12s
48/107 DPDK:fast-tests / ipsec_autotest SKIP 0.32s exit status 77
49/107 DPDK:fast-tests / kvargs_autotest OK 0.32s
50/107 DPDK:fast-tests / latencystats_autotest OK 0.32s
51/107 DPDK:fast-tests / lcores_autotest OK 5.38s
52/107 DPDK:fast-tests / logs_autotest OK 0.32s
53/107 DPDK:fast-tests / lpm_autotest OK 2.43s
54/107 DPDK:fast-tests / lpm6_autotest OK 5.59s
55/107 DPDK:fast-tests / malloc_autotest OK 62.96s
56/107 DPDK:fast-tests / mbuf_autotest OK 5.42s
57/107 DPDK:fast-tests / mcslock_autotest OK 2.92s
58/107 DPDK:fast-tests / member_autotest OK 1.52s
59/107 DPDK:fast-tests / memcpy_autotest OK 6.93s
60/107 DPDK:fast-tests / memory_autotest OK 0.12s
61/107 DPDK:fast-tests / mempool_autotest OK 0.47s
62/107 DPDK:fast-tests / memzone_autotest OK 0.17s
63/107 DPDK:fast-tests / meter_autotest OK 0.47s
64/107 DPDK:fast-tests / metrics_autotest OK 0.47s
65/107 DPDK:fast-tests / multiprocess_autotest OK 0.27s
66/107 DPDK:fast-tests / pdcp_autotest SKIP 0.07s exit status 77
67/107 DPDK:fast-tests / pdump_autotest OK 0.57s
68/107 DPDK:fast-tests / per_lcore_autotest OK 0.57s
69/107 DPDK:fast-tests / pflock_autotest OK 1.27s
70/107 DPDK:fast-tests / pie_autotest OK 0.57s
71/107 DPDK:fast-tests / ring_pmd_autotest OK 0.67s
72/107 DPDK:fast-tests / power_autotest OK 0.67s
73/107 DPDK:fast-tests / power_cpufreq_autotest SKIP 0.07s exit status 77
74/107 DPDK:fast-tests / power_intel_uncore_autotest SKIP 0.32s exit status 77
75/107 DPDK:fast-tests / power_kvm_vm_autotest SKIP 0.07s exit status 77
76/107 DPDK:fast-tests / prefetch_autotest OK 0.32s
77/107 DPDK:fast-tests / rawdev_autotest OK 0.32s
78/107 DPDK:fast-tests / rcu_qsbr_autotest OK 0.87s
79/107 DPDK:fast-tests / reorder_autotest OK 0.37s
80/107 DPDK:fast-tests / rib_autotest OK 8.99s
81/107 DPDK:fast-tests / rib6_autotest OK 8.99s
82/107 DPDK:fast-tests / ring_autotest OK 0.37s
83/107 DPDK:fast-tests / rwlock_test1_autotest OK 1.12s
84/107 DPDK:fast-tests / rwlock_rda_autotest OK 5.33s
85/107 DPDK:fast-tests / rwlock_rds_wrm_autotest OK 5.33s
86/107 DPDK:fast-tests / rwlock_rde_wro_autotest OK 5.33s
87/107 DPDK:fast-tests / sched_autotest OK 0.32s
88/107 DPDK:fast-tests / security_autotest OK 0.07s
89/107 DPDK:fast-tests / seqlock_autotest OK 2.47s
90/107 DPDK:fast-tests / service_autotest OK 3.17s
91/107 DPDK:fast-tests / spinlock_autotest OK 0.52s
92/107 DPDK:fast-tests / stack_autotest OK 0.92s
93/107 DPDK:fast-tests / stack_lf_autotest SKIP 0.07s exit status 77
94/107 DPDK:fast-tests / string_autotest OK 0.47s
95/107 DPDK:fast-tests / table_autotest OK 7.59s
96/107 DPDK:fast-tests / tailq_autotest OK 0.47s
97/107 DPDK:fast-tests / telemetry_data_autotest OK 0.47s
98/107 DPDK:fast-tests / telemetry_json_autotest OK 0.47s
99/107 DPDK:fast-tests / thash_autotest OK 0.47s
100/107 DPDK:fast-tests / threads_autotest OK 0.67s
101/107 DPDK:fast-tests / ticketlock_autotest OK 0.62s
102/107 DPDK:fast-tests / timer_autotest OK 3.93s
103/107 DPDK:fast-tests / trace_autotest OK 0.47s
104/107 DPDK:fast-tests / trace_autotest_with_traces OK 0.57s
105/107 DPDK:fast-tests / vdev_autotest OK 0.57s
106/107 DPDK:fast-tests / version_autotest OK 0.47s
107/107 DPDK:fast-tests / telemetry_all OK 1.32s
Ok: 100
Expected Fail: 0
Fail: 0
Unexpected Pass: 0
Skipped: 7
Timeout: 0
^ permalink raw reply [flat|nested] 4+ messages in thread
* |WARNING| pw132017 [PATCH v5 2/2] node: add UDP v4 support
[not found] <20230927124100.4108588-2-rkudurumalla@marvell.com>
2023-09-27 12:27 ` |SUCCESS| pw132016-132017 [PATCH v5 2/2] node: add UDP v4 support qemudev
2023-09-27 12:32 ` qemudev
@ 2023-09-27 12:41 ` checkpatch
2023-09-27 13:39 ` |SUCCESS| " 0-day Robot
3 siblings, 0 replies; 4+ messages in thread
From: checkpatch @ 2023-09-27 12:41 UTC (permalink / raw)
To: test-report; +Cc: Rakesh Kudurumalla
Test-Label: checkpatch
Test-Status: WARNING
http://dpdk.org/patch/132017
_coding style issues_
WARNING:REPEATED_WORD: Possible repeated word: 'text'
#177: FILE: doc/guides/prog_guide/img/graph_inbuilt_node_flow.svg:60:
+<text text-anchor="middle" x="261.95" y="-407.3" font-family="Times,serif" font-size="14.00">ethdev_rx</text>
WARNING:REPEATED_WORD: Possible repeated word: 'text'
#185: FILE: doc/guides/prog_guide/img/graph_inbuilt_node_flow.svg:66:
+<text text-anchor="middle" x="261.95" y="-334.3" font-family="Times,serif" font-size="14.00">pkt_cls</text>
WARNING:REPEATED_WORD: Possible repeated word: 'text'
#201: FILE: doc/guides/prog_guide/img/graph_inbuilt_node_flow.svg:78:
+<text text-anchor="middle" x="53.95" y="-174.3" font-family="Times,serif" font-size="14.00">kernel_rx</text>
WARNING:REPEATED_WORD: Possible repeated word: 'text'
#217: FILE: doc/guides/prog_guide/img/graph_inbuilt_node_flow.svg:90:
+<text text-anchor="middle" x="347.95" y="-87.3" font-family="Times,serif" font-size="14.00">ethdev_tx</text>
WARNING:REPEATED_WORD: Possible repeated word: 'text'
#225: FILE: doc/guides/prog_guide/img/graph_inbuilt_node_flow.svg:96:
+<text text-anchor="middle" x="404.95" y="-14.3" font-family="Times,serif" font-size="14.00">pkt_drop</text>
WARNING:REPEATED_WORD: Possible repeated word: 'text'
#241: FILE: doc/guides/prog_guide/img/graph_inbuilt_node_flow.svg:108:
+<text text-anchor="middle" x="53.95" y="-247.3" font-family="Times,serif" font-size="14.00">kernel_tx</text>
WARNING:REPEATED_WORD: Possible repeated word: 'text'
#267: FILE: doc/guides/prog_guide/img/graph_inbuilt_node_flow.svg:127:
+<text text-anchor="middle" x="107.45" y="-290.8" font-family="Times,serif" font-size="14.00">exception pkts</text>
WARNING:REPEATED_WORD: Possible repeated word: 'text'
#275: FILE: doc/guides/prog_guide/img/graph_inbuilt_node_flow.svg:133:
+<text text-anchor="middle" x="261.95" y="-247.3" font-family="Times,serif" font-size="14.00">ip4_lookup</text>
WARNING:REPEATED_WORD: Possible repeated word: 'text'
#285: FILE: doc/guides/prog_guide/img/graph_inbuilt_node_flow.svg:140:
+<text text-anchor="middle" x="277.45" y="-290.8" font-family="Times,serif" font-size="14.00">ipv4</text>
WARNING:REPEATED_WORD: Possible repeated word: 'text'
#293: FILE: doc/guides/prog_guide/img/graph_inbuilt_node_flow.svg:146:
+<text text-anchor="middle" x="492.95" y="-247.3" font-family="Times,serif" font-size="14.00">ip6_lookup</text>
WARNING:REPEATED_WORD: Possible repeated word: 'text'
#303: FILE: doc/guides/prog_guide/img/graph_inbuilt_node_flow.svg:153:
+<text text-anchor="middle" x="407.45" y="-290.8" font-family="Times,serif" font-size="14.00">ipv6</text>
WARNING:REPEATED_WORD: Possible repeated word: 'text'
#319: FILE: doc/guides/prog_guide/img/graph_inbuilt_node_flow.svg:165:
+<text text-anchor="middle" x="347.95" y="-174.3" font-family="Times,serif" font-size="14.00">ip4_rewrite</text>
WARNING:REPEATED_WORD: Possible repeated word: 'text'
#335: FILE: doc/guides/prog_guide/img/graph_inbuilt_node_flow.svg:177:
+<text text-anchor="middle" x="176.95" y="-174.3" font-family="Times,serif" font-size="14.00">ip4_local</text>
WARNING:REPEATED_WORD: Possible repeated word: 'text'
#359: FILE: doc/guides/prog_guide/img/graph_inbuilt_node_flow.svg:195:
+<text text-anchor="middle" x="492.95" y="-174.3" font-family="Times,serif" font-size="14.00">ip6_rewrite</text>
WARNING:REPEATED_WORD: Possible repeated word: 'text'
#413: FILE: doc/guides/prog_guide/img/graph_inbuilt_node_flow.svg:237:
+<text text-anchor="middle" x="126.95" y="-87.3" font-family="Times,serif" font-size="14.00">udp4_input</text>
WARNING:REPEATED_WORD: Possible repeated word: 'text'
#420: FILE: doc/guides/prog_guide/img/graph_inbuilt_node_flow.svg:244:
+<text text-anchor="middle" x="177.45" y="-130.8" font-family="Times,serif" font-size="14.00">udpv4</text>
WARNING:REPEATED_WORD: Possible repeated word: 'text'
#432: FILE: doc/guides/prog_guide/img/graph_inbuilt_node_flow.svg:256:
+<text text-anchor="middle" x="126.95" y="-14.3" font-family="Times,serif" font-size="14.00">udp_user_node</text>
total: 0 errors, 17 warnings, 637 lines checked
^ permalink raw reply [flat|nested] 4+ messages in thread
* |SUCCESS| pw132017 [PATCH v5 2/2] node: add UDP v4 support
[not found] <20230927124100.4108588-2-rkudurumalla@marvell.com>
` (2 preceding siblings ...)
2023-09-27 12:41 ` |WARNING| pw132017 " checkpatch
@ 2023-09-27 13:39 ` 0-day Robot
3 siblings, 0 replies; 4+ messages in thread
From: 0-day Robot @ 2023-09-27 13:39 UTC (permalink / raw)
To: test-report; +Cc: robot
From: robot@bytheb.org
Test-Label: github-robot: build
Test-Status: SUCCESS
http://patchwork.dpdk.org/patch/132017/
_github build: passed_
Build URL: https://github.com/ovsrobot/dpdk/actions/runs/6326316824
^ permalink raw reply [flat|nested] 4+ messages in thread
end of thread, other threads:[~2023-09-27 13:39 UTC | newest]
Thread overview: 4+ messages (download: mbox.gz / follow: Atom feed)
-- links below jump to the message on this page --
[not found] <20230927124100.4108588-2-rkudurumalla@marvell.com>
2023-09-27 12:27 ` |SUCCESS| pw132016-132017 [PATCH v5 2/2] node: add UDP v4 support qemudev
2023-09-27 12:32 ` qemudev
2023-09-27 12:41 ` |WARNING| pw132017 " checkpatch
2023-09-27 13:39 ` |SUCCESS| " 0-day Robot
This is a public inbox, see mirroring instructions
for how to clone and mirror all data and code used for this inbox;
as well as URLs for NNTP newsgroup(s).