From: qemudev@loongson.cn
To: test-report@dpdk.org
Subject: |SUCCESS| pw147412-147424 [PATCH v2 13/13] net/bnxt: remove unnecessary ifdef
Date: Mon, 28 Oct 2024 00:48:14 +0800 [thread overview]
Message-ID: <202410271648.49RGmEEh2322798@localhost.localdomain> (raw)
In-Reply-To: <20241027171128.50221-14-ajit.khaparde@broadcom.com>
Test-Label: loongarch-compilation
Test-Status: SUCCESS
http://dpdk.org/patch/147424
_Compilation OK_
Submitter: Ajit Khaparde <ajit.khaparde@broadcom.com>
Date: Sun, 27 Oct 2024 10:11:16 -0700
DPDK git baseline: Repo:dpdk-next-net-brcm
Branch: for-next-net
CommitID: a3786a4341c051f5a7e47041c34408804ff7fa31
147412-147424 --> meson & ninja build successfully
Test environment and result as below:
+---------------------+----------------+
| Environment | compilation |
+---------------------+----------------+
| Loongnix-Server 8.3 | PASS |
+---------------------+----------------+
Loongnix-Server 8.3
Kernel: 4.19.190+
Compiler: gcc 8.3
next parent reply other threads:[~2024-10-27 17:21 UTC|newest]
Thread overview: 42+ messages / expand[flat|nested] mbox.gz Atom feed top
[not found] <20241027171128.50221-14-ajit.khaparde@broadcom.com>
2024-10-27 16:48 ` qemudev [this message]
2024-10-27 16:52 ` qemudev
2024-10-27 17:14 ` |SUCCESS| pw147424 " checkpatch
2024-10-27 18:06 ` |PENDING| pw147412-147424 [PATCH] [v2,13/13] net/bnxt: remove unnece dpdklab
2024-10-27 18:09 ` |SUCCESS| " dpdklab
2024-10-27 18:11 ` dpdklab
2024-10-27 18:14 ` dpdklab
2024-10-27 18:14 ` dpdklab
2024-10-27 18:19 ` dpdklab
2024-10-27 18:22 ` dpdklab
2024-10-27 18:29 ` dpdklab
2024-10-27 18:34 ` dpdklab
2024-10-27 20:07 ` dpdklab
2024-10-28 5:40 ` dpdklab
2024-10-28 5:55 ` |WARNING| " dpdklab
2024-10-28 5:59 ` |SUCCESS| " dpdklab
2024-10-28 6:06 ` |WARNING| " dpdklab
2024-10-28 6:15 ` |PENDING| " dpdklab
2024-10-28 9:23 ` |SUCCESS| " dpdklab
2024-10-28 9:24 ` dpdklab
2024-10-28 9:27 ` dpdklab
2024-10-28 9:27 ` |WARNING| " dpdklab
2024-10-28 16:46 ` |SUCCESS| " dpdklab
2024-10-28 18:07 ` |WARNING| " dpdklab
2024-10-28 18:27 ` dpdklab
2024-10-28 18:33 ` dpdklab
2024-10-28 18:34 ` dpdklab
2024-10-28 18:52 ` dpdklab
2024-10-28 19:02 ` dpdklab
2024-10-28 19:11 ` dpdklab
2024-10-28 19:20 ` dpdklab
2024-10-28 19:23 ` dpdklab
2024-10-28 19:33 ` dpdklab
2024-10-28 19:50 ` dpdklab
2024-10-28 20:09 ` dpdklab
2024-10-28 20:20 ` dpdklab
2024-10-29 3:28 ` |SUCCESS| " dpdklab
2024-10-29 22:59 ` |PENDING| " dpdklab
2024-10-30 0:30 ` |SUCCESS| " dpdklab
2024-10-30 5:05 ` dpdklab
2024-10-31 2:44 ` dpdklab
2024-10-31 11:15 ` dpdklab
Reply instructions:
You may reply publicly to this message via plain-text email
using any one of the following methods:
* Save the following mbox file, import it into your mail client,
and reply-to-all from there: mbox
Avoid top-posting and favor interleaved quoting:
https://en.wikipedia.org/wiki/Posting_style#Interleaved_style
* Reply using the --to, --cc, and --in-reply-to
switches of git-send-email(1):
git send-email \
--in-reply-to=202410271648.49RGmEEh2322798@localhost.localdomain \
--to=qemudev@loongson.cn \
--cc=test-report@dpdk.org \
/path/to/YOUR_REPLY
https://kernel.org/pub/software/scm/git/docs/git-send-email.html
* If your mail client supports setting the In-Reply-To header
via mailto: links, try the mailto: link
Be sure your reply has a Subject: header at the top and a blank line
before the message body.
This is a public inbox, see mirroring instructions
for how to clone and mirror all data and code used for this inbox;
as well as URLs for NNTP newsgroup(s).