automatic DPDK test reports
 help / color / mirror / Atom feed
From: qemudev@loongson.cn
To: test-report@dpdk.org
Subject: |SUCCESS| pw149230 [v2 1/1] app/test: remove useless calls to rte_bitmap_free
Date: Fri, 13 Dec 2024 19:21:08 +0800	[thread overview]
Message-ID: <202412131121.4BDBL8Cr051899@localhost.localdomain> (raw)
In-Reply-To: <20241213114452.59377-2-otilibil@eurecom.fr>

Test-Label: loongarch-compilation
Test-Status: SUCCESS
http://dpdk.org/patch/149230

_Compilation OK_

Submitter: Ariel Otilibili <otilibil@eurecom.fr>
Date: Fri, 13 Dec 2024 12:38:42 +0100
DPDK git baseline: Repo:dpdk
  Branch: main
  CommitID: 7df61db6c387703a36306c1aea92225921e2eeb2

149230 --> meson & ninja build successfully

Test environment and result as below:

+---------------------+----------------+
|     Environment     | compilation    |
+---------------------+----------------+
| Loongnix-Server 8.3 | PASS           |
+---------------------+----------------+

Loongnix-Server 8.3
    Kernel: 4.19.190+
    Compiler: gcc 8.3


       reply	other threads:[~2024-12-13 11:54 UTC|newest]

Thread overview: 32+ messages / expand[flat|nested]  mbox.gz  Atom feed  top
     [not found] <20241213114452.59377-2-otilibil@eurecom.fr>
2024-12-13 11:21 ` qemudev [this message]
2024-12-13 11:25 ` qemudev
2024-12-13 11:46 ` checkpatch
2024-12-13 12:43 ` 0-day Robot
2024-12-14  8:20 ` |SUCCESS| pw149230 [PATCH] [v2,1/1] app/test: remove useless calls t dpdklab
2024-12-14  8:31 ` dpdklab
2024-12-14  8:41 ` dpdklab
2024-12-14  9:44 ` dpdklab
2024-12-14 10:11 ` dpdklab
2024-12-14 10:25 ` dpdklab
2024-12-14 10:44 ` dpdklab
2024-12-14 10:49 ` dpdklab
2024-12-14 11:57 ` |PENDING| " dpdklab
2024-12-14 12:09 ` |SUCCESS| " dpdklab
2024-12-14 12:26 ` dpdklab
2024-12-14 13:13 ` |WARNING| " dpdklab
2024-12-14 13:14 ` dpdklab
2024-12-14 13:26 ` |SUCCESS| " dpdklab
2024-12-14 14:46 ` dpdklab
2024-12-14 14:57 ` dpdklab
2024-12-14 15:29 ` dpdklab
2024-12-14 18:51 ` dpdklab
2024-12-14 21:02 ` dpdklab
2024-12-15  1:01 ` |WARNING| " dpdklab
2024-12-15  1:11 ` dpdklab
2024-12-16 22:04 ` dpdklab
2025-01-07 18:41 ` dpdklab
2025-01-07 19:27 ` dpdklab
2025-01-07 19:28 ` dpdklab
2025-01-08 21:44 ` dpdklab
2025-02-07 18:29 ` dpdklab
2025-02-07 20:03 ` |SUCCESS| " dpdklab

Reply instructions:

You may reply publicly to this message via plain-text email
using any one of the following methods:

* Save the following mbox file, import it into your mail client,
  and reply-to-all from there: mbox

  Avoid top-posting and favor interleaved quoting:
  https://en.wikipedia.org/wiki/Posting_style#Interleaved_style

* Reply using the --to, --cc, and --in-reply-to
  switches of git-send-email(1):

  git send-email \
    --in-reply-to=202412131121.4BDBL8Cr051899@localhost.localdomain \
    --to=qemudev@loongson.cn \
    --cc=test-report@dpdk.org \
    /path/to/YOUR_REPLY

  https://kernel.org/pub/software/scm/git/docs/git-send-email.html

* If your mail client supports setting the In-Reply-To header
  via mailto: links, try the mailto: link
Be sure your reply has a Subject: header at the top and a blank line before the message body.
This is a public inbox, see mirroring instructions
for how to clone and mirror all data and code used for this inbox;
as well as URLs for NNTP newsgroup(s).