* |SUCCESS| pw150796-150797 [PATCH v5 2/2] common/idpf: enable AVX2 for single queue Tx
[not found] <20250203075508.1304702-3-shaiq.wani@intel.com>
@ 2025-02-03 7:11 ` qemudev
2025-02-03 7:15 ` qemudev
` (16 subsequent siblings)
17 siblings, 0 replies; 18+ messages in thread
From: qemudev @ 2025-02-03 7:11 UTC (permalink / raw)
To: test-report
Test-Label: loongarch-compilation
Test-Status: SUCCESS
http://dpdk.org/patch/150797
_Compilation OK_
Submitter: Shaiq Wani <shaiq.wani@intel.com>
Date: Mon, 3 Feb 2025 13:25:07 +0530
DPDK git baseline: Repo:dpdk-next-net-intel
Branch: main
CommitID: abf3b7b7b361f8aa8d75ae00d449b588a0cdcda3
150796-150797 --> meson & ninja build successfully
Test environment and result as below:
+---------------------+----------------+
| Environment | compilation |
+---------------------+----------------+
| Loongnix-Server 8.3 | PASS |
+---------------------+----------------+
Loongnix-Server 8.3
Kernel: 4.19.190+
Compiler: gcc 8.3
^ permalink raw reply [flat|nested] 18+ messages in thread
* |SUCCESS| pw150796-150797 [PATCH v5 2/2] common/idpf: enable AVX2 for single queue Tx
[not found] <20250203075508.1304702-3-shaiq.wani@intel.com>
2025-02-03 7:11 ` |SUCCESS| pw150796-150797 [PATCH v5 2/2] common/idpf: enable AVX2 for single queue Tx qemudev
@ 2025-02-03 7:15 ` qemudev
2025-02-03 7:23 ` qemudev
` (15 subsequent siblings)
17 siblings, 0 replies; 18+ messages in thread
From: qemudev @ 2025-02-03 7:15 UTC (permalink / raw)
To: test-report
Test-Label: loongarch-unit-testing
Test-Status: SUCCESS
http://dpdk.org/patch/150797
_Unit Testing PASS_
Submitter: Shaiq Wani <shaiq.wani@intel.com>
Date: Mon, 3 Feb 2025 13:25:07 +0530
DPDK git baseline: Repo:dpdk-next-net-intel
Branch: main
CommitID: abf3b7b7b361f8aa8d75ae00d449b588a0cdcda3
150796-150797 --> testing pass
Test environment and result as below:
+---------------------+----------------+
| Environment | dpdk_unit_test |
+---------------------+----------------+
| Loongnix-Server 8.3 | PASS |
+---------------------+----------------+
Loongnix-Server 8.3
Kernel: 4.19.190+
Compiler: gcc 8.3
Test result details:
1/119 DPDK:fast-tests / acl_autotest OK 3.29s
2/119 DPDK:fast-tests / alarm_autotest OK 1.48s
3/119 DPDK:fast-tests / argparse_autotest OK 0.46s
4/119 DPDK:fast-tests / atomic_autotest OK 6.92s
5/119 DPDK:fast-tests / bitcount_autotest OK 0.20s
6/119 DPDK:fast-tests / bitmap_autotest OK 0.19s
7/119 DPDK:fast-tests / bitops_autotest OK 1.69s
8/119 DPDK:fast-tests / bitratestats_autotest OK 0.20s
9/119 DPDK:fast-tests / bitset_autotest OK 2.79s
10/119 DPDK:fast-tests / bpf_autotest OK 0.20s
11/119 DPDK:fast-tests / bpf_convert_autotest OK 0.20s
12/119 DPDK:fast-tests / byteorder_autotest OK 0.19s
13/119 DPDK:fast-tests / cfgfile_autotest OK 0.19s
14/119 DPDK:fast-tests / cksum_autotest OK 0.19s
15/119 DPDK:fast-tests / cmdline_autotest OK 0.19s
16/119 DPDK:fast-tests / common_autotest OK 1.08s
17/119 DPDK:fast-tests / compressdev_autotest SKIP 0.06s exit status 77
18/119 DPDK:fast-tests / cpuflags_autotest OK 0.20s
19/119 DPDK:fast-tests / crc_autotest OK 0.20s
20/119 DPDK:fast-tests / user_delay_us OK 0.19s
21/119 DPDK:fast-tests / debug_autotest OK 17.94s
22/119 DPDK:fast-tests / devargs_autotest OK 0.20s
23/119 DPDK:fast-tests / dispatcher_autotest OK 2.54s
24/119 DPDK:fast-tests / distributor_autotest OK 1.20s
25/119 DPDK:fast-tests / eal_flags_c_opt_autotest OK 0.77s
26/119 DPDK:fast-tests / eal_flags_main_opt_autotest OK 0.21s
27/119 DPDK:fast-tests / eal_flags_n_opt_autotest OK 0.19s
28/119 DPDK:fast-tests / eal_flags_hpet_autotest OK 0.13s
29/119 DPDK:fast-tests / eal_flags_no_huge_autotest OK 0.21s
30/119 DPDK:fast-tests / eal_flags_a_opt_autotest OK 0.29s
31/119 DPDK:fast-tests / eal_flags_b_opt_autotest OK 0.24s
32/119 DPDK:fast-tests / eal_flags_vdev_opt_autotest OK 0.19s
33/119 DPDK:fast-tests / eal_flags_r_opt_autotest OK 0.18s
34/119 DPDK:fast-tests / eal_flags_mem_autotest OK 0.58s
35/119 DPDK:fast-tests / eal_flags_file_prefix_autotest OK 22.23s
36/119 DPDK:fast-tests / eal_flags_misc_autotest OK 1.02s
37/119 DPDK:fast-tests / eal_fs_autotest OK 0.20s
38/119 DPDK:fast-tests / errno_autotest OK 0.19s
39/119 DPDK:fast-tests / ethdev_link_status OK 0.19s
40/119 DPDK:fast-tests / event_eth_tx_adapter_autotest OK 1.67s
41/119 DPDK:fast-tests / event_ring_autotest OK 0.21s
42/119 DPDK:fast-tests / eventdev_common_autotest OK 0.20s
43/119 DPDK:fast-tests / eventdev_selftest_sw OK 7.01s
44/119 DPDK:fast-tests / fbarray_autotest OK 0.20s
45/119 DPDK:fast-tests / fib_autotest OK 1.12s
46/119 DPDK:fast-tests / fib6_autotest OK 0.89s
47/119 DPDK:fast-tests / func_reentrancy_autotest OK 2.23s
48/119 DPDK:fast-tests / graph_autotest OK 0.21s
49/119 DPDK:fast-tests / node_list_dump OK 0.20s
50/119 DPDK:fast-tests / hash_autotest OK 0.83s
51/119 DPDK:fast-tests / hash_readwrite_func_autotest OK 6.38s
52/119 DPDK:fast-tests / interrupt_autotest OK 1.51s
53/119 DPDK:fast-tests / ipfrag_autotest OK 0.06s
54/119 DPDK:fast-tests / ipsec_autotest SKIP 0.20s exit status 77
55/119 DPDK:fast-tests / kvargs_autotest OK 0.20s
56/119 DPDK:fast-tests / latencystats_autotest OK 0.20s
57/119 DPDK:fast-tests / lcore_var_autotest OK 0.34s
58/119 DPDK:fast-tests / lcores_autotest OK 5.01s
59/119 DPDK:fast-tests / logs_autotest OK 0.19s
60/119 DPDK:fast-tests / lpm_autotest OK 2.27s
61/119 DPDK:fast-tests / lpm6_autotest OK 5.36s
62/119 DPDK:fast-tests / malloc_autotest OK 60.73s
63/119 DPDK:fast-tests / mbuf_autotest OK 5.16s
64/119 DPDK:fast-tests / mcslock_autotest OK 2.56s
65/119 DPDK:fast-tests / member_autotest OK 1.40s
66/119 DPDK:fast-tests / memcpy_autotest OK 6.74s
67/119 DPDK:fast-tests / memory_autotest OK 0.08s
68/119 DPDK:fast-tests / mempool_autotest OK 0.43s
69/119 DPDK:fast-tests / memzone_autotest OK 0.14s
70/119 DPDK:fast-tests / meter_autotest OK 0.20s
71/119 DPDK:fast-tests / metrics_autotest OK 0.19s
72/119 DPDK:fast-tests / multiprocess_autotest OK 0.17s
73/119 DPDK:fast-tests / net_ether_autotest OK 0.86s
74/119 DPDK:fast-tests / net_ipv6_autotest OK 0.19s
75/119 DPDK:fast-tests / pcapng_autotest OK 7.19s
76/119 DPDK:fast-tests / pdcp_autotest SKIP 0.06s exit status 77
77/119 DPDK:fast-tests / pdump_autotest OK 0.30s
78/119 DPDK:fast-tests / per_lcore_autotest OK 0.29s
79/119 DPDK:fast-tests / pflock_autotest OK 1.00s
80/119 DPDK:fast-tests / pie_autotest OK 0.20s
81/119 DPDK:fast-tests / ring_pmd_autotest OK 0.20s
82/119 DPDK:fast-tests / power_autotest OK 0.19s
83/119 DPDK:fast-tests / power_cpufreq_autotest SKIP 0.06s exit status 77
84/119 DPDK:fast-tests / power_intel_uncore_autotest SKIP 0.20s exit status 77
85/119 DPDK:fast-tests / power_kvm_vm_autotest SKIP 0.06s exit status 77
86/119 DPDK:fast-tests / prefetch_autotest OK 0.20s
87/119 DPDK:fast-tests / ptr_compress_autotest OK 0.19s
88/119 DPDK:fast-tests / rawdev_autotest OK 0.19s
89/119 DPDK:fast-tests / rcu_qsbr_autotest OK 0.72s
90/119 DPDK:fast-tests / reorder_autotest OK 0.25s
91/119 DPDK:fast-tests / rib_autotest OK 8.84s
92/119 DPDK:fast-tests / rib6_autotest OK 8.81s
93/119 DPDK:fast-tests / ring_autotest OK 0.23s
94/119 DPDK:fast-tests / rwlock_test1_autotest OK 0.94s
95/119 DPDK:fast-tests / rwlock_rda_autotest OK 5.20s
96/119 DPDK:fast-tests / rwlock_rds_wrm_autotest OK 5.20s
97/119 DPDK:fast-tests / rwlock_rde_wro_autotest OK 5.20s
98/119 DPDK:fast-tests / sched_autotest OK 0.40s
99/119 DPDK:fast-tests / security_autotest OK 0.06s
100/119 DPDK:fast-tests / seqlock_autotest OK 2.40s
101/119 DPDK:fast-tests / service_autotest OK 3.10s
102/119 DPDK:fast-tests / soring_autotest OK 0.40s
103/119 DPDK:fast-tests / spinlock_autotest OK 0.48s
104/119 DPDK:fast-tests / stack_autotest OK 0.87s
105/119 DPDK:fast-tests / stack_lf_autotest SKIP 0.06s exit status 77
106/119 DPDK:fast-tests / string_autotest OK 0.40s
107/119 DPDK:fast-tests / table_autotest OK 7.45s
108/119 DPDK:fast-tests / tailq_autotest OK 0.39s
109/119 DPDK:fast-tests / telemetry_data_autotest OK 0.40s
110/119 DPDK:fast-tests / telemetry_json_autotest OK 0.40s
111/119 DPDK:fast-tests / thash_autotest OK 0.41s
112/119 DPDK:fast-tests / threads_autotest OK 0.58s
113/119 DPDK:fast-tests / ticketlock_autotest OK 0.55s
114/119 DPDK:fast-tests / timer_autotest OK 3.88s
115/119 DPDK:fast-tests / trace_autotest OK 0.39s
116/119 DPDK:fast-tests / trace_autotest_with_traces OK 0.40s
117/119 DPDK:fast-tests / vdev_autotest OK 0.39s
118/119 DPDK:fast-tests / version_autotest OK 0.40s
119/119 DPDK:fast-tests / telemetry_all OK 1.32s
Ok: 112
Expected Fail: 0
Fail: 0
Unexpected Pass: 0
Skipped: 7
Timeout: 0
^ permalink raw reply [flat|nested] 18+ messages in thread
* |SUCCESS| pw150796-150797 [PATCH v5 2/2] common/idpf: enable AVX2 for single queue Tx
[not found] <20250203075508.1304702-3-shaiq.wani@intel.com>
2025-02-03 7:11 ` |SUCCESS| pw150796-150797 [PATCH v5 2/2] common/idpf: enable AVX2 for single queue Tx qemudev
2025-02-03 7:15 ` qemudev
@ 2025-02-03 7:23 ` qemudev
2025-02-03 7:29 ` qemudev
` (14 subsequent siblings)
17 siblings, 0 replies; 18+ messages in thread
From: qemudev @ 2025-02-03 7:23 UTC (permalink / raw)
To: test-report
Test-Label: loongarch-compilation
Test-Status: SUCCESS
http://dpdk.org/patch/150797
_Compilation OK_
Submitter: Shaiq Wani <shaiq.wani@intel.com>
Date: Mon, 3 Feb 2025 13:25:07 +0530
DPDK git baseline: Repo:dpdk-next-net-intel
Branch: main
CommitID: abf3b7b7b361f8aa8d75ae00d449b588a0cdcda3
150796-150797 --> meson & ninja build successfully
Test environment and result as below:
+---------------------+----------------+
| Environment | compilation |
+---------------------+----------------+
| Loongnix-Server 8.3 | PASS |
+---------------------+----------------+
Loongnix-Server 8.3
Kernel: 4.19.190+
Compiler: gcc 8.3
^ permalink raw reply [flat|nested] 18+ messages in thread
* |SUCCESS| pw150796-150797 [PATCH v5 2/2] common/idpf: enable AVX2 for single queue Tx
[not found] <20250203075508.1304702-3-shaiq.wani@intel.com>
` (2 preceding siblings ...)
2025-02-03 7:23 ` qemudev
@ 2025-02-03 7:29 ` qemudev
2025-02-03 7:41 ` |SUCCESS| pw150797 " checkpatch
` (13 subsequent siblings)
17 siblings, 0 replies; 18+ messages in thread
From: qemudev @ 2025-02-03 7:29 UTC (permalink / raw)
To: test-report
Test-Label: loongarch-unit-testing
Test-Status: SUCCESS
http://dpdk.org/patch/150797
_Unit Testing PASS_
Submitter: Shaiq Wani <shaiq.wani@intel.com>
Date: Mon, 3 Feb 2025 13:25:07 +0530
DPDK git baseline: Repo:dpdk-next-net-intel
Branch: main
CommitID: abf3b7b7b361f8aa8d75ae00d449b588a0cdcda3
150796-150797 --> testing pass
Test environment and result as below:
+---------------------+----------------+
| Environment | dpdk_unit_test |
+---------------------+----------------+
| Loongnix-Server 8.3 | PASS |
+---------------------+----------------+
Loongnix-Server 8.3
Kernel: 4.19.190+
Compiler: gcc 8.3
Test result details:
1/119 DPDK:fast-tests / acl_autotest OK 3.29s
2/119 DPDK:fast-tests / alarm_autotest OK 1.50s
3/119 DPDK:fast-tests / argparse_autotest OK 0.50s
4/119 DPDK:fast-tests / atomic_autotest OK 7.25s
5/119 DPDK:fast-tests / bitcount_autotest OK 0.30s
6/119 DPDK:fast-tests / bitmap_autotest OK 0.31s
7/119 DPDK:fast-tests / bitops_autotest OK 1.81s
8/119 DPDK:fast-tests / bitratestats_autotest OK 0.31s
9/119 DPDK:fast-tests / bitset_autotest OK 2.90s
10/119 DPDK:fast-tests / bpf_autotest OK 0.31s
11/119 DPDK:fast-tests / bpf_convert_autotest OK 0.31s
12/119 DPDK:fast-tests / byteorder_autotest OK 0.30s
13/119 DPDK:fast-tests / cfgfile_autotest OK 0.31s
14/119 DPDK:fast-tests / cksum_autotest OK 0.30s
15/119 DPDK:fast-tests / cmdline_autotest OK 0.31s
16/119 DPDK:fast-tests / common_autotest OK 1.19s
17/119 DPDK:fast-tests / compressdev_autotest SKIP 0.06s exit status 77
18/119 DPDK:fast-tests / cpuflags_autotest OK 0.30s
19/119 DPDK:fast-tests / crc_autotest OK 0.31s
20/119 DPDK:fast-tests / user_delay_us OK 0.30s
21/119 DPDK:fast-tests / debug_autotest OK 12.42s
22/119 DPDK:fast-tests / devargs_autotest OK 0.30s
23/119 DPDK:fast-tests / dispatcher_autotest OK 2.52s
24/119 DPDK:fast-tests / distributor_autotest OK 1.19s
25/119 DPDK:fast-tests / eal_flags_c_opt_autotest OK 0.78s
26/119 DPDK:fast-tests / eal_flags_main_opt_autotest OK 0.21s
27/119 DPDK:fast-tests / eal_flags_n_opt_autotest OK 0.19s
28/119 DPDK:fast-tests / eal_flags_hpet_autotest OK 0.12s
29/119 DPDK:fast-tests / eal_flags_no_huge_autotest OK 0.21s
30/119 DPDK:fast-tests / eal_flags_a_opt_autotest OK 0.29s
31/119 DPDK:fast-tests / eal_flags_b_opt_autotest OK 0.24s
32/119 DPDK:fast-tests / eal_flags_vdev_opt_autotest OK 0.18s
33/119 DPDK:fast-tests / eal_flags_r_opt_autotest OK 0.18s
34/119 DPDK:fast-tests / eal_flags_mem_autotest OK 0.57s
35/119 DPDK:fast-tests / eal_flags_file_prefix_autotest OK 22.23s
36/119 DPDK:fast-tests / eal_flags_misc_autotest OK 1.02s
37/119 DPDK:fast-tests / eal_fs_autotest OK 0.30s
38/119 DPDK:fast-tests / errno_autotest OK 0.30s
39/119 DPDK:fast-tests / ethdev_link_status OK 0.30s
40/119 DPDK:fast-tests / event_eth_tx_adapter_autotest OK 1.68s
41/119 DPDK:fast-tests / event_ring_autotest OK 0.31s
42/119 DPDK:fast-tests / eventdev_common_autotest OK 0.31s
43/119 DPDK:fast-tests / eventdev_selftest_sw OK 7.13s
44/119 DPDK:fast-tests / fbarray_autotest OK 0.31s
45/119 DPDK:fast-tests / fib_autotest OK 1.21s
46/119 DPDK:fast-tests / fib6_autotest OK 0.99s
47/119 DPDK:fast-tests / func_reentrancy_autotest OK 2.13s
48/119 DPDK:fast-tests / graph_autotest OK 0.31s
49/119 DPDK:fast-tests / node_list_dump OK 0.31s
50/119 DPDK:fast-tests / hash_autotest OK 0.93s
51/119 DPDK:fast-tests / hash_readwrite_func_autotest OK 6.37s
52/119 DPDK:fast-tests / interrupt_autotest OK 1.61s
53/119 DPDK:fast-tests / ipfrag_autotest OK 0.07s
54/119 DPDK:fast-tests / ipsec_autotest SKIP 0.31s exit status 77
55/119 DPDK:fast-tests / kvargs_autotest OK 0.31s
56/119 DPDK:fast-tests / latencystats_autotest OK 0.31s
57/119 DPDK:fast-tests / lcore_var_autotest OK 0.45s
58/119 DPDK:fast-tests / lcores_autotest OK 5.12s
59/119 DPDK:fast-tests / logs_autotest OK 0.30s
60/119 DPDK:fast-tests / lpm_autotest OK 2.33s
61/119 DPDK:fast-tests / lpm6_autotest OK 5.47s
62/119 DPDK:fast-tests / malloc_autotest OK 48.19s
63/119 DPDK:fast-tests / mbuf_autotest OK 4.56s
64/119 DPDK:fast-tests / mcslock_autotest OK 2.50s
65/119 DPDK:fast-tests / member_autotest OK 1.53s
66/119 DPDK:fast-tests / memcpy_autotest OK 6.86s
67/119 DPDK:fast-tests / memory_autotest OK 0.08s
68/119 DPDK:fast-tests / mempool_autotest OK 0.43s
69/119 DPDK:fast-tests / memzone_autotest OK 0.14s
70/119 DPDK:fast-tests / meter_autotest OK 0.30s
71/119 DPDK:fast-tests / metrics_autotest OK 0.31s
72/119 DPDK:fast-tests / multiprocess_autotest OK 0.17s
73/119 DPDK:fast-tests / net_ether_autotest OK 0.99s
74/119 DPDK:fast-tests / net_ipv6_autotest OK 0.31s
75/119 DPDK:fast-tests / pcapng_autotest OK 7.03s
76/119 DPDK:fast-tests / pdcp_autotest SKIP 0.06s exit status 77
77/119 DPDK:fast-tests / pdump_autotest OK 0.42s
78/119 DPDK:fast-tests / per_lcore_autotest OK 0.41s
79/119 DPDK:fast-tests / pflock_autotest OK 1.12s
80/119 DPDK:fast-tests / pie_autotest OK 0.31s
81/119 DPDK:fast-tests / ring_pmd_autotest OK 0.31s
82/119 DPDK:fast-tests / power_autotest OK 0.31s
83/119 DPDK:fast-tests / power_cpufreq_autotest SKIP 0.06s exit status 77
84/119 DPDK:fast-tests / power_intel_uncore_autotest SKIP 0.30s exit status 77
85/119 DPDK:fast-tests / power_kvm_vm_autotest SKIP 0.06s exit status 77
86/119 DPDK:fast-tests / prefetch_autotest OK 0.30s
87/119 DPDK:fast-tests / ptr_compress_autotest OK 0.31s
88/119 DPDK:fast-tests / rawdev_autotest OK 0.31s
89/119 DPDK:fast-tests / rcu_qsbr_autotest OK 0.83s
90/119 DPDK:fast-tests / reorder_autotest OK 0.36s
91/119 DPDK:fast-tests / rib_autotest OK 8.95s
92/119 DPDK:fast-tests / rib6_autotest OK 8.92s
93/119 DPDK:fast-tests / ring_autotest OK 0.33s
94/119 DPDK:fast-tests / rwlock_test1_autotest OK 1.05s
95/119 DPDK:fast-tests / rwlock_rda_autotest OK 5.31s
96/119 DPDK:fast-tests / rwlock_rds_wrm_autotest OK 5.31s
97/119 DPDK:fast-tests / rwlock_rde_wro_autotest OK 5.31s
98/119 DPDK:fast-tests / sched_autotest OK 0.31s
99/119 DPDK:fast-tests / security_autotest OK 0.06s
100/119 DPDK:fast-tests / seqlock_autotest OK 2.43s
101/119 DPDK:fast-tests / service_autotest OK 3.33s
102/119 DPDK:fast-tests / soring_autotest OK 0.63s
103/119 DPDK:fast-tests / spinlock_autotest OK 0.70s
104/119 DPDK:fast-tests / stack_autotest OK 0.86s
105/119 DPDK:fast-tests / stack_lf_autotest SKIP 0.05s exit status 77
106/119 DPDK:fast-tests / string_autotest OK 0.30s
107/119 DPDK:fast-tests / table_autotest OK 7.36s
108/119 DPDK:fast-tests / tailq_autotest OK 0.30s
109/119 DPDK:fast-tests / telemetry_data_autotest OK 0.31s
110/119 DPDK:fast-tests / telemetry_json_autotest OK 0.30s
111/119 DPDK:fast-tests / thash_autotest OK 0.32s
112/119 DPDK:fast-tests / threads_autotest OK 0.48s
113/119 DPDK:fast-tests / ticketlock_autotest OK 0.46s
114/119 DPDK:fast-tests / timer_autotest OK 3.86s
115/119 DPDK:fast-tests / trace_autotest OK 0.30s
116/119 DPDK:fast-tests / trace_autotest_with_traces OK 0.31s
117/119 DPDK:fast-tests / vdev_autotest OK 0.30s
118/119 DPDK:fast-tests / version_autotest OK 0.30s
119/119 DPDK:fast-tests / telemetry_all OK 1.28s
Ok: 112
Expected Fail: 0
Fail: 0
Unexpected Pass: 0
Skipped: 7
Timeout: 0
^ permalink raw reply [flat|nested] 18+ messages in thread
* |SUCCESS| pw150797 [PATCH v5 2/2] common/idpf: enable AVX2 for single queue Tx
[not found] <20250203075508.1304702-3-shaiq.wani@intel.com>
` (3 preceding siblings ...)
2025-02-03 7:29 ` qemudev
@ 2025-02-03 7:41 ` checkpatch
2025-02-03 8:44 ` 0-day Robot
` (12 subsequent siblings)
17 siblings, 0 replies; 18+ messages in thread
From: checkpatch @ 2025-02-03 7:41 UTC (permalink / raw)
To: test-report
Test-Label: checkpatch
Test-Status: SUCCESS
http://dpdk.org/patch/150797
_coding style OK_
^ permalink raw reply [flat|nested] 18+ messages in thread
* |SUCCESS| pw150797 [PATCH v5 2/2] common/idpf: enable AVX2 for single queue Tx
[not found] <20250203075508.1304702-3-shaiq.wani@intel.com>
` (4 preceding siblings ...)
2025-02-03 7:41 ` |SUCCESS| pw150797 " checkpatch
@ 2025-02-03 8:44 ` 0-day Robot
2025-02-03 9:46 ` |SUCCESS| pw150796-150797 [PATCH] [v5,2/2] common/idpf: enable AVX2 dpdklab
` (11 subsequent siblings)
17 siblings, 0 replies; 18+ messages in thread
From: 0-day Robot @ 2025-02-03 8:44 UTC (permalink / raw)
To: test-report; +Cc: robot
From: robot@bytheb.org
Test-Label: github-robot: build
Test-Status: SUCCESS
http://patchwork.dpdk.org/patch/150797/
_github build: passed_
Build URL: https://github.com/ovsrobot/dpdk/actions/runs/13108950648
^ permalink raw reply [flat|nested] 18+ messages in thread
* |SUCCESS| pw150796-150797 [PATCH] [v5,2/2] common/idpf: enable AVX2
[not found] <20250203075508.1304702-3-shaiq.wani@intel.com>
` (5 preceding siblings ...)
2025-02-03 8:44 ` 0-day Robot
@ 2025-02-03 9:46 ` dpdklab
2025-02-03 9:55 ` dpdklab
` (10 subsequent siblings)
17 siblings, 0 replies; 18+ messages in thread
From: dpdklab @ 2025-02-03 9:46 UTC (permalink / raw)
To: Test Report; +Cc: dpdk-test-reports
Test-Label: iol-sample-apps-testing
Test-Status: SUCCESS
http://dpdk.org/patch/150797
_Testing PASS_
Submitter: Shaiq Wani <shaiq.wani@intel.com>
Date: Monday, February 03 2025 07:55:08
DPDK git baseline: Repo:dpdk
Branch: master
CommitID:abf3b7b7b361f8aa8d75ae00d449b588a0cdcda3
150796-150797 --> testing pass
Upstream job id: Template-DTS-Pipeline#210333
Test environment and result as below:
+--------------------+----------------------+
| Environment | compressdev_zlib_pmd |
+====================+======================+
| Ubuntu 22.04 (ARM) | PASS |
+--------------------+----------------------+
Ubuntu 22.04 (ARM)
Kernel: 5.15.0-97-generic
Compiler: gcc gcc (Ubuntu 11.4.0-1ubuntu1~22.04) 11.4.0
To view detailed results, visit:
https://lab.dpdk.org/results/dashboard/patchsets/32481/
UNH-IOL DPDK Community Lab
To manage your email subscriptions, visit:
https://lab.dpdk.org/results/dashboard/preferences/subscriptions/
^ permalink raw reply [flat|nested] 18+ messages in thread
* |SUCCESS| pw150796-150797 [PATCH] [v5,2/2] common/idpf: enable AVX2
[not found] <20250203075508.1304702-3-shaiq.wani@intel.com>
` (6 preceding siblings ...)
2025-02-03 9:46 ` |SUCCESS| pw150796-150797 [PATCH] [v5,2/2] common/idpf: enable AVX2 dpdklab
@ 2025-02-03 9:55 ` dpdklab
2025-02-03 9:56 ` |PENDING| " dpdklab
` (9 subsequent siblings)
17 siblings, 0 replies; 18+ messages in thread
From: dpdklab @ 2025-02-03 9:55 UTC (permalink / raw)
To: Test Report; +Cc: dpdk-test-reports
Test-Label: iol-marvell-Functional
Test-Status: SUCCESS
http://dpdk.org/patch/150797
_Functional Testing PASS_
Submitter: Shaiq Wani <shaiq.wani@intel.com>
Date: Monday, February 03 2025 07:55:08
DPDK git baseline: Repo:dpdk
Branch: master
CommitID:abf3b7b7b361f8aa8d75ae00d449b588a0cdcda3
150796-150797 --> functional testing pass
Upstream job id: Template-DTS-Pipeline#210331
Test environment and result as below:
Ubuntu 20.04.6
Kernel: 5.4.105
Compiler: gcc 9.4
NIC: Marvell CN106XX 50000 Mbps
Target: arm64-native-linuxapp-gcc
Aggregate Results by Test Suite
+-----------------+--------+
| Test Suite | Result |
+=================+========+
| cmdline | PASS |
+-----------------+--------+
| ipv4_reassembly | PASS |
+-----------------+--------+
| rxtx_callbacks | PASS |
+-----------------+--------+
| tso | PASS |
+-----------------+--------+
To view detailed results, visit:
https://lab.dpdk.org/results/dashboard/patchsets/32481/
UNH-IOL DPDK Community Lab
To manage your email subscriptions, visit:
https://lab.dpdk.org/results/dashboard/preferences/subscriptions/
^ permalink raw reply [flat|nested] 18+ messages in thread
* |PENDING| pw150796-150797 [PATCH] [v5,2/2] common/idpf: enable AVX2
[not found] <20250203075508.1304702-3-shaiq.wani@intel.com>
` (7 preceding siblings ...)
2025-02-03 9:55 ` dpdklab
@ 2025-02-03 9:56 ` dpdklab
2025-02-03 10:05 ` dpdklab
` (8 subsequent siblings)
17 siblings, 0 replies; 18+ messages in thread
From: dpdklab @ 2025-02-03 9:56 UTC (permalink / raw)
To: Test Report; +Cc: dpdk-test-reports
Test-Label: iol-unit-amd64-testing
Test-Status: PENDING
http://dpdk.org/patch/150797
_Testing pending_
Submitter: Shaiq Wani <shaiq.wani@intel.com>
Date: Monday, February 03 2025 07:55:08
DPDK git baseline: Repo:dpdk
Branch: master
CommitID:abf3b7b7b361f8aa8d75ae00d449b588a0cdcda3
150796-150797 --> testing pending
Upstream job id: Generic-Unit-Test-DPDK#311197
Test environment and result as below:
+-------------------+----------------+
| Environment | dpdk_unit_test |
+===================+================+
| Fedora 40 | PEND |
+-------------------+----------------+
| Debian Bullseye | PEND |
+-------------------+----------------+
| Debian 12 | PEND |
+-------------------+----------------+
| CentOS Stream 9 | PEND |
+-------------------+----------------+
| Fedora 41 | PASS |
+-------------------+----------------+
| Fedora 41 (Clang) | PEND |
+-------------------+----------------+
| Fedora 40 (Clang) | PEND |
+-------------------+----------------+
| RHEL9 | PEND |
+-------------------+----------------+
| RHEL8 | PEND |
+-------------------+----------------+
| Ubuntu 22.04 | PEND |
+-------------------+----------------+
| Ubuntu 20.04 | PEND |
+-------------------+----------------+
| Ubuntu 24.04 | PEND |
+-------------------+----------------+
Fedora 40
Kernel: Depends on container host
Compiler: gcc 14.2.1 20240912 (Red Hat 14.2.1-3)
Debian Bullseye
Kernel: Depends on container host
Compiler: gcc (Debian 10.2.1-6) 10.2.1 20210110
Debian 12
Kernel: Depends on container host
Compiler: gcc (Debian 12.2.0-14) 12.2.0
CentOS Stream 9
Kernel: Depends on container host
Compiler: gcc 11.5.0 20240719 (Red Hat 11.5.0-2)
Fedora 41
Kernel: Depends on container host
Compiler: gcc 14.2.1 20240912 (Red Hat 14.2.1-3)
Fedora 41 (Clang)
Kernel: Depends on container host
Compiler: clang 19.1.5 (Fedora 19.1.5-1.fc41)
Fedora 40 (Clang)
Kernel: Depends on container host
Compiler: clang 18.1.8 (Fedora 18.1.8-1.fc40)
RHEL9
Kernel: Depends on container host
Compiler: gcc 11.5.0 20240719 (Red Hat 11.5.0-2)
RHEL8
Kernel: Depends on container host
Compiler: gcc 8.5.0 20210514 (Red Hat 8.5.0-22)
Ubuntu 22.04
Kernel: Depends on container host
Compiler: gcc (Ubuntu 11.4.0-1ubuntu1~22.04) 11.4.0
Ubuntu 20.04
Kernel: Depends on container host
Compiler: gcc (Ubuntu 9.4.0-1ubuntu1~20.04.2) 9.4.0
Ubuntu 24.04
Kernel: Depends on container host
Compiler: gcc (Ubuntu 13.3.0-6ubuntu2~24.04) 13.3.0
To view detailed results, visit:
https://lab.dpdk.org/results/dashboard/patchsets/32481/
UNH-IOL DPDK Community Lab
To manage your email subscriptions, visit:
https://lab.dpdk.org/results/dashboard/preferences/subscriptions/
^ permalink raw reply [flat|nested] 18+ messages in thread
* |PENDING| pw150796-150797 [PATCH] [v5,2/2] common/idpf: enable AVX2
[not found] <20250203075508.1304702-3-shaiq.wani@intel.com>
` (8 preceding siblings ...)
2025-02-03 9:56 ` |PENDING| " dpdklab
@ 2025-02-03 10:05 ` dpdklab
2025-02-03 10:10 ` |SUCCESS| " dpdklab
` (7 subsequent siblings)
17 siblings, 0 replies; 18+ messages in thread
From: dpdklab @ 2025-02-03 10:05 UTC (permalink / raw)
To: Test Report; +Cc: dpdk-test-reports
Test-Label: iol-unit-arm64-testing
Test-Status: PENDING
http://dpdk.org/patch/150797
_Testing pending_
Submitter: Shaiq Wani <shaiq.wani@intel.com>
Date: Monday, February 03 2025 07:55:08
DPDK git baseline: Repo:dpdk
Branch: master
CommitID:abf3b7b7b361f8aa8d75ae00d449b588a0cdcda3
150796-150797 --> testing pending
Upstream job id: Aarch32-Unit-Test#5176
Test environment and result as below:
+-----------------------------+----------------+------------------------------+---------------------------+--------------+
| Environment | dpdk_unit_test | cryptodev_sw_snow3g_autotest | cryptodev_sw_zuc_autotest | lpm_autotest |
+=============================+================+==============================+===========================+==============+
| 32-bit Ubuntu 22.04.4 (ARM) | PASS | SKIPPED | SKIPPED | SKIPPED |
+-----------------------------+----------------+------------------------------+---------------------------+--------------+
| Fedora 40 (ARM Clang) | PEND | SKIPPED | SKIPPED | SKIPPED |
+-----------------------------+----------------+------------------------------+---------------------------+--------------+
| Fedora 40 (ARM) | PEND | SKIPPED | SKIPPED | SKIPPED |
+-----------------------------+----------------+------------------------------+---------------------------+--------------+
| Debian 11 (Buster) (ARM) | PEND | SKIPPED | SKIPPED | SKIPPED |
+-----------------------------+----------------+------------------------------+---------------------------+--------------+
| CentOS Stream 9 (ARM) | PEND | SKIPPED | SKIPPED | SKIPPED |
+-----------------------------+----------------+------------------------------+---------------------------+--------------+
| Fedora 41 (ARM) | PEND | SKIPPED | SKIPPED | SKIPPED |
+-----------------------------+----------------+------------------------------+---------------------------+--------------+
| Ubuntu 20.04 (ARM) | PEND | SKIPPED | SKIPPED | SKIPPED |
+-----------------------------+----------------+------------------------------+---------------------------+--------------+
| Debian 12 (arm) | PEND | PEND | PEND | SKIPPED |
+-----------------------------+----------------+------------------------------+---------------------------+--------------+
| Fedora 41 (ARM Clang) | PEND | SKIPPED | SKIPPED | SKIPPED |
+-----------------------------+----------------+------------------------------+---------------------------+--------------+
| RHEL9 (ARM) | PEND | SKIPPED | SKIPPED | SKIPPED |
+-----------------------------+----------------+------------------------------+---------------------------+--------------+
| Ubuntu 22.04 (ARM) | PEND | SKIPPED | SKIPPED | SKIPPED |
+-----------------------------+----------------+------------------------------+---------------------------+--------------+
| Ubuntu 24.04 (ARM) | PEND | SKIPPED | SKIPPED | SKIPPED |
+-----------------------------+----------------+------------------------------+---------------------------+--------------+
| Ubuntu 20.04 ARM SVE | SKIPPED | SKIPPED | SKIPPED | PEND |
+-----------------------------+----------------+------------------------------+---------------------------+--------------+
32-bit Ubuntu 22.04.4 (ARM)
Kernel: 5.15.83+ aarch64
Compiler: gcc (Ubuntu 11.4.0-1ubuntu1~22.04) 11.4.0
Fedora 40 (ARM Clang)
Kernel: Depends on container host
Compiler: clang 18.1.8 (Fedora 18.1.8-1.fc40)
Fedora 40 (ARM)
Kernel: Depends on container host
Compiler: gcc 14.2.1 20240912 (Red Hat 14.2.1-3)
Debian 11 (Buster) (ARM)
Kernel: Depends on container host
Compiler: gcc (Debian 10.2.1-6) 10.2.1 20210110
CentOS Stream 9 (ARM)
Kernel: Depends on container host
Compiler: gcc 11.5.0 20240719 (Red Hat 11.5.0-2)
Fedora 41 (ARM)
Kernel: Depends on container host
Compiler: gcc 14.2.1 20240912 (Red Hat 14.2.1-3)
Ubuntu 20.04 (ARM)
Kernel: Depends on container host
Compiler: gcc (Ubuntu 9.4.0-1ubuntu1~20.04.2) 9.4.0
Debian 12 (arm)
Kernel: Depends on container host
Compiler: gcc (Debian 12.2.0-14) 12.2.0
Fedora 41 (ARM Clang)
Kernel: Depends on container host
Compiler: clang 19.1.5 (Fedora 19.1.5-1.fc41)
RHEL9 (ARM)
Kernel: Depends on container host
Compiler: gcc 11.5.0 20240719 (Red Hat 11.5.0-2)
Ubuntu 22.04 (ARM)
Kernel: Depends on container host
Compiler: gcc (Ubuntu 11.4.0-1ubuntu1~22.04) 11.4.0
Ubuntu 24.04 (ARM)
Kernel: Depends on container host
Compiler: gcc (Ubuntu 13.3.0-6ubuntu2~24.04) 13.3.0
Ubuntu 20.04 ARM SVE
Kernel: Depends on container host
Compiler: gcc (Ubuntu 10.5.0-1ubuntu1~20.04) 10.5.0
To view detailed results, visit:
https://lab.dpdk.org/results/dashboard/patchsets/32481/
UNH-IOL DPDK Community Lab
To manage your email subscriptions, visit:
https://lab.dpdk.org/results/dashboard/preferences/subscriptions/
^ permalink raw reply [flat|nested] 18+ messages in thread
* |SUCCESS| pw150796-150797 [PATCH] [v5,2/2] common/idpf: enable AVX2
[not found] <20250203075508.1304702-3-shaiq.wani@intel.com>
` (9 preceding siblings ...)
2025-02-03 10:05 ` dpdklab
@ 2025-02-03 10:10 ` dpdklab
2025-02-03 10:20 ` |PENDING| " dpdklab
` (6 subsequent siblings)
17 siblings, 0 replies; 18+ messages in thread
From: dpdklab @ 2025-02-03 10:10 UTC (permalink / raw)
To: Test Report; +Cc: dpdk-test-reports
Test-Label: iol-sample-apps-testing
Test-Status: SUCCESS
http://dpdk.org/patch/150797
_Testing PASS_
Submitter: Shaiq Wani <shaiq.wani@intel.com>
Date: Monday, February 03 2025 07:55:08
DPDK git baseline: Repo:dpdk
Branch: master
CommitID:abf3b7b7b361f8aa8d75ae00d449b588a0cdcda3
150796-150797 --> testing pass
Upstream job id: Template-DTS-Pipeline#210332
Test environment and result as below:
+--------------------+----------------------+
| Environment | compressdev_zlib_pmd |
+====================+======================+
| Ubuntu 22.04 (ARM) | PASS |
+--------------------+----------------------+
| Ubuntu 22.04 | PASS |
+--------------------+----------------------+
Ubuntu 22.04 (ARM)
Kernel: 5.15.0-97-generic
Compiler: gcc gcc (Ubuntu 11.4.0-1ubuntu1~22.04) 11.4.0
Ubuntu 22.04
Kernel: 5.15.0-100-generic
Compiler: gcc gcc (Ubuntu 11.4.0-1ubuntu1~22.04) 11.4.0
To view detailed results, visit:
https://lab.dpdk.org/results/dashboard/patchsets/32481/
UNH-IOL DPDK Community Lab
To manage your email subscriptions, visit:
https://lab.dpdk.org/results/dashboard/preferences/subscriptions/
^ permalink raw reply [flat|nested] 18+ messages in thread
* |PENDING| pw150796-150797 [PATCH] [v5,2/2] common/idpf: enable AVX2
[not found] <20250203075508.1304702-3-shaiq.wani@intel.com>
` (10 preceding siblings ...)
2025-02-03 10:10 ` |SUCCESS| " dpdklab
@ 2025-02-03 10:20 ` dpdklab
2025-02-03 10:26 ` |SUCCESS| " dpdklab
` (5 subsequent siblings)
17 siblings, 0 replies; 18+ messages in thread
From: dpdklab @ 2025-02-03 10:20 UTC (permalink / raw)
To: Test Report; +Cc: dpdk-test-reports
Test-Label: iol-compile-arm64-testing
Test-Status: PENDING
http://dpdk.org/patch/150797
_Testing pending_
Submitter: Shaiq Wani <shaiq.wani@intel.com>
Date: Monday, February 03 2025 07:55:08
DPDK git baseline: Repo:dpdk
Branch: master
CommitID:abf3b7b7b361f8aa8d75ae00d449b588a0cdcda3
150796-150797 --> testing pending
Upstream job id: Generic-DPDK-Compile-Meson#357316
Test environment and result as below:
+------------------------------------+--------------------+
| Environment | dpdk_meson_compile |
+====================================+====================+
| Ubuntu 20.04 ARM GCC Cross Compile | PEND |
+------------------------------------+--------------------+
| RHEL9 (ARM) | PEND |
+------------------------------------+--------------------+
| Ubuntu 20.04 ARM SVE | PASS |
+------------------------------------+--------------------+
| Debian 12 with MUSDK | PEND |
+------------------------------------+--------------------+
| Fedora 40 (ARM Clang) | PEND |
+------------------------------------+--------------------+
| Fedora 41 (ARM Clang) | PEND |
+------------------------------------+--------------------+
Ubuntu 20.04 ARM GCC Cross Compile
Kernel: Depends on container host
Compiler: aarch64-linux-gnu-gcc (Ubuntu 9.4.0-1ubuntu1~20.04.2) 9.4.0
RHEL9 (ARM)
Kernel: Depends on container host
Compiler: gcc 11.5.0 20240719 (Red Hat 11.5.0-2)
Ubuntu 20.04 ARM SVE
Kernel: Depends on container host
Compiler: gcc (Ubuntu 10.5.0-1ubuntu1~20.04) 10.5.0
Debian 12 with MUSDK
Kernel: Depends on container host
Compiler: gcc (Debian 12.2.0-14) 12.2.0
Fedora 40 (ARM Clang)
Kernel: Depends on container host
Compiler: clang 18.1.8 (Fedora 18.1.8-1.fc40)
Fedora 41 (ARM Clang)
Kernel: Depends on container host
Compiler: clang 19.1.5 (Fedora 19.1.5-1.fc41)
To view detailed results, visit:
https://lab.dpdk.org/results/dashboard/patchsets/32481/
UNH-IOL DPDK Community Lab
To manage your email subscriptions, visit:
https://lab.dpdk.org/results/dashboard/preferences/subscriptions/
^ permalink raw reply [flat|nested] 18+ messages in thread
* |SUCCESS| pw150796-150797 [PATCH] [v5,2/2] common/idpf: enable AVX2
[not found] <20250203075508.1304702-3-shaiq.wani@intel.com>
` (11 preceding siblings ...)
2025-02-03 10:20 ` |PENDING| " dpdklab
@ 2025-02-03 10:26 ` dpdklab
2025-02-03 10:47 ` dpdklab
` (4 subsequent siblings)
17 siblings, 0 replies; 18+ messages in thread
From: dpdklab @ 2025-02-03 10:26 UTC (permalink / raw)
To: Test Report; +Cc: dpdk-test-reports
Test-Label: iol-abi-testing
Test-Status: SUCCESS
http://dpdk.org/patch/150797
_Testing PASS_
Submitter: Shaiq Wani <shaiq.wani@intel.com>
Date: Monday, February 03 2025 07:55:08
DPDK git baseline: Repo:dpdk
Branch: master
CommitID:abf3b7b7b361f8aa8d75ae00d449b588a0cdcda3
150796-150797 --> testing pass
Upstream job id: Generic-DPDK-Compile-ABI#114585
Test environment and result as below:
+-------------------+----------+
| Environment | abi_test |
+===================+==========+
| CentOS Stream 9 | PASS |
+-------------------+----------+
| Debian 12 | PASS |
+-------------------+----------+
| Debian Bullseye | PASS |
+-------------------+----------+
| Fedora 40 | PASS |
+-------------------+----------+
| Fedora 41 (Clang) | PASS |
+-------------------+----------+
| Fedora 40 (Clang) | PASS |
+-------------------+----------+
| openSUSE Leap 15 | PASS |
+-------------------+----------+
| Fedora 41 | PASS |
+-------------------+----------+
| RHEL8 | PASS |
+-------------------+----------+
| RHEL9 | PASS |
+-------------------+----------+
| Ubuntu 22.04 | PASS |
+-------------------+----------+
| Ubuntu 24.04 | PASS |
+-------------------+----------+
CentOS Stream 9
Kernel: Depends on container host
Compiler: gcc 11.5.0 20240719 (Red Hat 11.5.0-2)
Debian 12
Kernel: Depends on container host
Compiler: gcc (Debian 12.2.0-14) 12.2.0
Debian Bullseye
Kernel: Depends on container host
Compiler: gcc (Debian 10.2.1-6) 10.2.1 20210110
Fedora 40
Kernel: Depends on container host
Compiler: gcc 14.2.1 20240912 (Red Hat 14.2.1-3)
Fedora 41 (Clang)
Kernel: Depends on container host
Compiler: clang 19.1.5 (Fedora 19.1.5-1.fc41)
Fedora 40 (Clang)
Kernel: Depends on container host
Compiler: clang 18.1.8 (Fedora 18.1.8-1.fc40)
openSUSE Leap 15
Kernel: Depends on container host
Compiler: gcc (SUSE Linux) 7.5.0
Fedora 41
Kernel: Depends on container host
Compiler: gcc 14.2.1 20240912 (Red Hat 14.2.1-3)
RHEL8
Kernel: Depends on container host
Compiler: gcc 8.5.0 20210514 (Red Hat 8.5.0-22)
RHEL9
Kernel: Depends on container host
Compiler: gcc 11.5.0 20240719 (Red Hat 11.5.0-2)
Ubuntu 22.04
Kernel: Depends on container host
Compiler: gcc (Ubuntu 11.4.0-1ubuntu1~22.04) 11.4.0
Ubuntu 24.04
Kernel: Depends on container host
Compiler: gcc (Ubuntu 13.3.0-6ubuntu2~24.04) 13.3.0
To view detailed results, visit:
https://lab.dpdk.org/results/dashboard/patchsets/32481/
UNH-IOL DPDK Community Lab
To manage your email subscriptions, visit:
https://lab.dpdk.org/results/dashboard/preferences/subscriptions/
^ permalink raw reply [flat|nested] 18+ messages in thread
* |SUCCESS| pw150796-150797 [PATCH] [v5,2/2] common/idpf: enable AVX2
[not found] <20250203075508.1304702-3-shaiq.wani@intel.com>
` (12 preceding siblings ...)
2025-02-03 10:26 ` |SUCCESS| " dpdklab
@ 2025-02-03 10:47 ` dpdklab
2025-02-03 11:09 ` dpdklab
` (3 subsequent siblings)
17 siblings, 0 replies; 18+ messages in thread
From: dpdklab @ 2025-02-03 10:47 UTC (permalink / raw)
To: Test Report; +Cc: dpdk-test-reports
Test-Label: iol-unit-amd64-testing
Test-Status: SUCCESS
http://dpdk.org/patch/150797
_Testing PASS_
Submitter: Shaiq Wani <shaiq.wani@intel.com>
Date: Monday, February 03 2025 07:55:08
DPDK git baseline: Repo:dpdk
Branch: master
CommitID:abf3b7b7b361f8aa8d75ae00d449b588a0cdcda3
150796-150797 --> testing pass
Upstream job id: Generic-Unit-Test-DPDK#311211
Test environment and result as below:
+---------------------+----------------+
| Environment | dpdk_unit_test |
+=====================+================+
| Fedora 40 | PASS |
+---------------------+----------------+
| Debian Bullseye | PASS |
+---------------------+----------------+
| Debian 12 | PASS |
+---------------------+----------------+
| CentOS Stream 9 | PASS |
+---------------------+----------------+
| Fedora 41 | PASS |
+---------------------+----------------+
| Fedora 41 (Clang) | PASS |
+---------------------+----------------+
| Fedora 40 (Clang) | PASS |
+---------------------+----------------+
| RHEL9 | PASS |
+---------------------+----------------+
| RHEL8 | PASS |
+---------------------+----------------+
| Ubuntu 22.04 | PASS |
+---------------------+----------------+
| Ubuntu 20.04 | PASS |
+---------------------+----------------+
| Ubuntu 24.04 | PASS |
+---------------------+----------------+
| Windows Server 2022 | PASS |
+---------------------+----------------+
Fedora 40
Kernel: Depends on container host
Compiler: gcc 14.2.1 20240912 (Red Hat 14.2.1-3)
Debian Bullseye
Kernel: Depends on container host
Compiler: gcc (Debian 10.2.1-6) 10.2.1 20210110
Debian 12
Kernel: Depends on container host
Compiler: gcc (Debian 12.2.0-14) 12.2.0
CentOS Stream 9
Kernel: Depends on container host
Compiler: gcc 11.5.0 20240719 (Red Hat 11.5.0-2)
Fedora 41
Kernel: Depends on container host
Compiler: gcc 14.2.1 20240912 (Red Hat 14.2.1-3)
Fedora 41 (Clang)
Kernel: Depends on container host
Compiler: clang 19.1.5 (Fedora 19.1.5-1.fc41)
Fedora 40 (Clang)
Kernel: Depends on container host
Compiler: clang 18.1.8 (Fedora 18.1.8-1.fc40)
RHEL9
Kernel: Depends on container host
Compiler: gcc 11.5.0 20240719 (Red Hat 11.5.0-2)
RHEL8
Kernel: Depends on container host
Compiler: gcc 8.5.0 20210514 (Red Hat 8.5.0-22)
Ubuntu 22.04
Kernel: Depends on container host
Compiler: gcc (Ubuntu 11.4.0-1ubuntu1~22.04) 11.4.0
Ubuntu 20.04
Kernel: Depends on container host
Compiler: gcc (Ubuntu 9.4.0-1ubuntu1~20.04.2) 9.4.0
Ubuntu 24.04
Kernel: Depends on container host
Compiler: gcc (Ubuntu 13.3.0-6ubuntu2~24.04) 13.3.0
Windows Server 2022
Kernel: 10.0.20348.2031
Compiler: clang 15.0.7, gcc 14.1.0 (MinGW), and MSVC VS 19.39.33521
To view detailed results, visit:
https://lab.dpdk.org/results/dashboard/patchsets/32481/
UNH-IOL DPDK Community Lab
To manage your email subscriptions, visit:
https://lab.dpdk.org/results/dashboard/preferences/subscriptions/
^ permalink raw reply [flat|nested] 18+ messages in thread
* |SUCCESS| pw150796-150797 [PATCH] [v5,2/2] common/idpf: enable AVX2
[not found] <20250203075508.1304702-3-shaiq.wani@intel.com>
` (13 preceding siblings ...)
2025-02-03 10:47 ` dpdklab
@ 2025-02-03 11:09 ` dpdklab
2025-02-03 11:16 ` |WARNING| " dpdklab
` (2 subsequent siblings)
17 siblings, 0 replies; 18+ messages in thread
From: dpdklab @ 2025-02-03 11:09 UTC (permalink / raw)
To: Test Report; +Cc: dpdk-test-reports
Test-Label: iol-sample-apps-testing
Test-Status: SUCCESS
http://dpdk.org/patch/150797
_Testing PASS_
Submitter: Shaiq Wani <shaiq.wani@intel.com>
Date: Monday, February 03 2025 07:55:08
DPDK git baseline: Repo:dpdk
Branch: master
CommitID:abf3b7b7b361f8aa8d75ae00d449b588a0cdcda3
150796-150797 --> testing pass
Upstream job id: ACVP-FIPS-testing#8765
Test environment and result as below:
+--------------------+----------------------+----------------------+
| Environment | compressdev_zlib_pmd | dpdk_fips_validation |
+====================+======================+======================+
| Ubuntu 22.04 (ARM) | PASS | SKIPPED |
+--------------------+----------------------+----------------------+
| Ubuntu 22.04 | PASS | SKIPPED |
+--------------------+----------------------+----------------------+
| Ubuntu 20.04 | SKIPPED | PASS |
+--------------------+----------------------+----------------------+
Ubuntu 22.04 (ARM)
Kernel: 5.15.0-97-generic
Compiler: gcc gcc (Ubuntu 11.4.0-1ubuntu1~22.04) 11.4.0
Ubuntu 22.04
Kernel: 5.15.0-100-generic
Compiler: gcc gcc (Ubuntu 11.4.0-1ubuntu1~22.04) 11.4.0
Ubuntu 20.04
Kernel: Depends on container host
Compiler: gcc (Ubuntu 9.4.0-1ubuntu1~20.04.2) 9.4.0
To view detailed results, visit:
https://lab.dpdk.org/results/dashboard/patchsets/32481/
UNH-IOL DPDK Community Lab
To manage your email subscriptions, visit:
https://lab.dpdk.org/results/dashboard/preferences/subscriptions/
^ permalink raw reply [flat|nested] 18+ messages in thread
* |WARNING| pw150796-150797 [PATCH] [v5,2/2] common/idpf: enable AVX2
[not found] <20250203075508.1304702-3-shaiq.wani@intel.com>
` (14 preceding siblings ...)
2025-02-03 11:09 ` dpdklab
@ 2025-02-03 11:16 ` dpdklab
2025-02-03 11:23 ` |SUCCESS| " dpdklab
2025-02-03 11:53 ` dpdklab
17 siblings, 0 replies; 18+ messages in thread
From: dpdklab @ 2025-02-03 11:16 UTC (permalink / raw)
To: Test Report; +Cc: dpdk-test-reports
Test-Label: iol-compile-amd64-testing
Test-Status: WARNING
http://dpdk.org/patch/150797
_Testing issues_
Submitter: Shaiq Wani <shaiq.wani@intel.com>
Date: Monday, February 03 2025 07:55:08
DPDK git baseline: Repo:dpdk
Branch: master
CommitID:abf3b7b7b361f8aa8d75ae00d449b588a0cdcda3
150796-150797 --> testing issues
Upstream job id: Generic-DPDK-Compile-Meson#357313
Test environment and result as below:
+---------------------+--------------------+------------------+-------------------+-------------------+----------------------+
| Environment | dpdk_meson_compile | dpdk_compile_ovs | dpdk_compile_spdk | dpdk_msvc_compile | dpdk_mingw64_compile |
+=====================+====================+==================+===================+===================+======================+
| CentOS Stream 9 | PASS | PASS | PASS | SKIPPED | SKIPPED |
+---------------------+--------------------+------------------+-------------------+-------------------+----------------------+
| Debian 12 | PASS | PASS | PASS | SKIPPED | SKIPPED |
+---------------------+--------------------+------------------+-------------------+-------------------+----------------------+
| Debian Bullseye | PASS | PASS | PASS | SKIPPED | SKIPPED |
+---------------------+--------------------+------------------+-------------------+-------------------+----------------------+
| Fedora 41 (Clang) | PASS | PASS | PASS | SKIPPED | SKIPPED |
+---------------------+--------------------+------------------+-------------------+-------------------+----------------------+
| Fedora 40 | PASS | PASS | PASS | SKIPPED | SKIPPED |
+---------------------+--------------------+------------------+-------------------+-------------------+----------------------+
| Fedora 40 (Clang) | PASS | PASS | PASS | SKIPPED | SKIPPED |
+---------------------+--------------------+------------------+-------------------+-------------------+----------------------+
| RHEL9 | PASS | PASS | SKIPPED | SKIPPED | SKIPPED |
+---------------------+--------------------+------------------+-------------------+-------------------+----------------------+
| RHEL8 | PASS | PASS | SKIPPED | SKIPPED | SKIPPED |
+---------------------+--------------------+------------------+-------------------+-------------------+----------------------+
| openSUSE Leap 15 | PASS | SKIPPED | SKIPPED | SKIPPED | SKIPPED |
+---------------------+--------------------+------------------+-------------------+-------------------+----------------------+
| Ubuntu 20.04 | PASS | WARN | SKIPPED | SKIPPED | SKIPPED |
+---------------------+--------------------+------------------+-------------------+-------------------+----------------------+
| Ubuntu 22.04 | PASS | PASS | PASS | SKIPPED | SKIPPED |
+---------------------+--------------------+------------------+-------------------+-------------------+----------------------+
| Ubuntu 24.04 | PASS | PASS | PASS | SKIPPED | SKIPPED |
+---------------------+--------------------+------------------+-------------------+-------------------+----------------------+
| Alpine | PASS | PASS | SKIPPED | SKIPPED | SKIPPED |
+---------------------+--------------------+------------------+-------------------+-------------------+----------------------+
| FreeBSD 13.4 | PASS | SKIPPED | SKIPPED | SKIPPED | SKIPPED |
+---------------------+--------------------+------------------+-------------------+-------------------+----------------------+
| FreeBSD 14.2 | PASS | SKIPPED | SKIPPED | SKIPPED | SKIPPED |
+---------------------+--------------------+------------------+-------------------+-------------------+----------------------+
| Fedora 41 | PASS | PASS | PASS | SKIPPED | SKIPPED |
+---------------------+--------------------+------------------+-------------------+-------------------+----------------------+
| Windows Server 2022 | SKIPPED | SKIPPED | SKIPPED | PASS | PASS |
+---------------------+--------------------+------------------+-------------------+-------------------+----------------------+
==== 20 line log output for Ubuntu 20.04 (dpdk_compile_ovs): ====
--- Failed to get log output ---
==== End log output ====
CentOS Stream 9
Kernel: Depends on container host
Compiler: gcc 11.5.0 20240719 (Red Hat 11.5.0-2)
Debian 12
Kernel: Depends on container host
Compiler: gcc (Debian 12.2.0-14) 12.2.0
Debian Bullseye
Kernel: Depends on container host
Compiler: gcc (Debian 10.2.1-6) 10.2.1 20210110
Fedora 41 (Clang)
Kernel: Depends on container host
Compiler: clang 19.1.5 (Fedora 19.1.5-1.fc41)
Fedora 40
Kernel: Depends on container host
Compiler: gcc 14.2.1 20240912 (Red Hat 14.2.1-3)
Fedora 40 (Clang)
Kernel: Depends on container host
Compiler: clang 18.1.8 (Fedora 18.1.8-1.fc40)
RHEL9
Kernel: Depends on container host
Compiler: gcc 11.5.0 20240719 (Red Hat 11.5.0-2)
RHEL8
Kernel: Depends on container host
Compiler: gcc 8.5.0 20210514 (Red Hat 8.5.0-22)
openSUSE Leap 15
Kernel: Depends on container host
Compiler: gcc (SUSE Linux) 7.5.0
Ubuntu 20.04
Kernel: Depends on container host
Compiler: gcc (Ubuntu 9.4.0-1ubuntu1~20.04.2) 9.4.0
Ubuntu 22.04
Kernel: Depends on container host
Compiler: gcc (Ubuntu 11.4.0-1ubuntu1~22.04) 11.4.0
Ubuntu 24.04
Kernel: Depends on container host
Compiler: gcc (Ubuntu 13.3.0-6ubuntu2~24.04) 13.3.0
Alpine
Kernel: Depends on container host
Compiler: gcc (Alpine 14.2.0) 14.2.0
FreeBSD 13.4
Kernel: 13.4-RELEASE-p1
Compiler: clang 18.1.6
FreeBSD 14.2
Kernel: 14.2-RELEASE
Compiler: clang 18.1.6
Fedora 41
Kernel: Depends on container host
Compiler: gcc 14.2.1 20240912 (Red Hat 14.2.1-3)
Windows Server 2022
Kernel: 10.0.20348.2031
Compiler: clang 15.0.7, gcc 14.1.0 (MinGW), and MSVC VS 19.39.33521
To view detailed results, visit:
https://lab.dpdk.org/results/dashboard/patchsets/32481/
UNH-IOL DPDK Community Lab
To manage your email subscriptions, visit:
https://lab.dpdk.org/results/dashboard/preferences/subscriptions/
^ permalink raw reply [flat|nested] 18+ messages in thread
* |SUCCESS| pw150796-150797 [PATCH] [v5,2/2] common/idpf: enable AVX2
[not found] <20250203075508.1304702-3-shaiq.wani@intel.com>
` (15 preceding siblings ...)
2025-02-03 11:16 ` |WARNING| " dpdklab
@ 2025-02-03 11:23 ` dpdklab
2025-02-03 11:53 ` dpdklab
17 siblings, 0 replies; 18+ messages in thread
From: dpdklab @ 2025-02-03 11:23 UTC (permalink / raw)
To: Test Report; +Cc: dpdk-test-reports
Test-Label: iol-unit-arm64-testing
Test-Status: SUCCESS
http://dpdk.org/patch/150797
_Testing PASS_
Submitter: Shaiq Wani <shaiq.wani@intel.com>
Date: Monday, February 03 2025 07:55:08
DPDK git baseline: Repo:dpdk
Branch: master
CommitID:abf3b7b7b361f8aa8d75ae00d449b588a0cdcda3
150796-150797 --> testing pass
Upstream job id: Generic-Unit-Test-DPDK#311212
Test environment and result as below:
+-----------------------------+----------------+------------------------------+---------------------------+--------------+
| Environment | dpdk_unit_test | cryptodev_sw_snow3g_autotest | cryptodev_sw_zuc_autotest | lpm_autotest |
+=============================+================+==============================+===========================+==============+
| 32-bit Ubuntu 22.04.4 (ARM) | PASS | SKIPPED | SKIPPED | SKIPPED |
+-----------------------------+----------------+------------------------------+---------------------------+--------------+
| Fedora 40 (ARM Clang) | PASS | SKIPPED | SKIPPED | SKIPPED |
+-----------------------------+----------------+------------------------------+---------------------------+--------------+
| Fedora 40 (ARM) | PASS | SKIPPED | SKIPPED | SKIPPED |
+-----------------------------+----------------+------------------------------+---------------------------+--------------+
| Debian 11 (Buster) (ARM) | PASS | SKIPPED | SKIPPED | SKIPPED |
+-----------------------------+----------------+------------------------------+---------------------------+--------------+
| CentOS Stream 9 (ARM) | PASS | SKIPPED | SKIPPED | SKIPPED |
+-----------------------------+----------------+------------------------------+---------------------------+--------------+
| Fedora 41 (ARM) | PASS | SKIPPED | SKIPPED | SKIPPED |
+-----------------------------+----------------+------------------------------+---------------------------+--------------+
| Ubuntu 20.04 (ARM) | PASS | SKIPPED | SKIPPED | SKIPPED |
+-----------------------------+----------------+------------------------------+---------------------------+--------------+
| Debian 12 (arm) | PASS | PASS | PASS | SKIPPED |
+-----------------------------+----------------+------------------------------+---------------------------+--------------+
| Fedora 41 (ARM Clang) | PASS | SKIPPED | SKIPPED | SKIPPED |
+-----------------------------+----------------+------------------------------+---------------------------+--------------+
| RHEL9 (ARM) | PASS | SKIPPED | SKIPPED | SKIPPED |
+-----------------------------+----------------+------------------------------+---------------------------+--------------+
| Ubuntu 22.04 (ARM) | PASS | SKIPPED | SKIPPED | SKIPPED |
+-----------------------------+----------------+------------------------------+---------------------------+--------------+
| Ubuntu 24.04 (ARM) | PASS | SKIPPED | SKIPPED | SKIPPED |
+-----------------------------+----------------+------------------------------+---------------------------+--------------+
| Ubuntu 20.04 ARM SVE | SKIPPED | SKIPPED | SKIPPED | PASS |
+-----------------------------+----------------+------------------------------+---------------------------+--------------+
32-bit Ubuntu 22.04.4 (ARM)
Kernel: 5.15.83+ aarch64
Compiler: gcc (Ubuntu 11.4.0-1ubuntu1~22.04) 11.4.0
Fedora 40 (ARM Clang)
Kernel: Depends on container host
Compiler: clang 18.1.8 (Fedora 18.1.8-1.fc40)
Fedora 40 (ARM)
Kernel: Depends on container host
Compiler: gcc 14.2.1 20240912 (Red Hat 14.2.1-3)
Debian 11 (Buster) (ARM)
Kernel: Depends on container host
Compiler: gcc (Debian 10.2.1-6) 10.2.1 20210110
CentOS Stream 9 (ARM)
Kernel: Depends on container host
Compiler: gcc 11.5.0 20240719 (Red Hat 11.5.0-2)
Fedora 41 (ARM)
Kernel: Depends on container host
Compiler: gcc 14.2.1 20240912 (Red Hat 14.2.1-3)
Ubuntu 20.04 (ARM)
Kernel: Depends on container host
Compiler: gcc (Ubuntu 9.4.0-1ubuntu1~20.04.2) 9.4.0
Debian 12 (arm)
Kernel: Depends on container host
Compiler: gcc (Debian 12.2.0-14) 12.2.0
Fedora 41 (ARM Clang)
Kernel: Depends on container host
Compiler: clang 19.1.5 (Fedora 19.1.5-1.fc41)
RHEL9 (ARM)
Kernel: Depends on container host
Compiler: gcc 11.5.0 20240719 (Red Hat 11.5.0-2)
Ubuntu 22.04 (ARM)
Kernel: Depends on container host
Compiler: gcc (Ubuntu 11.4.0-1ubuntu1~22.04) 11.4.0
Ubuntu 24.04 (ARM)
Kernel: Depends on container host
Compiler: gcc (Ubuntu 13.3.0-6ubuntu2~24.04) 13.3.0
Ubuntu 20.04 ARM SVE
Kernel: Depends on container host
Compiler: gcc (Ubuntu 10.5.0-1ubuntu1~20.04) 10.5.0
To view detailed results, visit:
https://lab.dpdk.org/results/dashboard/patchsets/32481/
UNH-IOL DPDK Community Lab
To manage your email subscriptions, visit:
https://lab.dpdk.org/results/dashboard/preferences/subscriptions/
^ permalink raw reply [flat|nested] 18+ messages in thread
* |SUCCESS| pw150796-150797 [PATCH] [v5,2/2] common/idpf: enable AVX2
[not found] <20250203075508.1304702-3-shaiq.wani@intel.com>
` (16 preceding siblings ...)
2025-02-03 11:23 ` |SUCCESS| " dpdklab
@ 2025-02-03 11:53 ` dpdklab
17 siblings, 0 replies; 18+ messages in thread
From: dpdklab @ 2025-02-03 11:53 UTC (permalink / raw)
To: Test Report; +Cc: dpdk-test-reports
Test-Label: iol-compile-arm64-testing
Test-Status: SUCCESS
http://dpdk.org/patch/150797
_Testing PASS_
Submitter: Shaiq Wani <shaiq.wani@intel.com>
Date: Monday, February 03 2025 07:55:08
DPDK git baseline: Repo:dpdk
Branch: master
CommitID:abf3b7b7b361f8aa8d75ae00d449b588a0cdcda3
150796-150797 --> testing pass
Upstream job id: Generic-DPDK-Compile-Meson#357321
Test environment and result as below:
+----------------------------------------+--------------------+
| Environment | dpdk_meson_compile |
+========================================+====================+
| Ubuntu 20.04 ARM GCC Cross Compile | PASS |
+----------------------------------------+--------------------+
| RHEL9 (ARM) | PASS |
+----------------------------------------+--------------------+
| Ubuntu 20.04 ARM SVE | PASS |
+----------------------------------------+--------------------+
| Debian 12 with MUSDK | PASS |
+----------------------------------------+--------------------+
| Fedora 40 (ARM Clang) | PASS |
+----------------------------------------+--------------------+
| Fedora 41 (ARM Clang) | PASS |
+----------------------------------------+--------------------+
| Fedora 40 (ARM) | PASS |
+----------------------------------------+--------------------+
| Fedora 41 (ARM) | PASS |
+----------------------------------------+--------------------+
| Ubuntu 20.04 (ARM) | PASS |
+----------------------------------------+--------------------+
| Ubuntu 22.04 (ARM) | PASS |
+----------------------------------------+--------------------+
| Debian 11 (Buster) (ARM) | PASS |
+----------------------------------------+--------------------+
| CentOS Stream 9 (ARM) | PASS |
+----------------------------------------+--------------------+
| Ubuntu 20.04 aarch32 GCC Cross Compile | PASS |
+----------------------------------------+--------------------+
| Debian 12 (arm) | PASS |
+----------------------------------------+--------------------+
| Ubuntu 20.04 ARM Clang Cross Compile | PASS |
+----------------------------------------+--------------------+
| Ubuntu 24.04 (ARM) | PASS |
+----------------------------------------+--------------------+
Ubuntu 20.04 ARM GCC Cross Compile
Kernel: Depends on container host
Compiler: aarch64-linux-gnu-gcc (Ubuntu 9.4.0-1ubuntu1~20.04.2) 9.4.0
RHEL9 (ARM)
Kernel: Depends on container host
Compiler: gcc 11.5.0 20240719 (Red Hat 11.5.0-2)
Ubuntu 20.04 ARM SVE
Kernel: Depends on container host
Compiler: gcc (Ubuntu 10.5.0-1ubuntu1~20.04) 10.5.0
Debian 12 with MUSDK
Kernel: Depends on container host
Compiler: gcc (Debian 12.2.0-14) 12.2.0
Fedora 40 (ARM Clang)
Kernel: Depends on container host
Compiler: clang 18.1.8 (Fedora 18.1.8-1.fc40)
Fedora 41 (ARM Clang)
Kernel: Depends on container host
Compiler: clang 19.1.5 (Fedora 19.1.5-1.fc41)
Fedora 40 (ARM)
Kernel: Depends on container host
Compiler: gcc 14.2.1 20240912 (Red Hat 14.2.1-3)
Fedora 41 (ARM)
Kernel: Depends on container host
Compiler: gcc 14.2.1 20240912 (Red Hat 14.2.1-3)
Ubuntu 20.04 (ARM)
Kernel: Depends on container host
Compiler: gcc (Ubuntu 9.4.0-1ubuntu1~20.04.2) 9.4.0
Ubuntu 22.04 (ARM)
Kernel: Depends on container host
Compiler: gcc (Ubuntu 11.4.0-1ubuntu1~22.04) 11.4.0
Debian 11 (Buster) (ARM)
Kernel: Depends on container host
Compiler: gcc (Debian 10.2.1-6) 10.2.1 20210110
CentOS Stream 9 (ARM)
Kernel: Depends on container host
Compiler: gcc 11.5.0 20240719 (Red Hat 11.5.0-2)
Ubuntu 20.04 aarch32 GCC Cross Compile
Kernel: Depends on container host
Compiler: gcc 9.4.0
Debian 12 (arm)
Kernel: Depends on container host
Compiler: gcc (Debian 12.2.0-14) 12.2.0
Ubuntu 20.04 ARM Clang Cross Compile
Kernel: Depends on container host
Compiler: clang 10.0.0-4ubuntu1
Ubuntu 24.04 (ARM)
Kernel: Depends on container host
Compiler: gcc (Ubuntu 13.3.0-6ubuntu2~24.04) 13.3.0
To view detailed results, visit:
https://lab.dpdk.org/results/dashboard/patchsets/32481/
UNH-IOL DPDK Community Lab
To manage your email subscriptions, visit:
https://lab.dpdk.org/results/dashboard/preferences/subscriptions/
^ permalink raw reply [flat|nested] 18+ messages in thread