* |SUCCESS| pw151072-151073 [PATCH v8 2/2] net/af_xdp: Refactor af_xdp_tx_zc [not found] <20250206204645.1564535-3-ariel.otilibili@6wind.com> @ 2025-02-06 20:17 ` qemudev 2025-02-06 20:22 ` qemudev ` (2 subsequent siblings) 3 siblings, 0 replies; 4+ messages in thread From: qemudev @ 2025-02-06 20:17 UTC (permalink / raw) To: test-report Test-Label: loongarch-compilation Test-Status: SUCCESS http://dpdk.org/patch/151073 _Compilation OK_ Submitter: Ariel Otilibili <ariel.otilibili@6wind.com> Date: Thu, 6 Feb 2025 21:46:44 +0100 DPDK git baseline: Repo:dpdk-next-net Branch: main CommitID: e595e7b5758fc73d99b810f5a8748f94bd467084 151072-151073 --> meson & ninja build successfully Test environment and result as below: +---------------------+----------------+ | Environment | compilation | +---------------------+----------------+ | Loongnix-Server 8.3 | PASS | +---------------------+----------------+ Loongnix-Server 8.3 Kernel: 4.19.190+ Compiler: gcc 8.3 ^ permalink raw reply [flat|nested] 4+ messages in thread
* |SUCCESS| pw151072-151073 [PATCH v8 2/2] net/af_xdp: Refactor af_xdp_tx_zc [not found] <20250206204645.1564535-3-ariel.otilibili@6wind.com> 2025-02-06 20:17 ` |SUCCESS| pw151072-151073 [PATCH v8 2/2] net/af_xdp: Refactor af_xdp_tx_zc qemudev @ 2025-02-06 20:22 ` qemudev 2025-02-06 20:47 ` |WARNING| pw151073 " checkpatch 2025-02-07 2:04 ` |SUCCESS| " 0-day Robot 3 siblings, 0 replies; 4+ messages in thread From: qemudev @ 2025-02-06 20:22 UTC (permalink / raw) To: test-report Test-Label: loongarch-unit-testing Test-Status: SUCCESS http://dpdk.org/patch/151073 _Unit Testing PASS_ Submitter: Ariel Otilibili <ariel.otilibili@6wind.com> Date: Thu, 6 Feb 2025 21:46:44 +0100 DPDK git baseline: Repo:dpdk-next-net Branch: main CommitID: e595e7b5758fc73d99b810f5a8748f94bd467084 151072-151073 --> testing pass Test environment and result as below: +---------------------+----------------+ | Environment | dpdk_unit_test | +---------------------+----------------+ | Loongnix-Server 8.3 | PASS | +---------------------+----------------+ Loongnix-Server 8.3 Kernel: 4.19.190+ Compiler: gcc 8.3 Test result details: 1/119 DPDK:fast-tests / acl_autotest OK 3.41s 2/119 DPDK:fast-tests / alarm_autotest OK 1.53s 3/119 DPDK:fast-tests / argparse_autotest OK 0.53s 4/119 DPDK:fast-tests / atomic_autotest OK 7.29s 5/119 DPDK:fast-tests / bitcount_autotest OK 0.40s 6/119 DPDK:fast-tests / bitmap_autotest OK 0.40s 7/119 DPDK:fast-tests / bitops_autotest OK 1.90s 8/119 DPDK:fast-tests / bitratestats_autotest OK 0.40s 9/119 DPDK:fast-tests / bitset_autotest OK 3.00s 10/119 DPDK:fast-tests / bpf_autotest OK 0.40s 11/119 DPDK:fast-tests / bpf_convert_autotest OK 0.40s 12/119 DPDK:fast-tests / byteorder_autotest OK 0.40s 13/119 DPDK:fast-tests / cfgfile_autotest OK 0.40s 14/119 DPDK:fast-tests / cksum_autotest OK 0.40s 15/119 DPDK:fast-tests / cmdline_autotest OK 0.39s 16/119 DPDK:fast-tests / common_autotest OK 1.28s 17/119 DPDK:fast-tests / compressdev_autotest SKIP 0.07s exit status 77 18/119 DPDK:fast-tests / cpuflags_autotest OK 0.39s 19/119 DPDK:fast-tests / crc_autotest OK 0.40s 20/119 DPDK:fast-tests / user_delay_us OK 0.40s 21/119 DPDK:fast-tests / debug_autotest OK 18.06s 22/119 DPDK:fast-tests / devargs_autotest OK 0.39s 23/119 DPDK:fast-tests / dispatcher_autotest OK 2.51s 24/119 DPDK:fast-tests / distributor_autotest OK 1.20s 25/119 DPDK:fast-tests / eal_flags_c_opt_autotest OK 0.77s 26/119 DPDK:fast-tests / eal_flags_main_opt_autotest OK 0.22s 27/119 DPDK:fast-tests / eal_flags_n_opt_autotest OK 0.20s 28/119 DPDK:fast-tests / eal_flags_hpet_autotest OK 0.13s 29/119 DPDK:fast-tests / eal_flags_no_huge_autotest OK 0.22s 30/119 DPDK:fast-tests / eal_flags_a_opt_autotest OK 0.29s 31/119 DPDK:fast-tests / eal_flags_b_opt_autotest OK 0.24s 32/119 DPDK:fast-tests / eal_flags_vdev_opt_autotest OK 0.19s 33/119 DPDK:fast-tests / eal_flags_r_opt_autotest OK 0.18s 34/119 DPDK:fast-tests / eal_flags_mem_autotest OK 0.58s 35/119 DPDK:fast-tests / eal_flags_file_prefix_autotest OK 22.22s 36/119 DPDK:fast-tests / eal_flags_misc_autotest OK 1.02s 37/119 DPDK:fast-tests / eal_fs_autotest OK 0.39s 38/119 DPDK:fast-tests / errno_autotest OK 0.50s 39/119 DPDK:fast-tests / ethdev_link_status OK 0.49s 40/119 DPDK:fast-tests / event_eth_tx_adapter_autotest OK 1.68s 41/119 DPDK:fast-tests / event_ring_autotest OK 0.31s 42/119 DPDK:fast-tests / eventdev_common_autotest OK 0.31s 43/119 DPDK:fast-tests / eventdev_selftest_sw OK 7.20s 44/119 DPDK:fast-tests / fbarray_autotest OK 0.31s 45/119 DPDK:fast-tests / fib_autotest OK 1.21s 46/119 DPDK:fast-tests / fib6_autotest OK 0.98s 47/119 DPDK:fast-tests / func_reentrancy_autotest OK 2.35s 48/119 DPDK:fast-tests / graph_autotest OK 0.31s 49/119 DPDK:fast-tests / node_list_dump OK 0.31s 50/119 DPDK:fast-tests / hash_autotest OK 0.93s 51/119 DPDK:fast-tests / hash_readwrite_func_autotest OK 6.38s 52/119 DPDK:fast-tests / interrupt_autotest OK 1.61s 53/119 DPDK:fast-tests / ipfrag_autotest OK 0.07s 54/119 DPDK:fast-tests / ipsec_autotest SKIP 0.31s exit status 77 55/119 DPDK:fast-tests / kvargs_autotest OK 0.31s 56/119 DPDK:fast-tests / latencystats_autotest OK 0.31s 57/119 DPDK:fast-tests / lcore_var_autotest OK 0.45s 58/119 DPDK:fast-tests / lcores_autotest OK 5.12s 59/119 DPDK:fast-tests / logs_autotest OK 0.31s 60/119 DPDK:fast-tests / lpm_autotest OK 2.33s 61/119 DPDK:fast-tests / lpm6_autotest OK 5.45s 62/119 DPDK:fast-tests / malloc_autotest OK 60.33s 63/119 DPDK:fast-tests / mbuf_autotest OK 5.56s 64/119 DPDK:fast-tests / mcslock_autotest OK 3.51s 65/119 DPDK:fast-tests / member_autotest OK 1.51s 66/119 DPDK:fast-tests / memcpy_autotest OK 7.16s 67/119 DPDK:fast-tests / memory_autotest OK 0.08s 68/119 DPDK:fast-tests / mempool_autotest OK 0.43s 69/119 DPDK:fast-tests / memzone_autotest OK 0.14s 70/119 DPDK:fast-tests / meter_autotest OK 0.31s 71/119 DPDK:fast-tests / metrics_autotest OK 0.31s 72/119 DPDK:fast-tests / multiprocess_autotest OK 0.17s 73/119 DPDK:fast-tests / net_ether_autotest OK 0.97s 74/119 DPDK:fast-tests / net_ipv6_autotest OK 0.31s 75/119 DPDK:fast-tests / pcapng_autotest OK 6.71s 76/119 DPDK:fast-tests / pdcp_autotest SKIP 0.06s exit status 77 77/119 DPDK:fast-tests / pdump_autotest OK 0.50s 78/119 DPDK:fast-tests / per_lcore_autotest OK 0.60s 79/119 DPDK:fast-tests / pflock_autotest OK 1.31s 80/119 DPDK:fast-tests / pie_autotest OK 0.50s 81/119 DPDK:fast-tests / ring_pmd_autotest OK 0.50s 82/119 DPDK:fast-tests / power_autotest OK 0.50s 83/119 DPDK:fast-tests / power_cpufreq_autotest SKIP 0.06s exit status 77 84/119 DPDK:fast-tests / power_intel_uncore_autotest SKIP 0.30s exit status 77 85/119 DPDK:fast-tests / power_kvm_vm_autotest SKIP 0.06s exit status 77 86/119 DPDK:fast-tests / prefetch_autotest OK 0.31s 87/119 DPDK:fast-tests / ptr_compress_autotest OK 0.31s 88/119 DPDK:fast-tests / rawdev_autotest OK 0.31s 89/119 DPDK:fast-tests / rcu_qsbr_autotest OK 0.83s 90/119 DPDK:fast-tests / reorder_autotest OK 0.36s 91/119 DPDK:fast-tests / rib_autotest OK 8.97s 92/119 DPDK:fast-tests / rib6_autotest OK 8.94s 93/119 DPDK:fast-tests / ring_autotest OK 0.34s 94/119 DPDK:fast-tests / rwlock_test1_autotest OK 1.06s 95/119 DPDK:fast-tests / rwlock_rda_autotest OK 5.31s 96/119 DPDK:fast-tests / rwlock_rds_wrm_autotest OK 5.31s 97/119 DPDK:fast-tests / rwlock_rde_wro_autotest OK 5.41s 98/119 DPDK:fast-tests / sched_autotest OK 0.41s 99/119 DPDK:fast-tests / security_autotest OK 0.06s 100/119 DPDK:fast-tests / seqlock_autotest OK 2.31s 101/119 DPDK:fast-tests / service_autotest OK 3.01s 102/119 DPDK:fast-tests / soring_autotest OK 0.31s 103/119 DPDK:fast-tests / spinlock_autotest OK 0.38s 104/119 DPDK:fast-tests / stack_autotest OK 0.86s 105/119 DPDK:fast-tests / stack_lf_autotest SKIP 0.05s exit status 77 106/119 DPDK:fast-tests / string_autotest OK 0.30s 107/119 DPDK:fast-tests / table_autotest OK 7.57s 108/119 DPDK:fast-tests / tailq_autotest OK 0.30s 109/119 DPDK:fast-tests / telemetry_data_autotest OK 0.31s 110/119 DPDK:fast-tests / telemetry_json_autotest OK 0.31s 111/119 DPDK:fast-tests / thash_autotest OK 0.32s 112/119 DPDK:fast-tests / threads_autotest OK 0.48s 113/119 DPDK:fast-tests / ticketlock_autotest OK 0.46s 114/119 DPDK:fast-tests / timer_autotest OK 3.87s 115/119 DPDK:fast-tests / trace_autotest OK 0.30s 116/119 DPDK:fast-tests / trace_autotest_with_traces OK 0.31s 117/119 DPDK:fast-tests / vdev_autotest OK 0.30s 118/119 DPDK:fast-tests / version_autotest OK 0.31s 119/119 DPDK:fast-tests / telemetry_all OK 1.23s Ok: 112 Expected Fail: 0 Fail: 0 Unexpected Pass: 0 Skipped: 7 Timeout: 0 ^ permalink raw reply [flat|nested] 4+ messages in thread
* |WARNING| pw151073 [PATCH v8 2/2] net/af_xdp: Refactor af_xdp_tx_zc [not found] <20250206204645.1564535-3-ariel.otilibili@6wind.com> 2025-02-06 20:17 ` |SUCCESS| pw151072-151073 [PATCH v8 2/2] net/af_xdp: Refactor af_xdp_tx_zc qemudev 2025-02-06 20:22 ` qemudev @ 2025-02-06 20:47 ` checkpatch 2025-02-07 2:04 ` |SUCCESS| " 0-day Robot 3 siblings, 0 replies; 4+ messages in thread From: checkpatch @ 2025-02-06 20:47 UTC (permalink / raw) To: test-report; +Cc: Ariel Otilibili Test-Label: checkpatch Test-Status: WARNING http://dpdk.org/patch/151073 _coding style issues_ WARNING:SUSPECT_CODE_INDENT: suspect code indent for conditional statements (16, 18) #167: FILE: drivers/net/af_xdp/rte_eth_af_xdp.c:589: if (mbuf->pool == umem->mb_pool) { + if (!(desc = reserve_and_fill(txq, mbuf, umem, NULL))) { WARNING:TABSTOP: Statements should start on a tabstop #169: FILE: drivers/net/af_xdp/rte_eth_af_xdp.c:590: + if (!(desc = reserve_and_fill(txq, mbuf, umem, NULL))) { WARNING:SUSPECT_CODE_INDENT: suspect code indent for conditional statements (18, 32) #169: FILE: drivers/net/af_xdp/rte_eth_af_xdp.c:590: + if (!(desc = reserve_and_fill(txq, mbuf, umem, NULL))) { kick_tx(txq, cq); ERROR:ASSIGN_IN_IF: do not use assignment in if condition #169: FILE: drivers/net/af_xdp/rte_eth_af_xdp.c:590: + if (!(desc = reserve_and_fill(txq, mbuf, umem, NULL))) { ERROR:ASSIGN_IN_IF: do not use assignment in if condition #195: FILE: drivers/net/af_xdp/rte_eth_af_xdp.c:600: + if (!(local_mbuf = rte_pktmbuf_alloc(umem->mb_pool))) total: 2 errors, 3 warnings, 0 checks, 113 lines checked ^ permalink raw reply [flat|nested] 4+ messages in thread
* |SUCCESS| pw151073 [PATCH v8 2/2] net/af_xdp: Refactor af_xdp_tx_zc [not found] <20250206204645.1564535-3-ariel.otilibili@6wind.com> ` (2 preceding siblings ...) 2025-02-06 20:47 ` |WARNING| pw151073 " checkpatch @ 2025-02-07 2:04 ` 0-day Robot 3 siblings, 0 replies; 4+ messages in thread From: 0-day Robot @ 2025-02-07 2:04 UTC (permalink / raw) To: test-report; +Cc: robot From: robot@bytheb.org Test-Label: github-robot: build Test-Status: SUCCESS http://patchwork.dpdk.org/patch/151073/ _github build: passed_ Build URL: https://github.com/ovsrobot/dpdk/actions/runs/13187931153 ^ permalink raw reply [flat|nested] 4+ messages in thread
end of thread, other threads:[~2025-02-07 2:04 UTC | newest] Thread overview: 4+ messages (download: mbox.gz / follow: Atom feed) -- links below jump to the message on this page -- [not found] <20250206204645.1564535-3-ariel.otilibili@6wind.com> 2025-02-06 20:17 ` |SUCCESS| pw151072-151073 [PATCH v8 2/2] net/af_xdp: Refactor af_xdp_tx_zc qemudev 2025-02-06 20:22 ` qemudev 2025-02-06 20:47 ` |WARNING| pw151073 " checkpatch 2025-02-07 2:04 ` |SUCCESS| " 0-day Robot
This is a public inbox, see mirroring instructions for how to clone and mirror all data and code used for this inbox; as well as URLs for NNTP newsgroup(s).