* |SUCCESS| pw151129-151131 [PATCH 3/3] test/event: unit test to burst add Rx queues to adapter
[not found] <20250207140910.721374-4-sthotton@marvell.com>
@ 2025-02-07 13:37 ` qemudev
2025-02-07 13:42 ` qemudev
` (14 subsequent siblings)
15 siblings, 0 replies; 16+ messages in thread
From: qemudev @ 2025-02-07 13:37 UTC (permalink / raw)
To: test-report
Test-Label: loongarch-compilation
Test-Status: SUCCESS
http://dpdk.org/patch/151131
_Compilation OK_
Submitter: Shijith Thotton <sthotton@marvell.com>
Date: Fri, 7 Feb 2025 19:39:08 +0530
DPDK git baseline: Repo:dpdk-next-eventdev
Branch: for-main
CommitID: 32c18e7364e30a8e43cc7cc6709a7ce606fa285e
151129-151131 --> meson & ninja build successfully
Test environment and result as below:
+---------------------+----------------+
| Environment | compilation |
+---------------------+----------------+
| Loongnix-Server 8.3 | PASS |
+---------------------+----------------+
Loongnix-Server 8.3
Kernel: 4.19.190+
Compiler: gcc 8.3
^ permalink raw reply [flat|nested] 16+ messages in thread
* |SUCCESS| pw151129-151131 [PATCH 3/3] test/event: unit test to burst add Rx queues to adapter
[not found] <20250207140910.721374-4-sthotton@marvell.com>
2025-02-07 13:37 ` |SUCCESS| pw151129-151131 [PATCH 3/3] test/event: unit test to burst add Rx queues to adapter qemudev
@ 2025-02-07 13:42 ` qemudev
2025-02-07 14:10 ` |SUCCESS| pw151131 " checkpatch
` (13 subsequent siblings)
15 siblings, 0 replies; 16+ messages in thread
From: qemudev @ 2025-02-07 13:42 UTC (permalink / raw)
To: test-report
Test-Label: loongarch-unit-testing
Test-Status: SUCCESS
http://dpdk.org/patch/151131
_Unit Testing PASS_
Submitter: Shijith Thotton <sthotton@marvell.com>
Date: Fri, 7 Feb 2025 19:39:08 +0530
DPDK git baseline: Repo:dpdk-next-eventdev
Branch: for-main
CommitID: 32c18e7364e30a8e43cc7cc6709a7ce606fa285e
151129-151131 --> testing pass
Test environment and result as below:
+---------------------+----------------+
| Environment | dpdk_unit_test |
+---------------------+----------------+
| Loongnix-Server 8.3 | PASS |
+---------------------+----------------+
Loongnix-Server 8.3
Kernel: 4.19.190+
Compiler: gcc 8.3
Test result details:
1/119 DPDK:fast-tests / acl_autotest OK 3.44s
2/119 DPDK:fast-tests / alarm_autotest OK 1.61s
3/119 DPDK:fast-tests / argparse_autotest OK 0.60s
4/119 DPDK:fast-tests / atomic_autotest OK 7.09s
5/119 DPDK:fast-tests / bitcount_autotest OK 0.31s
6/119 DPDK:fast-tests / bitmap_autotest OK 0.30s
7/119 DPDK:fast-tests / bitops_autotest OK 1.81s
8/119 DPDK:fast-tests / bitratestats_autotest OK 0.31s
9/119 DPDK:fast-tests / bitset_autotest OK 2.90s
10/119 DPDK:fast-tests / bpf_autotest OK 0.31s
11/119 DPDK:fast-tests / bpf_convert_autotest OK 0.31s
12/119 DPDK:fast-tests / byteorder_autotest OK 0.31s
13/119 DPDK:fast-tests / cfgfile_autotest OK 0.31s
14/119 DPDK:fast-tests / cksum_autotest OK 0.31s
15/119 DPDK:fast-tests / cmdline_autotest OK 0.31s
16/119 DPDK:fast-tests / common_autotest OK 1.19s
17/119 DPDK:fast-tests / compressdev_autotest SKIP 0.06s exit status 77
18/119 DPDK:fast-tests / cpuflags_autotest OK 0.30s
19/119 DPDK:fast-tests / crc_autotest OK 0.31s
20/119 DPDK:fast-tests / user_delay_us OK 0.31s
21/119 DPDK:fast-tests / debug_autotest OK 23.85s
22/119 DPDK:fast-tests / devargs_autotest OK 0.30s
23/119 DPDK:fast-tests / dispatcher_autotest OK 2.47s
24/119 DPDK:fast-tests / distributor_autotest OK 1.20s
25/119 DPDK:fast-tests / eal_flags_c_opt_autotest OK 0.76s
26/119 DPDK:fast-tests / eal_flags_main_opt_autotest OK 0.21s
27/119 DPDK:fast-tests / eal_flags_n_opt_autotest OK 0.19s
28/119 DPDK:fast-tests / eal_flags_hpet_autotest OK 0.13s
29/119 DPDK:fast-tests / eal_flags_no_huge_autotest OK 0.21s
30/119 DPDK:fast-tests / eal_flags_a_opt_autotest OK 0.28s
31/119 DPDK:fast-tests / eal_flags_b_opt_autotest OK 0.23s
32/119 DPDK:fast-tests / eal_flags_vdev_opt_autotest OK 0.19s
33/119 DPDK:fast-tests / eal_flags_r_opt_autotest OK 0.18s
34/119 DPDK:fast-tests / eal_flags_mem_autotest OK 0.58s
35/119 DPDK:fast-tests / eal_flags_file_prefix_autotest OK 22.22s
36/119 DPDK:fast-tests / eal_flags_misc_autotest OK 1.01s
37/119 DPDK:fast-tests / eal_fs_autotest OK 0.30s
38/119 DPDK:fast-tests / errno_autotest OK 0.31s
39/119 DPDK:fast-tests / ethdev_link_status OK 0.31s
40/119 DPDK:fast-tests / event_eth_tx_adapter_autotest OK 1.68s
41/119 DPDK:fast-tests / event_ring_autotest OK 0.31s
42/119 DPDK:fast-tests / eventdev_common_autotest OK 0.31s
43/119 DPDK:fast-tests / eventdev_selftest_sw OK 7.26s
44/119 DPDK:fast-tests / fbarray_autotest OK 0.31s
45/119 DPDK:fast-tests / fib_autotest OK 1.20s
46/119 DPDK:fast-tests / fib6_autotest OK 0.98s
47/119 DPDK:fast-tests / func_reentrancy_autotest OK 2.21s
48/119 DPDK:fast-tests / graph_autotest OK 0.31s
49/119 DPDK:fast-tests / node_list_dump OK 0.31s
50/119 DPDK:fast-tests / hash_autotest OK 0.93s
51/119 DPDK:fast-tests / hash_readwrite_func_autotest OK 6.37s
52/119 DPDK:fast-tests / interrupt_autotest OK 1.51s
53/119 DPDK:fast-tests / ipfrag_autotest OK 0.07s
54/119 DPDK:fast-tests / ipsec_autotest SKIP 0.31s exit status 77
55/119 DPDK:fast-tests / kvargs_autotest OK 0.31s
56/119 DPDK:fast-tests / latencystats_autotest OK 0.31s
57/119 DPDK:fast-tests / lcore_var_autotest OK 0.46s
58/119 DPDK:fast-tests / lcores_autotest OK 5.12s
59/119 DPDK:fast-tests / logs_autotest OK 0.31s
60/119 DPDK:fast-tests / lpm_autotest OK 2.38s
61/119 DPDK:fast-tests / lpm6_autotest OK 5.45s
62/119 DPDK:fast-tests / malloc_autotest OK 61.20s
63/119 DPDK:fast-tests / mbuf_autotest OK 5.16s
64/119 DPDK:fast-tests / mcslock_autotest OK 3.32s
65/119 DPDK:fast-tests / member_autotest OK 1.54s
66/119 DPDK:fast-tests / memcpy_autotest OK 7.07s
67/119 DPDK:fast-tests / memory_autotest OK 0.09s
68/119 DPDK:fast-tests / mempool_autotest OK 0.43s
69/119 DPDK:fast-tests / memzone_autotest OK 0.14s
70/119 DPDK:fast-tests / meter_autotest OK 0.30s
71/119 DPDK:fast-tests / metrics_autotest OK 0.31s
72/119 DPDK:fast-tests / multiprocess_autotest OK 0.17s
73/119 DPDK:fast-tests / net_ether_autotest OK 0.97s
74/119 DPDK:fast-tests / net_ipv6_autotest OK 0.31s
75/119 DPDK:fast-tests / pcapng_autotest OK 6.23s
76/119 DPDK:fast-tests / pdcp_autotest SKIP 0.06s exit status 77
77/119 DPDK:fast-tests / pdump_autotest OK 0.42s
78/119 DPDK:fast-tests / per_lcore_autotest OK 0.41s
79/119 DPDK:fast-tests / pflock_autotest OK 1.12s
80/119 DPDK:fast-tests / pie_autotest OK 0.31s
81/119 DPDK:fast-tests / ring_pmd_autotest OK 0.31s
82/119 DPDK:fast-tests / power_autotest OK 0.31s
83/119 DPDK:fast-tests / power_cpufreq_autotest SKIP 0.06s exit status 77
84/119 DPDK:fast-tests / power_intel_uncore_autotest SKIP 0.30s exit status 77
85/119 DPDK:fast-tests / power_kvm_vm_autotest SKIP 0.06s exit status 77
86/119 DPDK:fast-tests / prefetch_autotest OK 0.31s
87/119 DPDK:fast-tests / ptr_compress_autotest OK 0.31s
88/119 DPDK:fast-tests / rawdev_autotest OK 0.31s
89/119 DPDK:fast-tests / rcu_qsbr_autotest OK 0.83s
90/119 DPDK:fast-tests / reorder_autotest OK 0.36s
91/119 DPDK:fast-tests / rib_autotest OK 8.96s
92/119 DPDK:fast-tests / rib6_autotest OK 8.95s
93/119 DPDK:fast-tests / ring_autotest OK 0.34s
94/119 DPDK:fast-tests / rwlock_test1_autotest OK 1.05s
95/119 DPDK:fast-tests / rwlock_rda_autotest OK 5.31s
96/119 DPDK:fast-tests / rwlock_rds_wrm_autotest OK 5.31s
97/119 DPDK:fast-tests / rwlock_rde_wro_autotest OK 5.31s
98/119 DPDK:fast-tests / sched_autotest OK 0.31s
99/119 DPDK:fast-tests / security_autotest OK 0.06s
100/119 DPDK:fast-tests / seqlock_autotest OK 2.31s
101/119 DPDK:fast-tests / service_autotest OK 3.10s
102/119 DPDK:fast-tests / soring_autotest OK 0.31s
103/119 DPDK:fast-tests / spinlock_autotest OK 0.38s
104/119 DPDK:fast-tests / stack_autotest OK 0.86s
105/119 DPDK:fast-tests / stack_lf_autotest SKIP 0.05s exit status 77
106/119 DPDK:fast-tests / string_autotest OK 0.30s
107/119 DPDK:fast-tests / table_autotest OK 7.62s
108/119 DPDK:fast-tests / tailq_autotest OK 0.30s
109/119 DPDK:fast-tests / telemetry_data_autotest OK 0.31s
110/119 DPDK:fast-tests / telemetry_json_autotest OK 0.31s
111/119 DPDK:fast-tests / thash_autotest OK 0.32s
112/119 DPDK:fast-tests / threads_autotest OK 0.48s
113/119 DPDK:fast-tests / ticketlock_autotest OK 0.46s
114/119 DPDK:fast-tests / timer_autotest OK 3.86s
115/119 DPDK:fast-tests / trace_autotest OK 0.30s
116/119 DPDK:fast-tests / trace_autotest_with_traces OK 0.31s
117/119 DPDK:fast-tests / vdev_autotest OK 0.40s
118/119 DPDK:fast-tests / version_autotest OK 0.30s
119/119 DPDK:fast-tests / telemetry_all OK 1.28s
Ok: 112
Expected Fail: 0
Fail: 0
Unexpected Pass: 0
Skipped: 7
Timeout: 0
^ permalink raw reply [flat|nested] 16+ messages in thread
* |SUCCESS| pw151131 [PATCH 3/3] test/event: unit test to burst add Rx queues to adapter
[not found] <20250207140910.721374-4-sthotton@marvell.com>
2025-02-07 13:37 ` |SUCCESS| pw151129-151131 [PATCH 3/3] test/event: unit test to burst add Rx queues to adapter qemudev
2025-02-07 13:42 ` qemudev
@ 2025-02-07 14:10 ` checkpatch
2025-02-07 15:05 ` 0-day Robot
` (12 subsequent siblings)
15 siblings, 0 replies; 16+ messages in thread
From: checkpatch @ 2025-02-07 14:10 UTC (permalink / raw)
To: test-report
Test-Label: checkpatch
Test-Status: SUCCESS
http://dpdk.org/patch/151131
_coding style OK_
^ permalink raw reply [flat|nested] 16+ messages in thread
* |SUCCESS| pw151131 [PATCH 3/3] test/event: unit test to burst add Rx queues to adapter
[not found] <20250207140910.721374-4-sthotton@marvell.com>
` (2 preceding siblings ...)
2025-02-07 14:10 ` |SUCCESS| pw151131 " checkpatch
@ 2025-02-07 15:05 ` 0-day Robot
2025-02-07 17:12 ` |SUCCESS| pw151129-151131 [PATCH] [3/3] test/event: unit test to bur dpdklab
` (11 subsequent siblings)
15 siblings, 0 replies; 16+ messages in thread
From: 0-day Robot @ 2025-02-07 15:05 UTC (permalink / raw)
To: test-report; +Cc: robot
From: robot@bytheb.org
Test-Label: github-robot: build
Test-Status: SUCCESS
http://patchwork.dpdk.org/patch/151131/
_github build: passed_
Build URL: https://github.com/ovsrobot/dpdk/actions/runs/13201795873
^ permalink raw reply [flat|nested] 16+ messages in thread
* |SUCCESS| pw151129-151131 [PATCH] [3/3] test/event: unit test to bur
[not found] <20250207140910.721374-4-sthotton@marvell.com>
` (3 preceding siblings ...)
2025-02-07 15:05 ` 0-day Robot
@ 2025-02-07 17:12 ` dpdklab
2025-02-07 17:16 ` dpdklab
` (10 subsequent siblings)
15 siblings, 0 replies; 16+ messages in thread
From: dpdklab @ 2025-02-07 17:12 UTC (permalink / raw)
To: Ali Alnubani, Test Report; +Cc: dpdk-test-reports
Test-Label: iol-mellanox-Performance
Test-Status: SUCCESS
http://dpdk.org/patch/151131
_Performance Testing PASS_
Submitter: Shijith Thotton <sthotton@marvell.com>
Date: Friday, February 07 2025 14:09:10
DPDK git baseline: Repo:dpdk
Branch: master
CommitID:32c18e7364e30a8e43cc7cc6709a7ce606fa285e
151129-151131 --> performance testing pass
Upstream job id: Template-DTS-Pipeline#211475
Test environment and result as below:
Ubuntu 24.04
Kernel: 6.8.0-45-generic
Compiler: gcc 13.2.0
NIC: NVIDIA Mellanox ConnectX-7 100000 Mbps
Fail/Total: 0/6
Detail performance results:
+------------+---------+----------+-------------+------------------------------+
| frame_size | txd/rxd | num_cpus | num_threads | throughput difference from |
| | | | | expected |
+============+=========+==========+=============+==============================+
| 64 | 1024 | 1 | 1 | -0.3% |
+------------+---------+----------+-------------+------------------------------+
| 128 | 1024 | 1 | 1 | -1.2% |
+------------+---------+----------+-------------+------------------------------+
| 256 | 1024 | 1 | 1 | 1.4% |
+------------+---------+----------+-------------+------------------------------+
| 512 | 1024 | 1 | 1 | -0.2% |
+------------+---------+----------+-------------+------------------------------+
| 1024 | 1024 | 1 | 1 | 0.2% |
+------------+---------+----------+-------------+------------------------------+
| 1518 | 1024 | 1 | 1 | 0.0% |
+------------+---------+----------+-------------+------------------------------+
Ubuntu 24.04
Kernel: 6.8.0-45-generic
Compiler: gcc 13.2.0
NIC: Mellanox ConnectX-6 Lx 25000 Mbps
Fail/Total: 0/6
Detail performance results:
+------------+---------+----------+-------------+------------------------------+
| frame_size | txd/rxd | num_cpus | num_threads | throughput difference from |
| | | | | expected |
+============+=========+==========+=============+==============================+
| 64 | 1024 | 1 | 1 | -0.0% |
+------------+---------+----------+-------------+------------------------------+
| 128 | 1024 | 1 | 1 | -0.0% |
+------------+---------+----------+-------------+------------------------------+
| 256 | 1024 | 1 | 1 | 0.0% |
+------------+---------+----------+-------------+------------------------------+
| 512 | 1024 | 1 | 1 | 0.0% |
+------------+---------+----------+-------------+------------------------------+
| 1024 | 1024 | 1 | 1 | 0.1% |
+------------+---------+----------+-------------+------------------------------+
| 1518 | 1024 | 1 | 1 | 0.0% |
+------------+---------+----------+-------------+------------------------------+
To view detailed results, visit:
https://lab.dpdk.org/results/dashboard/patchsets/32525/
UNH-IOL DPDK Community Lab
To manage your email subscriptions, visit:
https://lab.dpdk.org/results/dashboard/preferences/subscriptions/
^ permalink raw reply [flat|nested] 16+ messages in thread
* |SUCCESS| pw151129-151131 [PATCH] [3/3] test/event: unit test to bur
[not found] <20250207140910.721374-4-sthotton@marvell.com>
` (4 preceding siblings ...)
2025-02-07 17:12 ` |SUCCESS| pw151129-151131 [PATCH] [3/3] test/event: unit test to bur dpdklab
@ 2025-02-07 17:16 ` dpdklab
2025-02-07 17:37 ` dpdklab
` (9 subsequent siblings)
15 siblings, 0 replies; 16+ messages in thread
From: dpdklab @ 2025-02-07 17:16 UTC (permalink / raw)
To: Test Report; +Cc: dpdk-test-reports
Test-Label: iol-sample-apps-testing
Test-Status: SUCCESS
http://dpdk.org/patch/151131
_Testing PASS_
Submitter: Shijith Thotton <sthotton@marvell.com>
Date: Friday, February 07 2025 14:09:10
DPDK git baseline: Repo:dpdk
Branch: master
CommitID:32c18e7364e30a8e43cc7cc6709a7ce606fa285e
151129-151131 --> testing pass
Upstream job id: Template-DTS-Pipeline#211486
Test environment and result as below:
+--------------------+----------------------+
| Environment | compressdev_zlib_pmd |
+====================+======================+
| Ubuntu 22.04 (ARM) | PASS |
+--------------------+----------------------+
Ubuntu 22.04 (ARM)
Kernel: 5.15.0-97-generic
Compiler: gcc gcc (Ubuntu 11.4.0-1ubuntu1~22.04) 11.4.0
To view detailed results, visit:
https://lab.dpdk.org/results/dashboard/patchsets/32525/
UNH-IOL DPDK Community Lab
To manage your email subscriptions, visit:
https://lab.dpdk.org/results/dashboard/preferences/subscriptions/
^ permalink raw reply [flat|nested] 16+ messages in thread
* |SUCCESS| pw151129-151131 [PATCH] [3/3] test/event: unit test to bur
[not found] <20250207140910.721374-4-sthotton@marvell.com>
` (5 preceding siblings ...)
2025-02-07 17:16 ` dpdklab
@ 2025-02-07 17:37 ` dpdklab
2025-02-07 17:43 ` dpdklab
` (8 subsequent siblings)
15 siblings, 0 replies; 16+ messages in thread
From: dpdklab @ 2025-02-07 17:37 UTC (permalink / raw)
To: Test Report; +Cc: dpdk-test-reports
Test-Label: iol-marvell-Functional
Test-Status: SUCCESS
http://dpdk.org/patch/151131
_Functional Testing PASS_
Submitter: Shijith Thotton <sthotton@marvell.com>
Date: Friday, February 07 2025 14:09:10
DPDK git baseline: Repo:dpdk
Branch: master
CommitID:32c18e7364e30a8e43cc7cc6709a7ce606fa285e
151129-151131 --> functional testing pass
Upstream job id: Template-DTS-Pipeline#211484
Test environment and result as below:
Ubuntu 20.04.6
Kernel: 5.4.105
Compiler: gcc 9.4
NIC: Marvell CN106XX 50000 Mbps
Target: arm64-native-linuxapp-gcc
Aggregate Results by Test Suite
+-----------------+--------+
| Test Suite | Result |
+=================+========+
| cmdline | PASS |
+-----------------+--------+
| ipv4_reassembly | PASS |
+-----------------+--------+
| rxtx_callbacks | PASS |
+-----------------+--------+
| tso | PASS |
+-----------------+--------+
To view detailed results, visit:
https://lab.dpdk.org/results/dashboard/patchsets/32525/
UNH-IOL DPDK Community Lab
To manage your email subscriptions, visit:
https://lab.dpdk.org/results/dashboard/preferences/subscriptions/
^ permalink raw reply [flat|nested] 16+ messages in thread
* |SUCCESS| pw151129-151131 [PATCH] [3/3] test/event: unit test to bur
[not found] <20250207140910.721374-4-sthotton@marvell.com>
` (6 preceding siblings ...)
2025-02-07 17:37 ` dpdklab
@ 2025-02-07 17:43 ` dpdklab
2025-02-07 17:53 ` dpdklab
` (7 subsequent siblings)
15 siblings, 0 replies; 16+ messages in thread
From: dpdklab @ 2025-02-07 17:43 UTC (permalink / raw)
To: Test Report; +Cc: dpdk-test-reports
Test-Label: iol-intel-Functional
Test-Status: SUCCESS
http://dpdk.org/patch/151131
_Functional Testing PASS_
Submitter: Shijith Thotton <sthotton@marvell.com>
Date: Friday, February 07 2025 14:09:10
DPDK git baseline: Repo:dpdk
Branch: master
CommitID:32c18e7364e30a8e43cc7cc6709a7ce606fa285e
151129-151131 --> functional testing pass
Upstream job id: Template-DTS-Pipeline#211481
Test environment and result as below:
Ubuntu 22.04
Kernel: 5.15.0-131-generic
Compiler: gcc (Ubuntu 11.4.0-1ubuntu1~22.04) 11.4.0
NIC: Intel Corporation Ethernet Converged Network Adapter 82599ES 10000 Mbps
Aggregate Results by Test Suite
+-----------------------------+--------+
| Test Suite | Result |
+=============================+========+
| unit_tests_mbuf | PASS |
+-----------------------------+--------+
| vhost_virtio_user_interrupt | PASS |
+-----------------------------+--------+
| virtio_smoke | PASS |
+-----------------------------+--------+
To view detailed results, visit:
https://lab.dpdk.org/results/dashboard/patchsets/32525/
UNH-IOL DPDK Community Lab
To manage your email subscriptions, visit:
https://lab.dpdk.org/results/dashboard/preferences/subscriptions/
^ permalink raw reply [flat|nested] 16+ messages in thread
* |SUCCESS| pw151129-151131 [PATCH] [3/3] test/event: unit test to bur
[not found] <20250207140910.721374-4-sthotton@marvell.com>
` (7 preceding siblings ...)
2025-02-07 17:43 ` dpdklab
@ 2025-02-07 17:53 ` dpdklab
2025-02-07 18:14 ` dpdklab
` (6 subsequent siblings)
15 siblings, 0 replies; 16+ messages in thread
From: dpdklab @ 2025-02-07 17:53 UTC (permalink / raw)
To: Test Report; +Cc: dpdk-test-reports
Test-Label: iol-sample-apps-testing
Test-Status: SUCCESS
http://dpdk.org/patch/151131
_Testing PASS_
Submitter: Shijith Thotton <sthotton@marvell.com>
Date: Friday, February 07 2025 14:09:10
DPDK git baseline: Repo:dpdk
Branch: master
CommitID:32c18e7364e30a8e43cc7cc6709a7ce606fa285e
151129-151131 --> testing pass
Upstream job id: Template-DTS-Pipeline#211485
Test environment and result as below:
+--------------------+----------------------+
| Environment | compressdev_zlib_pmd |
+====================+======================+
| Ubuntu 22.04 (ARM) | PASS |
+--------------------+----------------------+
| Ubuntu 22.04 | PASS |
+--------------------+----------------------+
Ubuntu 22.04 (ARM)
Kernel: 5.15.0-97-generic
Compiler: gcc gcc (Ubuntu 11.4.0-1ubuntu1~22.04) 11.4.0
Ubuntu 22.04
Kernel: 5.15.0-100-generic
Compiler: gcc gcc (Ubuntu 11.4.0-1ubuntu1~22.04) 11.4.0
To view detailed results, visit:
https://lab.dpdk.org/results/dashboard/patchsets/32525/
UNH-IOL DPDK Community Lab
To manage your email subscriptions, visit:
https://lab.dpdk.org/results/dashboard/preferences/subscriptions/
^ permalink raw reply [flat|nested] 16+ messages in thread
* |SUCCESS| pw151129-151131 [PATCH] [3/3] test/event: unit test to bur
[not found] <20250207140910.721374-4-sthotton@marvell.com>
` (8 preceding siblings ...)
2025-02-07 17:53 ` dpdklab
@ 2025-02-07 18:14 ` dpdklab
2025-02-07 18:18 ` |PENDING| " dpdklab
` (5 subsequent siblings)
15 siblings, 0 replies; 16+ messages in thread
From: dpdklab @ 2025-02-07 18:14 UTC (permalink / raw)
To: Test Report; +Cc: dpdk-test-reports
Test-Label: iol-compile-amd64-testing
Test-Status: SUCCESS
http://dpdk.org/patch/151131
_Testing PASS_
Submitter: Shijith Thotton <sthotton@marvell.com>
Date: Friday, February 07 2025 14:09:10
DPDK git baseline: Repo:dpdk
Branch: master
CommitID:32c18e7364e30a8e43cc7cc6709a7ce606fa285e
151129-151131 --> testing pass
Upstream job id: Windows-Compile-DPDK-VS#4857
Test environment and result as below:
+---------------------+-------------------+
| Environment | dpdk_msvc_compile |
+=====================+===================+
| Windows Server 2022 | PASS |
+---------------------+-------------------+
Windows Server 2022
Kernel: 10.0.20348.2031
Compiler: clang 15.0.7, gcc 14.1.0 (MinGW), and MSVC VS 19.39.33521
To view detailed results, visit:
https://lab.dpdk.org/results/dashboard/patchsets/32525/
UNH-IOL DPDK Community Lab
To manage your email subscriptions, visit:
https://lab.dpdk.org/results/dashboard/preferences/subscriptions/
^ permalink raw reply [flat|nested] 16+ messages in thread
* |PENDING| pw151129-151131 [PATCH] [3/3] test/event: unit test to bur
[not found] <20250207140910.721374-4-sthotton@marvell.com>
` (9 preceding siblings ...)
2025-02-07 18:14 ` dpdklab
@ 2025-02-07 18:18 ` dpdklab
2025-02-07 18:50 ` |SUCCESS| " dpdklab
` (4 subsequent siblings)
15 siblings, 0 replies; 16+ messages in thread
From: dpdklab @ 2025-02-07 18:18 UTC (permalink / raw)
To: Test Report; +Cc: dpdk-test-reports
Test-Label: iol-unit-arm64-testing
Test-Status: PENDING
http://dpdk.org/patch/151131
_Testing pending_
Submitter: Shijith Thotton <sthotton@marvell.com>
Date: Friday, February 07 2025 14:09:10
DPDK git baseline: Repo:dpdk
Branch: master
CommitID:32c18e7364e30a8e43cc7cc6709a7ce606fa285e
151129-151131 --> testing pending
Upstream job id: Aarch32-Unit-Test#5241
Test environment and result as below:
+-----------------------------+----------------+--------------+------------------------------+---------------------------+
| Environment | dpdk_unit_test | lpm_autotest | cryptodev_sw_snow3g_autotest | cryptodev_sw_zuc_autotest |
+=============================+================+==============+==============================+===========================+
| Debian 12 (arm) | PEND | SKIPPED | PEND | PEND |
+-----------------------------+----------------+--------------+------------------------------+---------------------------+
| CentOS Stream 9 (ARM) | PEND | SKIPPED | SKIPPED | SKIPPED |
+-----------------------------+----------------+--------------+------------------------------+---------------------------+
| Fedora 40 (ARM) | PEND | SKIPPED | SKIPPED | SKIPPED |
+-----------------------------+----------------+--------------+------------------------------+---------------------------+
| Debian 11 (Buster) (ARM) | PEND | SKIPPED | SKIPPED | SKIPPED |
+-----------------------------+----------------+--------------+------------------------------+---------------------------+
| Fedora 40 (ARM Clang) | PEND | SKIPPED | SKIPPED | SKIPPED |
+-----------------------------+----------------+--------------+------------------------------+---------------------------+
| Fedora 41 (ARM) | PEND | SKIPPED | SKIPPED | SKIPPED |
+-----------------------------+----------------+--------------+------------------------------+---------------------------+
| Fedora 41 (ARM Clang) | PEND | SKIPPED | SKIPPED | SKIPPED |
+-----------------------------+----------------+--------------+------------------------------+---------------------------+
| RHEL9 (ARM) | PEND | SKIPPED | SKIPPED | SKIPPED |
+-----------------------------+----------------+--------------+------------------------------+---------------------------+
| Ubuntu 24.04 (ARM) | PEND | SKIPPED | SKIPPED | SKIPPED |
+-----------------------------+----------------+--------------+------------------------------+---------------------------+
| Ubuntu 22.04 (ARM) | PEND | SKIPPED | SKIPPED | SKIPPED |
+-----------------------------+----------------+--------------+------------------------------+---------------------------+
| Ubuntu 20.04 (ARM) | PEND | SKIPPED | SKIPPED | SKIPPED |
+-----------------------------+----------------+--------------+------------------------------+---------------------------+
| 32-bit Ubuntu 22.04.4 (ARM) | PASS | SKIPPED | SKIPPED | SKIPPED |
+-----------------------------+----------------+--------------+------------------------------+---------------------------+
| Ubuntu 20.04 ARM SVE | SKIPPED | PEND | SKIPPED | SKIPPED |
+-----------------------------+----------------+--------------+------------------------------+---------------------------+
Debian 12 (arm)
Kernel: Depends on container host
Compiler: gcc (Debian 12.2.0-14) 12.2.0
CentOS Stream 9 (ARM)
Kernel: Depends on container host
Compiler: gcc 11.5.0 20240719 (Red Hat 11.5.0-2)
Fedora 40 (ARM)
Kernel: Depends on container host
Compiler: gcc 14.2.1 20240912 (Red Hat 14.2.1-3)
Debian 11 (Buster) (ARM)
Kernel: Depends on container host
Compiler: gcc (Debian 10.2.1-6) 10.2.1 20210110
Fedora 40 (ARM Clang)
Kernel: Depends on container host
Compiler: clang 18.1.8 (Fedora 18.1.8-1.fc40)
Fedora 41 (ARM)
Kernel: Depends on container host
Compiler: gcc 14.2.1 20240912 (Red Hat 14.2.1-3)
Fedora 41 (ARM Clang)
Kernel: Depends on container host
Compiler: clang 19.1.5 (Fedora 19.1.5-1.fc41)
RHEL9 (ARM)
Kernel: Depends on container host
Compiler: gcc 11.5.0 20240719 (Red Hat 11.5.0-2)
Ubuntu 24.04 (ARM)
Kernel: Depends on container host
Compiler: gcc (Ubuntu 13.3.0-6ubuntu2~24.04) 13.3.0
Ubuntu 22.04 (ARM)
Kernel: Depends on container host
Compiler: gcc (Ubuntu 11.4.0-1ubuntu1~22.04) 11.4.0
Ubuntu 20.04 (ARM)
Kernel: Depends on container host
Compiler: gcc (Ubuntu 9.4.0-1ubuntu1~20.04.2) 9.4.0
32-bit Ubuntu 22.04.4 (ARM)
Kernel: 5.15.83+ aarch64
Compiler: gcc (Ubuntu 11.4.0-1ubuntu1~22.04) 11.4.0
Ubuntu 20.04 ARM SVE
Kernel: Depends on container host
Compiler: gcc (Ubuntu 10.5.0-1ubuntu1~20.04) 10.5.0
To view detailed results, visit:
https://lab.dpdk.org/results/dashboard/patchsets/32525/
UNH-IOL DPDK Community Lab
To manage your email subscriptions, visit:
https://lab.dpdk.org/results/dashboard/preferences/subscriptions/
^ permalink raw reply [flat|nested] 16+ messages in thread
* |SUCCESS| pw151129-151131 [PATCH] [3/3] test/event: unit test to bur
[not found] <20250207140910.721374-4-sthotton@marvell.com>
` (10 preceding siblings ...)
2025-02-07 18:18 ` |PENDING| " dpdklab
@ 2025-02-07 18:50 ` dpdklab
2025-02-07 19:11 ` |PENDING| " dpdklab
` (3 subsequent siblings)
15 siblings, 0 replies; 16+ messages in thread
From: dpdklab @ 2025-02-07 18:50 UTC (permalink / raw)
To: Test Report; +Cc: dpdk-test-reports
Test-Label: iol-compile-amd64-testing
Test-Status: SUCCESS
http://dpdk.org/patch/151131
_Testing PASS_
Submitter: Shijith Thotton <sthotton@marvell.com>
Date: Friday, February 07 2025 14:09:10
DPDK git baseline: Repo:dpdk
Branch: master
CommitID:32c18e7364e30a8e43cc7cc6709a7ce606fa285e
151129-151131 --> testing pass
Upstream job id: Generic-VM-DPDK-Compile-Meson#33135
Test environment and result as below:
+---------------------+-------------------+--------------------+
| Environment | dpdk_msvc_compile | dpdk_meson_compile |
+=====================+===================+====================+
| Windows Server 2022 | PASS | SKIPPED |
+---------------------+-------------------+--------------------+
| FreeBSD 13.4 | SKIPPED | PASS |
+---------------------+-------------------+--------------------+
Windows Server 2022
Kernel: 10.0.20348.2031
Compiler: clang 15.0.7, gcc 14.1.0 (MinGW), and MSVC VS 19.39.33521
FreeBSD 13.4
Kernel: 13.4-RELEASE-p1
Compiler: clang 18.1.6
To view detailed results, visit:
https://lab.dpdk.org/results/dashboard/patchsets/32525/
UNH-IOL DPDK Community Lab
To manage your email subscriptions, visit:
https://lab.dpdk.org/results/dashboard/preferences/subscriptions/
^ permalink raw reply [flat|nested] 16+ messages in thread
* |PENDING| pw151129-151131 [PATCH] [3/3] test/event: unit test to bur
[not found] <20250207140910.721374-4-sthotton@marvell.com>
` (11 preceding siblings ...)
2025-02-07 18:50 ` |SUCCESS| " dpdklab
@ 2025-02-07 19:11 ` dpdklab
2025-02-07 19:13 ` |SUCCESS| " dpdklab
` (2 subsequent siblings)
15 siblings, 0 replies; 16+ messages in thread
From: dpdklab @ 2025-02-07 19:11 UTC (permalink / raw)
To: Test Report; +Cc: dpdk-test-reports
Test-Label: iol-abi-testing
Test-Status: PENDING
http://dpdk.org/patch/151131
_Testing pending_
Submitter: Shijith Thotton <sthotton@marvell.com>
Date: Friday, February 07 2025 14:09:10
DPDK git baseline: Repo:dpdk
Branch: master
CommitID:32c18e7364e30a8e43cc7cc6709a7ce606fa285e
151129-151131 --> testing pending
Upstream job id: Generic-DPDK-Compile-ABI#115286
Test environment and result as below:
+-------------------+----------+
| Environment | abi_test |
+===================+==========+
| CentOS Stream 9 | PEND |
+-------------------+----------+
| Debian Bullseye | PEND |
+-------------------+----------+
| Debian 12 | PASS |
+-------------------+----------+
| Fedora 40 (Clang) | PEND |
+-------------------+----------+
| Fedora 40 | PEND |
+-------------------+----------+
| Fedora 41 (Clang) | PEND |
+-------------------+----------+
| Fedora 41 | PEND |
+-------------------+----------+
| openSUSE Leap 15 | PEND |
+-------------------+----------+
| RHEL9 | PEND |
+-------------------+----------+
| RHEL8 | PEND |
+-------------------+----------+
| Ubuntu 22.04 | PEND |
+-------------------+----------+
| Ubuntu 24.04 | PEND |
+-------------------+----------+
CentOS Stream 9
Kernel: Depends on container host
Compiler: gcc 11.5.0 20240719 (Red Hat 11.5.0-2)
Debian Bullseye
Kernel: Depends on container host
Compiler: gcc (Debian 10.2.1-6) 10.2.1 20210110
Debian 12
Kernel: Depends on container host
Compiler: gcc (Debian 12.2.0-14) 12.2.0
Fedora 40 (Clang)
Kernel: Depends on container host
Compiler: clang 18.1.8 (Fedora 18.1.8-1.fc40)
Fedora 40
Kernel: Depends on container host
Compiler: gcc 14.2.1 20240912 (Red Hat 14.2.1-3)
Fedora 41 (Clang)
Kernel: Depends on container host
Compiler: clang 19.1.5 (Fedora 19.1.5-1.fc41)
Fedora 41
Kernel: Depends on container host
Compiler: gcc 14.2.1 20240912 (Red Hat 14.2.1-3)
openSUSE Leap 15
Kernel: Depends on container host
Compiler: gcc (SUSE Linux) 7.5.0
RHEL9
Kernel: Depends on container host
Compiler: gcc 11.5.0 20240719 (Red Hat 11.5.0-2)
RHEL8
Kernel: Depends on container host
Compiler: gcc 8.5.0 20210514 (Red Hat 8.5.0-22)
Ubuntu 22.04
Kernel: Depends on container host
Compiler: gcc (Ubuntu 11.4.0-1ubuntu1~22.04) 11.4.0
Ubuntu 24.04
Kernel: Depends on container host
Compiler: gcc (Ubuntu 13.3.0-6ubuntu2~24.04) 13.3.0
To view detailed results, visit:
https://lab.dpdk.org/results/dashboard/patchsets/32525/
UNH-IOL DPDK Community Lab
To manage your email subscriptions, visit:
https://lab.dpdk.org/results/dashboard/preferences/subscriptions/
^ permalink raw reply [flat|nested] 16+ messages in thread
* |SUCCESS| pw151129-151131 [PATCH] [3/3] test/event: unit test to bur
[not found] <20250207140910.721374-4-sthotton@marvell.com>
` (12 preceding siblings ...)
2025-02-07 19:11 ` |PENDING| " dpdklab
@ 2025-02-07 19:13 ` dpdklab
2025-02-07 19:23 ` |PENDING| " dpdklab
2025-02-07 19:28 ` |SUCCESS| pw151131 [PATCH 3/3] test/event: unit test to burst add Rx queues to adapter 0-day Robot
15 siblings, 0 replies; 16+ messages in thread
From: dpdklab @ 2025-02-07 19:13 UTC (permalink / raw)
To: Test Report; +Cc: dpdk-test-reports
Test-Label: iol-compile-amd64-testing
Test-Status: SUCCESS
http://dpdk.org/patch/151131
_Testing PASS_
Submitter: Shijith Thotton <sthotton@marvell.com>
Date: Friday, February 07 2025 14:09:10
DPDK git baseline: Repo:dpdk
Branch: master
CommitID:32c18e7364e30a8e43cc7cc6709a7ce606fa285e
151129-151131 --> testing pass
Upstream job id: Windows-Compile-DPDK-Native#26524
Test environment and result as below:
+---------------------+-------------------+--------------------+-------------------------+
| Environment | dpdk_msvc_compile | dpdk_meson_compile | dpdk_llvm_clang_compile |
+=====================+===================+====================+=========================+
| Windows Server 2022 | PASS | SKIPPED | PASS |
+---------------------+-------------------+--------------------+-------------------------+
| FreeBSD 13.4 | SKIPPED | PASS | SKIPPED |
+---------------------+-------------------+--------------------+-------------------------+
Windows Server 2022
Kernel: 10.0.20348.2031
Compiler: clang 15.0.7, gcc 14.1.0 (MinGW), and MSVC VS 19.39.33521
FreeBSD 13.4
Kernel: 13.4-RELEASE-p1
Compiler: clang 18.1.6
To view detailed results, visit:
https://lab.dpdk.org/results/dashboard/patchsets/32525/
UNH-IOL DPDK Community Lab
To manage your email subscriptions, visit:
https://lab.dpdk.org/results/dashboard/preferences/subscriptions/
^ permalink raw reply [flat|nested] 16+ messages in thread
* |PENDING| pw151129-151131 [PATCH] [3/3] test/event: unit test to bur
[not found] <20250207140910.721374-4-sthotton@marvell.com>
` (13 preceding siblings ...)
2025-02-07 19:13 ` |SUCCESS| " dpdklab
@ 2025-02-07 19:23 ` dpdklab
2025-02-07 19:28 ` |SUCCESS| pw151131 [PATCH 3/3] test/event: unit test to burst add Rx queues to adapter 0-day Robot
15 siblings, 0 replies; 16+ messages in thread
From: dpdklab @ 2025-02-07 19:23 UTC (permalink / raw)
To: Test Report; +Cc: dpdk-test-reports
Test-Label: iol-compile-arm64-testing
Test-Status: PENDING
http://dpdk.org/patch/151131
_Testing pending_
Submitter: Shijith Thotton <sthotton@marvell.com>
Date: Friday, February 07 2025 14:09:10
DPDK git baseline: Repo:dpdk
Branch: master
CommitID:32c18e7364e30a8e43cc7cc6709a7ce606fa285e
151129-151131 --> testing pending
Upstream job id: Generic-DPDK-Compile-Meson#359194
Test environment and result as below:
+----------------------------------------+--------------------+
| Environment | dpdk_meson_compile |
+========================================+====================+
| RHEL9 (ARM) | PEND |
+----------------------------------------+--------------------+
| Ubuntu 20.04 ARM GCC Cross Compile | PEND |
+----------------------------------------+--------------------+
| Ubuntu 20.04 ARM SVE | PASS |
+----------------------------------------+--------------------+
| Debian 12 with MUSDK | PEND |
+----------------------------------------+--------------------+
| Fedora 40 (ARM) | PEND |
+----------------------------------------+--------------------+
| Fedora 40 (ARM Clang) | PEND |
+----------------------------------------+--------------------+
| Fedora 41 (ARM Clang) | PEND |
+----------------------------------------+--------------------+
| Ubuntu 20.04 (ARM) | PEND |
+----------------------------------------+--------------------+
| Ubuntu 22.04 (ARM) | PEND |
+----------------------------------------+--------------------+
| Ubuntu 24.04 (ARM) | PEND |
+----------------------------------------+--------------------+
| CentOS Stream 9 (ARM) | PEND |
+----------------------------------------+--------------------+
| Debian 11 (Buster) (ARM) | PEND |
+----------------------------------------+--------------------+
| Debian 12 (arm) | PEND |
+----------------------------------------+--------------------+
| Ubuntu 20.04 ARM Clang Cross Compile | PEND |
+----------------------------------------+--------------------+
| Ubuntu 20.04 aarch32 GCC Cross Compile | PEND |
+----------------------------------------+--------------------+
RHEL9 (ARM)
Kernel: Depends on container host
Compiler: gcc 11.5.0 20240719 (Red Hat 11.5.0-2)
Ubuntu 20.04 ARM GCC Cross Compile
Kernel: Depends on container host
Compiler: aarch64-linux-gnu-gcc (Ubuntu 9.4.0-1ubuntu1~20.04.2) 9.4.0
Ubuntu 20.04 ARM SVE
Kernel: Depends on container host
Compiler: gcc (Ubuntu 10.5.0-1ubuntu1~20.04) 10.5.0
Debian 12 with MUSDK
Kernel: Depends on container host
Compiler: gcc (Debian 12.2.0-14) 12.2.0
Fedora 40 (ARM)
Kernel: Depends on container host
Compiler: gcc 14.2.1 20240912 (Red Hat 14.2.1-3)
Fedora 40 (ARM Clang)
Kernel: Depends on container host
Compiler: clang 18.1.8 (Fedora 18.1.8-1.fc40)
Fedora 41 (ARM Clang)
Kernel: Depends on container host
Compiler: clang 19.1.5 (Fedora 19.1.5-1.fc41)
Ubuntu 20.04 (ARM)
Kernel: Depends on container host
Compiler: gcc (Ubuntu 9.4.0-1ubuntu1~20.04.2) 9.4.0
Ubuntu 22.04 (ARM)
Kernel: Depends on container host
Compiler: gcc (Ubuntu 11.4.0-1ubuntu1~22.04) 11.4.0
Ubuntu 24.04 (ARM)
Kernel: Depends on container host
Compiler: gcc (Ubuntu 13.3.0-6ubuntu2~24.04) 13.3.0
CentOS Stream 9 (ARM)
Kernel: Depends on container host
Compiler: gcc 11.5.0 20240719 (Red Hat 11.5.0-2)
Debian 11 (Buster) (ARM)
Kernel: Depends on container host
Compiler: gcc (Debian 10.2.1-6) 10.2.1 20210110
Debian 12 (arm)
Kernel: Depends on container host
Compiler: gcc (Debian 12.2.0-14) 12.2.0
Ubuntu 20.04 ARM Clang Cross Compile
Kernel: Depends on container host
Compiler: clang 10.0.0-4ubuntu1
Ubuntu 20.04 aarch32 GCC Cross Compile
Kernel: Depends on container host
Compiler: gcc 9.4.0
To view detailed results, visit:
https://lab.dpdk.org/results/dashboard/patchsets/32525/
UNH-IOL DPDK Community Lab
To manage your email subscriptions, visit:
https://lab.dpdk.org/results/dashboard/preferences/subscriptions/
^ permalink raw reply [flat|nested] 16+ messages in thread
* |SUCCESS| pw151131 [PATCH 3/3] test/event: unit test to burst add Rx queues to adapter
[not found] <20250207140910.721374-4-sthotton@marvell.com>
` (14 preceding siblings ...)
2025-02-07 19:23 ` |PENDING| " dpdklab
@ 2025-02-07 19:28 ` 0-day Robot
15 siblings, 0 replies; 16+ messages in thread
From: 0-day Robot @ 2025-02-07 19:28 UTC (permalink / raw)
To: test-report; +Cc: robot
From: robot@bytheb.org
Test-Label: github-robot: build
Test-Status: SUCCESS
http://patchwork.dpdk.org/patch/151131/
_github build: passed_
Build URL: https://github.com/ovsrobot/dpdk/actions/runs/13201795873
^ permalink raw reply [flat|nested] 16+ messages in thread