automatic DPDK test reports
 help / color / mirror / Atom feed
From: qemudev@loongson.cn
To: test-report@dpdk.org
Subject: |SUCCESS| pw151283-151288 [PATCH v3 6/6] trace: fix undefined behavior in register
Date: Tue, 11 Feb 2025 01:15:21 +0800	[thread overview]
Message-ID: <202502101715.51AHFLLv3197356@localhost.localdomain> (raw)
In-Reply-To: <20250210174424.3364021-7-david.marchand@redhat.com>

Test-Label: loongarch-compilation
Test-Status: SUCCESS
http://dpdk.org/patch/151288

_Compilation OK_

Submitter: David Marchand <david.marchand@redhat.com>
Date: Mon, 10 Feb 2025 18:44:17 +0100
DPDK git baseline: Repo:dpdk
  Branch: main
  CommitID: 3553897d84d8b54a1b1136cbf04dd7f1a40fd85b

151283-151288 --> meson & ninja build successfully

Test environment and result as below:

+---------------------+----------------+
|     Environment     | compilation    |
+---------------------+----------------+
| Loongnix-Server 8.3 | PASS           |
+---------------------+----------------+

Loongnix-Server 8.3
    Kernel: 4.19.190+
    Compiler: gcc 8.3


       reply	other threads:[~2025-02-10 17:51 UTC|newest]

Thread overview: 21+ messages / expand[flat|nested]  mbox.gz  Atom feed  top
     [not found] <20250210174424.3364021-7-david.marchand@redhat.com>
2025-02-10 17:15 ` qemudev [this message]
2025-02-10 17:19 ` qemudev
2025-02-10 17:44 ` |WARNING| pw151288 " checkpatch
2025-02-10 18:33 ` |PENDING| pw151283-151288 [PATCH] [v3,6/6] trace: fix undefined beha dpdklab
2025-02-10 18:36 ` dpdklab
2025-02-10 18:41 ` |SUCCESS| " dpdklab
2025-02-10 18:41 ` |PENDING| " dpdklab
2025-02-10 18:43 ` dpdklab
2025-02-10 18:49 ` |SUCCESS| " dpdklab
2025-02-10 18:51 ` |PENDING| " dpdklab
2025-02-10 18:53 ` |SUCCESS| " dpdklab
2025-02-10 19:05 ` |SUCCESS| pw151288 [PATCH v3 6/6] trace: fix undefined behavior in register 0-day Robot
2025-02-10 19:15 ` |SUCCESS| pw151283-151288 [PATCH] [v3,6/6] trace: fix undefined beha dpdklab
2025-02-10 19:35 ` dpdklab
2025-02-10 19:48 ` dpdklab
2025-02-10 19:51 ` dpdklab
2025-02-10 20:06 ` dpdklab
2025-02-10 20:08 ` dpdklab
2025-02-10 21:01 ` dpdklab
2025-02-10 21:34 ` |WARNING| " dpdklab
2025-02-10 23:14 ` |SUCCESS| " dpdklab

Reply instructions:

You may reply publicly to this message via plain-text email
using any one of the following methods:

* Save the following mbox file, import it into your mail client,
  and reply-to-all from there: mbox

  Avoid top-posting and favor interleaved quoting:
  https://en.wikipedia.org/wiki/Posting_style#Interleaved_style

* Reply using the --to, --cc, and --in-reply-to
  switches of git-send-email(1):

  git send-email \
    --in-reply-to=202502101715.51AHFLLv3197356@localhost.localdomain \
    --to=qemudev@loongson.cn \
    --cc=test-report@dpdk.org \
    /path/to/YOUR_REPLY

  https://kernel.org/pub/software/scm/git/docs/git-send-email.html

* If your mail client supports setting the In-Reply-To header
  via mailto: links, try the mailto: link
Be sure your reply has a Subject: header at the top and a blank line before the message body.
This is a public inbox, see mirroring instructions
for how to clone and mirror all data and code used for this inbox;
as well as URLs for NNTP newsgroup(s).