automatic DPDK test reports
 help / color / mirror / Atom feed
* |SUCCESS| pw151464 [PATCH] config/arm: add Phytium TengYun S5000c
       [not found] <20250213071459.458-2-luzhipeng@cestc.cn>
@ 2025-02-13  6:59 ` qemudev
  2025-02-13  7:03 ` qemudev
                   ` (7 subsequent siblings)
  8 siblings, 0 replies; 9+ messages in thread
From: qemudev @ 2025-02-13  6:59 UTC (permalink / raw)
  To: test-report

Test-Label: loongarch-compilation
Test-Status: SUCCESS
http://dpdk.org/patch/151464

_Compilation OK_

Submitter: luzhipeng <luzhipeng@cestc.cn>
Date: Thu, 13 Feb 2025 15:14:59 +0800
DPDK git baseline: Repo:dpdk
  Branch: main
  CommitID: e5176f23ae8b31437c3e5eb875c81f95bf3a9942

151464 --> meson & ninja build successfully

Test environment and result as below:

+---------------------+----------------+
|     Environment     | compilation    |
+---------------------+----------------+
| Loongnix-Server 8.3 | PASS           |
+---------------------+----------------+

Loongnix-Server 8.3
    Kernel: 4.19.190+
    Compiler: gcc 8.3


^ permalink raw reply	[flat|nested] 9+ messages in thread

* |SUCCESS| pw151464 [PATCH] config/arm: add Phytium TengYun S5000c
       [not found] <20250213071459.458-2-luzhipeng@cestc.cn>
  2025-02-13  6:59 ` |SUCCESS| pw151464 [PATCH] config/arm: add Phytium TengYun S5000c qemudev
@ 2025-02-13  7:03 ` qemudev
  2025-02-13  7:32 ` checkpatch
                   ` (6 subsequent siblings)
  8 siblings, 0 replies; 9+ messages in thread
From: qemudev @ 2025-02-13  7:03 UTC (permalink / raw)
  To: test-report

Test-Label: loongarch-unit-testing
Test-Status: SUCCESS
http://dpdk.org/patch/151464

_Unit Testing PASS_

Submitter: luzhipeng <luzhipeng@cestc.cn>
Date: Thu, 13 Feb 2025 15:14:59 +0800
DPDK git baseline: Repo:dpdk
  Branch: main
  CommitID: e5176f23ae8b31437c3e5eb875c81f95bf3a9942

151464 --> testing pass

Test environment and result as below:

+---------------------+----------------+
|     Environment     | dpdk_unit_test |
+---------------------+----------------+
| Loongnix-Server 8.3 | PASS           |
+---------------------+----------------+

Loongnix-Server 8.3
    Kernel: 4.19.190+
    Compiler: gcc 8.3


Test result details:
  1/119 DPDK:fast-tests / acl_autotest                            OK              3.43s
  2/119 DPDK:fast-tests / alarm_autotest                          OK              1.53s
  3/119 DPDK:fast-tests / argparse_autotest                       OK              0.51s
  4/119 DPDK:fast-tests / atomic_autotest                         OK              6.91s
  5/119 DPDK:fast-tests / bitcount_autotest                       OK              0.20s
  6/119 DPDK:fast-tests / bitmap_autotest                         OK              0.19s
  7/119 DPDK:fast-tests / bitops_autotest                         OK              1.69s
  8/119 DPDK:fast-tests / bitratestats_autotest                   OK              0.20s
  9/119 DPDK:fast-tests / bitset_autotest                         OK              2.93s
 10/119 DPDK:fast-tests / bpf_autotest                            OK              0.20s
 11/119 DPDK:fast-tests / bpf_convert_autotest                    OK              0.20s
 12/119 DPDK:fast-tests / byteorder_autotest                      OK              0.19s
 13/119 DPDK:fast-tests / cfgfile_autotest                        OK              0.19s
 14/119 DPDK:fast-tests / cksum_autotest                          OK              0.19s
 15/119 DPDK:fast-tests / cmdline_autotest                        OK              0.19s
 16/119 DPDK:fast-tests / common_autotest                         OK              1.08s
 17/119 DPDK:fast-tests / compressdev_autotest                    SKIP            0.06s   exit status 77
 18/119 DPDK:fast-tests / cpuflags_autotest                       OK              0.20s
 19/119 DPDK:fast-tests / crc_autotest                            OK              0.19s
 20/119 DPDK:fast-tests / user_delay_us                           OK              0.19s
 21/119 DPDK:fast-tests / debug_autotest                          OK             17.00s
 22/119 DPDK:fast-tests / devargs_autotest                        OK              0.20s
 23/119 DPDK:fast-tests / dispatcher_autotest                     OK              2.50s
 24/119 DPDK:fast-tests / distributor_autotest                    OK              1.20s
 25/119 DPDK:fast-tests / eal_flags_c_opt_autotest                OK              0.82s
 26/119 DPDK:fast-tests / eal_flags_main_opt_autotest             OK              0.22s
 27/119 DPDK:fast-tests / eal_flags_n_opt_autotest                OK              0.20s
 28/119 DPDK:fast-tests / eal_flags_hpet_autotest                 OK              0.13s
 29/119 DPDK:fast-tests / eal_flags_no_huge_autotest              OK              0.23s
 30/119 DPDK:fast-tests / eal_flags_a_opt_autotest                OK              0.31s
 31/119 DPDK:fast-tests / eal_flags_b_opt_autotest                OK              0.25s
 32/119 DPDK:fast-tests / eal_flags_vdev_opt_autotest             OK              0.20s
 33/119 DPDK:fast-tests / eal_flags_r_opt_autotest                OK              0.19s
 34/119 DPDK:fast-tests / eal_flags_mem_autotest                  OK              0.61s
 35/119 DPDK:fast-tests / eal_flags_file_prefix_autotest          OK             22.29s
 36/119 DPDK:fast-tests / eal_flags_misc_autotest                 OK              1.08s
 37/119 DPDK:fast-tests / eal_fs_autotest                         OK              0.20s
 38/119 DPDK:fast-tests / errno_autotest                          OK              0.19s
 39/119 DPDK:fast-tests / ethdev_link_status                      OK              0.19s
 40/119 DPDK:fast-tests / event_eth_tx_adapter_autotest           OK              1.68s
 41/119 DPDK:fast-tests / event_ring_autotest                     OK              0.21s
 42/119 DPDK:fast-tests / eventdev_common_autotest                OK              0.20s
 43/119 DPDK:fast-tests / eventdev_selftest_sw                    OK              6.98s
 44/119 DPDK:fast-tests / fbarray_autotest                        OK              0.21s
 45/119 DPDK:fast-tests / fib_autotest                            OK              1.12s
 46/119 DPDK:fast-tests / fib6_autotest                           OK              0.88s
 47/119 DPDK:fast-tests / func_reentrancy_autotest                OK              2.20s
 48/119 DPDK:fast-tests / graph_autotest                          OK              0.21s
 49/119 DPDK:fast-tests / node_list_dump                          OK              0.19s
 50/119 DPDK:fast-tests / hash_autotest                           OK              0.83s
 51/119 DPDK:fast-tests / hash_readwrite_func_autotest            OK              6.38s
 52/119 DPDK:fast-tests / interrupt_autotest                      OK              1.51s
 53/119 DPDK:fast-tests / ipfrag_autotest                         OK              0.07s
 54/119 DPDK:fast-tests / ipsec_autotest                          SKIP            0.21s   exit status 77
 55/119 DPDK:fast-tests / kvargs_autotest                         OK              0.20s
 56/119 DPDK:fast-tests / latencystats_autotest                   OK              0.20s
 57/119 DPDK:fast-tests / lcore_var_autotest                      OK              0.35s
 58/119 DPDK:fast-tests / lcores_autotest                         OK              5.01s
 59/119 DPDK:fast-tests / logs_autotest                           OK              0.19s
 60/119 DPDK:fast-tests / lpm_autotest                            OK              2.26s
 61/119 DPDK:fast-tests / lpm6_autotest                           OK              5.33s
 62/119 DPDK:fast-tests / malloc_autotest                         OK             64.03s
 63/119 DPDK:fast-tests / mbuf_autotest                           OK              5.16s
 64/119 DPDK:fast-tests / mcslock_autotest                        OK              2.92s
 65/119 DPDK:fast-tests / member_autotest                         OK              1.41s
 66/119 DPDK:fast-tests / memcpy_autotest                         OK              6.81s
 67/119 DPDK:fast-tests / memory_autotest                         OK              0.08s
 68/119 DPDK:fast-tests / mempool_autotest                        OK              0.43s
 69/119 DPDK:fast-tests / memzone_autotest                        OK              0.14s
 70/119 DPDK:fast-tests / meter_autotest                          OK              0.20s
 71/119 DPDK:fast-tests / metrics_autotest                        OK              0.19s
 72/119 DPDK:fast-tests / multiprocess_autotest                   OK              0.18s
 73/119 DPDK:fast-tests / net_ether_autotest                      OK              0.86s
 74/119 DPDK:fast-tests / net_ipv6_autotest                       OK              0.19s
 75/119 DPDK:fast-tests / pcapng_autotest                         OK              7.50s
 76/119 DPDK:fast-tests / pdcp_autotest                           SKIP            0.06s   exit status 77
 77/119 DPDK:fast-tests / pdump_autotest                          OK              0.32s
 78/119 DPDK:fast-tests / per_lcore_autotest                      OK              0.29s
 79/119 DPDK:fast-tests / pflock_autotest                         OK              1.00s
 80/119 DPDK:fast-tests / pie_autotest                            OK              0.20s
 81/119 DPDK:fast-tests / ring_pmd_autotest                       OK              0.20s
 82/119 DPDK:fast-tests / power_autotest                          OK              0.19s
 83/119 DPDK:fast-tests / power_cpufreq_autotest                  SKIP            0.06s   exit status 77
 84/119 DPDK:fast-tests / power_intel_uncore_autotest             SKIP            0.20s   exit status 77
 85/119 DPDK:fast-tests / power_kvm_vm_autotest                   SKIP            0.06s   exit status 77
 86/119 DPDK:fast-tests / prefetch_autotest                       OK              0.20s
 87/119 DPDK:fast-tests / ptr_compress_autotest                   OK              0.20s
 88/119 DPDK:fast-tests / rawdev_autotest                         OK              0.19s
 89/119 DPDK:fast-tests / rcu_qsbr_autotest                       OK              0.72s
 90/119 DPDK:fast-tests / reorder_autotest                        OK              0.43s
 91/119 DPDK:fast-tests / rib_autotest                            OK              9.04s
 92/119 DPDK:fast-tests / rib6_autotest                           OK              9.04s
 93/119 DPDK:fast-tests / ring_autotest                           OK              0.52s
 94/119 DPDK:fast-tests / rwlock_test1_autotest                   OK              1.22s
 95/119 DPDK:fast-tests / rwlock_rda_autotest                     OK              5.47s
 96/119 DPDK:fast-tests / rwlock_rds_wrm_autotest                 OK              5.48s
 97/119 DPDK:fast-tests / rwlock_rde_wro_autotest                 OK              5.47s
 98/119 DPDK:fast-tests / sched_autotest                          OK              0.45s
 99/119 DPDK:fast-tests / security_autotest                       OK              0.06s
100/119 DPDK:fast-tests / seqlock_autotest                        OK              2.43s
101/119 DPDK:fast-tests / service_autotest                        OK              3.14s
102/119 DPDK:fast-tests / soring_autotest                         OK              0.44s
103/119 DPDK:fast-tests / spinlock_autotest                       OK              0.51s
104/119 DPDK:fast-tests / stack_autotest                          OK              0.87s
105/119 DPDK:fast-tests / stack_lf_autotest                       SKIP            0.06s   exit status 77
106/119 DPDK:fast-tests / string_autotest                         OK              0.43s
107/119 DPDK:fast-tests / table_autotest                          OK              7.52s
108/119 DPDK:fast-tests / tailq_autotest                          OK              0.43s
109/119 DPDK:fast-tests / telemetry_data_autotest                 OK              0.43s
110/119 DPDK:fast-tests / telemetry_json_autotest                 OK              0.43s
111/119 DPDK:fast-tests / thash_autotest                          OK              0.44s
112/119 DPDK:fast-tests / threads_autotest                        OK              0.61s
113/119 DPDK:fast-tests / ticketlock_autotest                     OK              0.59s
114/119 DPDK:fast-tests / timer_autotest                          OK              3.95s
115/119 DPDK:fast-tests / trace_autotest                          OK              0.43s
116/119 DPDK:fast-tests / trace_autotest_with_traces              OK              0.44s
117/119 DPDK:fast-tests / vdev_autotest                           OK              0.43s
118/119 DPDK:fast-tests / version_autotest                        OK              0.43s
119/119 DPDK:fast-tests / telemetry_all                           OK              1.36s


Ok:                 112
Expected Fail:      0
Fail:               0
Unexpected Pass:    0
Skipped:            7
Timeout:            0


^ permalink raw reply	[flat|nested] 9+ messages in thread

* |SUCCESS| pw151464 [PATCH] config/arm: add Phytium TengYun S5000c
       [not found] <20250213071459.458-2-luzhipeng@cestc.cn>
  2025-02-13  6:59 ` |SUCCESS| pw151464 [PATCH] config/arm: add Phytium TengYun S5000c qemudev
  2025-02-13  7:03 ` qemudev
@ 2025-02-13  7:32 ` checkpatch
  2025-02-13  8:45 ` 0-day Robot
                   ` (5 subsequent siblings)
  8 siblings, 0 replies; 9+ messages in thread
From: checkpatch @ 2025-02-13  7:32 UTC (permalink / raw)
  To: test-report

Test-Label: checkpatch
Test-Status: SUCCESS
http://dpdk.org/patch/151464

_coding style OK_



^ permalink raw reply	[flat|nested] 9+ messages in thread

* |SUCCESS| pw151464 [PATCH] config/arm: add Phytium TengYun S5000c
       [not found] <20250213071459.458-2-luzhipeng@cestc.cn>
                   ` (2 preceding siblings ...)
  2025-02-13  7:32 ` checkpatch
@ 2025-02-13  8:45 ` 0-day Robot
  2025-02-13 12:39 ` dpdklab
                   ` (4 subsequent siblings)
  8 siblings, 0 replies; 9+ messages in thread
From: 0-day Robot @ 2025-02-13  8:45 UTC (permalink / raw)
  To: test-report; +Cc: robot

From: robot@bytheb.org

Test-Label: github-robot: build
Test-Status: SUCCESS
http://patchwork.dpdk.org/patch/151464/

_github build: passed_
Build URL: https://github.com/ovsrobot/dpdk/actions/runs/13302842240

^ permalink raw reply	[flat|nested] 9+ messages in thread

* |SUCCESS| pw151464 [PATCH] config/arm: add Phytium TengYun S5000c
       [not found] <20250213071459.458-2-luzhipeng@cestc.cn>
                   ` (3 preceding siblings ...)
  2025-02-13  8:45 ` 0-day Robot
@ 2025-02-13 12:39 ` dpdklab
  2025-02-13 12:41 ` dpdklab
                   ` (3 subsequent siblings)
  8 siblings, 0 replies; 9+ messages in thread
From: dpdklab @ 2025-02-13 12:39 UTC (permalink / raw)
  To: Test Report; +Cc: dpdk-test-reports

Test-Label: iol-sample-apps-testing
Test-Status: SUCCESS
http://dpdk.org/patch/151464

_Testing PASS_

Submitter: luzhipeng <luzhipeng@cestc.cn>
Date: Thursday, February 13 2025 07:14:59 
DPDK git baseline: Repo:dpdk
  Branch: master
  CommitID:e5176f23ae8b31437c3e5eb875c81f95bf3a9942

151464 --> testing pass

Upstream job id: Template-DTS-Pipeline#212504

Test environment and result as below:

+--------------------+----------------------+
|    Environment     | compressdev_zlib_pmd |
+====================+======================+
| Ubuntu 22.04 (ARM) | PASS                 |
+--------------------+----------------------+


Ubuntu 22.04 (ARM)
	Kernel: 5.15.0-97-generic
	Compiler: gcc gcc (Ubuntu 11.4.0-1ubuntu1~22.04) 11.4.0

To view detailed results, visit:
https://lab.dpdk.org/results/dashboard/patchsets/32573/

UNH-IOL DPDK Community Lab

To manage your email subscriptions, visit: 
https://lab.dpdk.org/results/dashboard/preferences/subscriptions/

^ permalink raw reply	[flat|nested] 9+ messages in thread

* |SUCCESS| pw151464 [PATCH] config/arm: add Phytium TengYun S5000c
       [not found] <20250213071459.458-2-luzhipeng@cestc.cn>
                   ` (4 preceding siblings ...)
  2025-02-13 12:39 ` dpdklab
@ 2025-02-13 12:41 ` dpdklab
  2025-02-13 12:46 ` dpdklab
                   ` (2 subsequent siblings)
  8 siblings, 0 replies; 9+ messages in thread
From: dpdklab @ 2025-02-13 12:41 UTC (permalink / raw)
  To: Ali Alnubani, Test Report; +Cc: dpdk-test-reports

Test-Label: iol-mellanox-Performance
Test-Status: SUCCESS
http://dpdk.org/patch/151464

_Performance Testing PASS_

Submitter: luzhipeng <luzhipeng@cestc.cn>
Date: Thursday, February 13 2025 07:14:59 
DPDK git baseline: Repo:dpdk
  Branch: master
  CommitID:e5176f23ae8b31437c3e5eb875c81f95bf3a9942

151464 --> performance testing pass

Upstream job id: Template-DTS-Pipeline#212493

Test environment and result as below:

Ubuntu 24.04
Kernel: 6.8.0-45-generic
Compiler: gcc 13.2.0
NIC: NVIDIA Mellanox ConnectX-7 100000 Mbps
Fail/Total: 0/6

Detail performance results: 
+------------+---------+----------+-------------+------------------------------+
| frame_size | txd/rxd | num_cpus | num_threads |  throughput difference from  |
|            |         |          |             |           expected           |
+============+=========+==========+=============+==============================+
| 64         | 1024    | 1        | 1           | 1.5%                         |
+------------+---------+----------+-------------+------------------------------+
| 128        | 1024    | 1        | 1           | 0.9%                         |
+------------+---------+----------+-------------+------------------------------+
| 256        | 1024    | 1        | 1           | -1.0%                        |
+------------+---------+----------+-------------+------------------------------+
| 512        | 1024    | 1        | 1           | 0.1%                         |
+------------+---------+----------+-------------+------------------------------+
| 1024       | 1024    | 1        | 1           | 0.0%                         |
+------------+---------+----------+-------------+------------------------------+
| 1518       | 1024    | 1        | 1           | 0.1%                         |
+------------+---------+----------+-------------+------------------------------+

Ubuntu 24.04
Kernel: 6.8.0-45-generic
Compiler: gcc 13.2.0
NIC: Mellanox ConnectX-6 Lx 25000 Mbps
Fail/Total: 0/6

Detail performance results: 
+------------+---------+----------+-------------+------------------------------+
| frame_size | txd/rxd | num_cpus | num_threads |  throughput difference from  |
|            |         |          |             |           expected           |
+============+=========+==========+=============+==============================+
| 64         | 1024    | 1        | 1           | 0.2%                         |
+------------+---------+----------+-------------+------------------------------+
| 128        | 1024    | 1        | 1           | 0.1%                         |
+------------+---------+----------+-------------+------------------------------+
| 256        | 1024    | 1        | 1           | -0.0%                        |
+------------+---------+----------+-------------+------------------------------+
| 512        | 1024    | 1        | 1           | -0.0%                        |
+------------+---------+----------+-------------+------------------------------+
| 1024       | 1024    | 1        | 1           | -0.0%                        |
+------------+---------+----------+-------------+------------------------------+
| 1518       | 1024    | 1        | 1           | 0.0%                         |
+------------+---------+----------+-------------+------------------------------+

To view detailed results, visit:
https://lab.dpdk.org/results/dashboard/patchsets/32573/

UNH-IOL DPDK Community Lab

To manage your email subscriptions, visit: 
https://lab.dpdk.org/results/dashboard/preferences/subscriptions/

^ permalink raw reply	[flat|nested] 9+ messages in thread

* |SUCCESS| pw151464 [PATCH] config/arm: add Phytium TengYun S5000c
       [not found] <20250213071459.458-2-luzhipeng@cestc.cn>
                   ` (5 preceding siblings ...)
  2025-02-13 12:41 ` dpdklab
@ 2025-02-13 12:46 ` dpdklab
  2025-02-13 12:47 ` dpdklab
  2025-02-13 12:53 ` dpdklab
  8 siblings, 0 replies; 9+ messages in thread
From: dpdklab @ 2025-02-13 12:46 UTC (permalink / raw)
  To: Test Report; +Cc: dpdk-test-reports

Test-Label: iol-broadcom-Performance
Test-Status: SUCCESS
http://dpdk.org/patch/151464

_Performance Testing PASS_

Submitter: luzhipeng <luzhipeng@cestc.cn>
Date: Thursday, February 13 2025 07:14:59 
DPDK git baseline: Repo:dpdk
  Branch: master
  CommitID:e5176f23ae8b31437c3e5eb875c81f95bf3a9942

151464 --> performance testing pass

Upstream job id: Template-DTS-Pipeline#212496

Test environment and result as below:

Ubuntu 22.04
Kernel: 5.15.0-100-generic
Compiler: gcc (Ubuntu 11.4.0-1ubuntu1~22.04) 11.4.0
NIC: Broadcom Inc. and subsidiaries BCM57414 NetXtreme-E 10Gb/25Gb RDMA Ethernet Controller 16d7 25 Mbps
Fail/Total: 0/3

Detail performance results: 
+------------+---------+----------+-------------+------------------------------+
| frame_size | txd/rxd | num_cpus | num_threads |  throughput difference from  |
|            |         |          |             |           expected           |
+============+=========+==========+=============+==============================+
| 64         | 128     | 1        | 1           | 0.4%                         |
+------------+---------+----------+-------------+------------------------------+
| 64         | 512     | 1        | 1           | -0.1%                        |
+------------+---------+----------+-------------+------------------------------+
| 64         | 2048    | 1        | 1           | -0.9%                        |
+------------+---------+----------+-------------+------------------------------+

Ubuntu 22.04 ARM
Kernel: 5.15.83+
Compiler: gcc 11.4.0
NIC: Arm Broadcom Inc. brcm_57414 25000 Mbps
Fail/Total: 0/2

Detail performance results: 
+------------+---------+----------+-------------+------------------------------+
| frame_size | txd/rxd | num_cpus | num_threads |  throughput difference from  |
|            |         |          |             |           expected           |
+============+=========+==========+=============+==============================+
| 64         | 512     | 1        | 1           | 0.1%                         |
+------------+---------+----------+-------------+------------------------------+
| 64         | 2048    | 1        | 1           | 0.2%                         |
+------------+---------+----------+-------------+------------------------------+

To view detailed results, visit:
https://lab.dpdk.org/results/dashboard/patchsets/32573/

UNH-IOL DPDK Community Lab

To manage your email subscriptions, visit: 
https://lab.dpdk.org/results/dashboard/preferences/subscriptions/

^ permalink raw reply	[flat|nested] 9+ messages in thread

* |SUCCESS| pw151464 [PATCH] config/arm: add Phytium TengYun S5000c
       [not found] <20250213071459.458-2-luzhipeng@cestc.cn>
                   ` (6 preceding siblings ...)
  2025-02-13 12:46 ` dpdklab
@ 2025-02-13 12:47 ` dpdklab
  2025-02-13 12:53 ` dpdklab
  8 siblings, 0 replies; 9+ messages in thread
From: dpdklab @ 2025-02-13 12:47 UTC (permalink / raw)
  To: Test Report; +Cc: dpdk-test-reports

Test-Label: iol-intel-Functional
Test-Status: SUCCESS
http://dpdk.org/patch/151464

_Functional Testing PASS_

Submitter: luzhipeng <luzhipeng@cestc.cn>
Date: Thursday, February 13 2025 07:14:59 
DPDK git baseline: Repo:dpdk
  Branch: master
  CommitID:e5176f23ae8b31437c3e5eb875c81f95bf3a9942

151464 --> functional testing pass

Upstream job id: Template-DTS-Pipeline#212501

Test environment and result as below:

Arm Ampere Altra - Ubuntu 22.04
Kernel: 5.15.83+
Compiler: gcc 11.4
NIC: Intel Corporation QAT 8970 0 Mbps

Aggregate Results by Test Suite
+----------------------------+--------+
|         Test Suite         | Result |
+============================+========+
| crypto_perf_cryptodev_perf |  PASS  |
+----------------------------+--------+


To view detailed results, visit:
https://lab.dpdk.org/results/dashboard/patchsets/32573/

UNH-IOL DPDK Community Lab

To manage your email subscriptions, visit: 
https://lab.dpdk.org/results/dashboard/preferences/subscriptions/

^ permalink raw reply	[flat|nested] 9+ messages in thread

* |SUCCESS| pw151464 [PATCH] config/arm: add Phytium TengYun S5000c
       [not found] <20250213071459.458-2-luzhipeng@cestc.cn>
                   ` (7 preceding siblings ...)
  2025-02-13 12:47 ` dpdklab
@ 2025-02-13 12:53 ` dpdklab
  8 siblings, 0 replies; 9+ messages in thread
From: dpdklab @ 2025-02-13 12:53 UTC (permalink / raw)
  To: Test Report; +Cc: dpdk-test-reports

Test-Label: iol-marvell-Functional
Test-Status: SUCCESS
http://dpdk.org/patch/151464

_Functional Testing PASS_

Submitter: luzhipeng <luzhipeng@cestc.cn>
Date: Thursday, February 13 2025 07:14:59 
DPDK git baseline: Repo:dpdk
  Branch: master
  CommitID:e5176f23ae8b31437c3e5eb875c81f95bf3a9942

151464 --> functional testing pass

Upstream job id: Template-DTS-Pipeline#212502

Test environment and result as below:

Ubuntu 20.04.6
Kernel: 5.4.105
Compiler: gcc 9.4
NIC: Marvell CN106XX 50000 Mbps
Target: arm64-native-linuxapp-gcc

Aggregate Results by Test Suite
+-----------------+--------+
|   Test Suite    | Result |
+=================+========+
| cmdline         |  PASS  |
+-----------------+--------+
| dynamic_queue   |  PASS  |
+-----------------+--------+
| ipv4_reassembly |  PASS  |
+-----------------+--------+
| rxtx_callbacks  |  PASS  |
+-----------------+--------+
| tso             |  PASS  |
+-----------------+--------+


To view detailed results, visit:
https://lab.dpdk.org/results/dashboard/patchsets/32573/

UNH-IOL DPDK Community Lab

To manage your email subscriptions, visit: 
https://lab.dpdk.org/results/dashboard/preferences/subscriptions/

^ permalink raw reply	[flat|nested] 9+ messages in thread

end of thread, other threads:[~2025-02-13 12:53 UTC | newest]

Thread overview: 9+ messages (download: mbox.gz / follow: Atom feed)
-- links below jump to the message on this page --
     [not found] <20250213071459.458-2-luzhipeng@cestc.cn>
2025-02-13  6:59 ` |SUCCESS| pw151464 [PATCH] config/arm: add Phytium TengYun S5000c qemudev
2025-02-13  7:03 ` qemudev
2025-02-13  7:32 ` checkpatch
2025-02-13  8:45 ` 0-day Robot
2025-02-13 12:39 ` dpdklab
2025-02-13 12:41 ` dpdklab
2025-02-13 12:46 ` dpdklab
2025-02-13 12:47 ` dpdklab
2025-02-13 12:53 ` dpdklab

This is a public inbox, see mirroring instructions
for how to clone and mirror all data and code used for this inbox;
as well as URLs for NNTP newsgroup(s).