automatic DPDK test reports
 help / color / mirror / Atom feed
* |SUCCESS| pw151468 [PATCH v3] dts: add SUT cleanup to framework
       [not found] <20250213164401.20384-1-dmarx@iol.unh.edu>
@ 2025-02-13 16:11 ` qemudev
  2025-02-13 16:15 ` qemudev
                   ` (8 subsequent siblings)
  9 siblings, 0 replies; 10+ messages in thread
From: qemudev @ 2025-02-13 16:11 UTC (permalink / raw)
  To: test-report

Test-Label: loongarch-compilation
Test-Status: SUCCESS
http://dpdk.org/patch/151468

_Compilation OK_

Submitter: Dean Marx <dmarx@iol.unh.edu>
Date: Thu, 13 Feb 2025 11:44:01 -0500
DPDK git baseline: Repo:dpdk
  Branch: main
  CommitID: e5176f23ae8b31437c3e5eb875c81f95bf3a9942

151468 --> meson & ninja build successfully

Test environment and result as below:

+---------------------+----------------+
|     Environment     | compilation    |
+---------------------+----------------+
| Loongnix-Server 8.3 | PASS           |
+---------------------+----------------+

Loongnix-Server 8.3
    Kernel: 4.19.190+
    Compiler: gcc 8.3


^ permalink raw reply	[flat|nested] 10+ messages in thread

* |SUCCESS| pw151468 [PATCH v3] dts: add SUT cleanup to framework
       [not found] <20250213164401.20384-1-dmarx@iol.unh.edu>
  2025-02-13 16:11 ` |SUCCESS| pw151468 [PATCH v3] dts: add SUT cleanup to framework qemudev
@ 2025-02-13 16:15 ` qemudev
  2025-02-13 16:45 ` checkpatch
                   ` (7 subsequent siblings)
  9 siblings, 0 replies; 10+ messages in thread
From: qemudev @ 2025-02-13 16:15 UTC (permalink / raw)
  To: test-report

Test-Label: loongarch-unit-testing
Test-Status: SUCCESS
http://dpdk.org/patch/151468

_Unit Testing PASS_

Submitter: Dean Marx <dmarx@iol.unh.edu>
Date: Thu, 13 Feb 2025 11:44:01 -0500
DPDK git baseline: Repo:dpdk
  Branch: main
  CommitID: e5176f23ae8b31437c3e5eb875c81f95bf3a9942

151468 --> testing pass

Test environment and result as below:

+---------------------+----------------+
|     Environment     | dpdk_unit_test |
+---------------------+----------------+
| Loongnix-Server 8.3 | PASS           |
+---------------------+----------------+

Loongnix-Server 8.3
    Kernel: 4.19.190+
    Compiler: gcc 8.3


Test result details:
  1/119 DPDK:fast-tests / acl_autotest                            OK              3.18s
  2/119 DPDK:fast-tests / alarm_autotest                          OK              1.35s
  3/119 DPDK:fast-tests / argparse_autotest                       OK              0.34s
  4/119 DPDK:fast-tests / atomic_autotest                         OK              7.66s
  5/119 DPDK:fast-tests / bitcount_autotest                       OK              0.19s
  6/119 DPDK:fast-tests / bitmap_autotest                         OK              0.19s
  7/119 DPDK:fast-tests / bitops_autotest                         OK              1.69s
  8/119 DPDK:fast-tests / bitratestats_autotest                   OK              0.19s
  9/119 DPDK:fast-tests / bitset_autotest                         OK              2.93s
 10/119 DPDK:fast-tests / bpf_autotest                            OK              0.19s
 11/119 DPDK:fast-tests / bpf_convert_autotest                    OK              0.19s
 12/119 DPDK:fast-tests / byteorder_autotest                      OK              0.19s
 13/119 DPDK:fast-tests / cfgfile_autotest                        OK              0.19s
 14/119 DPDK:fast-tests / cksum_autotest                          OK              0.19s
 15/119 DPDK:fast-tests / cmdline_autotest                        OK              0.19s
 16/119 DPDK:fast-tests / common_autotest                         OK              1.07s
 17/119 DPDK:fast-tests / compressdev_autotest                    SKIP            0.06s   exit status 77
 18/119 DPDK:fast-tests / cpuflags_autotest                       OK              0.19s
 19/119 DPDK:fast-tests / crc_autotest                            OK              0.19s
 20/119 DPDK:fast-tests / user_delay_us                           OK              0.19s
 21/119 DPDK:fast-tests / debug_autotest                          OK             19.30s
 22/119 DPDK:fast-tests / devargs_autotest                        OK              0.20s
 23/119 DPDK:fast-tests / dispatcher_autotest                     OK              2.48s
 24/119 DPDK:fast-tests / distributor_autotest                    OK              1.20s
 25/119 DPDK:fast-tests / eal_flags_c_opt_autotest                OK              0.78s
 26/119 DPDK:fast-tests / eal_flags_main_opt_autotest             OK              0.21s
 27/119 DPDK:fast-tests / eal_flags_n_opt_autotest                OK              0.19s
 28/119 DPDK:fast-tests / eal_flags_hpet_autotest                 OK              0.13s
 29/119 DPDK:fast-tests / eal_flags_no_huge_autotest              OK              0.21s
 30/119 DPDK:fast-tests / eal_flags_a_opt_autotest                OK              0.29s
 31/119 DPDK:fast-tests / eal_flags_b_opt_autotest                OK              0.24s
 32/119 DPDK:fast-tests / eal_flags_vdev_opt_autotest             OK              0.19s
 33/119 DPDK:fast-tests / eal_flags_r_opt_autotest                OK              0.18s
 34/119 DPDK:fast-tests / eal_flags_mem_autotest                  OK              0.60s
 35/119 DPDK:fast-tests / eal_flags_file_prefix_autotest          OK             22.21s
 36/119 DPDK:fast-tests / eal_flags_misc_autotest                 OK              1.03s
 37/119 DPDK:fast-tests / eal_fs_autotest                         OK              0.19s
 38/119 DPDK:fast-tests / errno_autotest                          OK              0.19s
 39/119 DPDK:fast-tests / ethdev_link_status                      OK              0.19s
 40/119 DPDK:fast-tests / event_eth_tx_adapter_autotest           OK              1.67s
 41/119 DPDK:fast-tests / event_ring_autotest                     OK              0.21s
 42/119 DPDK:fast-tests / eventdev_common_autotest                OK              0.19s
 43/119 DPDK:fast-tests / eventdev_selftest_sw                    OK              6.98s
 44/119 DPDK:fast-tests / fbarray_autotest                        OK              0.20s
 45/119 DPDK:fast-tests / fib_autotest                            OK              1.11s
 46/119 DPDK:fast-tests / fib6_autotest                           OK              0.88s
 47/119 DPDK:fast-tests / func_reentrancy_autotest                OK              2.14s
 48/119 DPDK:fast-tests / graph_autotest                          OK              0.21s
 49/119 DPDK:fast-tests / node_list_dump                          OK              0.19s
 50/119 DPDK:fast-tests / hash_autotest                           OK              0.82s
 51/119 DPDK:fast-tests / hash_readwrite_func_autotest            OK              6.37s
 52/119 DPDK:fast-tests / interrupt_autotest                      OK              1.50s
 53/119 DPDK:fast-tests / ipfrag_autotest                         OK              0.06s
 54/119 DPDK:fast-tests / ipsec_autotest                          SKIP            0.20s   exit status 77
 55/119 DPDK:fast-tests / kvargs_autotest                         OK              0.20s
 56/119 DPDK:fast-tests / latencystats_autotest                   OK              0.20s
 57/119 DPDK:fast-tests / lcore_var_autotest                      OK              0.34s
 58/119 DPDK:fast-tests / lcores_autotest                         OK              5.01s
 59/119 DPDK:fast-tests / logs_autotest                           OK              0.19s
 60/119 DPDK:fast-tests / lpm_autotest                            OK              2.25s
 61/119 DPDK:fast-tests / lpm6_autotest                           OK              5.32s
 62/119 DPDK:fast-tests / malloc_autotest                         OK             61.35s
 63/119 DPDK:fast-tests / mbuf_autotest                           OK              4.36s
 64/119 DPDK:fast-tests / mcslock_autotest                        OK              2.59s
 65/119 DPDK:fast-tests / member_autotest                         OK              1.41s
 66/119 DPDK:fast-tests / memcpy_autotest                         OK              6.81s
 67/119 DPDK:fast-tests / memory_autotest                         OK              0.08s
 68/119 DPDK:fast-tests / mempool_autotest                        OK              0.43s
 69/119 DPDK:fast-tests / memzone_autotest                        OK              0.14s
 70/119 DPDK:fast-tests / meter_autotest                          OK              0.39s
 71/119 DPDK:fast-tests / metrics_autotest                        OK              0.40s
 72/119 DPDK:fast-tests / multiprocess_autotest                   OK              0.18s
 73/119 DPDK:fast-tests / net_ether_autotest                      OK              1.05s
 74/119 DPDK:fast-tests / net_ipv6_autotest                       OK              0.40s
 75/119 DPDK:fast-tests / pcapng_autotest                         OK              6.05s
 76/119 DPDK:fast-tests / pdcp_autotest                           SKIP            0.07s   exit status 77
 77/119 DPDK:fast-tests / pdump_autotest                          OK              0.51s
 78/119 DPDK:fast-tests / per_lcore_autotest                      OK              0.50s
 79/119 DPDK:fast-tests / pflock_autotest                         OK              1.20s
 80/119 DPDK:fast-tests / pie_autotest                            OK              0.40s
 81/119 DPDK:fast-tests / ring_pmd_autotest                       OK              0.40s
 82/119 DPDK:fast-tests / power_autotest                          OK              0.40s
 83/119 DPDK:fast-tests / power_cpufreq_autotest                  SKIP            0.07s   exit status 77
 84/119 DPDK:fast-tests / power_intel_uncore_autotest             SKIP            0.39s   exit status 77
 85/119 DPDK:fast-tests / power_kvm_vm_autotest                   SKIP            0.07s   exit status 77
 86/119 DPDK:fast-tests / prefetch_autotest                       OK              0.39s
 87/119 DPDK:fast-tests / ptr_compress_autotest                   OK              0.40s
 88/119 DPDK:fast-tests / rawdev_autotest                         OK              0.40s
 89/119 DPDK:fast-tests / rcu_qsbr_autotest                       OK              0.92s
 90/119 DPDK:fast-tests / reorder_autotest                        OK              0.45s
 91/119 DPDK:fast-tests / rib_autotest                            OK              9.05s
 92/119 DPDK:fast-tests / rib6_autotest                           OK              9.04s
 93/119 DPDK:fast-tests / ring_autotest                           OK              0.43s
 94/119 DPDK:fast-tests / rwlock_test1_autotest                   OK              1.14s
 95/119 DPDK:fast-tests / rwlock_rda_autotest                     OK              5.40s
 96/119 DPDK:fast-tests / rwlock_rds_wrm_autotest                 OK              5.40s
 97/119 DPDK:fast-tests / rwlock_rde_wro_autotest                 OK              5.40s
 98/119 DPDK:fast-tests / sched_autotest                          OK              0.40s
 99/119 DPDK:fast-tests / security_autotest                       OK              0.07s
100/119 DPDK:fast-tests / seqlock_autotest                        OK              2.39s
101/119 DPDK:fast-tests / service_autotest                        OK              3.10s
102/119 DPDK:fast-tests / soring_autotest                         OK              0.40s
103/119 DPDK:fast-tests / spinlock_autotest                       OK              0.47s
104/119 DPDK:fast-tests / stack_autotest                          OK              0.86s
105/119 DPDK:fast-tests / stack_lf_autotest                       SKIP            0.06s   exit status 77
106/119 DPDK:fast-tests / string_autotest                         OK              0.39s
107/119 DPDK:fast-tests / table_autotest                          OK              7.48s
108/119 DPDK:fast-tests / tailq_autotest                          OK              0.39s
109/119 DPDK:fast-tests / telemetry_data_autotest                 OK              0.40s
110/119 DPDK:fast-tests / telemetry_json_autotest                 OK              0.40s
111/119 DPDK:fast-tests / thash_autotest                          OK              0.41s
112/119 DPDK:fast-tests / threads_autotest                        OK              0.57s
113/119 DPDK:fast-tests / ticketlock_autotest                     OK              0.55s
114/119 DPDK:fast-tests / timer_autotest                          OK              3.87s
115/119 DPDK:fast-tests / trace_autotest                          OK              0.39s
116/119 DPDK:fast-tests / trace_autotest_with_traces              OK              0.40s
117/119 DPDK:fast-tests / vdev_autotest                           OK              0.39s
118/119 DPDK:fast-tests / version_autotest                        OK              0.40s
119/119 DPDK:fast-tests / telemetry_all                           OK              1.32s


Ok:                 112
Expected Fail:      0
Fail:               0
Unexpected Pass:    0
Skipped:            7
Timeout:            0


^ permalink raw reply	[flat|nested] 10+ messages in thread

* |SUCCESS| pw151468 [PATCH v3] dts: add SUT cleanup to framework
       [not found] <20250213164401.20384-1-dmarx@iol.unh.edu>
  2025-02-13 16:11 ` |SUCCESS| pw151468 [PATCH v3] dts: add SUT cleanup to framework qemudev
  2025-02-13 16:15 ` qemudev
@ 2025-02-13 16:45 ` checkpatch
  2025-02-13 18:25 ` 0-day Robot
                   ` (6 subsequent siblings)
  9 siblings, 0 replies; 10+ messages in thread
From: checkpatch @ 2025-02-13 16:45 UTC (permalink / raw)
  To: test-report

Test-Label: checkpatch
Test-Status: SUCCESS
http://dpdk.org/patch/151468

_coding style OK_



^ permalink raw reply	[flat|nested] 10+ messages in thread

* |SUCCESS| pw151468 [PATCH v3] dts: add SUT cleanup to framework
       [not found] <20250213164401.20384-1-dmarx@iol.unh.edu>
                   ` (2 preceding siblings ...)
  2025-02-13 16:45 ` checkpatch
@ 2025-02-13 18:25 ` 0-day Robot
  2025-02-13 18:53 ` |PENDING| pw151468 [PATCH] [v3] " dpdklab
                   ` (5 subsequent siblings)
  9 siblings, 0 replies; 10+ messages in thread
From: 0-day Robot @ 2025-02-13 18:25 UTC (permalink / raw)
  To: test-report; +Cc: robot

From: robot@bytheb.org

Test-Label: github-robot: build
Test-Status: SUCCESS
http://patchwork.dpdk.org/patch/151468/

_github build: passed_
Build URL: https://github.com/ovsrobot/dpdk/actions/runs/13313109947

^ permalink raw reply	[flat|nested] 10+ messages in thread

* |PENDING| pw151468 [PATCH] [v3] dts: add SUT cleanup to framework
       [not found] <20250213164401.20384-1-dmarx@iol.unh.edu>
                   ` (3 preceding siblings ...)
  2025-02-13 18:25 ` 0-day Robot
@ 2025-02-13 18:53 ` dpdklab
  2025-02-13 19:19 ` |SUCCESS| " dpdklab
                   ` (4 subsequent siblings)
  9 siblings, 0 replies; 10+ messages in thread
From: dpdklab @ 2025-02-13 18:53 UTC (permalink / raw)
  To: Test Report; +Cc: dpdk-test-reports

Test-Label: iol-unit-amd64-testing
Test-Status: PENDING
http://dpdk.org/patch/151468

_Testing pending_

Submitter: Dean Marx <dmarx@iol.unh.edu>
Date: Thursday, February 13 2025 16:44:01 
DPDK git baseline: Repo:dpdk
  Branch: master
  CommitID:046cca99c3fd03bfb95d3e27a56aab40c2c8f45a

151468 --> testing pending

Upstream job id: Generic-Unit-Test-DPDK#314737

Test environment and result as below:

+-------------------+----------------+
|    Environment    | dpdk_unit_test |
+===================+================+
| CentOS Stream 10  | PASS           |
+-------------------+----------------+
| Fedora 40         | PEND           |
+-------------------+----------------+
| Fedora 41         | PEND           |
+-------------------+----------------+
| RHEL9             | PEND           |
+-------------------+----------------+
| Fedora 40 (Clang) | PEND           |
+-------------------+----------------+
| CentOS Stream 9   | PEND           |
+-------------------+----------------+
| Fedora 41 (Clang) | PEND           |
+-------------------+----------------+
| Debian 12         | PEND           |
+-------------------+----------------+
| Debian Bullseye   | PEND           |
+-------------------+----------------+
| RHEL8             | PEND           |
+-------------------+----------------+
| Ubuntu 24.04      | PEND           |
+-------------------+----------------+
| Ubuntu 22.04      | PEND           |
+-------------------+----------------+
| Ubuntu 20.04      | PEND           |
+-------------------+----------------+


CentOS Stream 10
	Kernel: Depends on container host
	Compiler: gcc 14.2.1 20241104 (Red Hat 14.2.1-6)

Fedora 40
	Kernel: Depends on container host
	Compiler: gcc 14.2.1 20240912 (Red Hat 14.2.1-3)

Fedora 41
	Kernel: Depends on container host
	Compiler: gcc 14.2.1 20240912 (Red Hat 14.2.1-3)

RHEL9
	Kernel: Depends on container host
	Compiler: gcc 11.5.0 20240719 (Red Hat 11.5.0-2)

Fedora 40 (Clang)
	Kernel: Depends on container host
	Compiler: clang 18.1.8 (Fedora 18.1.8-1.fc40)

CentOS Stream 9
	Kernel: Depends on container host
	Compiler: gcc 11.5.0 20240719 (Red Hat 11.5.0-2)

Fedora 41 (Clang)
	Kernel: Depends on container host
	Compiler: clang 19.1.5 (Fedora 19.1.5-1.fc41)

Debian 12
	Kernel: Depends on container host
	Compiler: gcc (Debian 12.2.0-14) 12.2.0

Debian Bullseye
	Kernel: Depends on container host
	Compiler: gcc (Debian 10.2.1-6) 10.2.1 20210110

RHEL8
	Kernel: Depends on container host
	Compiler: gcc 8.5.0 20210514 (Red Hat 8.5.0-22)

Ubuntu 24.04
	Kernel: Depends on container host
	Compiler: gcc (Ubuntu 13.3.0-6ubuntu2~24.04) 13.3.0

Ubuntu 22.04
	Kernel: Depends on container host
	Compiler: gcc (Ubuntu 11.4.0-1ubuntu1~22.04) 11.4.0

Ubuntu 20.04
	Kernel: Depends on container host
	Compiler: gcc (Ubuntu 9.4.0-1ubuntu1~20.04.2) 9.4.0

To view detailed results, visit:
https://lab.dpdk.org/results/dashboard/patchsets/32576/

UNH-IOL DPDK Community Lab

To manage your email subscriptions, visit: 
https://lab.dpdk.org/results/dashboard/preferences/subscriptions/

^ permalink raw reply	[flat|nested] 10+ messages in thread

* |SUCCESS| pw151468 [PATCH] [v3] dts: add SUT cleanup to framework
       [not found] <20250213164401.20384-1-dmarx@iol.unh.edu>
                   ` (4 preceding siblings ...)
  2025-02-13 18:53 ` |PENDING| pw151468 [PATCH] [v3] " dpdklab
@ 2025-02-13 19:19 ` dpdklab
  2025-02-13 19:25 ` |PENDING| " dpdklab
                   ` (3 subsequent siblings)
  9 siblings, 0 replies; 10+ messages in thread
From: dpdklab @ 2025-02-13 19:19 UTC (permalink / raw)
  To: Test Report; +Cc: dpdk-test-reports

Test-Label: iol-intel-Functional
Test-Status: SUCCESS
http://dpdk.org/patch/151468

_Functional Testing PASS_

Submitter: Dean Marx <dmarx@iol.unh.edu>
Date: Thursday, February 13 2025 16:44:01 
DPDK git baseline: Repo:dpdk
  Branch: master
  CommitID:046cca99c3fd03bfb95d3e27a56aab40c2c8f45a

151468 --> functional testing pass

Upstream job id: Template-DTS-Pipeline#212538

Test environment and result as below:

Ubuntu 24.04 LTS
Kernel: 6.8.0-44-generic
Compiler: gcc 13.2.0
NIC: Intel Corporation Ethernet Controller XL710 for 40GbE QSFP+ 40 Mbps

Aggregate Results by Test Suite
+------------+--------+
| Test Suite | Result |
+============+========+
| mac_filter |  PASS  |
+------------+--------+


Ubuntu 22.04
Kernel: 5.15.0-131-generic
Compiler: gcc (Ubuntu 11.4.0-1ubuntu1~22.04) 11.4.0
NIC: Intel Corporation Ethernet Converged Network Adapter 82599ES 10000 Mbps

Aggregate Results by Test Suite
+-----------------------------+--------+
|         Test Suite          | Result |
+=============================+========+
| unit_tests_mbuf             |  PASS  |
+-----------------------------+--------+
| vhost_virtio_user_interrupt |  PASS  |
+-----------------------------+--------+
| virtio_smoke                |  PASS  |
+-----------------------------+--------+


To view detailed results, visit:
https://lab.dpdk.org/results/dashboard/patchsets/32576/

UNH-IOL DPDK Community Lab

To manage your email subscriptions, visit: 
https://lab.dpdk.org/results/dashboard/preferences/subscriptions/

^ permalink raw reply	[flat|nested] 10+ messages in thread

* |PENDING| pw151468 [PATCH] [v3] dts: add SUT cleanup to framework
       [not found] <20250213164401.20384-1-dmarx@iol.unh.edu>
                   ` (5 preceding siblings ...)
  2025-02-13 19:19 ` |SUCCESS| " dpdklab
@ 2025-02-13 19:25 ` dpdklab
  2025-02-13 19:27 ` |SUCCESS| " dpdklab
                   ` (2 subsequent siblings)
  9 siblings, 0 replies; 10+ messages in thread
From: dpdklab @ 2025-02-13 19:25 UTC (permalink / raw)
  To: Test Report; +Cc: dpdk-test-reports

Test-Label: iol-abi-testing
Test-Status: PENDING
http://dpdk.org/patch/151468

_Testing pending_

Submitter: Dean Marx <dmarx@iol.unh.edu>
Date: Thursday, February 13 2025 16:44:01 
DPDK git baseline: Repo:dpdk
  Branch: master
  CommitID:046cca99c3fd03bfb95d3e27a56aab40c2c8f45a

151468 --> testing pending

Upstream job id: Generic-DPDK-Compile-ABI#116076

Test environment and result as below:

+-------------------+----------+
|    Environment    | abi_test |
+===================+==========+
| CentOS Stream 10  | PASS     |
+-------------------+----------+
| CentOS Stream 9   | PEND     |
+-------------------+----------+
| Debian Bullseye   | PEND     |
+-------------------+----------+
| Fedora 40 (Clang) | PEND     |
+-------------------+----------+
| Fedora 40         | PEND     |
+-------------------+----------+
| Fedora 41 (Clang) | PEND     |
+-------------------+----------+
| RHEL9             | PEND     |
+-------------------+----------+
| Ubuntu 22.04      | PEND     |
+-------------------+----------+
| RHEL8             | PEND     |
+-------------------+----------+
| Ubuntu 24.04      | PEND     |
+-------------------+----------+
| openSUSE Leap 15  | PEND     |
+-------------------+----------+
| Fedora 41         | PEND     |
+-------------------+----------+
| Debian 12         | PEND     |
+-------------------+----------+


CentOS Stream 10
	Kernel: Depends on container host
	Compiler: gcc 14.2.1 20241104 (Red Hat 14.2.1-6)

CentOS Stream 9
	Kernel: Depends on container host
	Compiler: gcc 11.5.0 20240719 (Red Hat 11.5.0-2)

Debian Bullseye
	Kernel: Depends on container host
	Compiler: gcc (Debian 10.2.1-6) 10.2.1 20210110

Fedora 40 (Clang)
	Kernel: Depends on container host
	Compiler: clang 18.1.8 (Fedora 18.1.8-1.fc40)

Fedora 40
	Kernel: Depends on container host
	Compiler: gcc 14.2.1 20240912 (Red Hat 14.2.1-3)

Fedora 41 (Clang)
	Kernel: Depends on container host
	Compiler: clang 19.1.5 (Fedora 19.1.5-1.fc41)

RHEL9
	Kernel: Depends on container host
	Compiler: gcc 11.5.0 20240719 (Red Hat 11.5.0-2)

Ubuntu 22.04
	Kernel: Depends on container host
	Compiler: gcc (Ubuntu 11.4.0-1ubuntu1~22.04) 11.4.0

RHEL8
	Kernel: Depends on container host
	Compiler: gcc 8.5.0 20210514 (Red Hat 8.5.0-22)

Ubuntu 24.04
	Kernel: Depends on container host
	Compiler: gcc (Ubuntu 13.3.0-6ubuntu2~24.04) 13.3.0

openSUSE Leap 15
	Kernel: Depends on container host
	Compiler: gcc (SUSE Linux) 7.5.0

Fedora 41
	Kernel: Depends on container host
	Compiler: gcc 14.2.1 20240912 (Red Hat 14.2.1-3)

Debian 12
	Kernel: Depends on container host
	Compiler: gcc (Debian 12.2.0-14) 12.2.0

To view detailed results, visit:
https://lab.dpdk.org/results/dashboard/patchsets/32576/

UNH-IOL DPDK Community Lab

To manage your email subscriptions, visit: 
https://lab.dpdk.org/results/dashboard/preferences/subscriptions/

^ permalink raw reply	[flat|nested] 10+ messages in thread

* |SUCCESS| pw151468 [PATCH] [v3] dts: add SUT cleanup to framework
       [not found] <20250213164401.20384-1-dmarx@iol.unh.edu>
                   ` (6 preceding siblings ...)
  2025-02-13 19:25 ` |PENDING| " dpdklab
@ 2025-02-13 19:27 ` dpdklab
  2025-02-13 19:29 ` dpdklab
  2025-02-13 19:30 ` dpdklab
  9 siblings, 0 replies; 10+ messages in thread
From: dpdklab @ 2025-02-13 19:27 UTC (permalink / raw)
  To: Test Report; +Cc: dpdk-test-reports

Test-Label: iol-sample-apps-testing
Test-Status: SUCCESS
http://dpdk.org/patch/151468

_Testing PASS_

Submitter: Dean Marx <dmarx@iol.unh.edu>
Date: Thursday, February 13 2025 16:44:01 
DPDK git baseline: Repo:dpdk
  Branch: master
  CommitID:046cca99c3fd03bfb95d3e27a56aab40c2c8f45a

151468 --> testing pass

Upstream job id: Template-DTS-Pipeline#212542

Test environment and result as below:

+--------------+----------------------+
| Environment  | compressdev_zlib_pmd |
+==============+======================+
| Ubuntu 22.04 | PASS                 |
+--------------+----------------------+


Ubuntu 22.04
	Kernel: 5.15.0-100-generic
	Compiler: gcc gcc (Ubuntu 11.4.0-1ubuntu1~22.04) 11.4.0

To view detailed results, visit:
https://lab.dpdk.org/results/dashboard/patchsets/32576/

UNH-IOL DPDK Community Lab

To manage your email subscriptions, visit: 
https://lab.dpdk.org/results/dashboard/preferences/subscriptions/

^ permalink raw reply	[flat|nested] 10+ messages in thread

* |SUCCESS| pw151468 [PATCH] [v3] dts: add SUT cleanup to framework
       [not found] <20250213164401.20384-1-dmarx@iol.unh.edu>
                   ` (7 preceding siblings ...)
  2025-02-13 19:27 ` |SUCCESS| " dpdklab
@ 2025-02-13 19:29 ` dpdklab
  2025-02-13 19:30 ` dpdklab
  9 siblings, 0 replies; 10+ messages in thread
From: dpdklab @ 2025-02-13 19:29 UTC (permalink / raw)
  To: Test Report; +Cc: dpdk-test-reports

Test-Label: iol-broadcom-Performance
Test-Status: SUCCESS
http://dpdk.org/patch/151468

_Performance Testing PASS_

Submitter: Dean Marx <dmarx@iol.unh.edu>
Date: Thursday, February 13 2025 16:44:01 
DPDK git baseline: Repo:dpdk
  Branch: master
  CommitID:046cca99c3fd03bfb95d3e27a56aab40c2c8f45a

151468 --> performance testing pass

Upstream job id: Template-DTS-Pipeline#212536

Test environment and result as below:

Ubuntu 22.04
Kernel: 5.15.0-100-generic
Compiler: gcc (Ubuntu 11.4.0-1ubuntu1~22.04) 11.4.0
NIC: Broadcom Inc. and subsidiaries BCM57414 NetXtreme-E 10Gb/25Gb RDMA Ethernet Controller 16d7 25 Mbps
Fail/Total: 0/3

Detail performance results: 
+------------+---------+----------+-------------+------------------------------+
| frame_size | txd/rxd | num_cpus | num_threads |  throughput difference from  |
|            |         |          |             |           expected           |
+============+=========+==========+=============+==============================+
| 64         | 128     | 1        | 1           | 0.1%                         |
+------------+---------+----------+-------------+------------------------------+
| 64         | 512     | 1        | 1           | 0.3%                         |
+------------+---------+----------+-------------+------------------------------+
| 64         | 2048    | 1        | 1           | -0.2%                        |
+------------+---------+----------+-------------+------------------------------+

Ubuntu 22.04 ARM
Kernel: 5.15.83+
Compiler: gcc 11.4.0
NIC: Arm Broadcom Inc. brcm_57414 25000 Mbps
Fail/Total: 0/2

Detail performance results: 
+------------+---------+----------+-------------+------------------------------+
| frame_size | txd/rxd | num_cpus | num_threads |  throughput difference from  |
|            |         |          |             |           expected           |
+============+=========+==========+=============+==============================+
| 64         | 512     | 1        | 1           | 0.1%                         |
+------------+---------+----------+-------------+------------------------------+
| 64         | 2048    | 1        | 1           | 0.2%                         |
+------------+---------+----------+-------------+------------------------------+

To view detailed results, visit:
https://lab.dpdk.org/results/dashboard/patchsets/32576/

UNH-IOL DPDK Community Lab

To manage your email subscriptions, visit: 
https://lab.dpdk.org/results/dashboard/preferences/subscriptions/

^ permalink raw reply	[flat|nested] 10+ messages in thread

* |SUCCESS| pw151468 [PATCH] [v3] dts: add SUT cleanup to framework
       [not found] <20250213164401.20384-1-dmarx@iol.unh.edu>
                   ` (8 preceding siblings ...)
  2025-02-13 19:29 ` dpdklab
@ 2025-02-13 19:30 ` dpdklab
  9 siblings, 0 replies; 10+ messages in thread
From: dpdklab @ 2025-02-13 19:30 UTC (permalink / raw)
  To: Test Report; +Cc: dpdk-test-reports

Test-Label: iol-compile-amd64-testing
Test-Status: SUCCESS
http://dpdk.org/patch/151468

_Testing PASS_

Submitter: Dean Marx <dmarx@iol.unh.edu>
Date: Thursday, February 13 2025 16:44:01 
DPDK git baseline: Repo:dpdk
  Branch: master
  CommitID:046cca99c3fd03bfb95d3e27a56aab40c2c8f45a

151468 --> testing pass

Upstream job id: Windows-Compile-DPDK-Native#26671

Test environment and result as below:

+---------------------+----------------------+
|     Environment     | dpdk_mingw64_compile |
+=====================+======================+
| Windows Server 2022 | PASS                 |
+---------------------+----------------------+


Windows Server 2022
	Kernel: 10.0.20348.2031
	Compiler: clang 15.0.7, gcc 14.1.0 (MinGW), and MSVC VS 19.39.33521

To view detailed results, visit:
https://lab.dpdk.org/results/dashboard/patchsets/32576/

UNH-IOL DPDK Community Lab

To manage your email subscriptions, visit: 
https://lab.dpdk.org/results/dashboard/preferences/subscriptions/

^ permalink raw reply	[flat|nested] 10+ messages in thread

end of thread, other threads:[~2025-02-13 19:30 UTC | newest]

Thread overview: 10+ messages (download: mbox.gz / follow: Atom feed)
-- links below jump to the message on this page --
     [not found] <20250213164401.20384-1-dmarx@iol.unh.edu>
2025-02-13 16:11 ` |SUCCESS| pw151468 [PATCH v3] dts: add SUT cleanup to framework qemudev
2025-02-13 16:15 ` qemudev
2025-02-13 16:45 ` checkpatch
2025-02-13 18:25 ` 0-day Robot
2025-02-13 18:53 ` |PENDING| pw151468 [PATCH] [v3] " dpdklab
2025-02-13 19:19 ` |SUCCESS| " dpdklab
2025-02-13 19:25 ` |PENDING| " dpdklab
2025-02-13 19:27 ` |SUCCESS| " dpdklab
2025-02-13 19:29 ` dpdklab
2025-02-13 19:30 ` dpdklab

This is a public inbox, see mirroring instructions
for how to clone and mirror all data and code used for this inbox;
as well as URLs for NNTP newsgroup(s).