automatic DPDK test reports
 help / color / mirror / Atom feed
* |SUCCESS| pw151469-151471 [Patch v2 3/3] net/netvsc: log error on failure to switch data path
       [not found] <1739473105-17797-4-git-send-email-longli@linuxonhyperv.com>
@ 2025-02-13 18:25 ` qemudev
  2025-02-13 18:29 ` qemudev
                   ` (10 subsequent siblings)
  11 siblings, 0 replies; 12+ messages in thread
From: qemudev @ 2025-02-13 18:25 UTC (permalink / raw)
  To: test-report

Test-Label: loongarch-compilation
Test-Status: SUCCESS
http://dpdk.org/patch/151471

_Compilation OK_

Submitter: Long Li <longli@linuxonhyperv.com>
Date: Thu, 13 Feb 2025 10:58:23 -0800
DPDK git baseline: Repo:dpdk-next-net
  Branch: main
  CommitID: 88e17c88943145bb956b5bf6059a8043dbd33a99

151469-151471 --> meson & ninja build successfully

Test environment and result as below:

+---------------------+----------------+
|     Environment     | compilation    |
+---------------------+----------------+
| Loongnix-Server 8.3 | PASS           |
+---------------------+----------------+

Loongnix-Server 8.3
    Kernel: 4.19.190+
    Compiler: gcc 8.3


^ permalink raw reply	[flat|nested] 12+ messages in thread

* |SUCCESS| pw151469-151471 [Patch v2 3/3] net/netvsc: log error on failure to switch data path
       [not found] <1739473105-17797-4-git-send-email-longli@linuxonhyperv.com>
  2025-02-13 18:25 ` |SUCCESS| pw151469-151471 [Patch v2 3/3] net/netvsc: log error on failure to switch data path qemudev
@ 2025-02-13 18:29 ` qemudev
  2025-02-13 18:59 ` |SUCCESS| pw151471 " checkpatch
                   ` (9 subsequent siblings)
  11 siblings, 0 replies; 12+ messages in thread
From: qemudev @ 2025-02-13 18:29 UTC (permalink / raw)
  To: test-report

Test-Label: loongarch-unit-testing
Test-Status: SUCCESS
http://dpdk.org/patch/151471

_Unit Testing PASS_

Submitter: Long Li <longli@linuxonhyperv.com>
Date: Thu, 13 Feb 2025 10:58:23 -0800
DPDK git baseline: Repo:dpdk-next-net
  Branch: main
  CommitID: 88e17c88943145bb956b5bf6059a8043dbd33a99

151469-151471 --> testing pass

Test environment and result as below:

+---------------------+----------------+
|     Environment     | dpdk_unit_test |
+---------------------+----------------+
| Loongnix-Server 8.3 | PASS           |
+---------------------+----------------+

Loongnix-Server 8.3
    Kernel: 4.19.190+
    Compiler: gcc 8.3


Test result details:
  1/119 DPDK:fast-tests / acl_autotest                            OK              3.31s
  2/119 DPDK:fast-tests / alarm_autotest                          OK              1.50s
  3/119 DPDK:fast-tests / argparse_autotest                       OK              0.49s
  4/119 DPDK:fast-tests / atomic_autotest                         OK              7.22s
  5/119 DPDK:fast-tests / bitcount_autotest                       OK              0.43s
  6/119 DPDK:fast-tests / bitmap_autotest                         OK              0.43s
  7/119 DPDK:fast-tests / bitops_autotest                         OK              1.93s
  8/119 DPDK:fast-tests / bitratestats_autotest                   OK              0.43s
  9/119 DPDK:fast-tests / bitset_autotest                         OK              3.15s
 10/119 DPDK:fast-tests / bpf_autotest                            OK              0.43s
 11/119 DPDK:fast-tests / bpf_convert_autotest                    OK              0.43s
 12/119 DPDK:fast-tests / byteorder_autotest                      OK              0.43s
 13/119 DPDK:fast-tests / cfgfile_autotest                        OK              0.43s
 14/119 DPDK:fast-tests / cksum_autotest                          OK              0.43s
 15/119 DPDK:fast-tests / cmdline_autotest                        OK              0.42s
 16/119 DPDK:fast-tests / common_autotest                         OK              1.31s
 17/119 DPDK:fast-tests / compressdev_autotest                    SKIP            0.07s   exit status 77
 18/119 DPDK:fast-tests / cpuflags_autotest                       OK              0.42s
 19/119 DPDK:fast-tests / crc_autotest                            OK              0.43s
 20/119 DPDK:fast-tests / user_delay_us                           OK              0.43s
 21/119 DPDK:fast-tests / debug_autotest                          OK             18.78s
 22/119 DPDK:fast-tests / devargs_autotest                        OK              0.43s
 23/119 DPDK:fast-tests / dispatcher_autotest                     OK              2.46s
 24/119 DPDK:fast-tests / distributor_autotest                    OK              1.20s
 25/119 DPDK:fast-tests / eal_flags_c_opt_autotest                OK              0.77s
 26/119 DPDK:fast-tests / eal_flags_main_opt_autotest             OK              0.21s
 27/119 DPDK:fast-tests / eal_flags_n_opt_autotest                OK              0.19s
 28/119 DPDK:fast-tests / eal_flags_hpet_autotest                 OK              0.13s
 29/119 DPDK:fast-tests / eal_flags_no_huge_autotest              OK              0.21s
 30/119 DPDK:fast-tests / eal_flags_a_opt_autotest                OK              0.29s
 31/119 DPDK:fast-tests / eal_flags_b_opt_autotest                OK              0.24s
 32/119 DPDK:fast-tests / eal_flags_vdev_opt_autotest             OK              0.19s
 33/119 DPDK:fast-tests / eal_flags_r_opt_autotest                OK              0.18s
 34/119 DPDK:fast-tests / eal_flags_mem_autotest                  OK              0.58s
 35/119 DPDK:fast-tests / eal_flags_file_prefix_autotest          OK             22.23s
 36/119 DPDK:fast-tests / eal_flags_misc_autotest                 OK              1.03s
 37/119 DPDK:fast-tests / eal_fs_autotest                         OK              0.31s
 38/119 DPDK:fast-tests / errno_autotest                          OK              0.31s
 39/119 DPDK:fast-tests / ethdev_link_status                      OK              0.31s
 40/119 DPDK:fast-tests / event_eth_tx_adapter_autotest           OK              1.68s
 41/119 DPDK:fast-tests / event_ring_autotest                     OK              0.31s
 42/119 DPDK:fast-tests / eventdev_common_autotest                OK              0.31s
 43/119 DPDK:fast-tests / eventdev_selftest_sw                    OK              7.12s
 44/119 DPDK:fast-tests / fbarray_autotest                        OK              0.31s
 45/119 DPDK:fast-tests / fib_autotest                            OK              1.20s
 46/119 DPDK:fast-tests / fib6_autotest                           OK              0.98s
 47/119 DPDK:fast-tests / func_reentrancy_autotest                OK              2.23s
 48/119 DPDK:fast-tests / graph_autotest                          OK              0.31s
 49/119 DPDK:fast-tests / node_list_dump                          OK              0.30s
 50/119 DPDK:fast-tests / hash_autotest                           OK              0.93s
 51/119 DPDK:fast-tests / hash_readwrite_func_autotest            OK              6.40s
 52/119 DPDK:fast-tests / interrupt_autotest                      OK              1.61s
 53/119 DPDK:fast-tests / ipfrag_autotest                         OK              0.07s
 54/119 DPDK:fast-tests / ipsec_autotest                          SKIP            0.31s   exit status 77
 55/119 DPDK:fast-tests / kvargs_autotest                         OK              0.31s
 56/119 DPDK:fast-tests / latencystats_autotest                   OK              0.31s
 57/119 DPDK:fast-tests / lcore_var_autotest                      OK              0.45s
 58/119 DPDK:fast-tests / lcores_autotest                         OK              5.12s
 59/119 DPDK:fast-tests / logs_autotest                           OK              0.31s
 60/119 DPDK:fast-tests / lpm_autotest                            OK              2.36s
 61/119 DPDK:fast-tests / lpm6_autotest                           OK              5.45s
 62/119 DPDK:fast-tests / malloc_autotest                         OK             60.26s
 63/119 DPDK:fast-tests / mbuf_autotest                           OK              4.96s
 64/119 DPDK:fast-tests / mcslock_autotest                        OK              2.55s
 65/119 DPDK:fast-tests / member_autotest                         OK              1.52s
 66/119 DPDK:fast-tests / memcpy_autotest                         OK              6.59s
 67/119 DPDK:fast-tests / memory_autotest                         OK              0.09s
 68/119 DPDK:fast-tests / mempool_autotest                        OK              0.43s
 69/119 DPDK:fast-tests / memzone_autotest                        OK              0.14s
 70/119 DPDK:fast-tests / meter_autotest                          OK              0.30s
 71/119 DPDK:fast-tests / metrics_autotest                        OK              0.30s
 72/119 DPDK:fast-tests / multiprocess_autotest                   OK              0.17s
 73/119 DPDK:fast-tests / net_ether_autotest                      OK              0.97s
 74/119 DPDK:fast-tests / net_ipv6_autotest                       OK              0.30s
 75/119 DPDK:fast-tests / pcapng_autotest                         OK              7.18s
 76/119 DPDK:fast-tests / pdcp_autotest                           SKIP            0.06s   exit status 77
 77/119 DPDK:fast-tests / pdump_autotest                          OK              0.42s
 78/119 DPDK:fast-tests / per_lcore_autotest                      OK              0.40s
 79/119 DPDK:fast-tests / pflock_autotest                         OK              1.11s
 80/119 DPDK:fast-tests / pie_autotest                            OK              0.30s
 81/119 DPDK:fast-tests / ring_pmd_autotest                       OK              0.30s
 82/119 DPDK:fast-tests / power_autotest                          OK              0.30s
 83/119 DPDK:fast-tests / power_cpufreq_autotest                  SKIP            0.06s   exit status 77
 84/119 DPDK:fast-tests / power_intel_uncore_autotest             SKIP            0.30s   exit status 77
 85/119 DPDK:fast-tests / power_kvm_vm_autotest                   SKIP            0.06s   exit status 77
 86/119 DPDK:fast-tests / prefetch_autotest                       OK              0.30s
 87/119 DPDK:fast-tests / ptr_compress_autotest                   OK              0.30s
 88/119 DPDK:fast-tests / rawdev_autotest                         OK              0.30s
 89/119 DPDK:fast-tests / rcu_qsbr_autotest                       OK              0.82s
 90/119 DPDK:fast-tests / reorder_autotest                        OK              0.36s
 91/119 DPDK:fast-tests / rib_autotest                            OK              8.94s
 92/119 DPDK:fast-tests / rib6_autotest                           OK              8.94s
 93/119 DPDK:fast-tests / ring_autotest                           OK              0.33s
 94/119 DPDK:fast-tests / rwlock_test1_autotest                   OK              1.05s
 95/119 DPDK:fast-tests / rwlock_rda_autotest                     OK              5.31s
 96/119 DPDK:fast-tests / rwlock_rds_wrm_autotest                 OK              5.30s
 97/119 DPDK:fast-tests / rwlock_rde_wro_autotest                 OK              5.31s
 98/119 DPDK:fast-tests / sched_autotest                          OK              0.30s
 99/119 DPDK:fast-tests / security_autotest                       OK              0.06s
100/119 DPDK:fast-tests / seqlock_autotest                        OK              2.31s
101/119 DPDK:fast-tests / service_autotest                        OK              3.01s
102/119 DPDK:fast-tests / soring_autotest                         OK              0.31s
103/119 DPDK:fast-tests / spinlock_autotest                       OK              0.38s
104/119 DPDK:fast-tests / stack_autotest                          OK              0.86s
105/119 DPDK:fast-tests / stack_lf_autotest                       SKIP            0.05s   exit status 77
106/119 DPDK:fast-tests / string_autotest                         OK              0.30s
107/119 DPDK:fast-tests / table_autotest                          OK              7.75s
108/119 DPDK:fast-tests / tailq_autotest                          OK              0.30s
109/119 DPDK:fast-tests / telemetry_data_autotest                 OK              0.31s
110/119 DPDK:fast-tests / telemetry_json_autotest                 OK              0.30s
111/119 DPDK:fast-tests / thash_autotest                          OK              0.32s
112/119 DPDK:fast-tests / threads_autotest                        OK              0.49s
113/119 DPDK:fast-tests / ticketlock_autotest                     OK              0.46s
114/119 DPDK:fast-tests / timer_autotest                          OK              3.86s
115/119 DPDK:fast-tests / trace_autotest                          OK              0.30s
116/119 DPDK:fast-tests / trace_autotest_with_traces              OK              0.31s
117/119 DPDK:fast-tests / vdev_autotest                           OK              0.30s
118/119 DPDK:fast-tests / version_autotest                        OK              0.30s
119/119 DPDK:fast-tests / telemetry_all                           OK              1.27s


Ok:                 112
Expected Fail:      0
Fail:               0
Unexpected Pass:    0
Skipped:            7
Timeout:            0


^ permalink raw reply	[flat|nested] 12+ messages in thread

* |SUCCESS| pw151471 [Patch v2 3/3] net/netvsc: log error on failure to switch data path
       [not found] <1739473105-17797-4-git-send-email-longli@linuxonhyperv.com>
  2025-02-13 18:25 ` |SUCCESS| pw151469-151471 [Patch v2 3/3] net/netvsc: log error on failure to switch data path qemudev
  2025-02-13 18:29 ` qemudev
@ 2025-02-13 18:59 ` checkpatch
  2025-02-13 20:24 ` 0-day Robot
                   ` (8 subsequent siblings)
  11 siblings, 0 replies; 12+ messages in thread
From: checkpatch @ 2025-02-13 18:59 UTC (permalink / raw)
  To: test-report

Test-Label: checkpatch
Test-Status: SUCCESS
http://dpdk.org/patch/151471

_coding style OK_



^ permalink raw reply	[flat|nested] 12+ messages in thread

* |SUCCESS| pw151471 [Patch v2 3/3] net/netvsc: log error on failure to switch data path
       [not found] <1739473105-17797-4-git-send-email-longli@linuxonhyperv.com>
                   ` (2 preceding siblings ...)
  2025-02-13 18:59 ` |SUCCESS| pw151471 " checkpatch
@ 2025-02-13 20:24 ` 0-day Robot
  2025-02-13 20:39 ` |SUCCESS| pw151469-151471 [PATCH] [v2,3/3] net/netvsc: log error on dpdklab
                   ` (7 subsequent siblings)
  11 siblings, 0 replies; 12+ messages in thread
From: 0-day Robot @ 2025-02-13 20:24 UTC (permalink / raw)
  To: test-report; +Cc: robot

From: robot@bytheb.org

Test-Label: github-robot: build
Test-Status: SUCCESS
http://patchwork.dpdk.org/patch/151471/

_github build: passed_
Build URL: https://github.com/ovsrobot/dpdk/actions/runs/13315513809

^ permalink raw reply	[flat|nested] 12+ messages in thread

* |SUCCESS| pw151469-151471 [PATCH] [v2,3/3] net/netvsc: log error on
       [not found] <1739473105-17797-4-git-send-email-longli@linuxonhyperv.com>
                   ` (3 preceding siblings ...)
  2025-02-13 20:24 ` 0-day Robot
@ 2025-02-13 20:39 ` dpdklab
  2025-02-13 20:51 ` |PENDING| " dpdklab
                   ` (6 subsequent siblings)
  11 siblings, 0 replies; 12+ messages in thread
From: dpdklab @ 2025-02-13 20:39 UTC (permalink / raw)
  To: Test Report; +Cc: dpdk-test-reports

Test-Label: iol-intel-Functional
Test-Status: SUCCESS
http://dpdk.org/patch/151471

_Functional Testing PASS_

Submitter: Long Li <longli@linuxonhyperv.com>
Date: Thursday, February 13 2025 18:58:25 
DPDK git baseline: Repo:dpdk
  Branch: master
  CommitID:88e17c88943145bb956b5bf6059a8043dbd33a99

151469-151471 --> functional testing pass

Upstream job id: Template-DTS-Pipeline#212564

Test environment and result as below:

Ubuntu 22.04
Kernel: 5.15.0-131-generic
Compiler: gcc (Ubuntu 11.4.0-1ubuntu1~22.04) 11.4.0
NIC: Intel Corporation Ethernet Converged Network Adapter 82599ES 10000 Mbps

Aggregate Results by Test Suite
+-----------------------------+--------+
|         Test Suite          | Result |
+=============================+========+
| unit_tests_mbuf             |  PASS  |
+-----------------------------+--------+
| vhost_virtio_user_interrupt |  PASS  |
+-----------------------------+--------+
| virtio_smoke                |  PASS  |
+-----------------------------+--------+


To view detailed results, visit:
https://lab.dpdk.org/results/dashboard/patchsets/32577/

UNH-IOL DPDK Community Lab

To manage your email subscriptions, visit: 
https://lab.dpdk.org/results/dashboard/preferences/subscriptions/

^ permalink raw reply	[flat|nested] 12+ messages in thread

* |PENDING| pw151469-151471 [PATCH] [v2,3/3] net/netvsc: log error on
       [not found] <1739473105-17797-4-git-send-email-longli@linuxonhyperv.com>
                   ` (4 preceding siblings ...)
  2025-02-13 20:39 ` |SUCCESS| pw151469-151471 [PATCH] [v2,3/3] net/netvsc: log error on dpdklab
@ 2025-02-13 20:51 ` dpdklab
  2025-02-13 20:52 ` |SUCCESS| " dpdklab
                   ` (5 subsequent siblings)
  11 siblings, 0 replies; 12+ messages in thread
From: dpdklab @ 2025-02-13 20:51 UTC (permalink / raw)
  To: Test Report; +Cc: dpdk-test-reports

Test-Label: iol-unit-amd64-testing
Test-Status: PENDING
http://dpdk.org/patch/151471

_Testing pending_

Submitter: Long Li <longli@linuxonhyperv.com>
Date: Thursday, February 13 2025 18:58:25 
DPDK git baseline: Repo:dpdk
  Branch: master
  CommitID:88e17c88943145bb956b5bf6059a8043dbd33a99

151469-151471 --> testing pending

Upstream job id: Generic-Unit-Test-DPDK#314799

Test environment and result as below:

+---------------------+----------------+
|     Environment     | dpdk_unit_test |
+=====================+================+
| CentOS Stream 10    | PEND           |
+---------------------+----------------+
| CentOS Stream 9     | PEND           |
+---------------------+----------------+
| Fedora 40           | PASS           |
+---------------------+----------------+
| RHEL9               | PEND           |
+---------------------+----------------+
| Fedora 40 (Clang)   | PEND           |
+---------------------+----------------+
| Fedora 41           | PEND           |
+---------------------+----------------+
| Fedora 41 (Clang)   | PEND           |
+---------------------+----------------+
| Debian 12           | PEND           |
+---------------------+----------------+
| Debian Bullseye     | PEND           |
+---------------------+----------------+
| RHEL8               | PEND           |
+---------------------+----------------+
| Ubuntu 24.04        | PEND           |
+---------------------+----------------+
| Ubuntu 22.04        | PEND           |
+---------------------+----------------+
| Ubuntu 20.04        | PEND           |
+---------------------+----------------+
| Windows Server 2022 | PEND           |
+---------------------+----------------+


CentOS Stream 10
	Kernel: Depends on container host
	Compiler: gcc 14.2.1 20241104 (Red Hat 14.2.1-6)

CentOS Stream 9
	Kernel: Depends on container host
	Compiler: gcc 11.5.0 20240719 (Red Hat 11.5.0-2)

Fedora 40
	Kernel: Depends on container host
	Compiler: gcc 14.2.1 20240912 (Red Hat 14.2.1-3)

RHEL9
	Kernel: Depends on container host
	Compiler: gcc 11.5.0 20240719 (Red Hat 11.5.0-2)

Fedora 40 (Clang)
	Kernel: Depends on container host
	Compiler: clang 18.1.8 (Fedora 18.1.8-1.fc40)

Fedora 41
	Kernel: Depends on container host
	Compiler: gcc 14.2.1 20240912 (Red Hat 14.2.1-3)

Fedora 41 (Clang)
	Kernel: Depends on container host
	Compiler: clang 19.1.5 (Fedora 19.1.5-1.fc41)

Debian 12
	Kernel: Depends on container host
	Compiler: gcc (Debian 12.2.0-14) 12.2.0

Debian Bullseye
	Kernel: Depends on container host
	Compiler: gcc (Debian 10.2.1-6) 10.2.1 20210110

RHEL8
	Kernel: Depends on container host
	Compiler: gcc 8.5.0 20210514 (Red Hat 8.5.0-22)

Ubuntu 24.04
	Kernel: Depends on container host
	Compiler: gcc (Ubuntu 13.3.0-6ubuntu2~24.04) 13.3.0

Ubuntu 22.04
	Kernel: Depends on container host
	Compiler: gcc (Ubuntu 11.4.0-1ubuntu1~22.04) 11.4.0

Ubuntu 20.04
	Kernel: Depends on container host
	Compiler: gcc (Ubuntu 9.4.0-1ubuntu1~20.04.2) 9.4.0

Windows Server 2022
	Kernel: 10.0.20348.2031
	Compiler: clang 15.0.7, gcc 14.1.0 (MinGW), and MSVC VS 19.39.33521

To view detailed results, visit:
https://lab.dpdk.org/results/dashboard/patchsets/32577/

UNH-IOL DPDK Community Lab

To manage your email subscriptions, visit: 
https://lab.dpdk.org/results/dashboard/preferences/subscriptions/

^ permalink raw reply	[flat|nested] 12+ messages in thread

* |SUCCESS| pw151469-151471 [PATCH] [v2,3/3] net/netvsc: log error on
       [not found] <1739473105-17797-4-git-send-email-longli@linuxonhyperv.com>
                   ` (5 preceding siblings ...)
  2025-02-13 20:51 ` |PENDING| " dpdklab
@ 2025-02-13 20:52 ` dpdklab
  2025-02-13 20:55 ` dpdklab
                   ` (4 subsequent siblings)
  11 siblings, 0 replies; 12+ messages in thread
From: dpdklab @ 2025-02-13 20:52 UTC (permalink / raw)
  To: Test Report; +Cc: dpdk-test-reports

Test-Label: iol-intel-Functional
Test-Status: SUCCESS
http://dpdk.org/patch/151471

_Functional Testing PASS_

Submitter: Long Li <longli@linuxonhyperv.com>
Date: Thursday, February 13 2025 18:58:25 
DPDK git baseline: Repo:dpdk
  Branch: master
  CommitID:88e17c88943145bb956b5bf6059a8043dbd33a99

151469-151471 --> functional testing pass

Upstream job id: Template-DTS-Pipeline#212566

Test environment and result as below:

Ubuntu 22.04
Kernel: 5.15.0-131-generic
Compiler: gcc (Ubuntu 11.4.0-1ubuntu1~22.04) 11.4.0
NIC: Intel Corporation Ethernet Converged Network Adapter 82599ES 10000 Mbps

Aggregate Results by Test Suite
+-----------------------------+--------+
|         Test Suite          | Result |
+=============================+========+
| unit_tests_mbuf             |  PASS  |
+-----------------------------+--------+
| vhost_virtio_user_interrupt |  PASS  |
+-----------------------------+--------+
| virtio_smoke                |  PASS  |
+-----------------------------+--------+


Arm Ampere Altra - Ubuntu 22.04
Kernel: 5.15.83+
Compiler: gcc 11.4
NIC: Intel Corporation QAT 8970 0 Mbps

Aggregate Results by Test Suite
+----------------------------+--------+
|         Test Suite         | Result |
+============================+========+
| crypto_perf_cryptodev_perf |  PASS  |
+----------------------------+--------+


To view detailed results, visit:
https://lab.dpdk.org/results/dashboard/patchsets/32577/

UNH-IOL DPDK Community Lab

To manage your email subscriptions, visit: 
https://lab.dpdk.org/results/dashboard/preferences/subscriptions/

^ permalink raw reply	[flat|nested] 12+ messages in thread

* |SUCCESS| pw151469-151471 [PATCH] [v2,3/3] net/netvsc: log error on
       [not found] <1739473105-17797-4-git-send-email-longli@linuxonhyperv.com>
                   ` (6 preceding siblings ...)
  2025-02-13 20:52 ` |SUCCESS| " dpdklab
@ 2025-02-13 20:55 ` dpdklab
  2025-02-13 21:04 ` |PENDING| " dpdklab
                   ` (3 subsequent siblings)
  11 siblings, 0 replies; 12+ messages in thread
From: dpdklab @ 2025-02-13 20:55 UTC (permalink / raw)
  To: Test Report; +Cc: dpdk-test-reports

Test-Label: iol-marvell-Functional
Test-Status: SUCCESS
http://dpdk.org/patch/151471

_Functional Testing PASS_

Submitter: Long Li <longli@linuxonhyperv.com>
Date: Thursday, February 13 2025 18:58:25 
DPDK git baseline: Repo:dpdk
  Branch: master
  CommitID:88e17c88943145bb956b5bf6059a8043dbd33a99

151469-151471 --> functional testing pass

Upstream job id: Template-DTS-Pipeline#212567

Test environment and result as below:

Ubuntu 20.04.6
Kernel: 5.4.105
Compiler: gcc 9.4
NIC: Marvell CN106XX 50000 Mbps
Target: arm64-native-linuxapp-gcc

Aggregate Results by Test Suite
+-----------------+--------+
|   Test Suite    | Result |
+=================+========+
| cmdline         |  PASS  |
+-----------------+--------+
| ipv4_reassembly |  PASS  |
+-----------------+--------+
| rxtx_callbacks  |  PASS  |
+-----------------+--------+
| tso             |  PASS  |
+-----------------+--------+


To view detailed results, visit:
https://lab.dpdk.org/results/dashboard/patchsets/32577/

UNH-IOL DPDK Community Lab

To manage your email subscriptions, visit: 
https://lab.dpdk.org/results/dashboard/preferences/subscriptions/

^ permalink raw reply	[flat|nested] 12+ messages in thread

* |PENDING| pw151469-151471 [PATCH] [v2,3/3] net/netvsc: log error on
       [not found] <1739473105-17797-4-git-send-email-longli@linuxonhyperv.com>
                   ` (7 preceding siblings ...)
  2025-02-13 20:55 ` dpdklab
@ 2025-02-13 21:04 ` dpdklab
  2025-02-13 21:33 ` |SUCCESS| " dpdklab
                   ` (2 subsequent siblings)
  11 siblings, 0 replies; 12+ messages in thread
From: dpdklab @ 2025-02-13 21:04 UTC (permalink / raw)
  To: Test Report; +Cc: dpdk-test-reports

Test-Label: iol-sample-apps-testing
Test-Status: PENDING
http://dpdk.org/patch/151471

_Testing pending_

Submitter: Long Li <longli@linuxonhyperv.com>
Date: Thursday, February 13 2025 18:58:25 
DPDK git baseline: Repo:dpdk
  Branch: master
  CommitID:88e17c88943145bb956b5bf6059a8043dbd33a99

151469-151471 --> testing pending

Upstream job id: Template-DTS-Pipeline#212568

Test environment and result as below:

+--------------+----------------------+----------------------+
| Environment  | dpdk_fips_validation | compressdev_zlib_pmd |
+==============+======================+======================+
| Ubuntu 20.04 | PEND                 | SKIPPED              |
+--------------+----------------------+----------------------+
| Ubuntu 22.04 | SKIPPED              | PASS                 |
+--------------+----------------------+----------------------+


Ubuntu 20.04
	Kernel: Depends on container host
	Compiler: gcc (Ubuntu 9.4.0-1ubuntu1~20.04.2) 9.4.0

Ubuntu 22.04
	Kernel: 5.15.0-100-generic
	Compiler: gcc gcc (Ubuntu 11.4.0-1ubuntu1~22.04) 11.4.0

To view detailed results, visit:
https://lab.dpdk.org/results/dashboard/patchsets/32577/

UNH-IOL DPDK Community Lab

To manage your email subscriptions, visit: 
https://lab.dpdk.org/results/dashboard/preferences/subscriptions/

^ permalink raw reply	[flat|nested] 12+ messages in thread

* |SUCCESS| pw151469-151471 [PATCH] [v2,3/3] net/netvsc: log error on
       [not found] <1739473105-17797-4-git-send-email-longli@linuxonhyperv.com>
                   ` (8 preceding siblings ...)
  2025-02-13 21:04 ` |PENDING| " dpdklab
@ 2025-02-13 21:33 ` dpdklab
  2025-02-13 21:34 ` dpdklab
  2025-02-13 21:44 ` dpdklab
  11 siblings, 0 replies; 12+ messages in thread
From: dpdklab @ 2025-02-13 21:33 UTC (permalink / raw)
  To: Test Report; +Cc: dpdk-test-reports

Test-Label: iol-sample-apps-testing
Test-Status: SUCCESS
http://dpdk.org/patch/151471

_Testing PASS_

Submitter: Long Li <longli@linuxonhyperv.com>
Date: Thursday, February 13 2025 18:58:25 
DPDK git baseline: Repo:dpdk
  Branch: master
  CommitID:88e17c88943145bb956b5bf6059a8043dbd33a99

151469-151471 --> testing pass

Upstream job id: ACVP-FIPS-testing#8906

Test environment and result as below:

+--------------+----------------------+----------------------+
| Environment  | dpdk_fips_validation | compressdev_zlib_pmd |
+==============+======================+======================+
| Ubuntu 20.04 | PASS                 | SKIPPED              |
+--------------+----------------------+----------------------+
| Ubuntu 22.04 | SKIPPED              | PASS                 |
+--------------+----------------------+----------------------+


Ubuntu 20.04
	Kernel: Depends on container host
	Compiler: gcc (Ubuntu 9.4.0-1ubuntu1~20.04.2) 9.4.0

Ubuntu 22.04
	Kernel: 5.15.0-100-generic
	Compiler: gcc gcc (Ubuntu 11.4.0-1ubuntu1~22.04) 11.4.0

To view detailed results, visit:
https://lab.dpdk.org/results/dashboard/patchsets/32577/

UNH-IOL DPDK Community Lab

To manage your email subscriptions, visit: 
https://lab.dpdk.org/results/dashboard/preferences/subscriptions/

^ permalink raw reply	[flat|nested] 12+ messages in thread

* |SUCCESS| pw151469-151471 [PATCH] [v2,3/3] net/netvsc: log error on
       [not found] <1739473105-17797-4-git-send-email-longli@linuxonhyperv.com>
                   ` (9 preceding siblings ...)
  2025-02-13 21:33 ` |SUCCESS| " dpdklab
@ 2025-02-13 21:34 ` dpdklab
  2025-02-13 21:44 ` dpdklab
  11 siblings, 0 replies; 12+ messages in thread
From: dpdklab @ 2025-02-13 21:34 UTC (permalink / raw)
  To: Test Report; +Cc: dpdk-test-reports

Test-Label: iol-unit-amd64-testing
Test-Status: SUCCESS
http://dpdk.org/patch/151471

_Testing PASS_

Submitter: Long Li <longli@linuxonhyperv.com>
Date: Thursday, February 13 2025 18:58:25 
DPDK git baseline: Repo:dpdk
  Branch: master
  CommitID:88e17c88943145bb956b5bf6059a8043dbd33a99

151469-151471 --> testing pass

Upstream job id: Generic-Unit-Test-DPDK#314813

Test environment and result as below:

+---------------------+----------------+
|     Environment     | dpdk_unit_test |
+=====================+================+
| CentOS Stream 10    | PASS           |
+---------------------+----------------+
| CentOS Stream 9     | PASS           |
+---------------------+----------------+
| Fedora 40           | PASS           |
+---------------------+----------------+
| RHEL9               | PASS           |
+---------------------+----------------+
| Fedora 40 (Clang)   | PASS           |
+---------------------+----------------+
| Fedora 41           | PASS           |
+---------------------+----------------+
| Fedora 41 (Clang)   | PASS           |
+---------------------+----------------+
| Debian 12           | PASS           |
+---------------------+----------------+
| Debian Bullseye     | PASS           |
+---------------------+----------------+
| RHEL8               | PASS           |
+---------------------+----------------+
| Ubuntu 24.04        | PASS           |
+---------------------+----------------+
| Ubuntu 22.04        | PASS           |
+---------------------+----------------+
| Ubuntu 20.04        | PASS           |
+---------------------+----------------+
| Windows Server 2022 | PASS           |
+---------------------+----------------+


CentOS Stream 10
	Kernel: Depends on container host
	Compiler: gcc 14.2.1 20241104 (Red Hat 14.2.1-6)

CentOS Stream 9
	Kernel: Depends on container host
	Compiler: gcc 11.5.0 20240719 (Red Hat 11.5.0-2)

Fedora 40
	Kernel: Depends on container host
	Compiler: gcc 14.2.1 20240912 (Red Hat 14.2.1-3)

RHEL9
	Kernel: Depends on container host
	Compiler: gcc 11.5.0 20240719 (Red Hat 11.5.0-2)

Fedora 40 (Clang)
	Kernel: Depends on container host
	Compiler: clang 18.1.8 (Fedora 18.1.8-1.fc40)

Fedora 41
	Kernel: Depends on container host
	Compiler: gcc 14.2.1 20240912 (Red Hat 14.2.1-3)

Fedora 41 (Clang)
	Kernel: Depends on container host
	Compiler: clang 19.1.5 (Fedora 19.1.5-1.fc41)

Debian 12
	Kernel: Depends on container host
	Compiler: gcc (Debian 12.2.0-14) 12.2.0

Debian Bullseye
	Kernel: Depends on container host
	Compiler: gcc (Debian 10.2.1-6) 10.2.1 20210110

RHEL8
	Kernel: Depends on container host
	Compiler: gcc 8.5.0 20210514 (Red Hat 8.5.0-22)

Ubuntu 24.04
	Kernel: Depends on container host
	Compiler: gcc (Ubuntu 13.3.0-6ubuntu2~24.04) 13.3.0

Ubuntu 22.04
	Kernel: Depends on container host
	Compiler: gcc (Ubuntu 11.4.0-1ubuntu1~22.04) 11.4.0

Ubuntu 20.04
	Kernel: Depends on container host
	Compiler: gcc (Ubuntu 9.4.0-1ubuntu1~20.04.2) 9.4.0

Windows Server 2022
	Kernel: 10.0.20348.2031
	Compiler: clang 15.0.7, gcc 14.1.0 (MinGW), and MSVC VS 19.39.33521

To view detailed results, visit:
https://lab.dpdk.org/results/dashboard/patchsets/32577/

UNH-IOL DPDK Community Lab

To manage your email subscriptions, visit: 
https://lab.dpdk.org/results/dashboard/preferences/subscriptions/

^ permalink raw reply	[flat|nested] 12+ messages in thread

* |SUCCESS| pw151469-151471 [PATCH] [v2,3/3] net/netvsc: log error on
       [not found] <1739473105-17797-4-git-send-email-longli@linuxonhyperv.com>
                   ` (10 preceding siblings ...)
  2025-02-13 21:34 ` dpdklab
@ 2025-02-13 21:44 ` dpdklab
  11 siblings, 0 replies; 12+ messages in thread
From: dpdklab @ 2025-02-13 21:44 UTC (permalink / raw)
  To: Test Report; +Cc: dpdk-test-reports

Test-Label: iol-abi-testing
Test-Status: SUCCESS
http://dpdk.org/patch/151471

_Testing PASS_

Submitter: Long Li <longli@linuxonhyperv.com>
Date: Thursday, February 13 2025 18:58:25 
DPDK git baseline: Repo:dpdk
  Branch: master
  CommitID:88e17c88943145bb956b5bf6059a8043dbd33a99

151469-151471 --> testing pass

Upstream job id: Generic-DPDK-Compile-ABI#116108

Test environment and result as below:

+-----------------+----------+
|   Environment   | abi_test |
+=================+==========+
| CentOS Stream 9 | PASS     |
+-----------------+----------+
| Fedora 41       | PASS     |
+-----------------+----------+
| Fedora 40       | PASS     |
+-----------------+----------+
| Ubuntu 24.04    | PASS     |
+-----------------+----------+
| Ubuntu 22.04    | PASS     |
+-----------------+----------+


CentOS Stream 9
	Kernel: Depends on container host
	Compiler: gcc 11.5.0 20240719 (Red Hat 11.5.0-2)

Fedora 41
	Kernel: Depends on container host
	Compiler: gcc 14.2.1 20240912 (Red Hat 14.2.1-3)

Fedora 40
	Kernel: Depends on container host
	Compiler: gcc 14.2.1 20240912 (Red Hat 14.2.1-3)

Ubuntu 24.04
	Kernel: Depends on container host
	Compiler: gcc (Ubuntu 13.3.0-6ubuntu2~24.04) 13.3.0

Ubuntu 22.04
	Kernel: Depends on container host
	Compiler: gcc (Ubuntu 11.4.0-1ubuntu1~22.04) 11.4.0

To view detailed results, visit:
https://lab.dpdk.org/results/dashboard/patchsets/32577/

UNH-IOL DPDK Community Lab

To manage your email subscriptions, visit: 
https://lab.dpdk.org/results/dashboard/preferences/subscriptions/

^ permalink raw reply	[flat|nested] 12+ messages in thread

end of thread, other threads:[~2025-02-13 21:44 UTC | newest]

Thread overview: 12+ messages (download: mbox.gz / follow: Atom feed)
-- links below jump to the message on this page --
     [not found] <1739473105-17797-4-git-send-email-longli@linuxonhyperv.com>
2025-02-13 18:25 ` |SUCCESS| pw151469-151471 [Patch v2 3/3] net/netvsc: log error on failure to switch data path qemudev
2025-02-13 18:29 ` qemudev
2025-02-13 18:59 ` |SUCCESS| pw151471 " checkpatch
2025-02-13 20:24 ` 0-day Robot
2025-02-13 20:39 ` |SUCCESS| pw151469-151471 [PATCH] [v2,3/3] net/netvsc: log error on dpdklab
2025-02-13 20:51 ` |PENDING| " dpdklab
2025-02-13 20:52 ` |SUCCESS| " dpdklab
2025-02-13 20:55 ` dpdklab
2025-02-13 21:04 ` |PENDING| " dpdklab
2025-02-13 21:33 ` |SUCCESS| " dpdklab
2025-02-13 21:34 ` dpdklab
2025-02-13 21:44 ` dpdklab

This is a public inbox, see mirroring instructions
for how to clone and mirror all data and code used for this inbox;
as well as URLs for NNTP newsgroup(s).