automatic DPDK test reports
 help / color / mirror / Atom feed
* |SUCCESS| pw151479-151489 [PATCH v6 11/11] devtools/cocci: add script to find problematic memset
       [not found] <20250213221819.1856769-12-stephen@networkplumber.org>
@ 2025-02-13 21:51 ` qemudev
  2025-02-13 21:55 ` qemudev
                   ` (12 subsequent siblings)
  13 siblings, 0 replies; 14+ messages in thread
From: qemudev @ 2025-02-13 21:51 UTC (permalink / raw)
  To: test-report

Test-Label: loongarch-compilation
Test-Status: SUCCESS
http://dpdk.org/patch/151489

_Compilation OK_

Submitter: Stephen Hemminger <stephen@networkplumber.org>
Date: Thu, 13 Feb 2025 14:16:14 -0800
DPDK git baseline: Repo:dpdk
  Branch: main
  CommitID: e5176f23ae8b31437c3e5eb875c81f95bf3a9942

151479-151489 --> meson & ninja build successfully

Test environment and result as below:

+---------------------+----------------+
|     Environment     | compilation    |
+---------------------+----------------+
| Loongnix-Server 8.3 | PASS           |
+---------------------+----------------+

Loongnix-Server 8.3
    Kernel: 4.19.190+
    Compiler: gcc 8.3


^ permalink raw reply	[flat|nested] 14+ messages in thread

* |SUCCESS| pw151479-151489 [PATCH v6 11/11] devtools/cocci: add script to find problematic memset
       [not found] <20250213221819.1856769-12-stephen@networkplumber.org>
  2025-02-13 21:51 ` |SUCCESS| pw151479-151489 [PATCH v6 11/11] devtools/cocci: add script to find problematic memset qemudev
@ 2025-02-13 21:55 ` qemudev
  2025-02-13 22:20 ` |SUCCESS| pw151489 " checkpatch
                   ` (11 subsequent siblings)
  13 siblings, 0 replies; 14+ messages in thread
From: qemudev @ 2025-02-13 21:55 UTC (permalink / raw)
  To: test-report

Test-Label: loongarch-unit-testing
Test-Status: SUCCESS
http://dpdk.org/patch/151489

_Unit Testing PASS_

Submitter: Stephen Hemminger <stephen@networkplumber.org>
Date: Thu, 13 Feb 2025 14:16:14 -0800
DPDK git baseline: Repo:dpdk
  Branch: main
  CommitID: e5176f23ae8b31437c3e5eb875c81f95bf3a9942

151479-151489 --> testing pass

Test environment and result as below:

+---------------------+----------------+
|     Environment     | dpdk_unit_test |
+---------------------+----------------+
| Loongnix-Server 8.3 | PASS           |
+---------------------+----------------+

Loongnix-Server 8.3
    Kernel: 4.19.190+
    Compiler: gcc 8.3


Test result details:
  1/119 DPDK:fast-tests / acl_autotest                            OK              3.35s
  2/119 DPDK:fast-tests / alarm_autotest                          OK              1.62s
  3/119 DPDK:fast-tests / argparse_autotest                       OK              0.60s
  4/119 DPDK:fast-tests / atomic_autotest                         OK              7.09s
  5/119 DPDK:fast-tests / bitcount_autotest                       OK              0.31s
  6/119 DPDK:fast-tests / bitmap_autotest                         OK              0.31s
  7/119 DPDK:fast-tests / bitops_autotest                         OK              1.81s
  8/119 DPDK:fast-tests / bitratestats_autotest                   OK              0.31s
  9/119 DPDK:fast-tests / bitset_autotest                         OK              3.06s
 10/119 DPDK:fast-tests / bpf_autotest                            OK              0.31s
 11/119 DPDK:fast-tests / bpf_convert_autotest                    OK              0.31s
 12/119 DPDK:fast-tests / byteorder_autotest                      OK              0.31s
 13/119 DPDK:fast-tests / cfgfile_autotest                        OK              0.31s
 14/119 DPDK:fast-tests / cksum_autotest                          OK              0.31s
 15/119 DPDK:fast-tests / cmdline_autotest                        OK              0.31s
 16/119 DPDK:fast-tests / common_autotest                         OK              1.19s
 17/119 DPDK:fast-tests / compressdev_autotest                    SKIP            0.06s   exit status 77
 18/119 DPDK:fast-tests / cpuflags_autotest                       OK              0.31s
 19/119 DPDK:fast-tests / crc_autotest                            OK              0.31s
 20/119 DPDK:fast-tests / user_delay_us                           OK              0.31s
 21/119 DPDK:fast-tests / debug_autotest                          OK             20.93s
 22/119 DPDK:fast-tests / devargs_autotest                        OK              0.30s
 23/119 DPDK:fast-tests / dispatcher_autotest                     OK              2.53s
 24/119 DPDK:fast-tests / distributor_autotest                    OK              1.20s
 25/119 DPDK:fast-tests / eal_flags_c_opt_autotest                OK              0.77s
 26/119 DPDK:fast-tests / eal_flags_main_opt_autotest             OK              0.22s
 27/119 DPDK:fast-tests / eal_flags_n_opt_autotest                OK              0.20s
 28/119 DPDK:fast-tests / eal_flags_hpet_autotest                 OK              0.13s
 29/119 DPDK:fast-tests / eal_flags_no_huge_autotest              OK              0.22s
 30/119 DPDK:fast-tests / eal_flags_a_opt_autotest                OK              0.29s
 31/119 DPDK:fast-tests / eal_flags_b_opt_autotest                OK              0.24s
 32/119 DPDK:fast-tests / eal_flags_vdev_opt_autotest             OK              0.19s
 33/119 DPDK:fast-tests / eal_flags_r_opt_autotest                OK              0.18s
 34/119 DPDK:fast-tests / eal_flags_mem_autotest                  OK              0.59s
 35/119 DPDK:fast-tests / eal_flags_file_prefix_autotest          OK             22.25s
 36/119 DPDK:fast-tests / eal_flags_misc_autotest                 OK              1.05s
 37/119 DPDK:fast-tests / eal_fs_autotest                         OK              0.31s
 38/119 DPDK:fast-tests / errno_autotest                          OK              0.31s
 39/119 DPDK:fast-tests / ethdev_link_status                      OK              0.31s
 40/119 DPDK:fast-tests / event_eth_tx_adapter_autotest           OK              1.68s
 41/119 DPDK:fast-tests / event_ring_autotest                     OK              0.31s
 42/119 DPDK:fast-tests / eventdev_common_autotest                OK              0.31s
 43/119 DPDK:fast-tests / eventdev_selftest_sw                    OK              7.17s
 44/119 DPDK:fast-tests / fbarray_autotest                        OK              0.31s
 45/119 DPDK:fast-tests / fib_autotest                            OK              1.22s
 46/119 DPDK:fast-tests / fib6_autotest                           OK              0.99s
 47/119 DPDK:fast-tests / func_reentrancy_autotest                OK              2.15s
 48/119 DPDK:fast-tests / graph_autotest                          OK              0.31s
 49/119 DPDK:fast-tests / node_list_dump                          OK              0.31s
 50/119 DPDK:fast-tests / hash_autotest                           OK              0.93s
 51/119 DPDK:fast-tests / hash_readwrite_func_autotest            OK              6.39s
 52/119 DPDK:fast-tests / interrupt_autotest                      OK              1.61s
 53/119 DPDK:fast-tests / ipfrag_autotest                         OK              0.07s
 54/119 DPDK:fast-tests / ipsec_autotest                          SKIP            0.31s   exit status 77
 55/119 DPDK:fast-tests / kvargs_autotest                         OK              0.31s
 56/119 DPDK:fast-tests / latencystats_autotest                   OK              0.31s
 57/119 DPDK:fast-tests / lcore_var_autotest                      OK              0.45s
 58/119 DPDK:fast-tests / lcores_autotest                         OK              5.12s
 59/119 DPDK:fast-tests / logs_autotest                           OK              0.31s
 60/119 DPDK:fast-tests / lpm_autotest                            OK              2.35s
 61/119 DPDK:fast-tests / lpm6_autotest                           OK              5.49s
 62/119 DPDK:fast-tests / malloc_autotest                         OK             58.49s
 63/119 DPDK:fast-tests / mbuf_autotest                           OK              4.66s
 64/119 DPDK:fast-tests / mcslock_autotest                        OK              3.10s
 65/119 DPDK:fast-tests / member_autotest                         OK              1.51s
 66/119 DPDK:fast-tests / memcpy_autotest                         OK              6.83s
 67/119 DPDK:fast-tests / memory_autotest                         OK              0.08s
 68/119 DPDK:fast-tests / mempool_autotest                        OK              0.43s
 69/119 DPDK:fast-tests / memzone_autotest                        OK              0.14s
 70/119 DPDK:fast-tests / meter_autotest                          OK              0.31s
 71/119 DPDK:fast-tests / metrics_autotest                        OK              0.31s
 72/119 DPDK:fast-tests / multiprocess_autotest                   OK              0.18s
 73/119 DPDK:fast-tests / net_ether_autotest                      OK              0.97s
 74/119 DPDK:fast-tests / net_ipv6_autotest                       OK              0.31s
 75/119 DPDK:fast-tests / pcapng_autotest                         OK              6.87s
 76/119 DPDK:fast-tests / pdcp_autotest                           SKIP            0.06s   exit status 77
 77/119 DPDK:fast-tests / pdump_autotest                          OK              0.42s
 78/119 DPDK:fast-tests / per_lcore_autotest                      OK              0.41s
 79/119 DPDK:fast-tests / pflock_autotest                         OK              1.12s
 80/119 DPDK:fast-tests / pie_autotest                            OK              0.31s
 81/119 DPDK:fast-tests / ring_pmd_autotest                       OK              0.31s
 82/119 DPDK:fast-tests / power_autotest                          OK              0.31s
 83/119 DPDK:fast-tests / power_cpufreq_autotest                  SKIP            0.06s   exit status 77
 84/119 DPDK:fast-tests / power_intel_uncore_autotest             SKIP            0.31s   exit status 77
 85/119 DPDK:fast-tests / power_kvm_vm_autotest                   SKIP            0.06s   exit status 77
 86/119 DPDK:fast-tests / prefetch_autotest                       OK              0.31s
 87/119 DPDK:fast-tests / ptr_compress_autotest                   OK              0.31s
 88/119 DPDK:fast-tests / rawdev_autotest                         OK              0.31s
 89/119 DPDK:fast-tests / rcu_qsbr_autotest                       OK              0.83s
 90/119 DPDK:fast-tests / reorder_autotest                        OK              0.37s
 91/119 DPDK:fast-tests / rib_autotest                            OK              8.96s
 92/119 DPDK:fast-tests / rib6_autotest                           OK              8.95s
 93/119 DPDK:fast-tests / ring_autotest                           OK              0.34s
 94/119 DPDK:fast-tests / rwlock_test1_autotest                   OK              1.06s
 95/119 DPDK:fast-tests / rwlock_rda_autotest                     OK              5.31s
 96/119 DPDK:fast-tests / rwlock_rds_wrm_autotest                 OK              5.31s
 97/119 DPDK:fast-tests / rwlock_rde_wro_autotest                 OK              5.31s
 98/119 DPDK:fast-tests / sched_autotest                          OK              0.31s
 99/119 DPDK:fast-tests / security_autotest                       OK              0.06s
100/119 DPDK:fast-tests / seqlock_autotest                        OK              2.31s
101/119 DPDK:fast-tests / service_autotest                        OK              3.01s
102/119 DPDK:fast-tests / soring_autotest                         OK              0.31s
103/119 DPDK:fast-tests / spinlock_autotest                       OK              0.39s
104/119 DPDK:fast-tests / stack_autotest                          OK              0.86s
105/119 DPDK:fast-tests / stack_lf_autotest                       SKIP            0.05s   exit status 77
106/119 DPDK:fast-tests / string_autotest                         OK              0.31s
107/119 DPDK:fast-tests / table_autotest                          OK              7.74s
108/119 DPDK:fast-tests / tailq_autotest                          OK              0.30s
109/119 DPDK:fast-tests / telemetry_data_autotest                 OK              0.31s
110/119 DPDK:fast-tests / telemetry_json_autotest                 OK              0.31s
111/119 DPDK:fast-tests / thash_autotest                          OK              0.32s
112/119 DPDK:fast-tests / threads_autotest                        OK              0.48s
113/119 DPDK:fast-tests / ticketlock_autotest                     OK              0.46s
114/119 DPDK:fast-tests / timer_autotest                          OK              3.87s
115/119 DPDK:fast-tests / trace_autotest                          OK              0.31s
116/119 DPDK:fast-tests / trace_autotest_with_traces              OK              0.31s
117/119 DPDK:fast-tests / vdev_autotest                           OK              0.31s
118/119 DPDK:fast-tests / version_autotest                        OK              0.31s
119/119 DPDK:fast-tests / telemetry_all                           OK              1.30s


Ok:                 112
Expected Fail:      0
Fail:               0
Unexpected Pass:    0
Skipped:            7
Timeout:            0


^ permalink raw reply	[flat|nested] 14+ messages in thread

* |SUCCESS| pw151489 [PATCH v6 11/11] devtools/cocci: add script to find problematic memset
       [not found] <20250213221819.1856769-12-stephen@networkplumber.org>
  2025-02-13 21:51 ` |SUCCESS| pw151479-151489 [PATCH v6 11/11] devtools/cocci: add script to find problematic memset qemudev
  2025-02-13 21:55 ` qemudev
@ 2025-02-13 22:20 ` checkpatch
  2025-02-13 23:44 ` 0-day Robot
                   ` (10 subsequent siblings)
  13 siblings, 0 replies; 14+ messages in thread
From: checkpatch @ 2025-02-13 22:20 UTC (permalink / raw)
  To: test-report

Test-Label: checkpatch
Test-Status: SUCCESS
http://dpdk.org/patch/151489

_coding style OK_



^ permalink raw reply	[flat|nested] 14+ messages in thread

* |SUCCESS| pw151489 [PATCH v6 11/11] devtools/cocci: add script to find problematic memset
       [not found] <20250213221819.1856769-12-stephen@networkplumber.org>
                   ` (2 preceding siblings ...)
  2025-02-13 22:20 ` |SUCCESS| pw151489 " checkpatch
@ 2025-02-13 23:44 ` 0-day Robot
  2025-02-14  3:58 ` |SUCCESS| pw151479-151489 [PATCH] [v6,11/11] devtools/cocci: add scr dpdklab
                   ` (9 subsequent siblings)
  13 siblings, 0 replies; 14+ messages in thread
From: 0-day Robot @ 2025-02-13 23:44 UTC (permalink / raw)
  To: test-report; +Cc: robot

From: robot@bytheb.org

Test-Label: github-robot: build
Test-Status: SUCCESS
http://patchwork.dpdk.org/patch/151489/

_github build: passed_
Build URL: https://github.com/ovsrobot/dpdk/actions/runs/13318540366

^ permalink raw reply	[flat|nested] 14+ messages in thread

* |SUCCESS| pw151479-151489 [PATCH] [v6,11/11] devtools/cocci: add scr
       [not found] <20250213221819.1856769-12-stephen@networkplumber.org>
                   ` (3 preceding siblings ...)
  2025-02-13 23:44 ` 0-day Robot
@ 2025-02-14  3:58 ` dpdklab
  2025-02-14  4:09 ` dpdklab
                   ` (8 subsequent siblings)
  13 siblings, 0 replies; 14+ messages in thread
From: dpdklab @ 2025-02-14  3:58 UTC (permalink / raw)
  To: Test Report; +Cc: dpdk-test-reports

Test-Label: iol-intel-Functional
Test-Status: SUCCESS
http://dpdk.org/patch/151489

_Functional Testing PASS_

Submitter: Stephen Hemminger <stephen@networkplumber.org>
Date: Thursday, February 13 2025 22:16:24 
DPDK git baseline: Repo:dpdk
  Branch: master
  CommitID:e5176f23ae8b31437c3e5eb875c81f95bf3a9942

151479-151489 --> functional testing pass

Upstream job id: Template-DTS-Pipeline#212616

Test environment and result as below:

Ubuntu 24.04 LTS
Kernel: 6.8.0-44-generic
Compiler: gcc 13.2.0
NIC: Intel Corporation Ethernet Controller XL710 for 40GbE QSFP+ 40 Mbps

Aggregate Results by Test Suite
+------------+--------+
| Test Suite | Result |
+============+========+
| mac_filter |  PASS  |
+------------+--------+


Ubuntu 22.04
Kernel: 5.15.0-131-generic
Compiler: gcc (Ubuntu 11.4.0-1ubuntu1~22.04) 11.4.0
NIC: Intel Corporation Ethernet Converged Network Adapter 82599ES 10000 Mbps

Aggregate Results by Test Suite
+-----------------------------+--------+
|         Test Suite          | Result |
+=============================+========+
| unit_tests_mbuf             |  PASS  |
+-----------------------------+--------+
| vhost_virtio_user_interrupt |  PASS  |
+-----------------------------+--------+
| virtio_smoke                |  PASS  |
+-----------------------------+--------+


To view detailed results, visit:
https://lab.dpdk.org/results/dashboard/patchsets/32579/

UNH-IOL DPDK Community Lab

To manage your email subscriptions, visit: 
https://lab.dpdk.org/results/dashboard/preferences/subscriptions/

^ permalink raw reply	[flat|nested] 14+ messages in thread

* |SUCCESS| pw151479-151489 [PATCH] [v6,11/11] devtools/cocci: add scr
       [not found] <20250213221819.1856769-12-stephen@networkplumber.org>
                   ` (4 preceding siblings ...)
  2025-02-14  3:58 ` |SUCCESS| pw151479-151489 [PATCH] [v6,11/11] devtools/cocci: add scr dpdklab
@ 2025-02-14  4:09 ` dpdklab
  2025-02-14  4:15 ` |PENDING| " dpdklab
                   ` (7 subsequent siblings)
  13 siblings, 0 replies; 14+ messages in thread
From: dpdklab @ 2025-02-14  4:09 UTC (permalink / raw)
  To: Test Report; +Cc: dpdk-test-reports

Test-Label: iol-marvell-Functional
Test-Status: SUCCESS
http://dpdk.org/patch/151489

_Functional Testing PASS_

Submitter: Stephen Hemminger <stephen@networkplumber.org>
Date: Thursday, February 13 2025 22:16:24 
DPDK git baseline: Repo:dpdk
  Branch: master
  CommitID:e5176f23ae8b31437c3e5eb875c81f95bf3a9942

151479-151489 --> functional testing pass

Upstream job id: Template-DTS-Pipeline#212619

Test environment and result as below:

Ubuntu 20.04.6
Kernel: 5.4.105
Compiler: gcc 9.4
NIC: Marvell CN106XX 50000 Mbps
Target: arm64-native-linuxapp-gcc

Aggregate Results by Test Suite
+-----------------+--------+
|   Test Suite    | Result |
+=================+========+
| cmdline         |  PASS  |
+-----------------+--------+
| ipv4_reassembly |  PASS  |
+-----------------+--------+
| rxtx_callbacks  |  PASS  |
+-----------------+--------+
| tso             |  PASS  |
+-----------------+--------+


To view detailed results, visit:
https://lab.dpdk.org/results/dashboard/patchsets/32579/

UNH-IOL DPDK Community Lab

To manage your email subscriptions, visit: 
https://lab.dpdk.org/results/dashboard/preferences/subscriptions/

^ permalink raw reply	[flat|nested] 14+ messages in thread

* |PENDING| pw151479-151489 [PATCH] [v6,11/11] devtools/cocci: add scr
       [not found] <20250213221819.1856769-12-stephen@networkplumber.org>
                   ` (5 preceding siblings ...)
  2025-02-14  4:09 ` dpdklab
@ 2025-02-14  4:15 ` dpdklab
  2025-02-14  4:23 ` |SUCCESS| " dpdklab
                   ` (6 subsequent siblings)
  13 siblings, 0 replies; 14+ messages in thread
From: dpdklab @ 2025-02-14  4:15 UTC (permalink / raw)
  To: Test Report; +Cc: dpdk-test-reports

Test-Label: iol-unit-amd64-testing
Test-Status: PENDING
http://dpdk.org/patch/151489

_Testing pending_

Submitter: Stephen Hemminger <stephen@networkplumber.org>
Date: Thursday, February 13 2025 22:16:24 
DPDK git baseline: Repo:dpdk
  Branch: master
  CommitID:e5176f23ae8b31437c3e5eb875c81f95bf3a9942

151479-151489 --> testing pending

Upstream job id: Generic-Unit-Test-DPDK#314910

Test environment and result as below:

+-------------------+----------------+
|    Environment    | dpdk_unit_test |
+===================+================+
| CentOS Stream 10  | PEND           |
+-------------------+----------------+
| Fedora 40         | PEND           |
+-------------------+----------------+
| Debian 12         | PASS           |
+-------------------+----------------+
| Fedora 41 (Clang) | PEND           |
+-------------------+----------------+
| Debian Bullseye   | PEND           |
+-------------------+----------------+
| CentOS Stream 9   | PEND           |
+-------------------+----------------+
| Fedora 40 (Clang) | PEND           |
+-------------------+----------------+
| RHEL9             | PEND           |
+-------------------+----------------+
| Fedora 41         | PEND           |
+-------------------+----------------+
| RHEL8             | PEND           |
+-------------------+----------------+
| Ubuntu 22.04      | PEND           |
+-------------------+----------------+
| Ubuntu 20.04      | PEND           |
+-------------------+----------------+
| Ubuntu 24.04      | PEND           |
+-------------------+----------------+


CentOS Stream 10
	Kernel: Depends on container host
	Compiler: gcc 14.2.1 20241104 (Red Hat 14.2.1-6)

Fedora 40
	Kernel: Depends on container host
	Compiler: gcc 14.2.1 20240912 (Red Hat 14.2.1-3)

Debian 12
	Kernel: Depends on container host
	Compiler: gcc (Debian 12.2.0-14) 12.2.0

Fedora 41 (Clang)
	Kernel: Depends on container host
	Compiler: clang 19.1.5 (Fedora 19.1.5-1.fc41)

Debian Bullseye
	Kernel: Depends on container host
	Compiler: gcc (Debian 10.2.1-6) 10.2.1 20210110

CentOS Stream 9
	Kernel: Depends on container host
	Compiler: gcc 11.5.0 20240719 (Red Hat 11.5.0-2)

Fedora 40 (Clang)
	Kernel: Depends on container host
	Compiler: clang 18.1.8 (Fedora 18.1.8-1.fc40)

RHEL9
	Kernel: Depends on container host
	Compiler: gcc 11.5.0 20240719 (Red Hat 11.5.0-2)

Fedora 41
	Kernel: Depends on container host
	Compiler: gcc 14.2.1 20240912 (Red Hat 14.2.1-3)

RHEL8
	Kernel: Depends on container host
	Compiler: gcc 8.5.0 20210514 (Red Hat 8.5.0-22)

Ubuntu 22.04
	Kernel: Depends on container host
	Compiler: gcc (Ubuntu 11.4.0-1ubuntu1~22.04) 11.4.0

Ubuntu 20.04
	Kernel: Depends on container host
	Compiler: gcc (Ubuntu 9.4.0-1ubuntu1~20.04.2) 9.4.0

Ubuntu 24.04
	Kernel: Depends on container host
	Compiler: gcc (Ubuntu 13.3.0-6ubuntu2~24.04) 13.3.0

To view detailed results, visit:
https://lab.dpdk.org/results/dashboard/patchsets/32579/

UNH-IOL DPDK Community Lab

To manage your email subscriptions, visit: 
https://lab.dpdk.org/results/dashboard/preferences/subscriptions/

^ permalink raw reply	[flat|nested] 14+ messages in thread

* |SUCCESS| pw151479-151489 [PATCH] [v6,11/11] devtools/cocci: add scr
       [not found] <20250213221819.1856769-12-stephen@networkplumber.org>
                   ` (6 preceding siblings ...)
  2025-02-14  4:15 ` |PENDING| " dpdklab
@ 2025-02-14  4:23 ` dpdklab
  2025-02-14  4:24 ` |PENDING| " dpdklab
                   ` (5 subsequent siblings)
  13 siblings, 0 replies; 14+ messages in thread
From: dpdklab @ 2025-02-14  4:23 UTC (permalink / raw)
  To: Test Report; +Cc: dpdk-test-reports

Test-Label: iol-sample-apps-testing
Test-Status: SUCCESS
http://dpdk.org/patch/151489

_Testing PASS_

Submitter: Stephen Hemminger <stephen@networkplumber.org>
Date: Thursday, February 13 2025 22:16:24 
DPDK git baseline: Repo:dpdk
  Branch: master
  CommitID:e5176f23ae8b31437c3e5eb875c81f95bf3a9942

151479-151489 --> testing pass

Upstream job id: Template-DTS-Pipeline#212621

Test environment and result as below:

+--------------------+----------------------+
|    Environment     | compressdev_zlib_pmd |
+====================+======================+
| Ubuntu 22.04 (ARM) | PASS                 |
+--------------------+----------------------+


Ubuntu 22.04 (ARM)
	Kernel: 5.15.0-97-generic
	Compiler: gcc gcc (Ubuntu 11.4.0-1ubuntu1~22.04) 11.4.0

To view detailed results, visit:
https://lab.dpdk.org/results/dashboard/patchsets/32579/

UNH-IOL DPDK Community Lab

To manage your email subscriptions, visit: 
https://lab.dpdk.org/results/dashboard/preferences/subscriptions/

^ permalink raw reply	[flat|nested] 14+ messages in thread

* |PENDING| pw151479-151489 [PATCH] [v6,11/11] devtools/cocci: add scr
       [not found] <20250213221819.1856769-12-stephen@networkplumber.org>
                   ` (7 preceding siblings ...)
  2025-02-14  4:23 ` |SUCCESS| " dpdklab
@ 2025-02-14  4:24 ` dpdklab
  2025-02-14  4:29 ` |SUCCESS| " dpdklab
                   ` (4 subsequent siblings)
  13 siblings, 0 replies; 14+ messages in thread
From: dpdklab @ 2025-02-14  4:24 UTC (permalink / raw)
  To: Test Report; +Cc: dpdk-test-reports

Test-Label: iol-unit-arm64-testing
Test-Status: PENDING
http://dpdk.org/patch/151489

_Testing pending_

Submitter: Stephen Hemminger <stephen@networkplumber.org>
Date: Thursday, February 13 2025 22:16:24 
DPDK git baseline: Repo:dpdk
  Branch: master
  CommitID:e5176f23ae8b31437c3e5eb875c81f95bf3a9942

151479-151489 --> testing pending

Upstream job id: Generic-Unit-Test-DPDK#314915

Test environment and result as below:

+-----------------------------+----------------+---------------------------+--------------+------------------------------+
|         Environment         | dpdk_unit_test | cryptodev_sw_zuc_autotest | lpm_autotest | cryptodev_sw_snow3g_autotest |
+=============================+================+===========================+==============+==============================+
| 32-bit Ubuntu 22.04.4 (ARM) | PEND           | SKIPPED                   | SKIPPED      | SKIPPED                      |
+-----------------------------+----------------+---------------------------+--------------+------------------------------+
| Fedora 40 (ARM Clang)       | PASS           | SKIPPED                   | SKIPPED      | SKIPPED                      |
+-----------------------------+----------------+---------------------------+--------------+------------------------------+
| CentOS Stream 10 (ARM)      | PEND           | SKIPPED                   | SKIPPED      | SKIPPED                      |
+-----------------------------+----------------+---------------------------+--------------+------------------------------+
| Fedora 40 (ARM)             | PEND           | SKIPPED                   | SKIPPED      | SKIPPED                      |
+-----------------------------+----------------+---------------------------+--------------+------------------------------+
| CentOS Stream 9 (ARM)       | PEND           | SKIPPED                   | SKIPPED      | SKIPPED                      |
+-----------------------------+----------------+---------------------------+--------------+------------------------------+
| RHEL9 (ARM)                 | PEND           | SKIPPED                   | SKIPPED      | SKIPPED                      |
+-----------------------------+----------------+---------------------------+--------------+------------------------------+
| Debian 12 (arm)             | PEND           | PEND                      | SKIPPED      | PEND                         |
+-----------------------------+----------------+---------------------------+--------------+------------------------------+
| Debian 11 (Buster) (ARM)    | PEND           | SKIPPED                   | SKIPPED      | SKIPPED                      |
+-----------------------------+----------------+---------------------------+--------------+------------------------------+
| Fedora 41 (ARM Clang)       | PEND           | SKIPPED                   | SKIPPED      | SKIPPED                      |
+-----------------------------+----------------+---------------------------+--------------+------------------------------+
| Fedora 41 (ARM)             | PEND           | SKIPPED                   | SKIPPED      | SKIPPED                      |
+-----------------------------+----------------+---------------------------+--------------+------------------------------+
| Ubuntu 20.04 (ARM)          | PEND           | SKIPPED                   | SKIPPED      | SKIPPED                      |
+-----------------------------+----------------+---------------------------+--------------+------------------------------+
| Ubuntu 24.04 (ARM)          | PEND           | SKIPPED                   | SKIPPED      | SKIPPED                      |
+-----------------------------+----------------+---------------------------+--------------+------------------------------+
| Ubuntu 22.04 (ARM)          | PEND           | SKIPPED                   | SKIPPED      | SKIPPED                      |
+-----------------------------+----------------+---------------------------+--------------+------------------------------+
| Ubuntu 20.04 ARM SVE        | SKIPPED        | SKIPPED                   | PEND         | SKIPPED                      |
+-----------------------------+----------------+---------------------------+--------------+------------------------------+


32-bit Ubuntu 22.04.4 (ARM)
	Kernel: 5.15.83+ aarch64
	Compiler: gcc (Ubuntu 11.4.0-1ubuntu1~22.04) 11.4.0

Fedora 40 (ARM Clang)
	Kernel: Depends on container host
	Compiler: clang 18.1.8 (Fedora 18.1.8-1.fc40)

CentOS Stream 10 (ARM)
	Kernel: Depends on container host
	Compiler: gcc 14.2.1 20241104 (Red Hat 14.2.1-6)

Fedora 40 (ARM)
	Kernel: Depends on container host
	Compiler: gcc 14.2.1 20240912 (Red Hat 14.2.1-3)

CentOS Stream 9 (ARM)
	Kernel: Depends on container host
	Compiler: gcc 11.5.0 20240719 (Red Hat 11.5.0-2)

RHEL9 (ARM)
	Kernel: Depends on container host
	Compiler: gcc 11.5.0 20240719 (Red Hat 11.5.0-2)

Debian 12 (arm)
	Kernel: Depends on container host
	Compiler: gcc (Debian 12.2.0-14) 12.2.0

Debian 11 (Buster) (ARM)
	Kernel: Depends on container host
	Compiler: gcc (Debian 10.2.1-6) 10.2.1 20210110

Fedora 41 (ARM Clang)
	Kernel: Depends on container host
	Compiler: clang 19.1.5 (Fedora 19.1.5-1.fc41)

Fedora 41 (ARM)
	Kernel: Depends on container host
	Compiler: gcc 14.2.1 20240912 (Red Hat 14.2.1-3)

Ubuntu 20.04 (ARM)
	Kernel: Depends on container host
	Compiler: gcc (Ubuntu 9.4.0-1ubuntu1~20.04.2) 9.4.0

Ubuntu 24.04 (ARM)
	Kernel: Depends on container host
	Compiler: gcc (Ubuntu 13.3.0-6ubuntu2~24.04) 13.3.0

Ubuntu 22.04 (ARM)
	Kernel: Depends on container host
	Compiler: gcc (Ubuntu 11.4.0-1ubuntu1~22.04) 11.4.0

Ubuntu 20.04 ARM SVE
	Kernel: Depends on container host
	Compiler: gcc (Ubuntu 10.5.0-1ubuntu1~20.04) 10.5.0

To view detailed results, visit:
https://lab.dpdk.org/results/dashboard/patchsets/32579/

UNH-IOL DPDK Community Lab

To manage your email subscriptions, visit: 
https://lab.dpdk.org/results/dashboard/preferences/subscriptions/

^ permalink raw reply	[flat|nested] 14+ messages in thread

* |SUCCESS| pw151479-151489 [PATCH] [v6,11/11] devtools/cocci: add scr
       [not found] <20250213221819.1856769-12-stephen@networkplumber.org>
                   ` (8 preceding siblings ...)
  2025-02-14  4:24 ` |PENDING| " dpdklab
@ 2025-02-14  4:29 ` dpdklab
  2025-02-14  5:07 ` |PENDING| " dpdklab
                   ` (3 subsequent siblings)
  13 siblings, 0 replies; 14+ messages in thread
From: dpdklab @ 2025-02-14  4:29 UTC (permalink / raw)
  To: Test Report; +Cc: dpdk-test-reports

Test-Label: iol-broadcom-Performance
Test-Status: SUCCESS
http://dpdk.org/patch/151489

_Performance Testing PASS_

Submitter: Stephen Hemminger <stephen@networkplumber.org>
Date: Thursday, February 13 2025 22:16:24 
DPDK git baseline: Repo:dpdk
  Branch: master
  CommitID:e5176f23ae8b31437c3e5eb875c81f95bf3a9942

151479-151489 --> performance testing pass

Upstream job id: Template-DTS-Pipeline#212613

Test environment and result as below:

Ubuntu 22.04
Kernel: 5.15.0-100-generic
Compiler: gcc (Ubuntu 11.4.0-1ubuntu1~22.04) 11.4.0
NIC: Broadcom Inc. and subsidiaries BCM57414 NetXtreme-E 10Gb/25Gb RDMA Ethernet Controller 16d7 25 Mbps
Fail/Total: 0/3

Detail performance results: 
+------------+---------+----------+-------------+------------------------------+
| frame_size | txd/rxd | num_cpus | num_threads |  throughput difference from  |
|            |         |          |             |           expected           |
+============+=========+==========+=============+==============================+
| 64         | 128     | 1        | 1           | -0.2%                        |
+------------+---------+----------+-------------+------------------------------+
| 64         | 512     | 1        | 1           | -1.0%                        |
+------------+---------+----------+-------------+------------------------------+
| 64         | 2048    | 1        | 1           | -0.9%                        |
+------------+---------+----------+-------------+------------------------------+

Ubuntu 22.04 ARM
Kernel: 5.15.83+
Compiler: gcc 11.4.0
NIC: Arm Broadcom Inc. brcm_57414 25000 Mbps
Fail/Total: 0/2

Detail performance results: 
+------------+---------+----------+-------------+------------------------------+
| frame_size | txd/rxd | num_cpus | num_threads |  throughput difference from  |
|            |         |          |             |           expected           |
+============+=========+==========+=============+==============================+
| 64         | 512     | 1        | 1           | -0.2%                        |
+------------+---------+----------+-------------+------------------------------+
| 64         | 2048    | 1        | 1           | -0.1%                        |
+------------+---------+----------+-------------+------------------------------+

To view detailed results, visit:
https://lab.dpdk.org/results/dashboard/patchsets/32579/

UNH-IOL DPDK Community Lab

To manage your email subscriptions, visit: 
https://lab.dpdk.org/results/dashboard/preferences/subscriptions/

^ permalink raw reply	[flat|nested] 14+ messages in thread

* |PENDING| pw151479-151489 [PATCH] [v6,11/11] devtools/cocci: add scr
       [not found] <20250213221819.1856769-12-stephen@networkplumber.org>
                   ` (9 preceding siblings ...)
  2025-02-14  4:29 ` |SUCCESS| " dpdklab
@ 2025-02-14  5:07 ` dpdklab
  2025-02-14  5:39 ` |SUCCESS| " dpdklab
                   ` (2 subsequent siblings)
  13 siblings, 0 replies; 14+ messages in thread
From: dpdklab @ 2025-02-14  5:07 UTC (permalink / raw)
  To: Test Report; +Cc: dpdk-test-reports

Test-Label: iol-compile-arm64-testing
Test-Status: PENDING
http://dpdk.org/patch/151489

_Testing pending_

Submitter: Stephen Hemminger <stephen@networkplumber.org>
Date: Thursday, February 13 2025 22:16:24 
DPDK git baseline: Repo:dpdk
  Branch: master
  CommitID:e5176f23ae8b31437c3e5eb875c81f95bf3a9942

151479-151489 --> testing pending

Upstream job id: Generic-DPDK-Compile-Meson#361584

Test environment and result as below:

+--------------------------------------+--------------------+
|             Environment              | dpdk_meson_compile |
+======================================+====================+
| Ubuntu 20.04 ARM GCC Cross Compile   | PEND               |
+--------------------------------------+--------------------+
| RHEL9 (ARM)                          | PEND               |
+--------------------------------------+--------------------+
| Debian 12 with MUSDK                 | PEND               |
+--------------------------------------+--------------------+
| Fedora 40 (ARM)                      | PASS               |
+--------------------------------------+--------------------+
| Ubuntu 20.04 ARM SVE                 | PEND               |
+--------------------------------------+--------------------+
| Fedora 41 (ARM)                      | PEND               |
+--------------------------------------+--------------------+
| Ubuntu 20.04 (ARM)                   | PEND               |
+--------------------------------------+--------------------+
| Fedora 40 (ARM Clang)                | PEND               |
+--------------------------------------+--------------------+
| Fedora 41 (ARM Clang)                | PEND               |
+--------------------------------------+--------------------+
| Ubuntu 22.04 (ARM)                   | PEND               |
+--------------------------------------+--------------------+
| Ubuntu 24.04 (ARM)                   | PEND               |
+--------------------------------------+--------------------+
| CentOS Stream 10 (ARM)               | PEND               |
+--------------------------------------+--------------------+
| CentOS Stream 9 (ARM)                | PEND               |
+--------------------------------------+--------------------+
| Debian 12 (arm)                      | PEND               |
+--------------------------------------+--------------------+
| Ubuntu 20.04 ARM Clang Cross Compile | PEND               |
+--------------------------------------+--------------------+
| Debian 11 (Buster) (ARM)             | PEND               |
+--------------------------------------+--------------------+


Ubuntu 20.04 ARM GCC Cross Compile
	Kernel: Depends on container host
	Compiler: aarch64-linux-gnu-gcc (Ubuntu 9.4.0-1ubuntu1~20.04.2) 9.4.0

RHEL9 (ARM)
	Kernel: Depends on container host
	Compiler: gcc 11.5.0 20240719 (Red Hat 11.5.0-2)

Debian 12 with MUSDK
	Kernel: Depends on container host
	Compiler: gcc (Debian 12.2.0-14) 12.2.0

Fedora 40 (ARM)
	Kernel: Depends on container host
	Compiler: gcc 14.2.1 20240912 (Red Hat 14.2.1-3)

Ubuntu 20.04 ARM SVE
	Kernel: Depends on container host
	Compiler: gcc (Ubuntu 10.5.0-1ubuntu1~20.04) 10.5.0

Fedora 41 (ARM)
	Kernel: Depends on container host
	Compiler: gcc 14.2.1 20240912 (Red Hat 14.2.1-3)

Ubuntu 20.04 (ARM)
	Kernel: Depends on container host
	Compiler: gcc (Ubuntu 9.4.0-1ubuntu1~20.04.2) 9.4.0

Fedora 40 (ARM Clang)
	Kernel: Depends on container host
	Compiler: clang 18.1.8 (Fedora 18.1.8-1.fc40)

Fedora 41 (ARM Clang)
	Kernel: Depends on container host
	Compiler: clang 19.1.5 (Fedora 19.1.5-1.fc41)

Ubuntu 22.04 (ARM)
	Kernel: Depends on container host
	Compiler: gcc (Ubuntu 11.4.0-1ubuntu1~22.04) 11.4.0

Ubuntu 24.04 (ARM)
	Kernel: Depends on container host
	Compiler: gcc (Ubuntu 13.3.0-6ubuntu2~24.04) 13.3.0

CentOS Stream 10 (ARM)
	Kernel: Depends on container host
	Compiler: gcc 14.2.1 20241104 (Red Hat 14.2.1-6)

CentOS Stream 9 (ARM)
	Kernel: Depends on container host
	Compiler: gcc 11.5.0 20240719 (Red Hat 11.5.0-2)

Debian 12 (arm)
	Kernel: Depends on container host
	Compiler: gcc (Debian 12.2.0-14) 12.2.0

Ubuntu 20.04 ARM Clang Cross Compile
	Kernel: Depends on container host
	Compiler: clang 10.0.0-4ubuntu1

Debian 11 (Buster) (ARM)
	Kernel: Depends on container host
	Compiler: gcc (Debian 10.2.1-6) 10.2.1 20210110

To view detailed results, visit:
https://lab.dpdk.org/results/dashboard/patchsets/32579/

UNH-IOL DPDK Community Lab

To manage your email subscriptions, visit: 
https://lab.dpdk.org/results/dashboard/preferences/subscriptions/

^ permalink raw reply	[flat|nested] 14+ messages in thread

* |SUCCESS| pw151479-151489 [PATCH] [v6,11/11] devtools/cocci: add scr
       [not found] <20250213221819.1856769-12-stephen@networkplumber.org>
                   ` (10 preceding siblings ...)
  2025-02-14  5:07 ` |PENDING| " dpdklab
@ 2025-02-14  5:39 ` dpdklab
  2025-02-14  7:02 ` dpdklab
  2025-02-18 16:23 ` dpdklab
  13 siblings, 0 replies; 14+ messages in thread
From: dpdklab @ 2025-02-14  5:39 UTC (permalink / raw)
  To: Test Report; +Cc: dpdk-test-reports

Test-Label: iol-sample-apps-testing
Test-Status: SUCCESS
http://dpdk.org/patch/151489

_Testing PASS_

Submitter: Stephen Hemminger <stephen@networkplumber.org>
Date: Thursday, February 13 2025 22:16:24 
DPDK git baseline: Repo:dpdk
  Branch: master
  CommitID:e5176f23ae8b31437c3e5eb875c81f95bf3a9942

151479-151489 --> testing pass

Upstream job id: ACVP-FIPS-testing#8910

Test environment and result as below:

+--------------------+----------------------+----------------------+
|    Environment     | compressdev_zlib_pmd | dpdk_fips_validation |
+====================+======================+======================+
| Ubuntu 22.04 (ARM) | PASS                 | SKIPPED              |
+--------------------+----------------------+----------------------+
| Ubuntu 22.04       | PASS                 | SKIPPED              |
+--------------------+----------------------+----------------------+
| Ubuntu 20.04       | SKIPPED              | PASS                 |
+--------------------+----------------------+----------------------+


Ubuntu 22.04 (ARM)
	Kernel: 5.15.0-97-generic
	Compiler: gcc gcc (Ubuntu 11.4.0-1ubuntu1~22.04) 11.4.0

Ubuntu 22.04
	Kernel: 5.15.0-100-generic
	Compiler: gcc gcc (Ubuntu 11.4.0-1ubuntu1~22.04) 11.4.0

Ubuntu 20.04
	Kernel: Depends on container host
	Compiler: gcc (Ubuntu 9.4.0-1ubuntu1~20.04.2) 9.4.0

To view detailed results, visit:
https://lab.dpdk.org/results/dashboard/patchsets/32579/

UNH-IOL DPDK Community Lab

To manage your email subscriptions, visit: 
https://lab.dpdk.org/results/dashboard/preferences/subscriptions/

^ permalink raw reply	[flat|nested] 14+ messages in thread

* |SUCCESS| pw151479-151489 [PATCH] [v6,11/11] devtools/cocci: add scr
       [not found] <20250213221819.1856769-12-stephen@networkplumber.org>
                   ` (11 preceding siblings ...)
  2025-02-14  5:39 ` |SUCCESS| " dpdklab
@ 2025-02-14  7:02 ` dpdklab
  2025-02-18 16:23 ` dpdklab
  13 siblings, 0 replies; 14+ messages in thread
From: dpdklab @ 2025-02-14  7:02 UTC (permalink / raw)
  To: Test Report; +Cc: dpdk-test-reports

Test-Label: iol-unit-arm64-testing
Test-Status: SUCCESS
http://dpdk.org/patch/151489

_Testing PASS_

Submitter: Stephen Hemminger <stephen@networkplumber.org>
Date: Thursday, February 13 2025 22:16:24 
DPDK git baseline: Repo:dpdk
  Branch: master
  CommitID:e5176f23ae8b31437c3e5eb875c81f95bf3a9942

151479-151489 --> testing pass

Upstream job id: Generic-Unit-Test-DPDK#314929

Test environment and result as below:

+-----------------------------+----------------+---------------------------+--------------+------------------------------+
|         Environment         | dpdk_unit_test | cryptodev_sw_zuc_autotest | lpm_autotest | cryptodev_sw_snow3g_autotest |
+=============================+================+===========================+==============+==============================+
| 32-bit Ubuntu 22.04.4 (ARM) | PASS           | SKIPPED                   | SKIPPED      | SKIPPED                      |
+-----------------------------+----------------+---------------------------+--------------+------------------------------+
| Fedora 40 (ARM Clang)       | PASS           | SKIPPED                   | SKIPPED      | SKIPPED                      |
+-----------------------------+----------------+---------------------------+--------------+------------------------------+
| CentOS Stream 10 (ARM)      | PASS           | SKIPPED                   | SKIPPED      | SKIPPED                      |
+-----------------------------+----------------+---------------------------+--------------+------------------------------+
| Fedora 40 (ARM)             | PASS           | SKIPPED                   | SKIPPED      | SKIPPED                      |
+-----------------------------+----------------+---------------------------+--------------+------------------------------+
| CentOS Stream 9 (ARM)       | PASS           | SKIPPED                   | SKIPPED      | SKIPPED                      |
+-----------------------------+----------------+---------------------------+--------------+------------------------------+
| RHEL9 (ARM)                 | PASS           | SKIPPED                   | SKIPPED      | SKIPPED                      |
+-----------------------------+----------------+---------------------------+--------------+------------------------------+
| Debian 12 (arm)             | PASS           | PASS                      | SKIPPED      | PASS                         |
+-----------------------------+----------------+---------------------------+--------------+------------------------------+
| Debian 11 (Buster) (ARM)    | PASS           | SKIPPED                   | SKIPPED      | SKIPPED                      |
+-----------------------------+----------------+---------------------------+--------------+------------------------------+
| Fedora 41 (ARM Clang)       | PASS           | SKIPPED                   | SKIPPED      | SKIPPED                      |
+-----------------------------+----------------+---------------------------+--------------+------------------------------+
| Fedora 41 (ARM)             | PASS           | SKIPPED                   | SKIPPED      | SKIPPED                      |
+-----------------------------+----------------+---------------------------+--------------+------------------------------+
| Ubuntu 20.04 (ARM)          | PASS           | SKIPPED                   | SKIPPED      | SKIPPED                      |
+-----------------------------+----------------+---------------------------+--------------+------------------------------+
| Ubuntu 24.04 (ARM)          | PASS           | SKIPPED                   | SKIPPED      | SKIPPED                      |
+-----------------------------+----------------+---------------------------+--------------+------------------------------+
| Ubuntu 22.04 (ARM)          | PASS           | SKIPPED                   | SKIPPED      | SKIPPED                      |
+-----------------------------+----------------+---------------------------+--------------+------------------------------+
| Ubuntu 20.04 ARM SVE        | SKIPPED        | SKIPPED                   | PASS         | SKIPPED                      |
+-----------------------------+----------------+---------------------------+--------------+------------------------------+


32-bit Ubuntu 22.04.4 (ARM)
	Kernel: 5.15.83+ aarch64
	Compiler: gcc (Ubuntu 11.4.0-1ubuntu1~22.04) 11.4.0

Fedora 40 (ARM Clang)
	Kernel: Depends on container host
	Compiler: clang 18.1.8 (Fedora 18.1.8-1.fc40)

CentOS Stream 10 (ARM)
	Kernel: Depends on container host
	Compiler: gcc 14.2.1 20241104 (Red Hat 14.2.1-6)

Fedora 40 (ARM)
	Kernel: Depends on container host
	Compiler: gcc 14.2.1 20240912 (Red Hat 14.2.1-3)

CentOS Stream 9 (ARM)
	Kernel: Depends on container host
	Compiler: gcc 11.5.0 20240719 (Red Hat 11.5.0-2)

RHEL9 (ARM)
	Kernel: Depends on container host
	Compiler: gcc 11.5.0 20240719 (Red Hat 11.5.0-2)

Debian 12 (arm)
	Kernel: Depends on container host
	Compiler: gcc (Debian 12.2.0-14) 12.2.0

Debian 11 (Buster) (ARM)
	Kernel: Depends on container host
	Compiler: gcc (Debian 10.2.1-6) 10.2.1 20210110

Fedora 41 (ARM Clang)
	Kernel: Depends on container host
	Compiler: clang 19.1.5 (Fedora 19.1.5-1.fc41)

Fedora 41 (ARM)
	Kernel: Depends on container host
	Compiler: gcc 14.2.1 20240912 (Red Hat 14.2.1-3)

Ubuntu 20.04 (ARM)
	Kernel: Depends on container host
	Compiler: gcc (Ubuntu 9.4.0-1ubuntu1~20.04.2) 9.4.0

Ubuntu 24.04 (ARM)
	Kernel: Depends on container host
	Compiler: gcc (Ubuntu 13.3.0-6ubuntu2~24.04) 13.3.0

Ubuntu 22.04 (ARM)
	Kernel: Depends on container host
	Compiler: gcc (Ubuntu 11.4.0-1ubuntu1~22.04) 11.4.0

Ubuntu 20.04 ARM SVE
	Kernel: Depends on container host
	Compiler: gcc (Ubuntu 10.5.0-1ubuntu1~20.04) 10.5.0

To view detailed results, visit:
https://lab.dpdk.org/results/dashboard/patchsets/32579/

UNH-IOL DPDK Community Lab

To manage your email subscriptions, visit: 
https://lab.dpdk.org/results/dashboard/preferences/subscriptions/

^ permalink raw reply	[flat|nested] 14+ messages in thread

* |SUCCESS| pw151479-151489 [PATCH] [v6,11/11] devtools/cocci: add scr
       [not found] <20250213221819.1856769-12-stephen@networkplumber.org>
                   ` (12 preceding siblings ...)
  2025-02-14  7:02 ` dpdklab
@ 2025-02-18 16:23 ` dpdklab
  13 siblings, 0 replies; 14+ messages in thread
From: dpdklab @ 2025-02-18 16:23 UTC (permalink / raw)
  To: Test Report; +Cc: dpdk-test-reports

Test-Label: iol-intel-Functional
Test-Status: SUCCESS
http://dpdk.org/patch/151489

_Functional Testing PASS_

Submitter: Stephen Hemminger <stephen@networkplumber.org>
Date: Thursday, February 13 2025 22:16:24 
DPDK git baseline: Repo:dpdk
  Branch: master
  CommitID:e5176f23ae8b31437c3e5eb875c81f95bf3a9942

151479-151489 --> functional testing pass

Upstream job id: Template-DTS-Pipeline#212615

Test environment and result as below:

Ubuntu 24.04 LTS
Kernel: 6.8.0-44-generic
Compiler: gcc 13.2.0
NIC: Intel Corporation Ethernet Controller XL710 for 40GbE QSFP+ 40 Mbps

Aggregate Results by Test Suite
+------------+--------+
| Test Suite | Result |
+============+========+
| mac_filter |  PASS  |
+------------+--------+


Ubuntu 22.04
Kernel: 5.15.0-131-generic
Compiler: gcc (Ubuntu 11.4.0-1ubuntu1~22.04) 11.4.0
NIC: Intel Corporation Ethernet Converged Network Adapter 82599ES 10000 Mbps

Aggregate Results by Test Suite
+-----------------------------+--------+
|         Test Suite          | Result |
+=============================+========+
| unit_tests_mbuf             |  PASS  |
+-----------------------------+--------+
| vhost_virtio_user_interrupt |  PASS  |
+-----------------------------+--------+
| virtio_smoke                |  PASS  |
+-----------------------------+--------+


Ubuntu 20.04
Kernel: 5.4.0-122-generic
Compiler: gcc 9.4.0
NIC: Intel Corporation Ethernet Converged Network Adapter XL710-QDA2 40000 Mbps

Aggregate Results by Test Suite
+-----------------------------+--------+
|         Test Suite          | Result |
+=============================+========+
| unit_tests_mbuf             |  PASS  |
+-----------------------------+--------+
| vhost_virtio_user_interrupt |  PASS  |
+-----------------------------+--------+
| virtio_smoke                |  PASS  |
+-----------------------------+--------+


Arm Ampere Altra - Ubuntu 22.04
Kernel: 5.15.83+
Compiler: gcc 11.4
NIC: Intel Corporation QAT 8970 0 Mbps

Aggregate Results by Test Suite
+----------------------------+--------+
|         Test Suite         | Result |
+============================+========+
| crypto_perf_cryptodev_perf |  PASS  |
+----------------------------+--------+


To view detailed results, visit:
https://lab.dpdk.org/results/dashboard/patchsets/32579/

UNH-IOL DPDK Community Lab

To manage your email subscriptions, visit: 
https://lab.dpdk.org/results/dashboard/preferences/subscriptions/

^ permalink raw reply	[flat|nested] 14+ messages in thread

end of thread, other threads:[~2025-02-18 16:23 UTC | newest]

Thread overview: 14+ messages (download: mbox.gz / follow: Atom feed)
-- links below jump to the message on this page --
     [not found] <20250213221819.1856769-12-stephen@networkplumber.org>
2025-02-13 21:51 ` |SUCCESS| pw151479-151489 [PATCH v6 11/11] devtools/cocci: add script to find problematic memset qemudev
2025-02-13 21:55 ` qemudev
2025-02-13 22:20 ` |SUCCESS| pw151489 " checkpatch
2025-02-13 23:44 ` 0-day Robot
2025-02-14  3:58 ` |SUCCESS| pw151479-151489 [PATCH] [v6,11/11] devtools/cocci: add scr dpdklab
2025-02-14  4:09 ` dpdklab
2025-02-14  4:15 ` |PENDING| " dpdklab
2025-02-14  4:23 ` |SUCCESS| " dpdklab
2025-02-14  4:24 ` |PENDING| " dpdklab
2025-02-14  4:29 ` |SUCCESS| " dpdklab
2025-02-14  5:07 ` |PENDING| " dpdklab
2025-02-14  5:39 ` |SUCCESS| " dpdklab
2025-02-14  7:02 ` dpdklab
2025-02-18 16:23 ` dpdklab

This is a public inbox, see mirroring instructions
for how to clone and mirror all data and code used for this inbox;
as well as URLs for NNTP newsgroup(s).