automatic DPDK test reports
 help / color / mirror / Atom feed
* |SUCCESS| pw151522-151528 [PATCH 8/8] net/mlx5/hws: support debug information for new domains
       [not found] <20250216110414.10926-8-hamdani@nvidia.com>
@ 2025-02-16 10:32 ` qemudev
  2025-02-16 10:37 ` qemudev
                   ` (13 subsequent siblings)
  14 siblings, 0 replies; 15+ messages in thread
From: qemudev @ 2025-02-16 10:32 UTC (permalink / raw)
  To: test-report

Test-Label: loongarch-compilation
Test-Status: SUCCESS
http://dpdk.org/patch/151528

_Compilation OK_

Submitter: Hamdan Igbaria <hamdani@nvidia.com>
Date: Sun, 16 Feb 2025 13:04:07 +0200
DPDK git baseline: Repo:dpdk-next-net-mlx
  Branch: for-next-net
  CommitID: 046cca99c3fd03bfb95d3e27a56aab40c2c8f45a

151522-151528 --> meson & ninja build successfully

Test environment and result as below:

+---------------------+----------------+
|     Environment     | compilation    |
+---------------------+----------------+
| Loongnix-Server 8.3 | PASS           |
+---------------------+----------------+

Loongnix-Server 8.3
    Kernel: 4.19.190+
    Compiler: gcc 8.3


^ permalink raw reply	[flat|nested] 15+ messages in thread

* |SUCCESS| pw151522-151528 [PATCH 8/8] net/mlx5/hws: support debug information for new domains
       [not found] <20250216110414.10926-8-hamdani@nvidia.com>
  2025-02-16 10:32 ` |SUCCESS| pw151522-151528 [PATCH 8/8] net/mlx5/hws: support debug information for new domains qemudev
@ 2025-02-16 10:37 ` qemudev
  2025-02-16 11:05 ` |SUCCESS| pw151528 " checkpatch
                   ` (12 subsequent siblings)
  14 siblings, 0 replies; 15+ messages in thread
From: qemudev @ 2025-02-16 10:37 UTC (permalink / raw)
  To: test-report

Test-Label: loongarch-unit-testing
Test-Status: SUCCESS
http://dpdk.org/patch/151528

_Unit Testing PASS_

Submitter: Hamdan Igbaria <hamdani@nvidia.com>
Date: Sun, 16 Feb 2025 13:04:07 +0200
DPDK git baseline: Repo:dpdk-next-net-mlx
  Branch: for-next-net
  CommitID: 046cca99c3fd03bfb95d3e27a56aab40c2c8f45a

151522-151528 --> testing pass

Test environment and result as below:

+---------------------+----------------+
|     Environment     | dpdk_unit_test |
+---------------------+----------------+
| Loongnix-Server 8.3 | PASS           |
+---------------------+----------------+

Loongnix-Server 8.3
    Kernel: 4.19.190+
    Compiler: gcc 8.3


Test result details:
  1/119 DPDK:fast-tests / acl_autotest                            OK              3.20s
  2/119 DPDK:fast-tests / alarm_autotest                          OK              1.41s
  3/119 DPDK:fast-tests / argparse_autotest                       OK              0.41s
  4/119 DPDK:fast-tests / atomic_autotest                         OK              7.11s
  5/119 DPDK:fast-tests / bitcount_autotest                       OK              0.31s
  6/119 DPDK:fast-tests / bitmap_autotest                         OK              0.31s
  7/119 DPDK:fast-tests / bitops_autotest                         OK              1.81s
  8/119 DPDK:fast-tests / bitratestats_autotest                   OK              0.31s
  9/119 DPDK:fast-tests / bitset_autotest                         OK              3.07s
 10/119 DPDK:fast-tests / bpf_autotest                            OK              0.31s
 11/119 DPDK:fast-tests / bpf_convert_autotest                    OK              0.31s
 12/119 DPDK:fast-tests / byteorder_autotest                      OK              0.31s
 13/119 DPDK:fast-tests / cfgfile_autotest                        OK              0.31s
 14/119 DPDK:fast-tests / cksum_autotest                          OK              0.31s
 15/119 DPDK:fast-tests / cmdline_autotest                        OK              0.31s
 16/119 DPDK:fast-tests / common_autotest                         OK              1.19s
 17/119 DPDK:fast-tests / compressdev_autotest                    SKIP            0.06s   exit status 77
 18/119 DPDK:fast-tests / cpuflags_autotest                       OK              0.30s
 19/119 DPDK:fast-tests / crc_autotest                            OK              0.30s
 20/119 DPDK:fast-tests / user_delay_us                           OK              0.31s
 21/119 DPDK:fast-tests / debug_autotest                          OK             24.06s
 22/119 DPDK:fast-tests / devargs_autotest                        OK              0.30s
 23/119 DPDK:fast-tests / dispatcher_autotest                     OK              2.48s
 24/119 DPDK:fast-tests / distributor_autotest                    OK              1.20s
 25/119 DPDK:fast-tests / eal_flags_c_opt_autotest                OK              0.78s
 26/119 DPDK:fast-tests / eal_flags_main_opt_autotest             OK              0.21s
 27/119 DPDK:fast-tests / eal_flags_n_opt_autotest                OK              0.19s
 28/119 DPDK:fast-tests / eal_flags_hpet_autotest                 OK              0.13s
 29/119 DPDK:fast-tests / eal_flags_no_huge_autotest              OK              0.21s
 30/119 DPDK:fast-tests / eal_flags_a_opt_autotest                OK              0.29s
 31/119 DPDK:fast-tests / eal_flags_b_opt_autotest                OK              0.24s
 32/119 DPDK:fast-tests / eal_flags_vdev_opt_autotest             OK              0.19s
 33/119 DPDK:fast-tests / eal_flags_r_opt_autotest                OK              0.18s
 34/119 DPDK:fast-tests / eal_flags_mem_autotest                  OK              0.59s
 35/119 DPDK:fast-tests / eal_flags_file_prefix_autotest          OK             22.25s
 36/119 DPDK:fast-tests / eal_flags_misc_autotest                 OK              1.03s
 37/119 DPDK:fast-tests / eal_fs_autotest                         OK              0.30s
 38/119 DPDK:fast-tests / errno_autotest                          OK              0.31s
 39/119 DPDK:fast-tests / ethdev_link_status                      OK              0.31s
 40/119 DPDK:fast-tests / event_eth_tx_adapter_autotest           OK              1.68s
 41/119 DPDK:fast-tests / event_ring_autotest                     OK              0.31s
 42/119 DPDK:fast-tests / eventdev_common_autotest                OK              0.31s
 43/119 DPDK:fast-tests / eventdev_selftest_sw                    OK              7.12s
 44/119 DPDK:fast-tests / fbarray_autotest                        OK              0.31s
 45/119 DPDK:fast-tests / fib_autotest                            OK              1.21s
 46/119 DPDK:fast-tests / fib6_autotest                           OK              0.98s
 47/119 DPDK:fast-tests / func_reentrancy_autotest                OK              2.05s
 48/119 DPDK:fast-tests / graph_autotest                          OK              0.31s
 49/119 DPDK:fast-tests / node_list_dump                          OK              0.30s
 50/119 DPDK:fast-tests / hash_autotest                           OK              0.93s
 51/119 DPDK:fast-tests / hash_readwrite_func_autotest            OK              6.38s
 52/119 DPDK:fast-tests / interrupt_autotest                      OK              1.61s
 53/119 DPDK:fast-tests / ipfrag_autotest                         OK              0.07s
 54/119 DPDK:fast-tests / ipsec_autotest                          SKIP            0.31s   exit status 77
 55/119 DPDK:fast-tests / kvargs_autotest                         OK              0.31s
 56/119 DPDK:fast-tests / latencystats_autotest                   OK              0.31s
 57/119 DPDK:fast-tests / lcore_var_autotest                      OK              0.45s
 58/119 DPDK:fast-tests / lcores_autotest                         OK              5.12s
 59/119 DPDK:fast-tests / logs_autotest                           OK              0.31s
 60/119 DPDK:fast-tests / lpm_autotest                            OK              2.37s
 61/119 DPDK:fast-tests / lpm6_autotest                           OK              5.44s
 62/119 DPDK:fast-tests / malloc_autotest                         OK             60.27s
 63/119 DPDK:fast-tests / mbuf_autotest                           OK              4.36s
 64/119 DPDK:fast-tests / mcslock_autotest                        OK              2.65s
 65/119 DPDK:fast-tests / member_autotest                         OK              1.52s
 66/119 DPDK:fast-tests / memcpy_autotest                         OK              6.77s
 67/119 DPDK:fast-tests / memory_autotest                         OK              0.08s
 68/119 DPDK:fast-tests / mempool_autotest                        OK              0.43s
 69/119 DPDK:fast-tests / memzone_autotest                        OK              0.14s
 70/119 DPDK:fast-tests / meter_autotest                          OK              0.30s
 71/119 DPDK:fast-tests / metrics_autotest                        OK              0.31s
 72/119 DPDK:fast-tests / multiprocess_autotest                   OK              0.17s
 73/119 DPDK:fast-tests / net_ether_autotest                      OK              0.96s
 74/119 DPDK:fast-tests / net_ipv6_autotest                       OK              0.30s
 75/119 DPDK:fast-tests / pcapng_autotest                         OK              7.13s
 76/119 DPDK:fast-tests / pdcp_autotest                           SKIP            0.06s   exit status 77
 77/119 DPDK:fast-tests / pdump_autotest                          OK              0.43s
 78/119 DPDK:fast-tests / per_lcore_autotest                      OK              0.41s
 79/119 DPDK:fast-tests / pflock_autotest                         OK              1.11s
 80/119 DPDK:fast-tests / pie_autotest                            OK              0.31s
 81/119 DPDK:fast-tests / ring_pmd_autotest                       OK              0.31s
 82/119 DPDK:fast-tests / power_autotest                          OK              0.31s
 83/119 DPDK:fast-tests / power_cpufreq_autotest                  SKIP            0.06s   exit status 77
 84/119 DPDK:fast-tests / power_intel_uncore_autotest             SKIP            0.30s   exit status 77
 85/119 DPDK:fast-tests / power_kvm_vm_autotest                   SKIP            0.06s   exit status 77
 86/119 DPDK:fast-tests / prefetch_autotest                       OK              0.30s
 87/119 DPDK:fast-tests / ptr_compress_autotest                   OK              0.30s
 88/119 DPDK:fast-tests / rawdev_autotest                         OK              0.30s
 89/119 DPDK:fast-tests / rcu_qsbr_autotest                       OK              0.83s
 90/119 DPDK:fast-tests / reorder_autotest                        OK              0.36s
 91/119 DPDK:fast-tests / rib_autotest                            OK              8.96s
 92/119 DPDK:fast-tests / rib6_autotest                           OK              8.95s
 93/119 DPDK:fast-tests / ring_autotest                           OK              0.34s
 94/119 DPDK:fast-tests / rwlock_test1_autotest                   OK              1.05s
 95/119 DPDK:fast-tests / rwlock_rda_autotest                     OK              5.31s
 96/119 DPDK:fast-tests / rwlock_rds_wrm_autotest                 OK              5.31s
 97/119 DPDK:fast-tests / rwlock_rde_wro_autotest                 OK              5.31s
 98/119 DPDK:fast-tests / sched_autotest                          OK              0.31s
 99/119 DPDK:fast-tests / security_autotest                       OK              0.06s
100/119 DPDK:fast-tests / seqlock_autotest                        OK              2.30s
101/119 DPDK:fast-tests / service_autotest                        OK              3.01s
102/119 DPDK:fast-tests / soring_autotest                         OK              0.31s
103/119 DPDK:fast-tests / spinlock_autotest                       OK              0.38s
104/119 DPDK:fast-tests / stack_autotest                          OK              0.86s
105/119 DPDK:fast-tests / stack_lf_autotest                       SKIP            0.05s   exit status 77
106/119 DPDK:fast-tests / string_autotest                         OK              0.30s
107/119 DPDK:fast-tests / table_autotest                          OK              7.40s
108/119 DPDK:fast-tests / tailq_autotest                          OK              0.30s
109/119 DPDK:fast-tests / telemetry_data_autotest                 OK              0.31s
110/119 DPDK:fast-tests / telemetry_json_autotest                 OK              0.30s
111/119 DPDK:fast-tests / thash_autotest                          OK              0.32s
112/119 DPDK:fast-tests / threads_autotest                        OK              0.70s
113/119 DPDK:fast-tests / ticketlock_autotest                     OK              0.68s
114/119 DPDK:fast-tests / timer_autotest                          OK              3.89s
115/119 DPDK:fast-tests / trace_autotest                          OK              0.39s
116/119 DPDK:fast-tests / trace_autotest_with_traces              OK              0.40s
117/119 DPDK:fast-tests / vdev_autotest                           OK              0.39s
118/119 DPDK:fast-tests / version_autotest                        OK              0.40s
119/119 DPDK:fast-tests / telemetry_all                           OK              1.36s


Ok:                 112
Expected Fail:      0
Fail:               0
Unexpected Pass:    0
Skipped:            7
Timeout:            0


^ permalink raw reply	[flat|nested] 15+ messages in thread

* |SUCCESS| pw151528 [PATCH 8/8] net/mlx5/hws: support debug information for new domains
       [not found] <20250216110414.10926-8-hamdani@nvidia.com>
  2025-02-16 10:32 ` |SUCCESS| pw151522-151528 [PATCH 8/8] net/mlx5/hws: support debug information for new domains qemudev
  2025-02-16 10:37 ` qemudev
@ 2025-02-16 11:05 ` checkpatch
  2025-02-16 11:59 ` |SUCCESS| pw151522-151528 [PATCH] [8/8] net/mlx5/hws: support debug dpdklab
                   ` (11 subsequent siblings)
  14 siblings, 0 replies; 15+ messages in thread
From: checkpatch @ 2025-02-16 11:05 UTC (permalink / raw)
  To: test-report

Test-Label: checkpatch
Test-Status: SUCCESS
http://dpdk.org/patch/151528

_coding style OK_



^ permalink raw reply	[flat|nested] 15+ messages in thread

* |SUCCESS| pw151522-151528 [PATCH] [8/8] net/mlx5/hws: support debug
       [not found] <20250216110414.10926-8-hamdani@nvidia.com>
                   ` (2 preceding siblings ...)
  2025-02-16 11:05 ` |SUCCESS| pw151528 " checkpatch
@ 2025-02-16 11:59 ` dpdklab
  2025-02-16 12:00 ` |PENDING| " dpdklab
                   ` (10 subsequent siblings)
  14 siblings, 0 replies; 15+ messages in thread
From: dpdklab @ 2025-02-16 11:59 UTC (permalink / raw)
  To: Test Report; +Cc: dpdk-test-reports

Test-Label: iol-intel-Functional
Test-Status: SUCCESS
http://dpdk.org/patch/151528

_Functional Testing PASS_

Submitter: Hamdan Igbaria <hamdani@nvidia.com>
Date: Sunday, February 16 2025 11:04:14 
DPDK git baseline: Repo:dpdk
  Branch: master
  CommitID:046cca99c3fd03bfb95d3e27a56aab40c2c8f45a

151522-151528 --> functional testing pass

Upstream job id: Template-DTS-Pipeline#212824

Test environment and result as below:

Ubuntu 24.04 LTS
Kernel: 6.8.0-44-generic
Compiler: gcc 13.2.0
NIC: Intel Corporation Ethernet Controller XL710 for 40GbE QSFP+ 40 Mbps

Aggregate Results by Test Suite
+------------+--------+
| Test Suite | Result |
+============+========+
| mac_filter |  PASS  |
+------------+--------+


Ubuntu 22.04
Kernel: 5.15.0-131-generic
Compiler: gcc (Ubuntu 11.4.0-1ubuntu1~22.04) 11.4.0
NIC: Intel Corporation Ethernet Converged Network Adapter 82599ES 10000 Mbps

Aggregate Results by Test Suite
+-----------------------------+--------+
|         Test Suite          | Result |
+=============================+========+
| unit_tests_mbuf             |  PASS  |
+-----------------------------+--------+
| vhost_virtio_user_interrupt |  PASS  |
+-----------------------------+--------+
| virtio_smoke                |  PASS  |
+-----------------------------+--------+


To view detailed results, visit:
https://lab.dpdk.org/results/dashboard/patchsets/32585/

UNH-IOL DPDK Community Lab

To manage your email subscriptions, visit: 
https://lab.dpdk.org/results/dashboard/preferences/subscriptions/

^ permalink raw reply	[flat|nested] 15+ messages in thread

* |PENDING| pw151522-151528 [PATCH] [8/8] net/mlx5/hws: support debug
       [not found] <20250216110414.10926-8-hamdani@nvidia.com>
                   ` (3 preceding siblings ...)
  2025-02-16 11:59 ` |SUCCESS| pw151522-151528 [PATCH] [8/8] net/mlx5/hws: support debug dpdklab
@ 2025-02-16 12:00 ` dpdklab
  2025-02-16 12:02 ` dpdklab
                   ` (9 subsequent siblings)
  14 siblings, 0 replies; 15+ messages in thread
From: dpdklab @ 2025-02-16 12:00 UTC (permalink / raw)
  To: Test Report; +Cc: dpdk-test-reports

Test-Label: iol-compile-arm64-testing
Test-Status: PENDING
http://dpdk.org/patch/151528

_Testing pending_

Submitter: Hamdan Igbaria <hamdani@nvidia.com>
Date: Sunday, February 16 2025 11:04:14 
DPDK git baseline: Repo:dpdk
  Branch: master
  CommitID:046cca99c3fd03bfb95d3e27a56aab40c2c8f45a

151522-151528 --> testing pending

Upstream job id: Generic-DPDK-Compile-Meson#362013

Test environment and result as below:

+--------------------------------------+--------------------+
|             Environment              | dpdk_meson_compile |
+======================================+====================+
| Ubuntu 20.04 ARM GCC Cross Compile   | PEND               |
+--------------------------------------+--------------------+
| Fedora 40 (ARM)                      | PEND               |
+--------------------------------------+--------------------+
| Fedora 41 (ARM Clang)                | PEND               |
+--------------------------------------+--------------------+
| Ubuntu 20.04 (ARM)                   | PEND               |
+--------------------------------------+--------------------+
| RHEL9 (ARM)                          | PEND               |
+--------------------------------------+--------------------+
| Ubuntu 20.04 ARM SVE                 | PASS               |
+--------------------------------------+--------------------+
| Fedora 41 (ARM)                      | PEND               |
+--------------------------------------+--------------------+
| CentOS Stream 9 (ARM)                | PEND               |
+--------------------------------------+--------------------+
| Ubuntu 22.04 (ARM)                   | PEND               |
+--------------------------------------+--------------------+
| CentOS Stream 10 (ARM)               | PEND               |
+--------------------------------------+--------------------+
| Debian 11 (Buster) (ARM)             | PEND               |
+--------------------------------------+--------------------+
| Ubuntu 24.04 (ARM)                   | PEND               |
+--------------------------------------+--------------------+
| Debian 12 (arm)                      | PEND               |
+--------------------------------------+--------------------+
| Ubuntu 20.04 ARM Clang Cross Compile | PEND               |
+--------------------------------------+--------------------+


Ubuntu 20.04 ARM GCC Cross Compile
	Kernel: Depends on container host
	Compiler: aarch64-linux-gnu-gcc (Ubuntu 9.4.0-1ubuntu1~20.04.2) 9.4.0

Fedora 40 (ARM)
	Kernel: Depends on container host
	Compiler: gcc 14.2.1 20240912 (Red Hat 14.2.1-3)

Fedora 41 (ARM Clang)
	Kernel: Depends on container host
	Compiler: clang 19.1.5 (Fedora 19.1.5-1.fc41)

Ubuntu 20.04 (ARM)
	Kernel: Depends on container host
	Compiler: gcc (Ubuntu 9.4.0-1ubuntu1~20.04.2) 9.4.0

RHEL9 (ARM)
	Kernel: Depends on container host
	Compiler: gcc 11.5.0 20240719 (Red Hat 11.5.0-2)

Ubuntu 20.04 ARM SVE
	Kernel: Depends on container host
	Compiler: gcc (Ubuntu 10.5.0-1ubuntu1~20.04) 10.5.0

Fedora 41 (ARM)
	Kernel: Depends on container host
	Compiler: gcc 14.2.1 20240912 (Red Hat 14.2.1-3)

CentOS Stream 9 (ARM)
	Kernel: Depends on container host
	Compiler: gcc 11.5.0 20240719 (Red Hat 11.5.0-2)

Ubuntu 22.04 (ARM)
	Kernel: Depends on container host
	Compiler: gcc (Ubuntu 11.4.0-1ubuntu1~22.04) 11.4.0

CentOS Stream 10 (ARM)
	Kernel: Depends on container host
	Compiler: gcc 14.2.1 20241104 (Red Hat 14.2.1-6)

Debian 11 (Buster) (ARM)
	Kernel: Depends on container host
	Compiler: gcc (Debian 10.2.1-6) 10.2.1 20210110

Ubuntu 24.04 (ARM)
	Kernel: Depends on container host
	Compiler: gcc (Ubuntu 13.3.0-6ubuntu2~24.04) 13.3.0

Debian 12 (arm)
	Kernel: Depends on container host
	Compiler: gcc (Debian 12.2.0-14) 12.2.0

Ubuntu 20.04 ARM Clang Cross Compile
	Kernel: Depends on container host
	Compiler: clang 10.0.0-4ubuntu1

To view detailed results, visit:
https://lab.dpdk.org/results/dashboard/patchsets/32585/

UNH-IOL DPDK Community Lab

To manage your email subscriptions, visit: 
https://lab.dpdk.org/results/dashboard/preferences/subscriptions/

^ permalink raw reply	[flat|nested] 15+ messages in thread

* |PENDING| pw151522-151528 [PATCH] [8/8] net/mlx5/hws: support debug
       [not found] <20250216110414.10926-8-hamdani@nvidia.com>
                   ` (4 preceding siblings ...)
  2025-02-16 12:00 ` |PENDING| " dpdklab
@ 2025-02-16 12:02 ` dpdklab
  2025-02-16 12:03 ` |SUCCESS| " dpdklab
                   ` (8 subsequent siblings)
  14 siblings, 0 replies; 15+ messages in thread
From: dpdklab @ 2025-02-16 12:02 UTC (permalink / raw)
  To: Test Report; +Cc: dpdk-test-reports

Test-Label: iol-sample-apps-testing
Test-Status: PENDING
http://dpdk.org/patch/151528

_Testing pending_

Submitter: Hamdan Igbaria <hamdani@nvidia.com>
Date: Sunday, February 16 2025 11:04:14 
DPDK git baseline: Repo:dpdk
  Branch: master
  CommitID:046cca99c3fd03bfb95d3e27a56aab40c2c8f45a

151522-151528 --> testing pending

Upstream job id: Template-DTS-Pipeline#212829

Test environment and result as below:

+--------------------+----------------------+----------------------+
|    Environment     | dpdk_fips_validation | compressdev_zlib_pmd |
+====================+======================+======================+
| Ubuntu 20.04       | PEND                 | SKIPPED              |
+--------------------+----------------------+----------------------+
| Ubuntu 22.04 (ARM) | SKIPPED              | PASS                 |
+--------------------+----------------------+----------------------+


Ubuntu 20.04
	Kernel: Depends on container host
	Compiler: gcc (Ubuntu 9.4.0-1ubuntu1~20.04.2) 9.4.0

Ubuntu 22.04 (ARM)
	Kernel: 5.15.0-97-generic
	Compiler: gcc gcc (Ubuntu 11.4.0-1ubuntu1~22.04) 11.4.0

To view detailed results, visit:
https://lab.dpdk.org/results/dashboard/patchsets/32585/

UNH-IOL DPDK Community Lab

To manage your email subscriptions, visit: 
https://lab.dpdk.org/results/dashboard/preferences/subscriptions/

^ permalink raw reply	[flat|nested] 15+ messages in thread

* |SUCCESS| pw151522-151528 [PATCH] [8/8] net/mlx5/hws: support debug
       [not found] <20250216110414.10926-8-hamdani@nvidia.com>
                   ` (5 preceding siblings ...)
  2025-02-16 12:02 ` dpdklab
@ 2025-02-16 12:03 ` dpdklab
  2025-02-16 12:04 ` |SUCCESS| pw151528 [PATCH 8/8] net/mlx5/hws: support debug information for new domains 0-day Robot
                   ` (7 subsequent siblings)
  14 siblings, 0 replies; 15+ messages in thread
From: dpdklab @ 2025-02-16 12:03 UTC (permalink / raw)
  To: Test Report; +Cc: dpdk-test-reports

Test-Label: iol-unit-amd64-testing
Test-Status: SUCCESS
http://dpdk.org/patch/151528

_Testing PASS_

Submitter: Hamdan Igbaria <hamdani@nvidia.com>
Date: Sunday, February 16 2025 11:04:14 
DPDK git baseline: Repo:dpdk
  Branch: master
  CommitID:046cca99c3fd03bfb95d3e27a56aab40c2c8f45a

151522-151528 --> testing pass

Upstream job id: Generic-VM-Unit-Test-DPDK#27245

Test environment and result as below:

+---------------------+----------------+
|     Environment     | dpdk_unit_test |
+=====================+================+
| Windows Server 2022 | PASS           |
+---------------------+----------------+


Windows Server 2022
	Kernel: 10.0.20348.2031
	Compiler: clang 15.0.7, gcc 14.1.0 (MinGW), and MSVC VS 19.39.33521

To view detailed results, visit:
https://lab.dpdk.org/results/dashboard/patchsets/32585/

UNH-IOL DPDK Community Lab

To manage your email subscriptions, visit: 
https://lab.dpdk.org/results/dashboard/preferences/subscriptions/

^ permalink raw reply	[flat|nested] 15+ messages in thread

* |SUCCESS| pw151528 [PATCH 8/8] net/mlx5/hws: support debug information for new domains
       [not found] <20250216110414.10926-8-hamdani@nvidia.com>
                   ` (6 preceding siblings ...)
  2025-02-16 12:03 ` |SUCCESS| " dpdklab
@ 2025-02-16 12:04 ` 0-day Robot
  2025-02-16 12:09 ` |SUCCESS| pw151522-151528 [PATCH] [8/8] net/mlx5/hws: support debug dpdklab
                   ` (6 subsequent siblings)
  14 siblings, 0 replies; 15+ messages in thread
From: 0-day Robot @ 2025-02-16 12:04 UTC (permalink / raw)
  To: test-report; +Cc: robot

From: robot@bytheb.org

Test-Label: github-robot: build
Test-Status: SUCCESS
http://patchwork.dpdk.org/patch/151528/

_github build: passed_
Build URL: https://github.com/ovsrobot/dpdk/actions/runs/13354572736

^ permalink raw reply	[flat|nested] 15+ messages in thread

* |SUCCESS| pw151522-151528 [PATCH] [8/8] net/mlx5/hws: support debug
       [not found] <20250216110414.10926-8-hamdani@nvidia.com>
                   ` (7 preceding siblings ...)
  2025-02-16 12:04 ` |SUCCESS| pw151528 [PATCH 8/8] net/mlx5/hws: support debug information for new domains 0-day Robot
@ 2025-02-16 12:09 ` dpdklab
  2025-02-16 12:12 ` dpdklab
                   ` (5 subsequent siblings)
  14 siblings, 0 replies; 15+ messages in thread
From: dpdklab @ 2025-02-16 12:09 UTC (permalink / raw)
  To: Test Report; +Cc: dpdk-test-reports

Test-Label: iol-intel-Functional
Test-Status: SUCCESS
http://dpdk.org/patch/151528

_Functional Testing PASS_

Submitter: Hamdan Igbaria <hamdani@nvidia.com>
Date: Sunday, February 16 2025 11:04:14 
DPDK git baseline: Repo:dpdk
  Branch: master
  CommitID:046cca99c3fd03bfb95d3e27a56aab40c2c8f45a

151522-151528 --> functional testing pass

Upstream job id: Template-DTS-Pipeline#212826

Test environment and result as below:

Ubuntu 24.04 LTS
Kernel: 6.8.0-44-generic
Compiler: gcc 13.2.0
NIC: Intel Corporation Ethernet Controller XL710 for 40GbE QSFP+ 40 Mbps

Aggregate Results by Test Suite
+------------+--------+
| Test Suite | Result |
+============+========+
| mac_filter |  PASS  |
+------------+--------+


Ubuntu 22.04
Kernel: 5.15.0-131-generic
Compiler: gcc (Ubuntu 11.4.0-1ubuntu1~22.04) 11.4.0
NIC: Intel Corporation Ethernet Converged Network Adapter 82599ES 10000 Mbps

Aggregate Results by Test Suite
+-----------------------------+--------+
|         Test Suite          | Result |
+=============================+========+
| unit_tests_mbuf             |  PASS  |
+-----------------------------+--------+
| vhost_virtio_user_interrupt |  PASS  |
+-----------------------------+--------+
| virtio_smoke                |  PASS  |
+-----------------------------+--------+


Arm Ampere Altra - Ubuntu 22.04
Kernel: 5.15.83+
Compiler: gcc 11.4
NIC: Intel Corporation QAT 8970 0 Mbps

Aggregate Results by Test Suite
+----------------------------+--------+
|         Test Suite         | Result |
+============================+========+
| crypto_perf_cryptodev_perf |  PASS  |
+----------------------------+--------+


To view detailed results, visit:
https://lab.dpdk.org/results/dashboard/patchsets/32585/

UNH-IOL DPDK Community Lab

To manage your email subscriptions, visit: 
https://lab.dpdk.org/results/dashboard/preferences/subscriptions/

^ permalink raw reply	[flat|nested] 15+ messages in thread

* |SUCCESS| pw151522-151528 [PATCH] [8/8] net/mlx5/hws: support debug
       [not found] <20250216110414.10926-8-hamdani@nvidia.com>
                   ` (8 preceding siblings ...)
  2025-02-16 12:09 ` |SUCCESS| pw151522-151528 [PATCH] [8/8] net/mlx5/hws: support debug dpdklab
@ 2025-02-16 12:12 ` dpdklab
  2025-02-16 12:16 ` dpdklab
                   ` (4 subsequent siblings)
  14 siblings, 0 replies; 15+ messages in thread
From: dpdklab @ 2025-02-16 12:12 UTC (permalink / raw)
  To: Ali Alnubani, Test Report; +Cc: dpdk-test-reports

Test-Label: iol-mellanox-Performance
Test-Status: SUCCESS
http://dpdk.org/patch/151528

_Performance Testing PASS_

Submitter: Hamdan Igbaria <hamdani@nvidia.com>
Date: Sunday, February 16 2025 11:04:14 
DPDK git baseline: Repo:dpdk
  Branch: master
  CommitID:046cca99c3fd03bfb95d3e27a56aab40c2c8f45a

151522-151528 --> performance testing pass

Upstream job id: Template-DTS-Pipeline#212818

Test environment and result as below:

Ubuntu 24.04
Kernel: 6.8.0-45-generic
Compiler: gcc 13.2.0
NIC: NVIDIA Mellanox ConnectX-7 100000 Mbps
Fail/Total: 0/6

Detail performance results: 
+------------+---------+----------+-------------+------------------------------+
| frame_size | txd/rxd | num_cpus | num_threads |  throughput difference from  |
|            |         |          |             |           expected           |
+============+=========+==========+=============+==============================+
| 64         | 1024    | 1        | 1           | 1.0%                         |
+------------+---------+----------+-------------+------------------------------+
| 128        | 1024    | 1        | 1           | 0.4%                         |
+------------+---------+----------+-------------+------------------------------+
| 256        | 1024    | 1        | 1           | 0.5%                         |
+------------+---------+----------+-------------+------------------------------+
| 512        | 1024    | 1        | 1           | -0.0%                        |
+------------+---------+----------+-------------+------------------------------+
| 1024       | 1024    | 1        | 1           | -0.1%                        |
+------------+---------+----------+-------------+------------------------------+
| 1518       | 1024    | 1        | 1           | 0.3%                         |
+------------+---------+----------+-------------+------------------------------+

Ubuntu 24.04
Kernel: 6.8.0-45-generic
Compiler: gcc 13.2.0
NIC: Mellanox ConnectX-6 Lx 25000 Mbps
Fail/Total: 0/6

Detail performance results: 
+------------+---------+----------+-------------+------------------------------+
| frame_size | txd/rxd | num_cpus | num_threads |  throughput difference from  |
|            |         |          |             |           expected           |
+============+=========+==========+=============+==============================+
| 64         | 1024    | 1        | 1           | 0.2%                         |
+------------+---------+----------+-------------+------------------------------+
| 128        | 1024    | 1        | 1           | 0.1%                         |
+------------+---------+----------+-------------+------------------------------+
| 256        | 1024    | 1        | 1           | -0.0%                        |
+------------+---------+----------+-------------+------------------------------+
| 512        | 1024    | 1        | 1           | -0.0%                        |
+------------+---------+----------+-------------+------------------------------+
| 1024       | 1024    | 1        | 1           | 0.2%                         |
+------------+---------+----------+-------------+------------------------------+
| 1518       | 1024    | 1        | 1           | 0.2%                         |
+------------+---------+----------+-------------+------------------------------+

To view detailed results, visit:
https://lab.dpdk.org/results/dashboard/patchsets/32585/

UNH-IOL DPDK Community Lab

To manage your email subscriptions, visit: 
https://lab.dpdk.org/results/dashboard/preferences/subscriptions/

^ permalink raw reply	[flat|nested] 15+ messages in thread

* |SUCCESS| pw151522-151528 [PATCH] [8/8] net/mlx5/hws: support debug
       [not found] <20250216110414.10926-8-hamdani@nvidia.com>
                   ` (9 preceding siblings ...)
  2025-02-16 12:12 ` dpdklab
@ 2025-02-16 12:16 ` dpdklab
  2025-02-19  0:10 ` dpdklab
                   ` (3 subsequent siblings)
  14 siblings, 0 replies; 15+ messages in thread
From: dpdklab @ 2025-02-16 12:16 UTC (permalink / raw)
  To: Test Report; +Cc: dpdk-test-reports

Test-Label: iol-marvell-Functional
Test-Status: SUCCESS
http://dpdk.org/patch/151528

_Functional Testing PASS_

Submitter: Hamdan Igbaria <hamdani@nvidia.com>
Date: Sunday, February 16 2025 11:04:14 
DPDK git baseline: Repo:dpdk
  Branch: master
  CommitID:046cca99c3fd03bfb95d3e27a56aab40c2c8f45a

151522-151528 --> functional testing pass

Upstream job id: Template-DTS-Pipeline#212827

Test environment and result as below:

Ubuntu 20.04.6
Kernel: 5.4.105
Compiler: gcc 9.4
NIC: Marvell CN106XX 50000 Mbps
Target: arm64-native-linuxapp-gcc

Aggregate Results by Test Suite
+-----------------+--------+
|   Test Suite    | Result |
+=================+========+
| cmdline         |  PASS  |
+-----------------+--------+
| ipv4_reassembly |  PASS  |
+-----------------+--------+
| rxtx_callbacks  |  PASS  |
+-----------------+--------+
| tso             |  PASS  |
+-----------------+--------+


To view detailed results, visit:
https://lab.dpdk.org/results/dashboard/patchsets/32585/

UNH-IOL DPDK Community Lab

To manage your email subscriptions, visit: 
https://lab.dpdk.org/results/dashboard/preferences/subscriptions/

^ permalink raw reply	[flat|nested] 15+ messages in thread

* |SUCCESS| pw151522-151528 [PATCH] [8/8] net/mlx5/hws: support debug
       [not found] <20250216110414.10926-8-hamdani@nvidia.com>
                   ` (10 preceding siblings ...)
  2025-02-16 12:16 ` dpdklab
@ 2025-02-19  0:10 ` dpdklab
  2025-02-19  0:25 ` dpdklab
                   ` (2 subsequent siblings)
  14 siblings, 0 replies; 15+ messages in thread
From: dpdklab @ 2025-02-19  0:10 UTC (permalink / raw)
  To: Test Report; +Cc: dpdk-test-reports

Test-Label: iol-intel-Functional
Test-Status: SUCCESS
http://dpdk.org/patch/151528

_Functional Testing PASS_

Submitter: Hamdan Igbaria <hamdani@nvidia.com>
Date: Sunday, February 16 2025 11:04:14 
DPDK git baseline: Repo:dpdk
  Branch: master
  CommitID:046cca99c3fd03bfb95d3e27a56aab40c2c8f45a

151522-151528 --> functional testing pass

Upstream job id: Template-DTS-Pipeline#212823

Test environment and result as below:

Ubuntu 24.04 LTS
Kernel: 6.8.0-44-generic
Compiler: gcc 13.2.0
NIC: Intel Corporation Ethernet Controller XL710 for 40GbE QSFP+ 40 Mbps

Aggregate Results by Test Suite
+------------+--------+
| Test Suite | Result |
+============+========+
| mac_filter |  PASS  |
+------------+--------+


Ubuntu 22.04
Kernel: 5.15.0-131-generic
Compiler: gcc (Ubuntu 11.4.0-1ubuntu1~22.04) 11.4.0
NIC: Intel Corporation Ethernet Converged Network Adapter 82599ES 10000 Mbps

Aggregate Results by Test Suite
+-----------------------------+--------+
|         Test Suite          | Result |
+=============================+========+
| unit_tests_mbuf             |  PASS  |
+-----------------------------+--------+
| vhost_virtio_user_interrupt |  PASS  |
+-----------------------------+--------+
| virtio_smoke                |  PASS  |
+-----------------------------+--------+


Ubuntu 20.04
Kernel: 5.4.0-122-generic
Compiler: gcc 9.4.0
NIC: Intel Corporation Ethernet Converged Network Adapter XL710-QDA2 40000 Mbps

Aggregate Results by Test Suite
+-----------------------------+--------+
|         Test Suite          | Result |
+=============================+========+
| unit_tests_mbuf             |  PASS  |
+-----------------------------+--------+
| vhost_virtio_user_interrupt |  PASS  |
+-----------------------------+--------+
| virtio_smoke                |  PASS  |
+-----------------------------+--------+


Arm Ampere Altra - Ubuntu 22.04
Kernel: 5.15.83+
Compiler: gcc 11.4
NIC: Intel Corporation QAT 8970 0 Mbps

Aggregate Results by Test Suite
+----------------------------+--------+
|         Test Suite         | Result |
+============================+========+
| crypto_perf_cryptodev_perf |  PASS  |
+----------------------------+--------+


To view detailed results, visit:
https://lab.dpdk.org/results/dashboard/patchsets/32585/

UNH-IOL DPDK Community Lab

To manage your email subscriptions, visit: 
https://lab.dpdk.org/results/dashboard/preferences/subscriptions/

^ permalink raw reply	[flat|nested] 15+ messages in thread

* |SUCCESS| pw151522-151528 [PATCH] [8/8] net/mlx5/hws: support debug
       [not found] <20250216110414.10926-8-hamdani@nvidia.com>
                   ` (11 preceding siblings ...)
  2025-02-19  0:10 ` dpdklab
@ 2025-02-19  0:25 ` dpdklab
  2025-02-20 19:00 ` |PENDING| " dpdklab
  2025-02-20 20:19 ` |SUCCESS| " dpdklab
  14 siblings, 0 replies; 15+ messages in thread
From: dpdklab @ 2025-02-19  0:25 UTC (permalink / raw)
  To: Test Report; +Cc: dpdk-test-reports

Test-Label: iol-intel-Performance
Test-Status: SUCCESS
http://dpdk.org/patch/151528

_Performance Testing PASS_

Submitter: Hamdan Igbaria <hamdani@nvidia.com>
Date: Sunday, February 16 2025 11:04:14 
DPDK git baseline: Repo:dpdk
  Branch: master
  CommitID:046cca99c3fd03bfb95d3e27a56aab40c2c8f45a

151522-151528 --> performance testing pass

Upstream job id: Template-DTS-Pipeline#212819

Test environment and result as below:

Ubuntu 22.04
Kernel: 5.15.0-131-generic
Compiler: gcc (Ubuntu 11.4.0-1ubuntu1~22.04) 11.4.0
NIC: Intel Corporation Ethernet Converged Network Adapter 82599ES 10000 Mbps
Fail/Total: 0/6

Detail performance results: 
+----------+-------------+---------+------------+------------------------------+
| num_cpus | num_threads | txd/rxd | frame_size |  throughput difference from  |
|          |             |         |            |           expected           |
+==========+=============+=========+============+==============================+
| 1        | 2           | 128     | 64         | -1.4%                        |
+----------+-------------+---------+------------+------------------------------+
| 1        | 2           | 512     | 64         | -0.0%                        |
+----------+-------------+---------+------------+------------------------------+
| 1        | 2           | 2048    | 64         | 0.6%                         |
+----------+-------------+---------+------------+------------------------------+
| 1        | 1           | 128     | 64         | -0.4%                        |
+----------+-------------+---------+------------+------------------------------+
| 1        | 1           | 512     | 64         | -0.5%                        |
+----------+-------------+---------+------------+------------------------------+
| 1        | 1           | 2048    | 64         | -0.1%                        |
+----------+-------------+---------+------------+------------------------------+

Ubuntu 20.04
Kernel: 5.4.0-122-generic
Compiler: gcc 9.4.0
NIC: Intel Corporation Ethernet Converged Network Adapter XL710-QDA2 40000 Mbps
Fail/Total: 0/4

Detail performance results: 
+----------+-------------+---------+------------+------------------------------+
| num_cpus | num_threads | txd/rxd | frame_size |  throughput difference from  |
|          |             |         |            |           expected           |
+==========+=============+=========+============+==============================+
| 1        | 2           | 512     | 64         | 0.6%                         |
+----------+-------------+---------+------------+------------------------------+
| 1        | 2           | 2048    | 64         | -1.4%                        |
+----------+-------------+---------+------------+------------------------------+
| 1        | 1           | 512     | 64         | 4.1%                         |
+----------+-------------+---------+------------+------------------------------+
| 1        | 1           | 2048    | 64         | 2.3%                         |
+----------+-------------+---------+------------+------------------------------+

To view detailed results, visit:
https://lab.dpdk.org/results/dashboard/patchsets/32585/

UNH-IOL DPDK Community Lab

To manage your email subscriptions, visit: 
https://lab.dpdk.org/results/dashboard/preferences/subscriptions/

^ permalink raw reply	[flat|nested] 15+ messages in thread

* |PENDING| pw151522-151528 [PATCH] [8/8] net/mlx5/hws: support debug
       [not found] <20250216110414.10926-8-hamdani@nvidia.com>
                   ` (12 preceding siblings ...)
  2025-02-19  0:25 ` dpdklab
@ 2025-02-20 19:00 ` dpdklab
  2025-02-20 20:19 ` |SUCCESS| " dpdklab
  14 siblings, 0 replies; 15+ messages in thread
From: dpdklab @ 2025-02-20 19:00 UTC (permalink / raw)
  To: Test Report; +Cc: dpdk-test-reports

Test-Label: iol-unit-arm64-testing
Test-Status: PENDING
http://dpdk.org/patch/151528

_Testing pending_

Submitter: Hamdan Igbaria <hamdani@nvidia.com>
Date: Sunday, February 16 2025 11:04:14 
DPDK git baseline: Repo:dpdk
  Branch: master
  CommitID:046cca99c3fd03bfb95d3e27a56aab40c2c8f45a

151522-151528 --> testing pending

Upstream job id: Generic-Unit-Test-DPDK#316660

Test environment and result as below:

+--------------------------+--------------+----------------+
|       Environment        | lpm_autotest | dpdk_unit_test |
+==========================+==============+================+
| Ubuntu 20.04 ARM SVE     | PEND         | SKIPPED        |
+--------------------------+--------------+----------------+
| CentOS Stream 9 (ARM)    | SKIPPED      | PASS           |
+--------------------------+--------------+----------------+
| CentOS Stream 10 (ARM)   | SKIPPED      | PEND           |
+--------------------------+--------------+----------------+
| Debian 11 (Buster) (ARM) | SKIPPED      | PEND           |
+--------------------------+--------------+----------------+
| Fedora 40 (ARM)          | SKIPPED      | PEND           |
+--------------------------+--------------+----------------+
| Fedora 41 (ARM Clang)    | SKIPPED      | PEND           |
+--------------------------+--------------+----------------+
| Fedora 40 (ARM Clang)    | SKIPPED      | PEND           |
+--------------------------+--------------+----------------+
| Fedora 41 (ARM)          | SKIPPED      | PEND           |
+--------------------------+--------------+----------------+
| Debian 12 (arm)          | SKIPPED      | PEND           |
+--------------------------+--------------+----------------+
| RHEL9 (ARM)              | SKIPPED      | PEND           |
+--------------------------+--------------+----------------+
| Ubuntu 20.04 (ARM)       | SKIPPED      | PEND           |
+--------------------------+--------------+----------------+
| Ubuntu 24.04 (ARM)       | SKIPPED      | PEND           |
+--------------------------+--------------+----------------+
| Ubuntu 22.04 (ARM)       | SKIPPED      | PEND           |
+--------------------------+--------------+----------------+


Ubuntu 20.04 ARM SVE
	Kernel: Depends on container host
	Compiler: gcc (Ubuntu 10.5.0-1ubuntu1~20.04) 10.5.0

CentOS Stream 9 (ARM)
	Kernel: Depends on container host
	Compiler: gcc 11.5.0 20240719 (Red Hat 11.5.0-2)

CentOS Stream 10 (ARM)
	Kernel: Depends on container host
	Compiler: gcc 14.2.1 20241104 (Red Hat 14.2.1-6)

Debian 11 (Buster) (ARM)
	Kernel: Depends on container host
	Compiler: gcc (Debian 10.2.1-6) 10.2.1 20210110

Fedora 40 (ARM)
	Kernel: Depends on container host
	Compiler: gcc 14.2.1 20240912 (Red Hat 14.2.1-3)

Fedora 41 (ARM Clang)
	Kernel: Depends on container host
	Compiler: clang 19.1.5 (Fedora 19.1.5-1.fc41)

Fedora 40 (ARM Clang)
	Kernel: Depends on container host
	Compiler: clang 18.1.8 (Fedora 18.1.8-1.fc40)

Fedora 41 (ARM)
	Kernel: Depends on container host
	Compiler: gcc 14.2.1 20240912 (Red Hat 14.2.1-3)

Debian 12 (arm)
	Kernel: Depends on container host
	Compiler: gcc (Debian 12.2.0-14) 12.2.0

RHEL9 (ARM)
	Kernel: Depends on container host
	Compiler: gcc 11.5.0 20240719 (Red Hat 11.5.0-2)

Ubuntu 20.04 (ARM)
	Kernel: Depends on container host
	Compiler: gcc (Ubuntu 9.4.0-1ubuntu1~20.04.2) 9.4.0

Ubuntu 24.04 (ARM)
	Kernel: Depends on container host
	Compiler: gcc (Ubuntu 13.3.0-6ubuntu2~24.04) 13.3.0

Ubuntu 22.04 (ARM)
	Kernel: Depends on container host
	Compiler: gcc (Ubuntu 11.4.0-1ubuntu1~22.04) 11.4.0

To view detailed results, visit:
https://lab.dpdk.org/results/dashboard/patchsets/32585/

UNH-IOL DPDK Community Lab

To manage your email subscriptions, visit: 
https://lab.dpdk.org/results/dashboard/preferences/subscriptions/

^ permalink raw reply	[flat|nested] 15+ messages in thread

* |SUCCESS| pw151522-151528 [PATCH] [8/8] net/mlx5/hws: support debug
       [not found] <20250216110414.10926-8-hamdani@nvidia.com>
                   ` (13 preceding siblings ...)
  2025-02-20 19:00 ` |PENDING| " dpdklab
@ 2025-02-20 20:19 ` dpdklab
  14 siblings, 0 replies; 15+ messages in thread
From: dpdklab @ 2025-02-20 20:19 UTC (permalink / raw)
  To: Test Report; +Cc: dpdk-test-reports

Test-Label: iol-unit-amd64-testing
Test-Status: SUCCESS
http://dpdk.org/patch/151528

_Testing PASS_

Submitter: Hamdan Igbaria <hamdani@nvidia.com>
Date: Sunday, February 16 2025 11:04:14 
DPDK git baseline: Repo:dpdk
  Branch: master
  CommitID:046cca99c3fd03bfb95d3e27a56aab40c2c8f45a

151522-151528 --> testing pass

Upstream job id: Generic-Unit-Test-DPDK#316688

Test environment and result as below:

+---------------------+----------------+
|     Environment     | dpdk_unit_test |
+=====================+================+
| Windows Server 2022 | PASS           |
+---------------------+----------------+
| CentOS Stream 9     | PASS           |
+---------------------+----------------+
| CentOS Stream 10    | PASS           |
+---------------------+----------------+
| Debian 12           | PASS           |
+---------------------+----------------+
| Debian Bullseye     | PASS           |
+---------------------+----------------+
| Fedora 40 (Clang)   | PASS           |
+---------------------+----------------+
| Fedora 40           | PASS           |
+---------------------+----------------+
| Fedora 41 (Clang)   | PASS           |
+---------------------+----------------+
| Fedora 41           | PASS           |
+---------------------+----------------+
| RHEL8               | PASS           |
+---------------------+----------------+
| RHEL9               | PASS           |
+---------------------+----------------+
| Ubuntu 22.04        | PASS           |
+---------------------+----------------+
| Ubuntu 20.04        | PASS           |
+---------------------+----------------+
| Ubuntu 24.04        | PASS           |
+---------------------+----------------+


Windows Server 2022
	Kernel: 10.0.20348.2031
	Compiler: clang 15.0.7, gcc 14.1.0 (MinGW), and MSVC VS 19.39.33521

CentOS Stream 9
	Kernel: Depends on container host
	Compiler: gcc 11.5.0 20240719 (Red Hat 11.5.0-2)

CentOS Stream 10
	Kernel: Depends on container host
	Compiler: gcc 14.2.1 20241104 (Red Hat 14.2.1-6)

Debian 12
	Kernel: Depends on container host
	Compiler: gcc (Debian 12.2.0-14) 12.2.0

Debian Bullseye
	Kernel: Depends on container host
	Compiler: gcc (Debian 10.2.1-6) 10.2.1 20210110

Fedora 40 (Clang)
	Kernel: Depends on container host
	Compiler: clang 18.1.8 (Fedora 18.1.8-1.fc40)

Fedora 40
	Kernel: Depends on container host
	Compiler: gcc 14.2.1 20240912 (Red Hat 14.2.1-3)

Fedora 41 (Clang)
	Kernel: Depends on container host
	Compiler: clang 19.1.5 (Fedora 19.1.5-1.fc41)

Fedora 41
	Kernel: Depends on container host
	Compiler: gcc 14.2.1 20240912 (Red Hat 14.2.1-3)

RHEL8
	Kernel: Depends on container host
	Compiler: gcc 8.5.0 20210514 (Red Hat 8.5.0-22)

RHEL9
	Kernel: Depends on container host
	Compiler: gcc 11.5.0 20240719 (Red Hat 11.5.0-2)

Ubuntu 22.04
	Kernel: Depends on container host
	Compiler: gcc (Ubuntu 11.4.0-1ubuntu1~22.04) 11.4.0

Ubuntu 20.04
	Kernel: Depends on container host
	Compiler: gcc (Ubuntu 9.4.0-1ubuntu1~20.04.2) 9.4.0

Ubuntu 24.04
	Kernel: Depends on container host
	Compiler: gcc (Ubuntu 13.3.0-6ubuntu2~24.04) 13.3.0

To view detailed results, visit:
https://lab.dpdk.org/results/dashboard/patchsets/32585/

UNH-IOL DPDK Community Lab

To manage your email subscriptions, visit: 
https://lab.dpdk.org/results/dashboard/preferences/subscriptions/

^ permalink raw reply	[flat|nested] 15+ messages in thread

end of thread, other threads:[~2025-02-20 20:19 UTC | newest]

Thread overview: 15+ messages (download: mbox.gz / follow: Atom feed)
-- links below jump to the message on this page --
     [not found] <20250216110414.10926-8-hamdani@nvidia.com>
2025-02-16 10:32 ` |SUCCESS| pw151522-151528 [PATCH 8/8] net/mlx5/hws: support debug information for new domains qemudev
2025-02-16 10:37 ` qemudev
2025-02-16 11:05 ` |SUCCESS| pw151528 " checkpatch
2025-02-16 11:59 ` |SUCCESS| pw151522-151528 [PATCH] [8/8] net/mlx5/hws: support debug dpdklab
2025-02-16 12:00 ` |PENDING| " dpdklab
2025-02-16 12:02 ` dpdklab
2025-02-16 12:03 ` |SUCCESS| " dpdklab
2025-02-16 12:04 ` |SUCCESS| pw151528 [PATCH 8/8] net/mlx5/hws: support debug information for new domains 0-day Robot
2025-02-16 12:09 ` |SUCCESS| pw151522-151528 [PATCH] [8/8] net/mlx5/hws: support debug dpdklab
2025-02-16 12:12 ` dpdklab
2025-02-16 12:16 ` dpdklab
2025-02-19  0:10 ` dpdklab
2025-02-19  0:25 ` dpdklab
2025-02-20 19:00 ` |PENDING| " dpdklab
2025-02-20 20:19 ` |SUCCESS| " dpdklab

This is a public inbox, see mirroring instructions
for how to clone and mirror all data and code used for this inbox;
as well as URLs for NNTP newsgroup(s).