* |SUCCESS| pw151531 [PATCH] crypto/cnxk: fix status code in asymmetric operation
[not found] <20250216142510.1467-1-gmuthukrishn@marvell.com>
@ 2025-02-16 13:54 ` qemudev
2025-02-16 13:59 ` qemudev
` (14 subsequent siblings)
15 siblings, 0 replies; 16+ messages in thread
From: qemudev @ 2025-02-16 13:54 UTC (permalink / raw)
To: test-report
Test-Label: loongarch-compilation
Test-Status: SUCCESS
http://dpdk.org/patch/151531
_Compilation OK_
Submitter: Gowrishankar Muthukrishnan <gmuthukrishn@marvell.com>
Date: Sun, 16 Feb 2025 19:55:07 +0530
DPDK git baseline: Repo:dpdk-next-crypto
Branch: for-main
CommitID: 95ff85f8acb0c7c912fd29b01428377fcbf1112a
151531 --> meson & ninja build successfully
Test environment and result as below:
+---------------------+----------------+
| Environment | compilation |
+---------------------+----------------+
| Loongnix-Server 8.3 | PASS |
+---------------------+----------------+
Loongnix-Server 8.3
Kernel: 4.19.190+
Compiler: gcc 8.3
^ permalink raw reply [flat|nested] 16+ messages in thread
* |SUCCESS| pw151531 [PATCH] crypto/cnxk: fix status code in asymmetric operation
[not found] <20250216142510.1467-1-gmuthukrishn@marvell.com>
2025-02-16 13:54 ` |SUCCESS| pw151531 [PATCH] crypto/cnxk: fix status code in asymmetric operation qemudev
@ 2025-02-16 13:59 ` qemudev
2025-02-16 14:25 ` checkpatch
` (13 subsequent siblings)
15 siblings, 0 replies; 16+ messages in thread
From: qemudev @ 2025-02-16 13:59 UTC (permalink / raw)
To: test-report
Test-Label: loongarch-unit-testing
Test-Status: SUCCESS
http://dpdk.org/patch/151531
_Unit Testing PASS_
Submitter: Gowrishankar Muthukrishnan <gmuthukrishn@marvell.com>
Date: Sun, 16 Feb 2025 19:55:07 +0530
DPDK git baseline: Repo:dpdk-next-crypto
Branch: for-main
CommitID: 95ff85f8acb0c7c912fd29b01428377fcbf1112a
151531 --> testing pass
Test environment and result as below:
+---------------------+----------------+
| Environment | dpdk_unit_test |
+---------------------+----------------+
| Loongnix-Server 8.3 | PASS |
+---------------------+----------------+
Loongnix-Server 8.3
Kernel: 4.19.190+
Compiler: gcc 8.3
Test result details:
1/119 DPDK:fast-tests / acl_autotest OK 3.51s
2/119 DPDK:fast-tests / alarm_autotest OK 1.47s
3/119 DPDK:fast-tests / argparse_autotest OK 0.46s
4/119 DPDK:fast-tests / atomic_autotest OK 6.93s
5/119 DPDK:fast-tests / bitcount_autotest OK 0.20s
6/119 DPDK:fast-tests / bitmap_autotest OK 0.20s
7/119 DPDK:fast-tests / bitops_autotest OK 1.70s
8/119 DPDK:fast-tests / bitratestats_autotest OK 0.20s
9/119 DPDK:fast-tests / bitset_autotest OK 2.92s
10/119 DPDK:fast-tests / bpf_autotest OK 0.20s
11/119 DPDK:fast-tests / bpf_convert_autotest OK 0.20s
12/119 DPDK:fast-tests / byteorder_autotest OK 0.20s
13/119 DPDK:fast-tests / cfgfile_autotest OK 0.20s
14/119 DPDK:fast-tests / cksum_autotest OK 0.20s
15/119 DPDK:fast-tests / cmdline_autotest OK 0.20s
16/119 DPDK:fast-tests / common_autotest OK 1.08s
17/119 DPDK:fast-tests / compressdev_autotest SKIP 0.06s exit status 77
18/119 DPDK:fast-tests / cpuflags_autotest OK 0.20s
19/119 DPDK:fast-tests / crc_autotest OK 0.20s
20/119 DPDK:fast-tests / user_delay_us OK 0.20s
21/119 DPDK:fast-tests / debug_autotest OK 16.45s
22/119 DPDK:fast-tests / devargs_autotest OK 0.49s
23/119 DPDK:fast-tests / dispatcher_autotest OK 2.45s
24/119 DPDK:fast-tests / distributor_autotest OK 1.20s
25/119 DPDK:fast-tests / eal_flags_c_opt_autotest OK 0.82s
26/119 DPDK:fast-tests / eal_flags_main_opt_autotest OK 0.23s
27/119 DPDK:fast-tests / eal_flags_n_opt_autotest OK 0.20s
28/119 DPDK:fast-tests / eal_flags_hpet_autotest OK 0.14s
29/119 DPDK:fast-tests / eal_flags_no_huge_autotest OK 0.23s
30/119 DPDK:fast-tests / eal_flags_a_opt_autotest OK 0.31s
31/119 DPDK:fast-tests / eal_flags_b_opt_autotest OK 0.25s
32/119 DPDK:fast-tests / eal_flags_vdev_opt_autotest OK 0.20s
33/119 DPDK:fast-tests / eal_flags_r_opt_autotest OK 0.19s
34/119 DPDK:fast-tests / eal_flags_mem_autotest OK 0.60s
35/119 DPDK:fast-tests / eal_flags_file_prefix_autotest OK 22.27s
36/119 DPDK:fast-tests / eal_flags_misc_autotest OK 1.07s
37/119 DPDK:fast-tests / eal_fs_autotest OK 0.43s
38/119 DPDK:fast-tests / errno_autotest OK 0.43s
39/119 DPDK:fast-tests / ethdev_link_status OK 0.43s
40/119 DPDK:fast-tests / event_eth_tx_adapter_autotest OK 1.69s
41/119 DPDK:fast-tests / event_ring_autotest OK 0.43s
42/119 DPDK:fast-tests / eventdev_common_autotest OK 0.43s
43/119 DPDK:fast-tests / eventdev_selftest_sw OK 7.22s
44/119 DPDK:fast-tests / fbarray_autotest OK 0.43s
45/119 DPDK:fast-tests / fib_autotest OK 1.26s
46/119 DPDK:fast-tests / fib6_autotest OK 1.06s
47/119 DPDK:fast-tests / func_reentrancy_autotest OK 2.05s
48/119 DPDK:fast-tests / graph_autotest OK 0.44s
49/119 DPDK:fast-tests / node_list_dump OK 0.43s
50/119 DPDK:fast-tests / hash_autotest OK 1.06s
51/119 DPDK:fast-tests / hash_readwrite_func_autotest OK 6.42s
52/119 DPDK:fast-tests / interrupt_autotest OK 1.73s
53/119 DPDK:fast-tests / ipfrag_autotest OK 0.08s
54/119 DPDK:fast-tests / ipsec_autotest SKIP 0.43s exit status 77
55/119 DPDK:fast-tests / kvargs_autotest OK 0.44s
56/119 DPDK:fast-tests / latencystats_autotest OK 0.44s
57/119 DPDK:fast-tests / lcore_var_autotest OK 0.58s
58/119 DPDK:fast-tests / lcores_autotest OK 5.24s
59/119 DPDK:fast-tests / logs_autotest OK 0.43s
60/119 DPDK:fast-tests / lpm_autotest OK 2.49s
61/119 DPDK:fast-tests / lpm6_autotest OK 5.63s
62/119 DPDK:fast-tests / malloc_autotest OK 62.87s
63/119 DPDK:fast-tests / mbuf_autotest OK 5.87s
64/119 DPDK:fast-tests / mcslock_autotest OK 2.85s
65/119 DPDK:fast-tests / member_autotest OK 1.61s
66/119 DPDK:fast-tests / memcpy_autotest OK 7.30s
67/119 DPDK:fast-tests / memory_autotest OK 0.09s
68/119 DPDK:fast-tests / mempool_autotest OK 0.43s
69/119 DPDK:fast-tests / memzone_autotest OK 0.14s
70/119 DPDK:fast-tests / meter_autotest OK 0.43s
71/119 DPDK:fast-tests / metrics_autotest OK 0.43s
72/119 DPDK:fast-tests / multiprocess_autotest OK 0.19s
73/119 DPDK:fast-tests / net_ether_autotest OK 1.09s
74/119 DPDK:fast-tests / net_ipv6_autotest OK 0.43s
75/119 DPDK:fast-tests / pcapng_autotest OK 6.50s
76/119 DPDK:fast-tests / pdcp_autotest SKIP 0.07s exit status 77
77/119 DPDK:fast-tests / pdump_autotest OK 0.53s
78/119 DPDK:fast-tests / per_lcore_autotest OK 0.53s
79/119 DPDK:fast-tests / pflock_autotest OK 1.24s
80/119 DPDK:fast-tests / pie_autotest OK 0.43s
81/119 DPDK:fast-tests / ring_pmd_autotest OK 0.43s
82/119 DPDK:fast-tests / power_autotest OK 0.43s
83/119 DPDK:fast-tests / power_cpufreq_autotest SKIP 0.07s exit status 77
84/119 DPDK:fast-tests / power_intel_uncore_autotest SKIP 0.43s exit status 77
85/119 DPDK:fast-tests / power_kvm_vm_autotest SKIP 0.07s exit status 77
86/119 DPDK:fast-tests / prefetch_autotest OK 0.43s
87/119 DPDK:fast-tests / ptr_compress_autotest OK 0.43s
88/119 DPDK:fast-tests / rawdev_autotest OK 0.43s
89/119 DPDK:fast-tests / rcu_qsbr_autotest OK 0.95s
90/119 DPDK:fast-tests / reorder_autotest OK 0.49s
91/119 DPDK:fast-tests / rib_autotest OK 9.11s
92/119 DPDK:fast-tests / rib6_autotest OK 9.08s
93/119 DPDK:fast-tests / ring_autotest OK 0.46s
94/119 DPDK:fast-tests / rwlock_test1_autotest OK 1.18s
95/119 DPDK:fast-tests / rwlock_rda_autotest OK 5.44s
96/119 DPDK:fast-tests / rwlock_rds_wrm_autotest OK 5.43s
97/119 DPDK:fast-tests / rwlock_rde_wro_autotest OK 5.43s
98/119 DPDK:fast-tests / sched_autotest OK 0.43s
99/119 DPDK:fast-tests / security_autotest OK 0.07s
100/119 DPDK:fast-tests / seqlock_autotest OK 2.43s
101/119 DPDK:fast-tests / service_autotest OK 3.24s
102/119 DPDK:fast-tests / soring_autotest OK 0.54s
103/119 DPDK:fast-tests / spinlock_autotest OK 0.61s
104/119 DPDK:fast-tests / stack_autotest OK 0.87s
105/119 DPDK:fast-tests / stack_lf_autotest SKIP 0.06s exit status 77
106/119 DPDK:fast-tests / string_autotest OK 0.48s
107/119 DPDK:fast-tests / table_autotest OK 7.77s
108/119 DPDK:fast-tests / tailq_autotest OK 0.47s
109/119 DPDK:fast-tests / telemetry_data_autotest OK 0.48s
110/119 DPDK:fast-tests / telemetry_json_autotest OK 0.48s
111/119 DPDK:fast-tests / thash_autotest OK 0.49s
112/119 DPDK:fast-tests / threads_autotest OK 0.66s
113/119 DPDK:fast-tests / ticketlock_autotest OK 0.64s
114/119 DPDK:fast-tests / timer_autotest OK 3.97s
115/119 DPDK:fast-tests / trace_autotest OK 0.48s
116/119 DPDK:fast-tests / trace_autotest_with_traces OK 0.49s
117/119 DPDK:fast-tests / vdev_autotest OK 0.48s
118/119 DPDK:fast-tests / version_autotest OK 0.48s
119/119 DPDK:fast-tests / telemetry_all OK 1.46s
Ok: 112
Expected Fail: 0
Fail: 0
Unexpected Pass: 0
Skipped: 7
Timeout: 0
^ permalink raw reply [flat|nested] 16+ messages in thread
* |SUCCESS| pw151531 [PATCH] crypto/cnxk: fix status code in asymmetric operation
[not found] <20250216142510.1467-1-gmuthukrishn@marvell.com>
2025-02-16 13:54 ` |SUCCESS| pw151531 [PATCH] crypto/cnxk: fix status code in asymmetric operation qemudev
2025-02-16 13:59 ` qemudev
@ 2025-02-16 14:25 ` checkpatch
2025-02-16 15:24 ` 0-day Robot
` (12 subsequent siblings)
15 siblings, 0 replies; 16+ messages in thread
From: checkpatch @ 2025-02-16 14:25 UTC (permalink / raw)
To: test-report
Test-Label: checkpatch
Test-Status: SUCCESS
http://dpdk.org/patch/151531
_coding style OK_
^ permalink raw reply [flat|nested] 16+ messages in thread
* |SUCCESS| pw151531 [PATCH] crypto/cnxk: fix status code in asymmetric operation
[not found] <20250216142510.1467-1-gmuthukrishn@marvell.com>
` (2 preceding siblings ...)
2025-02-16 14:25 ` checkpatch
@ 2025-02-16 15:24 ` 0-day Robot
2025-02-16 19:20 ` |PENDING| pw151531 [PATCH] crypto/cnxk: fix status code in asymmetri dpdklab
` (11 subsequent siblings)
15 siblings, 0 replies; 16+ messages in thread
From: 0-day Robot @ 2025-02-16 15:24 UTC (permalink / raw)
To: test-report; +Cc: robot
From: robot@bytheb.org
Test-Label: github-robot: build
Test-Status: SUCCESS
http://patchwork.dpdk.org/patch/151531/
_github build: passed_
Build URL: https://github.com/ovsrobot/dpdk/actions/runs/13356063473
^ permalink raw reply [flat|nested] 16+ messages in thread
* |PENDING| pw151531 [PATCH] crypto/cnxk: fix status code in asymmetri
[not found] <20250216142510.1467-1-gmuthukrishn@marvell.com>
` (3 preceding siblings ...)
2025-02-16 15:24 ` 0-day Robot
@ 2025-02-16 19:20 ` dpdklab
2025-02-16 19:21 ` dpdklab
` (10 subsequent siblings)
15 siblings, 0 replies; 16+ messages in thread
From: dpdklab @ 2025-02-16 19:20 UTC (permalink / raw)
To: Test Report; +Cc: dpdk-test-reports
Test-Label: iol-unit-amd64-testing
Test-Status: PENDING
http://dpdk.org/patch/151531
_Testing pending_
Submitter: Gowrishankar Muthukrishnan <gmuthukrishn@marvell.com>
Date: Sunday, February 16 2025 14:25:07
DPDK git baseline: Repo:dpdk
Branch: master
CommitID:e5176f23ae8b31437c3e5eb875c81f95bf3a9942
151531 --> testing pending
Upstream job id: Generic-Unit-Test-DPDK#315441
Test environment and result as below:
+-------------------+----------------+
| Environment | dpdk_unit_test |
+===================+================+
| Debian Bullseye | PEND |
+-------------------+----------------+
| CentOS Stream 9 | PEND |
+-------------------+----------------+
| CentOS Stream 10 | PEND |
+-------------------+----------------+
| Debian 12 | PASS |
+-------------------+----------------+
| Fedora 40 | PEND |
+-------------------+----------------+
| Fedora 40 (Clang) | PEND |
+-------------------+----------------+
| RHEL8 | PEND |
+-------------------+----------------+
| Fedora 41 | PEND |
+-------------------+----------------+
| RHEL9 | PEND |
+-------------------+----------------+
| Fedora 41 (Clang) | PEND |
+-------------------+----------------+
| Ubuntu 20.04 | PEND |
+-------------------+----------------+
| Ubuntu 24.04 | PEND |
+-------------------+----------------+
| Ubuntu 22.04 | PEND |
+-------------------+----------------+
Debian Bullseye
Kernel: Depends on container host
Compiler: gcc (Debian 10.2.1-6) 10.2.1 20210110
CentOS Stream 9
Kernel: Depends on container host
Compiler: gcc 11.5.0 20240719 (Red Hat 11.5.0-2)
CentOS Stream 10
Kernel: Depends on container host
Compiler: gcc 14.2.1 20241104 (Red Hat 14.2.1-6)
Debian 12
Kernel: Depends on container host
Compiler: gcc (Debian 12.2.0-14) 12.2.0
Fedora 40
Kernel: Depends on container host
Compiler: gcc 14.2.1 20240912 (Red Hat 14.2.1-3)
Fedora 40 (Clang)
Kernel: Depends on container host
Compiler: clang 18.1.8 (Fedora 18.1.8-1.fc40)
RHEL8
Kernel: Depends on container host
Compiler: gcc 8.5.0 20210514 (Red Hat 8.5.0-22)
Fedora 41
Kernel: Depends on container host
Compiler: gcc 14.2.1 20240912 (Red Hat 14.2.1-3)
RHEL9
Kernel: Depends on container host
Compiler: gcc 11.5.0 20240719 (Red Hat 11.5.0-2)
Fedora 41 (Clang)
Kernel: Depends on container host
Compiler: clang 19.1.5 (Fedora 19.1.5-1.fc41)
Ubuntu 20.04
Kernel: Depends on container host
Compiler: gcc (Ubuntu 9.4.0-1ubuntu1~20.04.2) 9.4.0
Ubuntu 24.04
Kernel: Depends on container host
Compiler: gcc (Ubuntu 13.3.0-6ubuntu2~24.04) 13.3.0
Ubuntu 22.04
Kernel: Depends on container host
Compiler: gcc (Ubuntu 11.4.0-1ubuntu1~22.04) 11.4.0
To view detailed results, visit:
https://lab.dpdk.org/results/dashboard/patchsets/32587/
UNH-IOL DPDK Community Lab
To manage your email subscriptions, visit:
https://lab.dpdk.org/results/dashboard/preferences/subscriptions/
^ permalink raw reply [flat|nested] 16+ messages in thread
* |PENDING| pw151531 [PATCH] crypto/cnxk: fix status code in asymmetri
[not found] <20250216142510.1467-1-gmuthukrishn@marvell.com>
` (4 preceding siblings ...)
2025-02-16 19:20 ` |PENDING| pw151531 [PATCH] crypto/cnxk: fix status code in asymmetri dpdklab
@ 2025-02-16 19:21 ` dpdklab
2025-02-16 19:25 ` dpdklab
` (9 subsequent siblings)
15 siblings, 0 replies; 16+ messages in thread
From: dpdklab @ 2025-02-16 19:21 UTC (permalink / raw)
To: Test Report; +Cc: dpdk-test-reports
Test-Label: iol-unit-arm64-testing
Test-Status: PENDING
http://dpdk.org/patch/151531
_Testing pending_
Submitter: Gowrishankar Muthukrishnan <gmuthukrishn@marvell.com>
Date: Sunday, February 16 2025 14:25:07
DPDK git baseline: Repo:dpdk
Branch: master
CommitID:e5176f23ae8b31437c3e5eb875c81f95bf3a9942
151531 --> testing pending
Upstream job id: Generic-Unit-Test-DPDK#315434
Test environment and result as below:
+-----------------------------+----------------+------------------------------+--------------+---------------------------+
| Environment | dpdk_unit_test | cryptodev_sw_snow3g_autotest | lpm_autotest | cryptodev_sw_zuc_autotest |
+=============================+================+==============================+==============+===========================+
| 32-bit Ubuntu 22.04.4 (ARM) | PEND | SKIPPED | SKIPPED | SKIPPED |
+-----------------------------+----------------+------------------------------+--------------+---------------------------+
| CentOS Stream 10 (ARM) | PEND | SKIPPED | SKIPPED | SKIPPED |
+-----------------------------+----------------+------------------------------+--------------+---------------------------+
| Fedora 40 (ARM) | PEND | SKIPPED | SKIPPED | SKIPPED |
+-----------------------------+----------------+------------------------------+--------------+---------------------------+
| CentOS Stream 9 (ARM) | PEND | SKIPPED | SKIPPED | SKIPPED |
+-----------------------------+----------------+------------------------------+--------------+---------------------------+
| Debian 12 (arm) | PEND | PASS | SKIPPED | PEND |
+-----------------------------+----------------+------------------------------+--------------+---------------------------+
| Debian 11 (Buster) (ARM) | PEND | SKIPPED | SKIPPED | SKIPPED |
+-----------------------------+----------------+------------------------------+--------------+---------------------------+
| Fedora 41 (ARM) | PEND | SKIPPED | SKIPPED | SKIPPED |
+-----------------------------+----------------+------------------------------+--------------+---------------------------+
| Fedora 40 (ARM Clang) | PEND | SKIPPED | SKIPPED | SKIPPED |
+-----------------------------+----------------+------------------------------+--------------+---------------------------+
| Fedora 41 (ARM Clang) | PEND | SKIPPED | SKIPPED | SKIPPED |
+-----------------------------+----------------+------------------------------+--------------+---------------------------+
| Ubuntu 20.04 (ARM) | PEND | SKIPPED | SKIPPED | SKIPPED |
+-----------------------------+----------------+------------------------------+--------------+---------------------------+
| RHEL9 (ARM) | PEND | SKIPPED | SKIPPED | SKIPPED |
+-----------------------------+----------------+------------------------------+--------------+---------------------------+
| Ubuntu 22.04 (ARM) | PEND | SKIPPED | SKIPPED | SKIPPED |
+-----------------------------+----------------+------------------------------+--------------+---------------------------+
| Ubuntu 24.04 (ARM) | PEND | SKIPPED | SKIPPED | SKIPPED |
+-----------------------------+----------------+------------------------------+--------------+---------------------------+
| Ubuntu 20.04 ARM SVE | SKIPPED | SKIPPED | PEND | SKIPPED |
+-----------------------------+----------------+------------------------------+--------------+---------------------------+
32-bit Ubuntu 22.04.4 (ARM)
Kernel: 5.15.83+ aarch64
Compiler: gcc (Ubuntu 11.4.0-1ubuntu1~22.04) 11.4.0
CentOS Stream 10 (ARM)
Kernel: Depends on container host
Compiler: gcc 14.2.1 20241104 (Red Hat 14.2.1-6)
Fedora 40 (ARM)
Kernel: Depends on container host
Compiler: gcc 14.2.1 20240912 (Red Hat 14.2.1-3)
CentOS Stream 9 (ARM)
Kernel: Depends on container host
Compiler: gcc 11.5.0 20240719 (Red Hat 11.5.0-2)
Debian 12 (arm)
Kernel: Depends on container host
Compiler: gcc (Debian 12.2.0-14) 12.2.0
Debian 11 (Buster) (ARM)
Kernel: Depends on container host
Compiler: gcc (Debian 10.2.1-6) 10.2.1 20210110
Fedora 41 (ARM)
Kernel: Depends on container host
Compiler: gcc 14.2.1 20240912 (Red Hat 14.2.1-3)
Fedora 40 (ARM Clang)
Kernel: Depends on container host
Compiler: clang 18.1.8 (Fedora 18.1.8-1.fc40)
Fedora 41 (ARM Clang)
Kernel: Depends on container host
Compiler: clang 19.1.5 (Fedora 19.1.5-1.fc41)
Ubuntu 20.04 (ARM)
Kernel: Depends on container host
Compiler: gcc (Ubuntu 9.4.0-1ubuntu1~20.04.2) 9.4.0
RHEL9 (ARM)
Kernel: Depends on container host
Compiler: gcc 11.5.0 20240719 (Red Hat 11.5.0-2)
Ubuntu 22.04 (ARM)
Kernel: Depends on container host
Compiler: gcc (Ubuntu 11.4.0-1ubuntu1~22.04) 11.4.0
Ubuntu 24.04 (ARM)
Kernel: Depends on container host
Compiler: gcc (Ubuntu 13.3.0-6ubuntu2~24.04) 13.3.0
Ubuntu 20.04 ARM SVE
Kernel: Depends on container host
Compiler: gcc (Ubuntu 10.5.0-1ubuntu1~20.04) 10.5.0
To view detailed results, visit:
https://lab.dpdk.org/results/dashboard/patchsets/32587/
UNH-IOL DPDK Community Lab
To manage your email subscriptions, visit:
https://lab.dpdk.org/results/dashboard/preferences/subscriptions/
^ permalink raw reply [flat|nested] 16+ messages in thread
* |PENDING| pw151531 [PATCH] crypto/cnxk: fix status code in asymmetri
[not found] <20250216142510.1467-1-gmuthukrishn@marvell.com>
` (5 preceding siblings ...)
2025-02-16 19:21 ` dpdklab
@ 2025-02-16 19:25 ` dpdklab
2025-02-16 19:53 ` |SUCCESS| " dpdklab
` (8 subsequent siblings)
15 siblings, 0 replies; 16+ messages in thread
From: dpdklab @ 2025-02-16 19:25 UTC (permalink / raw)
To: Test Report; +Cc: dpdk-test-reports
Test-Label: iol-compile-amd64-testing
Test-Status: PENDING
http://dpdk.org/patch/151531
_Testing pending_
Submitter: Gowrishankar Muthukrishnan <gmuthukrishn@marvell.com>
Date: Sunday, February 16 2025 14:25:07
DPDK git baseline: Repo:dpdk
Branch: master
CommitID:e5176f23ae8b31437c3e5eb875c81f95bf3a9942
151531 --> testing pending
Upstream job id: Generic-DPDK-Compile-Meson#362170
Test environment and result as below:
+---------------------+--------------------+-------------------+------------------+-------------------------+
| Environment | dpdk_meson_compile | dpdk_compile_spdk | dpdk_compile_ovs | dpdk_llvm_clang_compile |
+=====================+====================+===================+==================+=========================+
| CentOS Stream 9 | PEND | PEND | SKIPPED | SKIPPED |
+---------------------+--------------------+-------------------+------------------+-------------------------+
| CentOS Stream 10 | PASS | SKIPPED | SKIPPED | SKIPPED |
+---------------------+--------------------+-------------------+------------------+-------------------------+
| Debian Bullseye | PEND | PEND | SKIPPED | SKIPPED |
+---------------------+--------------------+-------------------+------------------+-------------------------+
| Debian 12 | PEND | PEND | SKIPPED | SKIPPED |
+---------------------+--------------------+-------------------+------------------+-------------------------+
| Fedora 40 | PEND | PEND | SKIPPED | SKIPPED |
+---------------------+--------------------+-------------------+------------------+-------------------------+
| Fedora 40 (Clang) | PEND | PEND | SKIPPED | SKIPPED |
+---------------------+--------------------+-------------------+------------------+-------------------------+
| Fedora 41 (Clang) | PEND | PEND | PEND | SKIPPED |
+---------------------+--------------------+-------------------+------------------+-------------------------+
| Windows Server 2022 | SKIPPED | SKIPPED | SKIPPED | PEND |
+---------------------+--------------------+-------------------+------------------+-------------------------+
CentOS Stream 9
Kernel: Depends on container host
Compiler: gcc 11.5.0 20240719 (Red Hat 11.5.0-2)
CentOS Stream 10
Kernel: Depends on container host
Compiler: gcc 14.2.1 20241104 (Red Hat 14.2.1-6)
Debian Bullseye
Kernel: Depends on container host
Compiler: gcc (Debian 10.2.1-6) 10.2.1 20210110
Debian 12
Kernel: Depends on container host
Compiler: gcc (Debian 12.2.0-14) 12.2.0
Fedora 40
Kernel: Depends on container host
Compiler: gcc 14.2.1 20240912 (Red Hat 14.2.1-3)
Fedora 40 (Clang)
Kernel: Depends on container host
Compiler: clang 18.1.8 (Fedora 18.1.8-1.fc40)
Fedora 41 (Clang)
Kernel: Depends on container host
Compiler: clang 19.1.5 (Fedora 19.1.5-1.fc41)
Windows Server 2022
Kernel: 10.0.20348.2031
Compiler: clang 15.0.7, gcc 14.1.0 (MinGW), and MSVC VS 19.39.33521
To view detailed results, visit:
https://lab.dpdk.org/results/dashboard/patchsets/32587/
UNH-IOL DPDK Community Lab
To manage your email subscriptions, visit:
https://lab.dpdk.org/results/dashboard/preferences/subscriptions/
^ permalink raw reply [flat|nested] 16+ messages in thread
* |SUCCESS| pw151531 [PATCH] crypto/cnxk: fix status code in asymmetri
[not found] <20250216142510.1467-1-gmuthukrishn@marvell.com>
` (6 preceding siblings ...)
2025-02-16 19:25 ` dpdklab
@ 2025-02-16 19:53 ` dpdklab
2025-02-16 19:54 ` dpdklab
` (7 subsequent siblings)
15 siblings, 0 replies; 16+ messages in thread
From: dpdklab @ 2025-02-16 19:53 UTC (permalink / raw)
To: Test Report; +Cc: dpdk-test-reports
Test-Label: iol-unit-arm64-testing
Test-Status: SUCCESS
http://dpdk.org/patch/151531
_Testing PASS_
Submitter: Gowrishankar Muthukrishnan <gmuthukrishn@marvell.com>
Date: Sunday, February 16 2025 14:25:07
DPDK git baseline: Repo:dpdk
Branch: master
CommitID:e5176f23ae8b31437c3e5eb875c81f95bf3a9942
151531 --> testing pass
Upstream job id: Generic-Unit-Test-DPDK#315446
Test environment and result as below:
+-----------------------------+----------------+------------------------------+--------------+---------------------------+
| Environment | dpdk_unit_test | cryptodev_sw_snow3g_autotest | lpm_autotest | cryptodev_sw_zuc_autotest |
+=============================+================+==============================+==============+===========================+
| 32-bit Ubuntu 22.04.4 (ARM) | PASS | SKIPPED | SKIPPED | SKIPPED |
+-----------------------------+----------------+------------------------------+--------------+---------------------------+
| CentOS Stream 10 (ARM) | PASS | SKIPPED | SKIPPED | SKIPPED |
+-----------------------------+----------------+------------------------------+--------------+---------------------------+
| Fedora 40 (ARM) | PASS | SKIPPED | SKIPPED | SKIPPED |
+-----------------------------+----------------+------------------------------+--------------+---------------------------+
| CentOS Stream 9 (ARM) | PASS | SKIPPED | SKIPPED | SKIPPED |
+-----------------------------+----------------+------------------------------+--------------+---------------------------+
| Debian 12 (arm) | PASS | PASS | SKIPPED | PASS |
+-----------------------------+----------------+------------------------------+--------------+---------------------------+
| Debian 11 (Buster) (ARM) | PASS | SKIPPED | SKIPPED | SKIPPED |
+-----------------------------+----------------+------------------------------+--------------+---------------------------+
| Fedora 41 (ARM) | PASS | SKIPPED | SKIPPED | SKIPPED |
+-----------------------------+----------------+------------------------------+--------------+---------------------------+
| Fedora 40 (ARM Clang) | PASS | SKIPPED | SKIPPED | SKIPPED |
+-----------------------------+----------------+------------------------------+--------------+---------------------------+
| Fedora 41 (ARM Clang) | PASS | SKIPPED | SKIPPED | SKIPPED |
+-----------------------------+----------------+------------------------------+--------------+---------------------------+
| Ubuntu 20.04 (ARM) | PASS | SKIPPED | SKIPPED | SKIPPED |
+-----------------------------+----------------+------------------------------+--------------+---------------------------+
| RHEL9 (ARM) | PASS | SKIPPED | SKIPPED | SKIPPED |
+-----------------------------+----------------+------------------------------+--------------+---------------------------+
| Ubuntu 22.04 (ARM) | PASS | SKIPPED | SKIPPED | SKIPPED |
+-----------------------------+----------------+------------------------------+--------------+---------------------------+
| Ubuntu 24.04 (ARM) | PASS | SKIPPED | SKIPPED | SKIPPED |
+-----------------------------+----------------+------------------------------+--------------+---------------------------+
| Ubuntu 20.04 ARM SVE | SKIPPED | SKIPPED | PASS | SKIPPED |
+-----------------------------+----------------+------------------------------+--------------+---------------------------+
32-bit Ubuntu 22.04.4 (ARM)
Kernel: 5.15.83+ aarch64
Compiler: gcc (Ubuntu 11.4.0-1ubuntu1~22.04) 11.4.0
CentOS Stream 10 (ARM)
Kernel: Depends on container host
Compiler: gcc 14.2.1 20241104 (Red Hat 14.2.1-6)
Fedora 40 (ARM)
Kernel: Depends on container host
Compiler: gcc 14.2.1 20240912 (Red Hat 14.2.1-3)
CentOS Stream 9 (ARM)
Kernel: Depends on container host
Compiler: gcc 11.5.0 20240719 (Red Hat 11.5.0-2)
Debian 12 (arm)
Kernel: Depends on container host
Compiler: gcc (Debian 12.2.0-14) 12.2.0
Debian 11 (Buster) (ARM)
Kernel: Depends on container host
Compiler: gcc (Debian 10.2.1-6) 10.2.1 20210110
Fedora 41 (ARM)
Kernel: Depends on container host
Compiler: gcc 14.2.1 20240912 (Red Hat 14.2.1-3)
Fedora 40 (ARM Clang)
Kernel: Depends on container host
Compiler: clang 18.1.8 (Fedora 18.1.8-1.fc40)
Fedora 41 (ARM Clang)
Kernel: Depends on container host
Compiler: clang 19.1.5 (Fedora 19.1.5-1.fc41)
Ubuntu 20.04 (ARM)
Kernel: Depends on container host
Compiler: gcc (Ubuntu 9.4.0-1ubuntu1~20.04.2) 9.4.0
RHEL9 (ARM)
Kernel: Depends on container host
Compiler: gcc 11.5.0 20240719 (Red Hat 11.5.0-2)
Ubuntu 22.04 (ARM)
Kernel: Depends on container host
Compiler: gcc (Ubuntu 11.4.0-1ubuntu1~22.04) 11.4.0
Ubuntu 24.04 (ARM)
Kernel: Depends on container host
Compiler: gcc (Ubuntu 13.3.0-6ubuntu2~24.04) 13.3.0
Ubuntu 20.04 ARM SVE
Kernel: Depends on container host
Compiler: gcc (Ubuntu 10.5.0-1ubuntu1~20.04) 10.5.0
To view detailed results, visit:
https://lab.dpdk.org/results/dashboard/patchsets/32587/
UNH-IOL DPDK Community Lab
To manage your email subscriptions, visit:
https://lab.dpdk.org/results/dashboard/preferences/subscriptions/
^ permalink raw reply [flat|nested] 16+ messages in thread
* |SUCCESS| pw151531 [PATCH] crypto/cnxk: fix status code in asymmetri
[not found] <20250216142510.1467-1-gmuthukrishn@marvell.com>
` (7 preceding siblings ...)
2025-02-16 19:53 ` |SUCCESS| " dpdklab
@ 2025-02-16 19:54 ` dpdklab
2025-02-16 19:54 ` dpdklab
` (6 subsequent siblings)
15 siblings, 0 replies; 16+ messages in thread
From: dpdklab @ 2025-02-16 19:54 UTC (permalink / raw)
To: Test Report; +Cc: dpdk-test-reports
Test-Label: iol-unit-arm64-testing
Test-Status: SUCCESS
http://dpdk.org/patch/151531
_Testing PASS_
Submitter: Gowrishankar Muthukrishnan <gmuthukrishn@marvell.com>
Date: Sunday, February 16 2025 14:25:07
DPDK git baseline: Repo:dpdk
Branch: master
CommitID:e5176f23ae8b31437c3e5eb875c81f95bf3a9942
151531 --> testing pass
Upstream job id: Generic-Unit-Test-DPDK#315450
Test environment and result as below:
+-----------------------------+----------------+------------------------------+--------------+---------------------------+
| Environment | dpdk_unit_test | cryptodev_sw_snow3g_autotest | lpm_autotest | cryptodev_sw_zuc_autotest |
+=============================+================+==============================+==============+===========================+
| 32-bit Ubuntu 22.04.4 (ARM) | PASS | SKIPPED | SKIPPED | SKIPPED |
+-----------------------------+----------------+------------------------------+--------------+---------------------------+
| CentOS Stream 10 (ARM) | PASS | SKIPPED | SKIPPED | SKIPPED |
+-----------------------------+----------------+------------------------------+--------------+---------------------------+
| Fedora 40 (ARM) | PASS | SKIPPED | SKIPPED | SKIPPED |
+-----------------------------+----------------+------------------------------+--------------+---------------------------+
| CentOS Stream 9 (ARM) | PASS | SKIPPED | SKIPPED | SKIPPED |
+-----------------------------+----------------+------------------------------+--------------+---------------------------+
| Debian 12 (arm) | PASS | PASS | SKIPPED | PASS |
+-----------------------------+----------------+------------------------------+--------------+---------------------------+
| Debian 11 (Buster) (ARM) | PASS | SKIPPED | SKIPPED | SKIPPED |
+-----------------------------+----------------+------------------------------+--------------+---------------------------+
| Fedora 41 (ARM) | PASS | SKIPPED | SKIPPED | SKIPPED |
+-----------------------------+----------------+------------------------------+--------------+---------------------------+
| Fedora 40 (ARM Clang) | PASS | SKIPPED | SKIPPED | SKIPPED |
+-----------------------------+----------------+------------------------------+--------------+---------------------------+
| Fedora 41 (ARM Clang) | PASS | SKIPPED | SKIPPED | SKIPPED |
+-----------------------------+----------------+------------------------------+--------------+---------------------------+
| Ubuntu 20.04 (ARM) | PASS | SKIPPED | SKIPPED | SKIPPED |
+-----------------------------+----------------+------------------------------+--------------+---------------------------+
| RHEL9 (ARM) | PASS | SKIPPED | SKIPPED | SKIPPED |
+-----------------------------+----------------+------------------------------+--------------+---------------------------+
| Ubuntu 22.04 (ARM) | PASS | SKIPPED | SKIPPED | SKIPPED |
+-----------------------------+----------------+------------------------------+--------------+---------------------------+
| Ubuntu 24.04 (ARM) | PASS | SKIPPED | SKIPPED | SKIPPED |
+-----------------------------+----------------+------------------------------+--------------+---------------------------+
| Ubuntu 20.04 ARM SVE | SKIPPED | SKIPPED | PASS | SKIPPED |
+-----------------------------+----------------+------------------------------+--------------+---------------------------+
32-bit Ubuntu 22.04.4 (ARM)
Kernel: 5.15.83+ aarch64
Compiler: gcc (Ubuntu 11.4.0-1ubuntu1~22.04) 11.4.0
CentOS Stream 10 (ARM)
Kernel: Depends on container host
Compiler: gcc 14.2.1 20241104 (Red Hat 14.2.1-6)
Fedora 40 (ARM)
Kernel: Depends on container host
Compiler: gcc 14.2.1 20240912 (Red Hat 14.2.1-3)
CentOS Stream 9 (ARM)
Kernel: Depends on container host
Compiler: gcc 11.5.0 20240719 (Red Hat 11.5.0-2)
Debian 12 (arm)
Kernel: Depends on container host
Compiler: gcc (Debian 12.2.0-14) 12.2.0
Debian 11 (Buster) (ARM)
Kernel: Depends on container host
Compiler: gcc (Debian 10.2.1-6) 10.2.1 20210110
Fedora 41 (ARM)
Kernel: Depends on container host
Compiler: gcc 14.2.1 20240912 (Red Hat 14.2.1-3)
Fedora 40 (ARM Clang)
Kernel: Depends on container host
Compiler: clang 18.1.8 (Fedora 18.1.8-1.fc40)
Fedora 41 (ARM Clang)
Kernel: Depends on container host
Compiler: clang 19.1.5 (Fedora 19.1.5-1.fc41)
Ubuntu 20.04 (ARM)
Kernel: Depends on container host
Compiler: gcc (Ubuntu 9.4.0-1ubuntu1~20.04.2) 9.4.0
RHEL9 (ARM)
Kernel: Depends on container host
Compiler: gcc 11.5.0 20240719 (Red Hat 11.5.0-2)
Ubuntu 22.04 (ARM)
Kernel: Depends on container host
Compiler: gcc (Ubuntu 11.4.0-1ubuntu1~22.04) 11.4.0
Ubuntu 24.04 (ARM)
Kernel: Depends on container host
Compiler: gcc (Ubuntu 13.3.0-6ubuntu2~24.04) 13.3.0
Ubuntu 20.04 ARM SVE
Kernel: Depends on container host
Compiler: gcc (Ubuntu 10.5.0-1ubuntu1~20.04) 10.5.0
To view detailed results, visit:
https://lab.dpdk.org/results/dashboard/patchsets/32587/
UNH-IOL DPDK Community Lab
To manage your email subscriptions, visit:
https://lab.dpdk.org/results/dashboard/preferences/subscriptions/
^ permalink raw reply [flat|nested] 16+ messages in thread
* |SUCCESS| pw151531 [PATCH] crypto/cnxk: fix status code in asymmetri
[not found] <20250216142510.1467-1-gmuthukrishn@marvell.com>
` (8 preceding siblings ...)
2025-02-16 19:54 ` dpdklab
@ 2025-02-16 19:54 ` dpdklab
2025-02-16 19:54 ` dpdklab
` (5 subsequent siblings)
15 siblings, 0 replies; 16+ messages in thread
From: dpdklab @ 2025-02-16 19:54 UTC (permalink / raw)
To: Test Report; +Cc: dpdk-test-reports
Test-Label: iol-unit-amd64-testing
Test-Status: SUCCESS
http://dpdk.org/patch/151531
_Testing PASS_
Submitter: Gowrishankar Muthukrishnan <gmuthukrishn@marvell.com>
Date: Sunday, February 16 2025 14:25:07
DPDK git baseline: Repo:dpdk
Branch: master
CommitID:e5176f23ae8b31437c3e5eb875c81f95bf3a9942
151531 --> testing pass
Upstream job id: Generic-Unit-Test-DPDK#315456
Test environment and result as below:
+-------------------+----------------+
| Environment | dpdk_unit_test |
+===================+================+
| Debian Bullseye | PASS |
+-------------------+----------------+
| CentOS Stream 9 | PASS |
+-------------------+----------------+
| CentOS Stream 10 | PASS |
+-------------------+----------------+
| Debian 12 | PASS |
+-------------------+----------------+
| Fedora 40 | PASS |
+-------------------+----------------+
| Fedora 40 (Clang) | PASS |
+-------------------+----------------+
| RHEL8 | PASS |
+-------------------+----------------+
| Fedora 41 | PASS |
+-------------------+----------------+
| RHEL9 | PASS |
+-------------------+----------------+
| Fedora 41 (Clang) | PASS |
+-------------------+----------------+
| Ubuntu 20.04 | PASS |
+-------------------+----------------+
| Ubuntu 24.04 | PASS |
+-------------------+----------------+
| Ubuntu 22.04 | PASS |
+-------------------+----------------+
Debian Bullseye
Kernel: Depends on container host
Compiler: gcc (Debian 10.2.1-6) 10.2.1 20210110
CentOS Stream 9
Kernel: Depends on container host
Compiler: gcc 11.5.0 20240719 (Red Hat 11.5.0-2)
CentOS Stream 10
Kernel: Depends on container host
Compiler: gcc 14.2.1 20241104 (Red Hat 14.2.1-6)
Debian 12
Kernel: Depends on container host
Compiler: gcc (Debian 12.2.0-14) 12.2.0
Fedora 40
Kernel: Depends on container host
Compiler: gcc 14.2.1 20240912 (Red Hat 14.2.1-3)
Fedora 40 (Clang)
Kernel: Depends on container host
Compiler: clang 18.1.8 (Fedora 18.1.8-1.fc40)
RHEL8
Kernel: Depends on container host
Compiler: gcc 8.5.0 20210514 (Red Hat 8.5.0-22)
Fedora 41
Kernel: Depends on container host
Compiler: gcc 14.2.1 20240912 (Red Hat 14.2.1-3)
RHEL9
Kernel: Depends on container host
Compiler: gcc 11.5.0 20240719 (Red Hat 11.5.0-2)
Fedora 41 (Clang)
Kernel: Depends on container host
Compiler: clang 19.1.5 (Fedora 19.1.5-1.fc41)
Ubuntu 20.04
Kernel: Depends on container host
Compiler: gcc (Ubuntu 9.4.0-1ubuntu1~20.04.2) 9.4.0
Ubuntu 24.04
Kernel: Depends on container host
Compiler: gcc (Ubuntu 13.3.0-6ubuntu2~24.04) 13.3.0
Ubuntu 22.04
Kernel: Depends on container host
Compiler: gcc (Ubuntu 11.4.0-1ubuntu1~22.04) 11.4.0
To view detailed results, visit:
https://lab.dpdk.org/results/dashboard/patchsets/32587/
UNH-IOL DPDK Community Lab
To manage your email subscriptions, visit:
https://lab.dpdk.org/results/dashboard/preferences/subscriptions/
^ permalink raw reply [flat|nested] 16+ messages in thread
* |SUCCESS| pw151531 [PATCH] crypto/cnxk: fix status code in asymmetri
[not found] <20250216142510.1467-1-gmuthukrishn@marvell.com>
` (9 preceding siblings ...)
2025-02-16 19:54 ` dpdklab
@ 2025-02-16 19:54 ` dpdklab
2025-02-16 20:07 ` dpdklab
` (4 subsequent siblings)
15 siblings, 0 replies; 16+ messages in thread
From: dpdklab @ 2025-02-16 19:54 UTC (permalink / raw)
To: Test Report; +Cc: dpdk-test-reports
Test-Label: iol-unit-amd64-testing
Test-Status: SUCCESS
http://dpdk.org/patch/151531
_Testing PASS_
Submitter: Gowrishankar Muthukrishnan <gmuthukrishn@marvell.com>
Date: Sunday, February 16 2025 14:25:07
DPDK git baseline: Repo:dpdk
Branch: master
CommitID:e5176f23ae8b31437c3e5eb875c81f95bf3a9942
151531 --> testing pass
Upstream job id: Generic-Unit-Test-DPDK#315449
Test environment and result as below:
+-------------------+----------------+
| Environment | dpdk_unit_test |
+===================+================+
| Debian Bullseye | PASS |
+-------------------+----------------+
| CentOS Stream 9 | PASS |
+-------------------+----------------+
| CentOS Stream 10 | PASS |
+-------------------+----------------+
| Debian 12 | PASS |
+-------------------+----------------+
| Fedora 40 | PASS |
+-------------------+----------------+
| Fedora 40 (Clang) | PASS |
+-------------------+----------------+
| RHEL8 | PASS |
+-------------------+----------------+
| Fedora 41 | PASS |
+-------------------+----------------+
| RHEL9 | PASS |
+-------------------+----------------+
| Fedora 41 (Clang) | PASS |
+-------------------+----------------+
| Ubuntu 20.04 | PASS |
+-------------------+----------------+
| Ubuntu 24.04 | PASS |
+-------------------+----------------+
| Ubuntu 22.04 | PASS |
+-------------------+----------------+
Debian Bullseye
Kernel: Depends on container host
Compiler: gcc (Debian 10.2.1-6) 10.2.1 20210110
CentOS Stream 9
Kernel: Depends on container host
Compiler: gcc 11.5.0 20240719 (Red Hat 11.5.0-2)
CentOS Stream 10
Kernel: Depends on container host
Compiler: gcc 14.2.1 20241104 (Red Hat 14.2.1-6)
Debian 12
Kernel: Depends on container host
Compiler: gcc (Debian 12.2.0-14) 12.2.0
Fedora 40
Kernel: Depends on container host
Compiler: gcc 14.2.1 20240912 (Red Hat 14.2.1-3)
Fedora 40 (Clang)
Kernel: Depends on container host
Compiler: clang 18.1.8 (Fedora 18.1.8-1.fc40)
RHEL8
Kernel: Depends on container host
Compiler: gcc 8.5.0 20210514 (Red Hat 8.5.0-22)
Fedora 41
Kernel: Depends on container host
Compiler: gcc 14.2.1 20240912 (Red Hat 14.2.1-3)
RHEL9
Kernel: Depends on container host
Compiler: gcc 11.5.0 20240719 (Red Hat 11.5.0-2)
Fedora 41 (Clang)
Kernel: Depends on container host
Compiler: clang 19.1.5 (Fedora 19.1.5-1.fc41)
Ubuntu 20.04
Kernel: Depends on container host
Compiler: gcc (Ubuntu 9.4.0-1ubuntu1~20.04.2) 9.4.0
Ubuntu 24.04
Kernel: Depends on container host
Compiler: gcc (Ubuntu 13.3.0-6ubuntu2~24.04) 13.3.0
Ubuntu 22.04
Kernel: Depends on container host
Compiler: gcc (Ubuntu 11.4.0-1ubuntu1~22.04) 11.4.0
To view detailed results, visit:
https://lab.dpdk.org/results/dashboard/patchsets/32587/
UNH-IOL DPDK Community Lab
To manage your email subscriptions, visit:
https://lab.dpdk.org/results/dashboard/preferences/subscriptions/
^ permalink raw reply [flat|nested] 16+ messages in thread
* |SUCCESS| pw151531 [PATCH] crypto/cnxk: fix status code in asymmetri
[not found] <20250216142510.1467-1-gmuthukrishn@marvell.com>
` (10 preceding siblings ...)
2025-02-16 19:54 ` dpdklab
@ 2025-02-16 20:07 ` dpdklab
2025-02-16 20:11 ` dpdklab
` (3 subsequent siblings)
15 siblings, 0 replies; 16+ messages in thread
From: dpdklab @ 2025-02-16 20:07 UTC (permalink / raw)
To: Test Report; +Cc: dpdk-test-reports
Test-Label: iol-unit-amd64-testing
Test-Status: SUCCESS
http://dpdk.org/patch/151531
_Testing PASS_
Submitter: Gowrishankar Muthukrishnan <gmuthukrishn@marvell.com>
Date: Sunday, February 16 2025 14:25:07
DPDK git baseline: Repo:dpdk
Branch: master
CommitID:e5176f23ae8b31437c3e5eb875c81f95bf3a9942
151531 --> testing pass
Upstream job id: Generic-VM-Unit-Test-DPDK#27250
Test environment and result as below:
+---------------------+----------------+
| Environment | dpdk_unit_test |
+=====================+================+
| Debian Bullseye | PASS |
+---------------------+----------------+
| CentOS Stream 9 | PASS |
+---------------------+----------------+
| CentOS Stream 10 | PASS |
+---------------------+----------------+
| Debian 12 | PASS |
+---------------------+----------------+
| Fedora 40 | PASS |
+---------------------+----------------+
| Fedora 40 (Clang) | PASS |
+---------------------+----------------+
| RHEL8 | PASS |
+---------------------+----------------+
| Fedora 41 | PASS |
+---------------------+----------------+
| RHEL9 | PASS |
+---------------------+----------------+
| Fedora 41 (Clang) | PASS |
+---------------------+----------------+
| Ubuntu 20.04 | PASS |
+---------------------+----------------+
| Ubuntu 24.04 | PASS |
+---------------------+----------------+
| Ubuntu 22.04 | PASS |
+---------------------+----------------+
| Windows Server 2022 | PASS |
+---------------------+----------------+
Debian Bullseye
Kernel: Depends on container host
Compiler: gcc (Debian 10.2.1-6) 10.2.1 20210110
CentOS Stream 9
Kernel: Depends on container host
Compiler: gcc 11.5.0 20240719 (Red Hat 11.5.0-2)
CentOS Stream 10
Kernel: Depends on container host
Compiler: gcc 14.2.1 20241104 (Red Hat 14.2.1-6)
Debian 12
Kernel: Depends on container host
Compiler: gcc (Debian 12.2.0-14) 12.2.0
Fedora 40
Kernel: Depends on container host
Compiler: gcc 14.2.1 20240912 (Red Hat 14.2.1-3)
Fedora 40 (Clang)
Kernel: Depends on container host
Compiler: clang 18.1.8 (Fedora 18.1.8-1.fc40)
RHEL8
Kernel: Depends on container host
Compiler: gcc 8.5.0 20210514 (Red Hat 8.5.0-22)
Fedora 41
Kernel: Depends on container host
Compiler: gcc 14.2.1 20240912 (Red Hat 14.2.1-3)
RHEL9
Kernel: Depends on container host
Compiler: gcc 11.5.0 20240719 (Red Hat 11.5.0-2)
Fedora 41 (Clang)
Kernel: Depends on container host
Compiler: clang 19.1.5 (Fedora 19.1.5-1.fc41)
Ubuntu 20.04
Kernel: Depends on container host
Compiler: gcc (Ubuntu 9.4.0-1ubuntu1~20.04.2) 9.4.0
Ubuntu 24.04
Kernel: Depends on container host
Compiler: gcc (Ubuntu 13.3.0-6ubuntu2~24.04) 13.3.0
Ubuntu 22.04
Kernel: Depends on container host
Compiler: gcc (Ubuntu 11.4.0-1ubuntu1~22.04) 11.4.0
Windows Server 2022
Kernel: 10.0.20348.2031
Compiler: clang 15.0.7, gcc 14.1.0 (MinGW), and MSVC VS 19.39.33521
To view detailed results, visit:
https://lab.dpdk.org/results/dashboard/patchsets/32587/
UNH-IOL DPDK Community Lab
To manage your email subscriptions, visit:
https://lab.dpdk.org/results/dashboard/preferences/subscriptions/
^ permalink raw reply [flat|nested] 16+ messages in thread
* |SUCCESS| pw151531 [PATCH] crypto/cnxk: fix status code in asymmetri
[not found] <20250216142510.1467-1-gmuthukrishn@marvell.com>
` (11 preceding siblings ...)
2025-02-16 20:07 ` dpdklab
@ 2025-02-16 20:11 ` dpdklab
2025-02-16 20:13 ` dpdklab
` (2 subsequent siblings)
15 siblings, 0 replies; 16+ messages in thread
From: dpdklab @ 2025-02-16 20:11 UTC (permalink / raw)
To: Test Report; +Cc: dpdk-test-reports
Test-Label: iol-abi-testing
Test-Status: SUCCESS
http://dpdk.org/patch/151531
_Testing PASS_
Submitter: Gowrishankar Muthukrishnan <gmuthukrishn@marvell.com>
Date: Sunday, February 16 2025 14:25:07
DPDK git baseline: Repo:dpdk
Branch: master
CommitID:e5176f23ae8b31437c3e5eb875c81f95bf3a9942
151531 --> testing pass
Upstream job id: Generic-DPDK-Compile-ABI#116405
Test environment and result as below:
+-------------------+----------+
| Environment | abi_test |
+===================+==========+
| CentOS Stream 9 | PASS |
+-------------------+----------+
| CentOS Stream 10 | PASS |
+-------------------+----------+
| Debian Bullseye | PASS |
+-------------------+----------+
| Fedora 40 | PASS |
+-------------------+----------+
| Debian 12 | PASS |
+-------------------+----------+
| Fedora 40 (Clang) | PASS |
+-------------------+----------+
| RHEL9 | PASS |
+-------------------+----------+
| Fedora 41 (Clang) | PASS |
+-------------------+----------+
| Fedora 41 | PASS |
+-------------------+----------+
| openSUSE Leap 15 | PASS |
+-------------------+----------+
| RHEL8 | PASS |
+-------------------+----------+
| Ubuntu 22.04 | PASS |
+-------------------+----------+
| Ubuntu 24.04 | PASS |
+-------------------+----------+
CentOS Stream 9
Kernel: Depends on container host
Compiler: gcc 11.5.0 20240719 (Red Hat 11.5.0-2)
CentOS Stream 10
Kernel: Depends on container host
Compiler: gcc 14.2.1 20241104 (Red Hat 14.2.1-6)
Debian Bullseye
Kernel: Depends on container host
Compiler: gcc (Debian 10.2.1-6) 10.2.1 20210110
Fedora 40
Kernel: Depends on container host
Compiler: gcc 14.2.1 20240912 (Red Hat 14.2.1-3)
Debian 12
Kernel: Depends on container host
Compiler: gcc (Debian 12.2.0-14) 12.2.0
Fedora 40 (Clang)
Kernel: Depends on container host
Compiler: clang 18.1.8 (Fedora 18.1.8-1.fc40)
RHEL9
Kernel: Depends on container host
Compiler: gcc 11.5.0 20240719 (Red Hat 11.5.0-2)
Fedora 41 (Clang)
Kernel: Depends on container host
Compiler: clang 19.1.5 (Fedora 19.1.5-1.fc41)
Fedora 41
Kernel: Depends on container host
Compiler: gcc 14.2.1 20240912 (Red Hat 14.2.1-3)
openSUSE Leap 15
Kernel: Depends on container host
Compiler: gcc (SUSE Linux) 7.5.0
RHEL8
Kernel: Depends on container host
Compiler: gcc 8.5.0 20210514 (Red Hat 8.5.0-22)
Ubuntu 22.04
Kernel: Depends on container host
Compiler: gcc (Ubuntu 11.4.0-1ubuntu1~22.04) 11.4.0
Ubuntu 24.04
Kernel: Depends on container host
Compiler: gcc (Ubuntu 13.3.0-6ubuntu2~24.04) 13.3.0
To view detailed results, visit:
https://lab.dpdk.org/results/dashboard/patchsets/32587/
UNH-IOL DPDK Community Lab
To manage your email subscriptions, visit:
https://lab.dpdk.org/results/dashboard/preferences/subscriptions/
^ permalink raw reply [flat|nested] 16+ messages in thread
* |SUCCESS| pw151531 [PATCH] crypto/cnxk: fix status code in asymmetri
[not found] <20250216142510.1467-1-gmuthukrishn@marvell.com>
` (12 preceding siblings ...)
2025-02-16 20:11 ` dpdklab
@ 2025-02-16 20:13 ` dpdklab
2025-02-16 20:24 ` dpdklab
2025-02-16 21:06 ` dpdklab
15 siblings, 0 replies; 16+ messages in thread
From: dpdklab @ 2025-02-16 20:13 UTC (permalink / raw)
To: Test Report; +Cc: dpdk-test-reports
Test-Label: iol-compile-amd64-testing
Test-Status: SUCCESS
http://dpdk.org/patch/151531
_Testing PASS_
Submitter: Gowrishankar Muthukrishnan <gmuthukrishn@marvell.com>
Date: Sunday, February 16 2025 14:25:07
DPDK git baseline: Repo:dpdk
Branch: master
CommitID:e5176f23ae8b31437c3e5eb875c81f95bf3a9942
151531 --> testing pass
Upstream job id: Generic-DPDK-Compile-Meson#362177
Test environment and result as below:
+---------------------+--------------------+-------------------+------------------+-------------------------+-------------------+----------------------+
| Environment | dpdk_meson_compile | dpdk_compile_spdk | dpdk_compile_ovs | dpdk_llvm_clang_compile | dpdk_msvc_compile | dpdk_mingw64_compile |
+=====================+====================+===================+==================+=========================+===================+======================+
| CentOS Stream 9 | PASS | PASS | SKIPPED | SKIPPED | SKIPPED | SKIPPED |
+---------------------+--------------------+-------------------+------------------+-------------------------+-------------------+----------------------+
| CentOS Stream 10 | PASS | SKIPPED | SKIPPED | SKIPPED | SKIPPED | SKIPPED |
+---------------------+--------------------+-------------------+------------------+-------------------------+-------------------+----------------------+
| Debian Bullseye | PASS | PASS | SKIPPED | SKIPPED | SKIPPED | SKIPPED |
+---------------------+--------------------+-------------------+------------------+-------------------------+-------------------+----------------------+
| Debian 12 | PASS | PASS | SKIPPED | SKIPPED | SKIPPED | SKIPPED |
+---------------------+--------------------+-------------------+------------------+-------------------------+-------------------+----------------------+
| Fedora 40 | PASS | PASS | SKIPPED | SKIPPED | SKIPPED | SKIPPED |
+---------------------+--------------------+-------------------+------------------+-------------------------+-------------------+----------------------+
| Fedora 40 (Clang) | PASS | PASS | SKIPPED | SKIPPED | SKIPPED | SKIPPED |
+---------------------+--------------------+-------------------+------------------+-------------------------+-------------------+----------------------+
| Fedora 41 (Clang) | PASS | PASS | PASS | SKIPPED | SKIPPED | SKIPPED |
+---------------------+--------------------+-------------------+------------------+-------------------------+-------------------+----------------------+
| Fedora 41 | PASS | PASS | PASS | SKIPPED | SKIPPED | SKIPPED |
+---------------------+--------------------+-------------------+------------------+-------------------------+-------------------+----------------------+
| openSUSE Leap 15 | PASS | SKIPPED | SKIPPED | SKIPPED | SKIPPED | SKIPPED |
+---------------------+--------------------+-------------------+------------------+-------------------------+-------------------+----------------------+
| RHEL8 | PASS | SKIPPED | SKIPPED | SKIPPED | SKIPPED | SKIPPED |
+---------------------+--------------------+-------------------+------------------+-------------------------+-------------------+----------------------+
| RHEL9 | PASS | SKIPPED | SKIPPED | SKIPPED | SKIPPED | SKIPPED |
+---------------------+--------------------+-------------------+------------------+-------------------------+-------------------+----------------------+
| FreeBSD 13.4 | PASS | SKIPPED | SKIPPED | SKIPPED | SKIPPED | SKIPPED |
+---------------------+--------------------+-------------------+------------------+-------------------------+-------------------+----------------------+
| Ubuntu 20.04 | PASS | SKIPPED | SKIPPED | SKIPPED | SKIPPED | SKIPPED |
+---------------------+--------------------+-------------------+------------------+-------------------------+-------------------+----------------------+
| Ubuntu 22.04 | PASS | PASS | SKIPPED | SKIPPED | SKIPPED | SKIPPED |
+---------------------+--------------------+-------------------+------------------+-------------------------+-------------------+----------------------+
| Ubuntu 24.04 | PASS | PASS | PASS | SKIPPED | SKIPPED | SKIPPED |
+---------------------+--------------------+-------------------+------------------+-------------------------+-------------------+----------------------+
| Alpine | PASS | SKIPPED | SKIPPED | SKIPPED | SKIPPED | SKIPPED |
+---------------------+--------------------+-------------------+------------------+-------------------------+-------------------+----------------------+
| FreeBSD 14.2 | PASS | SKIPPED | SKIPPED | SKIPPED | SKIPPED | SKIPPED |
+---------------------+--------------------+-------------------+------------------+-------------------------+-------------------+----------------------+
| Windows Server 2022 | SKIPPED | SKIPPED | SKIPPED | PASS | PASS | PASS |
+---------------------+--------------------+-------------------+------------------+-------------------------+-------------------+----------------------+
CentOS Stream 9
Kernel: Depends on container host
Compiler: gcc 11.5.0 20240719 (Red Hat 11.5.0-2)
CentOS Stream 10
Kernel: Depends on container host
Compiler: gcc 14.2.1 20241104 (Red Hat 14.2.1-6)
Debian Bullseye
Kernel: Depends on container host
Compiler: gcc (Debian 10.2.1-6) 10.2.1 20210110
Debian 12
Kernel: Depends on container host
Compiler: gcc (Debian 12.2.0-14) 12.2.0
Fedora 40
Kernel: Depends on container host
Compiler: gcc 14.2.1 20240912 (Red Hat 14.2.1-3)
Fedora 40 (Clang)
Kernel: Depends on container host
Compiler: clang 18.1.8 (Fedora 18.1.8-1.fc40)
Fedora 41 (Clang)
Kernel: Depends on container host
Compiler: clang 19.1.5 (Fedora 19.1.5-1.fc41)
Fedora 41
Kernel: Depends on container host
Compiler: gcc 14.2.1 20240912 (Red Hat 14.2.1-3)
openSUSE Leap 15
Kernel: Depends on container host
Compiler: gcc (SUSE Linux) 7.5.0
RHEL8
Kernel: Depends on container host
Compiler: gcc 8.5.0 20210514 (Red Hat 8.5.0-22)
RHEL9
Kernel: Depends on container host
Compiler: gcc 11.5.0 20240719 (Red Hat 11.5.0-2)
FreeBSD 13.4
Kernel: 13.4-RELEASE-p1
Compiler: clang 18.1.6
Ubuntu 20.04
Kernel: Depends on container host
Compiler: gcc (Ubuntu 9.4.0-1ubuntu1~20.04.2) 9.4.0
Ubuntu 22.04
Kernel: Depends on container host
Compiler: gcc (Ubuntu 11.4.0-1ubuntu1~22.04) 11.4.0
Ubuntu 24.04
Kernel: Depends on container host
Compiler: gcc (Ubuntu 13.3.0-6ubuntu2~24.04) 13.3.0
Alpine
Kernel: Depends on container host
Compiler: gcc (Alpine 14.2.0) 14.2.0
FreeBSD 14.2
Kernel: 14.2-RELEASE
Compiler: clang 18.1.6
Windows Server 2022
Kernel: 10.0.20348.2031
Compiler: clang 15.0.7, gcc 14.1.0 (MinGW), and MSVC VS 19.39.33521
To view detailed results, visit:
https://lab.dpdk.org/results/dashboard/patchsets/32587/
UNH-IOL DPDK Community Lab
To manage your email subscriptions, visit:
https://lab.dpdk.org/results/dashboard/preferences/subscriptions/
^ permalink raw reply [flat|nested] 16+ messages in thread
* |SUCCESS| pw151531 [PATCH] crypto/cnxk: fix status code in asymmetri
[not found] <20250216142510.1467-1-gmuthukrishn@marvell.com>
` (13 preceding siblings ...)
2025-02-16 20:13 ` dpdklab
@ 2025-02-16 20:24 ` dpdklab
2025-02-16 21:06 ` dpdklab
15 siblings, 0 replies; 16+ messages in thread
From: dpdklab @ 2025-02-16 20:24 UTC (permalink / raw)
To: Test Report; +Cc: dpdk-test-reports
Test-Label: iol-sample-apps-testing
Test-Status: SUCCESS
http://dpdk.org/patch/151531
_Testing PASS_
Submitter: Gowrishankar Muthukrishnan <gmuthukrishn@marvell.com>
Date: Sunday, February 16 2025 14:25:07
DPDK git baseline: Repo:dpdk
Branch: master
CommitID:e5176f23ae8b31437c3e5eb875c81f95bf3a9942
151531 --> testing pass
Upstream job id: ACVP-FIPS-testing#8931
Test environment and result as below:
+--------------+----------------------+
| Environment | dpdk_fips_validation |
+==============+======================+
| Ubuntu 20.04 | PASS |
+--------------+----------------------+
Ubuntu 20.04
Kernel: Depends on container host
Compiler: gcc (Ubuntu 9.4.0-1ubuntu1~20.04.2) 9.4.0
To view detailed results, visit:
https://lab.dpdk.org/results/dashboard/patchsets/32587/
UNH-IOL DPDK Community Lab
To manage your email subscriptions, visit:
https://lab.dpdk.org/results/dashboard/preferences/subscriptions/
^ permalink raw reply [flat|nested] 16+ messages in thread
* |SUCCESS| pw151531 [PATCH] crypto/cnxk: fix status code in asymmetri
[not found] <20250216142510.1467-1-gmuthukrishn@marvell.com>
` (14 preceding siblings ...)
2025-02-16 20:24 ` dpdklab
@ 2025-02-16 21:06 ` dpdklab
15 siblings, 0 replies; 16+ messages in thread
From: dpdklab @ 2025-02-16 21:06 UTC (permalink / raw)
To: Test Report; +Cc: dpdk-test-reports
Test-Label: iol-compile-arm64-testing
Test-Status: SUCCESS
http://dpdk.org/patch/151531
_Testing PASS_
Submitter: Gowrishankar Muthukrishnan <gmuthukrishn@marvell.com>
Date: Sunday, February 16 2025 14:25:07
DPDK git baseline: Repo:dpdk
Branch: master
CommitID:e5176f23ae8b31437c3e5eb875c81f95bf3a9942
151531 --> testing pass
Upstream job id: Generic-DPDK-Compile-Meson#362191
Test environment and result as below:
+----------------------------------------+--------------------+
| Environment | dpdk_meson_compile |
+========================================+====================+
| RHEL9 (ARM) | PASS |
+----------------------------------------+--------------------+
| Ubuntu 20.04 ARM SVE | PASS |
+----------------------------------------+--------------------+
| Debian 12 with MUSDK | PASS |
+----------------------------------------+--------------------+
| Fedora 40 (ARM Clang) | PASS |
+----------------------------------------+--------------------+
| Fedora 41 (ARM) | PASS |
+----------------------------------------+--------------------+
| Fedora 41 (ARM Clang) | PASS |
+----------------------------------------+--------------------+
| Ubuntu 22.04 (ARM) | PASS |
+----------------------------------------+--------------------+
| CentOS Stream 9 (ARM) | PASS |
+----------------------------------------+--------------------+
| Ubuntu 24.04 (ARM) | PASS |
+----------------------------------------+--------------------+
| CentOS Stream 10 (ARM) | PASS |
+----------------------------------------+--------------------+
| Ubuntu 20.04 aarch32 GCC Cross Compile | PASS |
+----------------------------------------+--------------------+
| Debian 11 (Buster) (ARM) | PASS |
+----------------------------------------+--------------------+
| Debian 12 (arm) | PASS |
+----------------------------------------+--------------------+
| Ubuntu 20.04 ARM Clang Cross Compile | PASS |
+----------------------------------------+--------------------+
| Ubuntu 20.04 ARM GCC Cross Compile | PASS |
+----------------------------------------+--------------------+
| Fedora 40 (ARM) | PASS |
+----------------------------------------+--------------------+
| Ubuntu 20.04 (ARM) | PASS |
+----------------------------------------+--------------------+
RHEL9 (ARM)
Kernel: Depends on container host
Compiler: gcc 11.5.0 20240719 (Red Hat 11.5.0-2)
Ubuntu 20.04 ARM SVE
Kernel: Depends on container host
Compiler: gcc (Ubuntu 10.5.0-1ubuntu1~20.04) 10.5.0
Debian 12 with MUSDK
Kernel: Depends on container host
Compiler: gcc (Debian 12.2.0-14) 12.2.0
Fedora 40 (ARM Clang)
Kernel: Depends on container host
Compiler: clang 18.1.8 (Fedora 18.1.8-1.fc40)
Fedora 41 (ARM)
Kernel: Depends on container host
Compiler: gcc 14.2.1 20240912 (Red Hat 14.2.1-3)
Fedora 41 (ARM Clang)
Kernel: Depends on container host
Compiler: clang 19.1.5 (Fedora 19.1.5-1.fc41)
Ubuntu 22.04 (ARM)
Kernel: Depends on container host
Compiler: gcc (Ubuntu 11.4.0-1ubuntu1~22.04) 11.4.0
CentOS Stream 9 (ARM)
Kernel: Depends on container host
Compiler: gcc 11.5.0 20240719 (Red Hat 11.5.0-2)
Ubuntu 24.04 (ARM)
Kernel: Depends on container host
Compiler: gcc (Ubuntu 13.3.0-6ubuntu2~24.04) 13.3.0
CentOS Stream 10 (ARM)
Kernel: Depends on container host
Compiler: gcc 14.2.1 20241104 (Red Hat 14.2.1-6)
Ubuntu 20.04 aarch32 GCC Cross Compile
Kernel: Depends on container host
Compiler: gcc 9.4.0
Debian 11 (Buster) (ARM)
Kernel: Depends on container host
Compiler: gcc (Debian 10.2.1-6) 10.2.1 20210110
Debian 12 (arm)
Kernel: Depends on container host
Compiler: gcc (Debian 12.2.0-14) 12.2.0
Ubuntu 20.04 ARM Clang Cross Compile
Kernel: Depends on container host
Compiler: clang 10.0.0-4ubuntu1
Ubuntu 20.04 ARM GCC Cross Compile
Kernel: Depends on container host
Compiler: aarch64-linux-gnu-gcc (Ubuntu 9.4.0-1ubuntu1~20.04.2) 9.4.0
Fedora 40 (ARM)
Kernel: Depends on container host
Compiler: gcc 14.2.1 20240912 (Red Hat 14.2.1-3)
Ubuntu 20.04 (ARM)
Kernel: Depends on container host
Compiler: gcc (Ubuntu 9.4.0-1ubuntu1~20.04.2) 9.4.0
To view detailed results, visit:
https://lab.dpdk.org/results/dashboard/patchsets/32587/
UNH-IOL DPDK Community Lab
To manage your email subscriptions, visit:
https://lab.dpdk.org/results/dashboard/preferences/subscriptions/
^ permalink raw reply [flat|nested] 16+ messages in thread
end of thread, other threads:[~2025-02-16 21:06 UTC | newest]
Thread overview: 16+ messages (download: mbox.gz / follow: Atom feed)
-- links below jump to the message on this page --
[not found] <20250216142510.1467-1-gmuthukrishn@marvell.com>
2025-02-16 13:54 ` |SUCCESS| pw151531 [PATCH] crypto/cnxk: fix status code in asymmetric operation qemudev
2025-02-16 13:59 ` qemudev
2025-02-16 14:25 ` checkpatch
2025-02-16 15:24 ` 0-day Robot
2025-02-16 19:20 ` |PENDING| pw151531 [PATCH] crypto/cnxk: fix status code in asymmetri dpdklab
2025-02-16 19:21 ` dpdklab
2025-02-16 19:25 ` dpdklab
2025-02-16 19:53 ` |SUCCESS| " dpdklab
2025-02-16 19:54 ` dpdklab
2025-02-16 19:54 ` dpdklab
2025-02-16 19:54 ` dpdklab
2025-02-16 20:07 ` dpdklab
2025-02-16 20:11 ` dpdklab
2025-02-16 20:13 ` dpdklab
2025-02-16 20:24 ` dpdklab
2025-02-16 21:06 ` dpdklab
This is a public inbox, see mirroring instructions
for how to clone and mirror all data and code used for this inbox;
as well as URLs for NNTP newsgroup(s).