* |SUCCESS| pw151798 [PATCH v2] crypto/openssl: validate incorrect signature in verify op
[not found] <20250221170504.1578-1-gmuthukrishn@marvell.com>
@ 2025-02-21 16:47 ` qemudev
2025-02-21 16:52 ` qemudev
` (3 subsequent siblings)
4 siblings, 0 replies; 5+ messages in thread
From: qemudev @ 2025-02-21 16:47 UTC (permalink / raw)
To: test-report
Test-Label: loongarch-compilation
Test-Status: SUCCESS
http://dpdk.org/patch/151798
_Compilation OK_
Submitter: Gowrishankar Muthukrishnan <gmuthukrishn@marvell.com>
Date: Fri, 21 Feb 2025 22:35:01 +0530
DPDK git baseline: Repo:dpdk-next-crypto
Branch: for-main
CommitID: 95ff85f8acb0c7c912fd29b01428377fcbf1112a
151798 --> meson & ninja build successfully
Test environment and result as below:
+---------------------+----------------+
| Environment | compilation |
+---------------------+----------------+
| Loongnix-Server 8.3 | PASS |
+---------------------+----------------+
Loongnix-Server 8.3
Kernel: 4.19.190+
Compiler: gcc 8.3
^ permalink raw reply [flat|nested] 5+ messages in thread
* |SUCCESS| pw151798 [PATCH v2] crypto/openssl: validate incorrect signature in verify op
[not found] <20250221170504.1578-1-gmuthukrishn@marvell.com>
2025-02-21 16:47 ` |SUCCESS| pw151798 [PATCH v2] crypto/openssl: validate incorrect signature in verify op qemudev
@ 2025-02-21 16:52 ` qemudev
2025-02-21 17:05 ` checkpatch
` (2 subsequent siblings)
4 siblings, 0 replies; 5+ messages in thread
From: qemudev @ 2025-02-21 16:52 UTC (permalink / raw)
To: test-report
Test-Label: loongarch-unit-testing
Test-Status: SUCCESS
http://dpdk.org/patch/151798
_Unit Testing PASS_
Submitter: Gowrishankar Muthukrishnan <gmuthukrishn@marvell.com>
Date: Fri, 21 Feb 2025 22:35:01 +0530
DPDK git baseline: Repo:dpdk-next-crypto
Branch: for-main
CommitID: 95ff85f8acb0c7c912fd29b01428377fcbf1112a
151798 --> testing pass
Test environment and result as below:
+---------------------+----------------+
| Environment | dpdk_unit_test |
+---------------------+----------------+
| Loongnix-Server 8.3 | PASS |
+---------------------+----------------+
Loongnix-Server 8.3
Kernel: 4.19.190+
Compiler: gcc 8.3
Test result details:
1/119 DPDK:fast-tests / acl_autotest OK 3.42s
2/119 DPDK:fast-tests / alarm_autotest OK 1.50s
3/119 DPDK:fast-tests / argparse_autotest OK 0.54s
4/119 DPDK:fast-tests / atomic_autotest OK 7.24s
5/119 DPDK:fast-tests / bitcount_autotest OK 0.43s
6/119 DPDK:fast-tests / bitmap_autotest OK 0.43s
7/119 DPDK:fast-tests / bitops_autotest OK 1.93s
8/119 DPDK:fast-tests / bitratestats_autotest OK 0.43s
9/119 DPDK:fast-tests / bitset_autotest OK 3.15s
10/119 DPDK:fast-tests / bpf_autotest OK 0.43s
11/119 DPDK:fast-tests / bpf_convert_autotest OK 0.44s
12/119 DPDK:fast-tests / byteorder_autotest OK 0.43s
13/119 DPDK:fast-tests / cfgfile_autotest OK 0.43s
14/119 DPDK:fast-tests / cksum_autotest OK 0.43s
15/119 DPDK:fast-tests / cmdline_autotest OK 0.43s
16/119 DPDK:fast-tests / common_autotest OK 1.32s
17/119 DPDK:fast-tests / compressdev_autotest SKIP 0.07s exit status 77
18/119 DPDK:fast-tests / cpuflags_autotest OK 0.42s
19/119 DPDK:fast-tests / crc_autotest OK 0.43s
20/119 DPDK:fast-tests / user_delay_us OK 0.43s
21/119 DPDK:fast-tests / debug_autotest OK 13.89s
22/119 DPDK:fast-tests / devargs_autotest OK 0.43s
23/119 DPDK:fast-tests / dispatcher_autotest OK 2.44s
24/119 DPDK:fast-tests / distributor_autotest OK 1.20s
25/119 DPDK:fast-tests / eal_flags_c_opt_autotest OK 0.81s
26/119 DPDK:fast-tests / eal_flags_main_opt_autotest OK 0.22s
27/119 DPDK:fast-tests / eal_flags_n_opt_autotest OK 0.20s
28/119 DPDK:fast-tests / eal_flags_hpet_autotest OK 0.13s
29/119 DPDK:fast-tests / eal_flags_no_huge_autotest OK 0.22s
30/119 DPDK:fast-tests / eal_flags_a_opt_autotest OK 0.31s
31/119 DPDK:fast-tests / eal_flags_b_opt_autotest OK 0.25s
32/119 DPDK:fast-tests / eal_flags_vdev_opt_autotest OK 0.20s
33/119 DPDK:fast-tests / eal_flags_r_opt_autotest OK 0.19s
34/119 DPDK:fast-tests / eal_flags_mem_autotest OK 0.60s
35/119 DPDK:fast-tests / eal_flags_file_prefix_autotest OK 22.27s
36/119 DPDK:fast-tests / eal_flags_misc_autotest OK 1.08s
37/119 DPDK:fast-tests / eal_fs_autotest OK 0.43s
38/119 DPDK:fast-tests / errno_autotest OK 0.43s
39/119 DPDK:fast-tests / ethdev_link_status OK 0.43s
40/119 DPDK:fast-tests / event_eth_tx_adapter_autotest OK 1.68s
41/119 DPDK:fast-tests / event_ring_autotest OK 0.43s
42/119 DPDK:fast-tests / eventdev_common_autotest OK 0.43s
43/119 DPDK:fast-tests / eventdev_selftest_sw OK 7.23s
44/119 DPDK:fast-tests / fbarray_autotest OK 0.43s
45/119 DPDK:fast-tests / fib_autotest OK 1.32s
46/119 DPDK:fast-tests / fib6_autotest OK 1.11s
47/119 DPDK:fast-tests / func_reentrancy_autotest OK 2.29s
48/119 DPDK:fast-tests / graph_autotest OK 0.43s
49/119 DPDK:fast-tests / node_list_dump OK 0.43s
50/119 DPDK:fast-tests / hash_autotest OK 1.05s
51/119 DPDK:fast-tests / hash_readwrite_func_autotest OK 6.38s
52/119 DPDK:fast-tests / interrupt_autotest OK 1.73s
53/119 DPDK:fast-tests / ipfrag_autotest OK 0.07s
54/119 DPDK:fast-tests / ipsec_autotest SKIP 0.43s exit status 77
55/119 DPDK:fast-tests / kvargs_autotest OK 0.44s
56/119 DPDK:fast-tests / latencystats_autotest OK 0.44s
57/119 DPDK:fast-tests / lcore_var_autotest OK 0.58s
58/119 DPDK:fast-tests / lcores_autotest OK 5.24s
59/119 DPDK:fast-tests / logs_autotest OK 0.43s
60/119 DPDK:fast-tests / lpm_autotest OK 2.48s
61/119 DPDK:fast-tests / lpm6_autotest OK 5.61s
62/119 DPDK:fast-tests / malloc_autotest OK 65.41s
63/119 DPDK:fast-tests / mbuf_autotest OK 5.46s
64/119 DPDK:fast-tests / mcslock_autotest OK 3.43s
65/119 DPDK:fast-tests / member_autotest OK 1.63s
66/119 DPDK:fast-tests / memcpy_autotest OK 7.29s
67/119 DPDK:fast-tests / memory_autotest OK 0.09s
68/119 DPDK:fast-tests / mempool_autotest OK 0.43s
69/119 DPDK:fast-tests / memzone_autotest OK 0.14s
70/119 DPDK:fast-tests / meter_autotest OK 0.43s
71/119 DPDK:fast-tests / metrics_autotest OK 0.43s
72/119 DPDK:fast-tests / multiprocess_autotest OK 0.19s
73/119 DPDK:fast-tests / net_ether_autotest OK 1.09s
74/119 DPDK:fast-tests / net_ipv6_autotest OK 0.43s
75/119 DPDK:fast-tests / pcapng_autotest OK 7.24s
76/119 DPDK:fast-tests / pdcp_autotest SKIP 0.07s exit status 77
77/119 DPDK:fast-tests / pdump_autotest OK 0.55s
78/119 DPDK:fast-tests / per_lcore_autotest OK 0.53s
79/119 DPDK:fast-tests / pflock_autotest OK 1.24s
80/119 DPDK:fast-tests / pie_autotest OK 0.43s
81/119 DPDK:fast-tests / ring_pmd_autotest OK 0.43s
82/119 DPDK:fast-tests / power_autotest OK 0.43s
83/119 DPDK:fast-tests / power_cpufreq_autotest SKIP 0.07s exit status 77
84/119 DPDK:fast-tests / power_intel_uncore_autotest SKIP 0.42s exit status 77
85/119 DPDK:fast-tests / power_kvm_vm_autotest SKIP 0.07s exit status 77
86/119 DPDK:fast-tests / prefetch_autotest OK 0.43s
87/119 DPDK:fast-tests / ptr_compress_autotest OK 0.43s
88/119 DPDK:fast-tests / rawdev_autotest OK 0.43s
89/119 DPDK:fast-tests / rcu_qsbr_autotest OK 0.95s
90/119 DPDK:fast-tests / reorder_autotest OK 0.49s
91/119 DPDK:fast-tests / rib_autotest OK 9.08s
92/119 DPDK:fast-tests / rib6_autotest OK 9.07s
93/119 DPDK:fast-tests / ring_autotest OK 0.46s
94/119 DPDK:fast-tests / rwlock_test1_autotest OK 1.18s
95/119 DPDK:fast-tests / rwlock_rda_autotest OK 5.43s
96/119 DPDK:fast-tests / rwlock_rds_wrm_autotest OK 5.43s
97/119 DPDK:fast-tests / rwlock_rde_wro_autotest OK 5.40s
98/119 DPDK:fast-tests / sched_autotest OK 0.43s
99/119 DPDK:fast-tests / security_autotest OK 0.07s
100/119 DPDK:fast-tests / seqlock_autotest OK 2.43s
101/119 DPDK:fast-tests / service_autotest OK 3.16s
102/119 DPDK:fast-tests / soring_autotest OK 0.43s
103/119 DPDK:fast-tests / spinlock_autotest OK 0.51s
104/119 DPDK:fast-tests / stack_autotest OK 0.87s
105/119 DPDK:fast-tests / stack_lf_autotest SKIP 0.06s exit status 77
106/119 DPDK:fast-tests / string_autotest OK 0.43s
107/119 DPDK:fast-tests / table_autotest OK 7.72s
108/119 DPDK:fast-tests / tailq_autotest OK 0.43s
109/119 DPDK:fast-tests / telemetry_data_autotest OK 0.43s
110/119 DPDK:fast-tests / telemetry_json_autotest OK 0.43s
111/119 DPDK:fast-tests / thash_autotest OK 0.44s
112/119 DPDK:fast-tests / threads_autotest OK 0.61s
113/119 DPDK:fast-tests / ticketlock_autotest OK 0.58s
114/119 DPDK:fast-tests / timer_autotest OK 3.95s
115/119 DPDK:fast-tests / trace_autotest OK 0.43s
116/119 DPDK:fast-tests / trace_autotest_with_traces OK 0.43s
117/119 DPDK:fast-tests / vdev_autotest OK 0.43s
118/119 DPDK:fast-tests / version_autotest OK 0.43s
119/119 DPDK:fast-tests / telemetry_all OK 1.34s
Ok: 112
Expected Fail: 0
Fail: 0
Unexpected Pass: 0
Skipped: 7
Timeout: 0
^ permalink raw reply [flat|nested] 5+ messages in thread
* |SUCCESS| pw151798 [PATCH v2] crypto/openssl: validate incorrect signature in verify op
[not found] <20250221170504.1578-1-gmuthukrishn@marvell.com>
2025-02-21 16:47 ` |SUCCESS| pw151798 [PATCH v2] crypto/openssl: validate incorrect signature in verify op qemudev
2025-02-21 16:52 ` qemudev
@ 2025-02-21 17:05 ` checkpatch
2025-02-21 18:24 ` 0-day Robot
2025-02-22 11:04 ` |SUCCESS| pw151798 [PATCH] [v2] crypto/openssl: validate incorrect s dpdklab
4 siblings, 0 replies; 5+ messages in thread
From: checkpatch @ 2025-02-21 17:05 UTC (permalink / raw)
To: test-report
Test-Label: checkpatch
Test-Status: SUCCESS
http://dpdk.org/patch/151798
_coding style OK_
^ permalink raw reply [flat|nested] 5+ messages in thread
* |SUCCESS| pw151798 [PATCH v2] crypto/openssl: validate incorrect signature in verify op
[not found] <20250221170504.1578-1-gmuthukrishn@marvell.com>
` (2 preceding siblings ...)
2025-02-21 17:05 ` checkpatch
@ 2025-02-21 18:24 ` 0-day Robot
2025-02-22 11:04 ` |SUCCESS| pw151798 [PATCH] [v2] crypto/openssl: validate incorrect s dpdklab
4 siblings, 0 replies; 5+ messages in thread
From: 0-day Robot @ 2025-02-21 18:24 UTC (permalink / raw)
To: test-report; +Cc: robot
From: robot@bytheb.org
Test-Label: github-robot: build
Test-Status: SUCCESS
http://patchwork.dpdk.org/patch/151798/
_github build: passed_
Build URL: https://github.com/ovsrobot/dpdk/actions/runs/13461978020
^ permalink raw reply [flat|nested] 5+ messages in thread
* |SUCCESS| pw151798 [PATCH] [v2] crypto/openssl: validate incorrect s
[not found] <20250221170504.1578-1-gmuthukrishn@marvell.com>
` (3 preceding siblings ...)
2025-02-21 18:24 ` 0-day Robot
@ 2025-02-22 11:04 ` dpdklab
4 siblings, 0 replies; 5+ messages in thread
From: dpdklab @ 2025-02-22 11:04 UTC (permalink / raw)
To: Test Report; +Cc: dpdk-test-reports
Test-Label: iol-sample-apps-testing
Test-Status: SUCCESS
http://dpdk.org/patch/151798
_Testing PASS_
Submitter: Gowrishankar Muthukrishnan <gmuthukrishn@marvell.com>
Date: Friday, February 21 2025 17:05:01
DPDK git baseline: Repo:dpdk
Branch: master
CommitID:fab31a03ba98e7457284df95dd9eef2223a4ccaa
151798 --> testing pass
Upstream job id: ACVP-FIPS-testing#9008
Test environment and result as below:
+--------------+----------------------+
| Environment | dpdk_fips_validation |
+==============+======================+
| Ubuntu 20.04 | PASS |
+--------------+----------------------+
Ubuntu 20.04
Kernel: Depends on container host
Compiler: gcc (Ubuntu 9.4.0-1ubuntu1~20.04.2) 9.4.0
To view detailed results, visit:
https://lab.dpdk.org/results/dashboard/patchsets/32641/
UNH-IOL DPDK Community Lab
To manage your email subscriptions, visit:
https://lab.dpdk.org/results/dashboard/preferences/subscriptions/
^ permalink raw reply [flat|nested] 5+ messages in thread
end of thread, other threads:[~2025-02-22 11:04 UTC | newest]
Thread overview: 5+ messages (download: mbox.gz / follow: Atom feed)
-- links below jump to the message on this page --
[not found] <20250221170504.1578-1-gmuthukrishn@marvell.com>
2025-02-21 16:47 ` |SUCCESS| pw151798 [PATCH v2] crypto/openssl: validate incorrect signature in verify op qemudev
2025-02-21 16:52 ` qemudev
2025-02-21 17:05 ` checkpatch
2025-02-21 18:24 ` 0-day Robot
2025-02-22 11:04 ` |SUCCESS| pw151798 [PATCH] [v2] crypto/openssl: validate incorrect s dpdklab
This is a public inbox, see mirroring instructions
for how to clone and mirror all data and code used for this inbox;
as well as URLs for NNTP newsgroup(s).