automatic DPDK test reports
 help / color / mirror / Atom feed
From: qemudev@loongson.cn
To: test-report@dpdk.org
Subject: |SUCCESS| pw153294 [PATCH 1/1] net/nbl add doc and minimun nbl build framework
Date: Mon, 5 May 2025 20:26:49 +0800	[thread overview]
Message-ID: <202505051226.545CQnYp2222227@localhost.localdomain> (raw)
In-Reply-To: <20250424114919.10349-1-kyo.liu@nebula-matrix.com>

Test-Label: loongarch-compilation
Test-Status: SUCCESS
http://dpdk.org/patch/153294

_Compilation OK_

Submitter: Kyo Liu <kyo.liu@nebula-matrix.com>
Date: Thu, 24 Apr 2025 11:49:19 +0000
DPDK git baseline: Repo:dpdk-next-net
  Branch: main
  CommitID: ff05ee3e3f8fb4ce958a2ce6461e8141aea959c6

153294 --> meson & ninja build successfully

Test environment and result as below:

+---------------------+----------------+
|     Environment     | compilation    |
+---------------------+----------------+
| Loongnix-Server 8.3 | PASS           |
+---------------------+----------------+

Loongnix-Server 8.3
    Kernel: 4.19.190+
    Compiler: gcc 8.3


       reply	other threads:[~2025-05-05 13:03 UTC|newest]

Thread overview: 41+ messages / expand[flat|nested]  mbox.gz  Atom feed  top
     [not found] <20250424114919.10349-1-kyo.liu@nebula-matrix.com>
2025-05-05 12:26 ` qemudev [this message]
2025-05-05 12:31 ` qemudev
2025-05-05 13:00 ` |WARNING| " checkpatch
2025-05-05 15:30 ` |SUCCESS| pw153294 [PATCH] [1/1] net/nbl add doc and minimun nbl bui dpdklab
2025-05-05 15:32 ` dpdklab
2025-05-05 15:34 ` dpdklab
2025-05-05 15:36 ` dpdklab
2025-05-05 15:42 ` dpdklab
2025-05-05 15:56 ` dpdklab
2025-05-05 15:58 ` dpdklab
2025-05-05 15:59 ` dpdklab
2025-05-05 16:07 ` dpdklab
2025-05-05 16:19 ` |PENDING| " dpdklab
2025-05-05 16:21 ` |SUCCESS| " dpdklab
2025-05-05 16:30 ` |PENDING| " dpdklab
2025-05-05 16:32 ` |SUCCESS| " dpdklab
2025-05-05 16:33 ` dpdklab
2025-05-05 16:34 ` |PENDING| " dpdklab
2025-05-05 16:36 ` |SUCCESS| " dpdklab
2025-05-05 16:43 ` dpdklab
2025-05-05 17:04 ` |PENDING| " dpdklab
2025-05-05 17:15 ` |SUCCESS| " dpdklab
2025-05-05 17:18 ` dpdklab
2025-05-05 17:20 ` dpdklab
2025-05-05 17:28 ` dpdklab
2025-05-05 17:37 ` |PENDING| " dpdklab
2025-05-05 17:52 ` |SUCCESS| " dpdklab
2025-05-05 17:53 ` |WARNING| " dpdklab
2025-05-05 18:06 ` |PENDING| " dpdklab
2025-05-05 18:15 ` |SUCCESS| " dpdklab
2025-05-05 18:15 ` |WARNING| " dpdklab
2025-05-05 18:16 ` |SUCCESS| " dpdklab
2025-05-05 18:29 ` dpdklab
2025-05-05 18:56 ` dpdklab
2025-05-05 19:03 ` |WARNING| " dpdklab
2025-05-05 19:06 ` |SUCCESS| " dpdklab
2025-05-05 19:23 ` dpdklab
2025-05-05 19:32 ` dpdklab
2025-05-05 19:56 ` dpdklab
2025-05-05 20:05 ` dpdklab
2025-05-05 20:28 ` dpdklab

Reply instructions:

You may reply publicly to this message via plain-text email
using any one of the following methods:

* Save the following mbox file, import it into your mail client,
  and reply-to-all from there: mbox

  Avoid top-posting and favor interleaved quoting:
  https://en.wikipedia.org/wiki/Posting_style#Interleaved_style

* Reply using the --to, --cc, and --in-reply-to
  switches of git-send-email(1):

  git send-email \
    --in-reply-to=202505051226.545CQnYp2222227@localhost.localdomain \
    --to=qemudev@loongson.cn \
    --cc=test-report@dpdk.org \
    /path/to/YOUR_REPLY

  https://kernel.org/pub/software/scm/git/docs/git-send-email.html

* If your mail client supports setting the In-Reply-To header
  via mailto: links, try the mailto: link
Be sure your reply has a Subject: header at the top and a blank line before the message body.
This is a public inbox, see mirroring instructions
for how to clone and mirror all data and code used for this inbox;
as well as URLs for NNTP newsgroup(s).