automatic DPDK test reports
 help / color / mirror / Atom feed
From: qemudev@loongson.cn
To: test-report@dpdk.org
Subject: |SUCCESS| pw153426 [PATCH] net/mana: check for vendor_part_id when probing RDMA device
Date: Tue, 13 May 2025 05:17:14 +0800	[thread overview]
Message-ID: <202505122117.54CLHEda1172532@localhost.localdomain> (raw)
In-Reply-To: <1747086722-456-1-git-send-email-longli@linuxonhyperv.com>

Test-Label: loongarch-compilation
Test-Status: SUCCESS
http://dpdk.org/patch/153426

_Compilation OK_

Submitter: Long Li <longli@linuxonhyperv.com>
Date: Mon, 12 May 2025 14:52:02 -0700
DPDK git baseline: Repo:dpdk-next-net
  Branch: main
  CommitID: ff05ee3e3f8fb4ce958a2ce6461e8141aea959c6

153426 --> meson & ninja build successfully

Test environment and result as below:

+---------------------+----------------+
|     Environment     | compilation    |
+---------------------+----------------+
| Loongnix-Server 8.3 | PASS           |
+---------------------+----------------+

Loongnix-Server 8.3
    Kernel: 4.19.190+
    Compiler: gcc 8.3


       reply	other threads:[~2025-05-12 21:53 UTC|newest]

Thread overview: 25+ messages / expand[flat|nested]  mbox.gz  Atom feed  top
     [not found] <1747086722-456-1-git-send-email-longli@linuxonhyperv.com>
2025-05-12 21:17 ` qemudev [this message]
2025-05-12 21:21 ` qemudev
2025-05-12 21:53 ` checkpatch
2025-05-12 22:24 ` |SUCCESS| pw153426 [PATCH] net/mana: check for vendor_part_id when p dpdklab
2025-05-12 22:27 ` |PENDING| " dpdklab
2025-05-12 22:29 ` dpdklab
2025-05-12 22:30 ` |SUCCESS| " dpdklab
2025-05-12 22:35 ` |PENDING| " dpdklab
2025-05-12 22:37 ` dpdklab
2025-05-12 22:38 ` |WARNING| " dpdklab
2025-05-12 22:42 ` |SUCCESS| " dpdklab
2025-05-12 22:42 ` dpdklab
2025-05-12 22:45 ` dpdklab
2025-05-12 22:48 ` dpdklab
2025-05-12 22:51 ` |PENDING| " dpdklab
2025-05-12 22:55 ` |SUCCESS| " dpdklab
2025-05-12 22:59 ` dpdklab
2025-05-12 23:05 ` dpdklab
2025-05-12 23:09 ` dpdklab
2025-05-12 23:13 ` dpdklab
2025-05-12 23:19 ` |WARNING| " dpdklab
2025-05-12 23:23 ` |SUCCESS| pw153426 [PATCH] net/mana: check for vendor_part_id when probing RDMA device 0-day Robot
2025-05-12 23:26 ` |SUCCESS| pw153426 [PATCH] net/mana: check for vendor_part_id when p dpdklab
2025-05-12 23:50 ` dpdklab
2025-05-13  0:26 ` dpdklab

Reply instructions:

You may reply publicly to this message via plain-text email
using any one of the following methods:

* Save the following mbox file, import it into your mail client,
  and reply-to-all from there: mbox

  Avoid top-posting and favor interleaved quoting:
  https://en.wikipedia.org/wiki/Posting_style#Interleaved_style

* Reply using the --to, --cc, and --in-reply-to
  switches of git-send-email(1):

  git send-email \
    --in-reply-to=202505122117.54CLHEda1172532@localhost.localdomain \
    --to=qemudev@loongson.cn \
    --cc=test-report@dpdk.org \
    /path/to/YOUR_REPLY

  https://kernel.org/pub/software/scm/git/docs/git-send-email.html

* If your mail client supports setting the In-Reply-To header
  via mailto: links, try the mailto: link
Be sure your reply has a Subject: header at the top and a blank line before the message body.
This is a public inbox, see mirroring instructions
for how to clone and mirror all data and code used for this inbox;
as well as URLs for NNTP newsgroup(s).