From: qemudev@loongson.cn
To: test-report@dpdk.org
Subject: |SUCCESS| pw153576-153578 [PATCH v2 3/3] dts: add flow validation
Date: Thu, 22 May 2025 03:01:24 +0800 [thread overview]
Message-ID: <202505211901.54LJ1Of0633639@localhost.localdomain> (raw)
In-Reply-To: <20250521192629.294265-3-dmarx@iol.unh.edu>
Test-Label: loongarch-compilation
Test-Status: SUCCESS
http://dpdk.org/patch/153578
_Compilation OK_
Submitter: Dean Marx <dmarx@iol.unh.edu>
Date: Wed, 21 May 2025 15:26:27 -0400
DPDK git baseline: Repo:dpdk
Branch: main
CommitID: 117e86c4b96ed761e9a7ab766261208fe81bf5ca
153576-153578 --> meson & ninja build successfully
Test environment and result as below:
+---------------------+----------------+
| Environment | compilation |
+---------------------+----------------+
| Loongnix-Server 8.3 | PASS |
+---------------------+----------------+
Loongnix-Server 8.3
Kernel: 4.19.190+
Compiler: gcc 8.3
next parent reply other threads:[~2025-05-21 19:37 UTC|newest]
Thread overview: 25+ messages / expand[flat|nested] mbox.gz Atom feed top
[not found] <20250521192629.294265-3-dmarx@iol.unh.edu>
2025-05-21 19:01 ` qemudev [this message]
2025-05-21 19:05 ` qemudev
2025-05-21 19:27 ` |SUCCESS| pw153578 " checkpatch
2025-05-21 20:08 ` |SUCCESS| pw153576-153578 [PATCH] [v2,3/3] " dpdklab
2025-05-21 20:14 ` dpdklab
2025-05-21 20:19 ` dpdklab
2025-05-21 20:21 ` dpdklab
2025-05-21 20:23 ` dpdklab
2025-05-21 20:26 ` dpdklab
2025-05-21 20:34 ` dpdklab
2025-05-21 20:43 ` |SUCCESS| pw153578 [PATCH v2 3/3] " 0-day Robot
2025-05-21 20:44 ` |SUCCESS| pw153576-153578 [PATCH] [v2,3/3] " dpdklab
2025-05-21 20:48 ` dpdklab
2025-05-21 21:01 ` |PENDING| " dpdklab
2025-05-21 21:15 ` |SUCCESS| " dpdklab
2025-05-21 21:19 ` |PENDING| " dpdklab
2025-05-21 21:48 ` dpdklab
2025-05-21 22:05 ` dpdklab
2025-05-21 22:34 ` |SUCCESS| " dpdklab
2025-05-21 22:49 ` |WARNING| " dpdklab
2025-05-21 22:50 ` dpdklab
2025-05-21 23:09 ` |SUCCESS| " dpdklab
2025-05-21 23:54 ` |WARNING| " dpdklab
2025-05-22 1:06 ` |SUCCESS| " dpdklab
2025-05-22 2:30 ` dpdklab
Reply instructions:
You may reply publicly to this message via plain-text email
using any one of the following methods:
* Save the following mbox file, import it into your mail client,
and reply-to-all from there: mbox
Avoid top-posting and favor interleaved quoting:
https://en.wikipedia.org/wiki/Posting_style#Interleaved_style
* Reply using the --to, --cc, and --in-reply-to
switches of git-send-email(1):
git send-email \
--in-reply-to=202505211901.54LJ1Of0633639@localhost.localdomain \
--to=qemudev@loongson.cn \
--cc=test-report@dpdk.org \
/path/to/YOUR_REPLY
https://kernel.org/pub/software/scm/git/docs/git-send-email.html
* If your mail client supports setting the In-Reply-To header
via mailto: links, try the mailto: link
Be sure your reply has a Subject: header at the top and a blank line
before the message body.
This is a public inbox, see mirroring instructions
for how to clone and mirror all data and code used for this inbox;
as well as URLs for NNTP newsgroup(s).