automatic DPDK test reports
 help / color / mirror / Atom feed
From: qemudev@loongson.cn
To: test-report@dpdk.org
Subject: |SUCCESS| pw153580 [PATCH v1] compress/zsda: code formatting
Date: Thu, 22 May 2025 13:55:15 +0800	[thread overview]
Message-ID: <202505220555.54M5tFoA812068@localhost.localdomain> (raw)
In-Reply-To: <20250522062351.2266776-1-li.hanxiao@zte.com.cn>

Test-Label: loongarch-compilation
Test-Status: SUCCESS
http://dpdk.org/patch/153580

_Compilation OK_

Submitter: Hanxiao Li <li.hanxiao@zte.com.cn>
Date: Thu, 22 May 2025 14:23:51 +0800
DPDK git baseline: Repo:dpdk-next-crypto
  Branch: for-main
  CommitID: fc627d7065ba5100faa928cf2edfa1622846f542

153580 --> meson & ninja build successfully

Test environment and result as below:

+---------------------+----------------+
|     Environment     | compilation    |
+---------------------+----------------+
| Loongnix-Server 8.3 | PASS           |
+---------------------+----------------+

Loongnix-Server 8.3
    Kernel: 4.19.190+
    Compiler: gcc 8.3


       reply	other threads:[~2025-05-22  6:31 UTC|newest]

Thread overview: 27+ messages / expand[flat|nested]  mbox.gz  Atom feed  top
     [not found] <20250522062351.2266776-1-li.hanxiao@zte.com.cn>
2025-05-22  5:55 ` qemudev [this message]
2025-05-22  5:59 ` qemudev
2025-05-22  6:29 ` |WARNING| " checkpatch
2025-05-22  7:44 ` |SUCCESS| " 0-day Robot
2025-05-22  7:48 ` |SUCCESS| pw153580 [PATCH] [v1] " dpdklab
2025-05-22  7:51 ` dpdklab
2025-05-22  7:52 ` dpdklab
2025-05-22  7:58 ` dpdklab
2025-05-22  8:04 ` dpdklab
2025-05-22  8:07 ` dpdklab
2025-05-22  8:08 ` dpdklab
2025-05-22  8:23 ` dpdklab
2025-05-22  8:29 ` dpdklab
2025-05-22  8:41 ` |PENDING| " dpdklab
2025-05-22  9:44 ` |SUCCESS| " dpdklab
2025-05-22  9:46 ` dpdklab
2025-05-22  9:46 ` dpdklab
2025-05-22 10:05 ` |PENDING| " dpdklab
2025-05-22 10:06 ` dpdklab
2025-05-22 10:34 ` |SUCCESS| " dpdklab
2025-05-22 10:39 ` |PENDING| " dpdklab
2025-05-22 10:44 ` |SUCCESS| " dpdklab
2025-05-22 11:47 ` |WARNING| " dpdklab
2025-05-22 12:43 ` |SUCCESS| " dpdklab
2025-05-22 12:46 ` |WARNING| " dpdklab
2025-05-22 14:08 ` dpdklab
2025-05-22 15:29 ` |SUCCESS| " dpdklab

Reply instructions:

You may reply publicly to this message via plain-text email
using any one of the following methods:

* Save the following mbox file, import it into your mail client,
  and reply-to-all from there: mbox

  Avoid top-posting and favor interleaved quoting:
  https://en.wikipedia.org/wiki/Posting_style#Interleaved_style

* Reply using the --to, --cc, and --in-reply-to
  switches of git-send-email(1):

  git send-email \
    --in-reply-to=202505220555.54M5tFoA812068@localhost.localdomain \
    --to=qemudev@loongson.cn \
    --cc=test-report@dpdk.org \
    /path/to/YOUR_REPLY

  https://kernel.org/pub/software/scm/git/docs/git-send-email.html

* If your mail client supports setting the In-Reply-To header
  via mailto: links, try the mailto: link
Be sure your reply has a Subject: header at the top and a blank line before the message body.
This is a public inbox, see mirroring instructions
for how to clone and mirror all data and code used for this inbox;
as well as URLs for NNTP newsgroup(s).