* |SUCCESS| pw155797-155804 [PATCH 10/10] app/dma-perf: support specific error info
       [not found] <20250812020708.16186-11-fengchengwen@huawei.com>
@ 2025-08-12  1:38 ` qemudev
  2025-08-12  1:43 ` qemudev
                   ` (21 subsequent siblings)
  22 siblings, 0 replies; 23+ messages in thread
From: qemudev @ 2025-08-12  1:38 UTC (permalink / raw)
  To: test-report
Test-Label: loongarch-compilation
Test-Status: SUCCESS
http://dpdk.org/patch/155804
_Compilation OK_
Submitter: Chengwen Feng <fengchengwen@huawei.com>
Date: Tue, 12 Aug 2025 10:06:59 +0800
DPDK git baseline: Repo:dpdk
  Branch: main
  CommitID: 38543d33bd47fc0ee21f59db80a8763620741879
155797-155804 --> meson & ninja build successfully
Test environment and result as below:
+---------------------+----------------+
|     Environment     | compilation    |
+---------------------+----------------+
| Loongnix-Server 8.3 | PASS           |
+---------------------+----------------+
Loongnix-Server 8.3
    Kernel: 4.19.190+
    Compiler: gcc 8.3
^ permalink raw reply	[flat|nested] 23+ messages in thread
* |SUCCESS| pw155797-155804 [PATCH 10/10] app/dma-perf: support specific error info
       [not found] <20250812020708.16186-11-fengchengwen@huawei.com>
  2025-08-12  1:38 ` |SUCCESS| pw155797-155804 [PATCH 10/10] app/dma-perf: support specific error info qemudev
@ 2025-08-12  1:43 ` qemudev
  2025-08-12  2:06 ` |WARNING| pw155804 " checkpatch
                   ` (20 subsequent siblings)
  22 siblings, 0 replies; 23+ messages in thread
From: qemudev @ 2025-08-12  1:43 UTC (permalink / raw)
  To: test-report
Test-Label: loongarch-unit-testing
Test-Status: SUCCESS
http://dpdk.org/patch/155804
_Unit Testing PASS_
Submitter: Chengwen Feng <fengchengwen@huawei.com>
Date: Tue, 12 Aug 2025 10:06:59 +0800
DPDK git baseline: Repo:dpdk
  Branch: main
  CommitID: 38543d33bd47fc0ee21f59db80a8763620741879
155797-155804 --> testing pass
Test environment and result as below:
+---------------------+----------------+
|     Environment     | dpdk_unit_test |
+---------------------+----------------+
| Loongnix-Server 8.3 | PASS           |
+---------------------+----------------+
Loongnix-Server 8.3
    Kernel: 4.19.190+
    Compiler: gcc 8.3
Test result details:
  1/120 DPDK:fast-tests / acl_autotest                            OK              3.13s
  2/120 DPDK:fast-tests / alarm_autotest                          OK              1.42s
  3/120 DPDK:fast-tests / argparse_autotest                       OK              0.41s
  4/120 DPDK:fast-tests / atomic_autotest                         OK              7.09s
  5/120 DPDK:fast-tests / bitcount_autotest                       OK              0.31s
  6/120 DPDK:fast-tests / bitmap_autotest                         OK              0.31s
  7/120 DPDK:fast-tests / bitops_autotest                         OK              1.81s
  8/120 DPDK:fast-tests / bitratestats_autotest                   OK              0.31s
  9/120 DPDK:fast-tests / bitset_autotest                         OK              3.06s
 10/120 DPDK:fast-tests / bpf_autotest                            OK              0.31s
 11/120 DPDK:fast-tests / bpf_convert_autotest                    OK              0.31s
 12/120 DPDK:fast-tests / byteorder_autotest                      OK              0.31s
 13/120 DPDK:fast-tests / cfgfile_autotest                        OK              0.31s
 14/120 DPDK:fast-tests / cksum_autotest                          OK              0.31s
 15/120 DPDK:fast-tests / cmdline_autotest                        OK              0.31s
 16/120 DPDK:fast-tests / common_autotest                         OK              1.20s
 17/120 DPDK:fast-tests / compressdev_autotest                    SKIP            0.06s   exit status 77
 18/120 DPDK:fast-tests / cpuflags_autotest                       OK              0.31s
 19/120 DPDK:fast-tests / crc_autotest                            OK              0.31s
 20/120 DPDK:fast-tests / user_delay_us                           OK              0.31s
 21/120 DPDK:fast-tests / debug_autotest                          OK             17.88s
 22/120 DPDK:fast-tests / devargs_autotest                        OK              0.31s
 23/120 DPDK:fast-tests / dispatcher_autotest                     OK              2.48s
 24/120 DPDK:fast-tests / distributor_autotest                    OK              1.21s
 25/120 DPDK:fast-tests / eal_flags_c_opt_autotest                OK              0.80s
 26/120 DPDK:fast-tests / eal_flags_main_opt_autotest             OK              0.23s
 27/120 DPDK:fast-tests / eal_flags_n_opt_autotest                OK              0.21s
 28/120 DPDK:fast-tests / eal_flags_hpet_autotest                 OK              0.14s
 29/120 DPDK:fast-tests / eal_flags_no_huge_autotest              OK              0.23s
 30/120 DPDK:fast-tests / eal_flags_a_opt_autotest                OK              0.31s
 31/120 DPDK:fast-tests / eal_flags_b_opt_autotest                OK              0.26s
 32/120 DPDK:fast-tests / eal_flags_vdev_opt_autotest             OK              0.21s
 33/120 DPDK:fast-tests / eal_flags_r_opt_autotest                OK              0.20s
 34/120 DPDK:fast-tests / eal_flags_mem_autotest                  OK              0.61s
 35/120 DPDK:fast-tests / eal_flags_file_prefix_autotest          OK             22.29s
 36/120 DPDK:fast-tests / eal_flags_misc_autotest                 OK              1.11s
 37/120 DPDK:fast-tests / eal_fs_autotest                         OK              0.62s
 38/120 DPDK:fast-tests / errno_autotest                          OK              0.62s
 39/120 DPDK:fast-tests / ethdev_link_status                      OK              0.61s
 40/120 DPDK:fast-tests / event_eth_tx_adapter_autotest           OK              1.69s
 41/120 DPDK:fast-tests / event_ring_autotest                     OK              0.63s
 42/120 DPDK:fast-tests / eventdev_common_autotest                OK              0.62s
 43/120 DPDK:fast-tests / eventdev_selftest_sw                    OK              7.46s
 44/120 DPDK:fast-tests / fbarray_autotest                        OK              0.63s
 45/120 DPDK:fast-tests / fib_autotest                            OK              1.46s
 46/120 DPDK:fast-tests / fib6_autotest                           OK              1.24s
 47/120 DPDK:fast-tests / func_reentrancy_autotest                OK              2.17s
 48/120 DPDK:fast-tests / graph_autotest                          OK              0.62s
 49/120 DPDK:fast-tests / node_list_dump                          OK              0.61s
 50/120 DPDK:fast-tests / graph_feature_arc_autotest              OK              0.62s
 51/120 DPDK:fast-tests / hash_autotest                           OK              1.23s
 52/120 DPDK:fast-tests / hash_readwrite_func_autotest            OK              6.40s
 53/120 DPDK:fast-tests / interrupt_autotest                      OK              1.89s
 54/120 DPDK:fast-tests / ipfrag_autotest                         OK              0.08s
 55/120 DPDK:fast-tests / ipsec_autotest                          SKIP            0.62s   exit status 77
 56/120 DPDK:fast-tests / kvargs_autotest                         OK              0.62s
 57/120 DPDK:fast-tests / latencystats_autotest                   OK              0.62s
 58/120 DPDK:fast-tests / lcore_var_autotest                      OK              0.73s
 59/120 DPDK:fast-tests / lcores_autotest                         OK              5.42s
 60/120 DPDK:fast-tests / logs_autotest                           OK              0.61s
 61/120 DPDK:fast-tests / lpm_autotest                            OK              2.67s
 62/120 DPDK:fast-tests / lpm6_autotest                           OK              5.79s
 63/120 DPDK:fast-tests / malloc_autotest                         OK             61.40s
 64/120 DPDK:fast-tests / mbuf_autotest                           OK              4.07s
 65/120 DPDK:fast-tests / mcslock_autotest                        OK              3.89s
 66/120 DPDK:fast-tests / member_autotest                         OK              1.77s
 67/120 DPDK:fast-tests / memcpy_autotest                         OK              7.06s
 68/120 DPDK:fast-tests / memory_autotest                         OK              0.10s
 69/120 DPDK:fast-tests / mempool_autotest                        OK              0.44s
 70/120 DPDK:fast-tests / memzone_autotest                        OK              0.15s
 71/120 DPDK:fast-tests / meter_autotest                          OK              0.62s
 72/120 DPDK:fast-tests / metrics_autotest                        OK              0.61s
 73/120 DPDK:fast-tests / multiprocess_autotest                   OK              0.20s
 74/120 DPDK:fast-tests / net_ether_autotest                      OK              1.28s
 75/120 DPDK:fast-tests / net_ipv6_autotest                       OK              0.61s
 76/120 DPDK:fast-tests / pcapng_autotest                         OK              6.72s
 77/120 DPDK:fast-tests / pdcp_autotest                           SKIP            0.08s   exit status 77
 78/120 DPDK:fast-tests / pdump_autotest                          OK              0.72s
 79/120 DPDK:fast-tests / per_lcore_autotest                      OK              0.71s
 80/120 DPDK:fast-tests / pflock_autotest                         OK              1.42s
 81/120 DPDK:fast-tests / pie_autotest                            OK              0.62s
 82/120 DPDK:fast-tests / ring_pmd_autotest                       OK              0.61s
 83/120 DPDK:fast-tests / power_autotest                          OK              0.61s
 84/120 DPDK:fast-tests / power_cpufreq_autotest                  SKIP            0.08s   exit status 77
 85/120 DPDK:fast-tests / power_intel_uncore_autotest             SKIP            0.61s   exit status 77
 86/120 DPDK:fast-tests / power_kvm_vm_autotest                   SKIP            0.07s   exit status 77
 87/120 DPDK:fast-tests / prefetch_autotest                       OK              0.61s
 88/120 DPDK:fast-tests / ptr_compress_autotest                   OK              0.61s
 89/120 DPDK:fast-tests / rawdev_autotest                         OK              0.61s
 90/120 DPDK:fast-tests / rcu_qsbr_autotest                       OK              1.13s
 91/120 DPDK:fast-tests / reorder_autotest                        OK              0.67s
 92/120 DPDK:fast-tests / rib_autotest                            OK              9.25s
 93/120 DPDK:fast-tests / rib6_autotest                           OK              9.28s
 94/120 DPDK:fast-tests / ring_autotest                           OK              0.64s
 95/120 DPDK:fast-tests / rwlock_test1_autotest                   OK              1.36s
 96/120 DPDK:fast-tests / rwlock_rda_autotest                     OK              5.61s
 97/120 DPDK:fast-tests / rwlock_rds_wrm_autotest                 OK              5.61s
 98/120 DPDK:fast-tests / rwlock_rde_wro_autotest                 OK              5.61s
 99/120 DPDK:fast-tests / sched_autotest                          OK              0.62s
100/120 DPDK:fast-tests / security_autotest                       OK              0.07s
101/120 DPDK:fast-tests / seqlock_autotest                        OK              2.62s
102/120 DPDK:fast-tests / service_autotest                        OK              3.31s
103/120 DPDK:fast-tests / soring_autotest                         OK              0.61s
104/120 DPDK:fast-tests / spinlock_autotest                       OK              0.69s
105/120 DPDK:fast-tests / stack_autotest                          OK              0.87s
106/120 DPDK:fast-tests / stack_lf_autotest                       SKIP            0.07s   exit status 77
107/120 DPDK:fast-tests / string_autotest                         OK              0.62s
108/120 DPDK:fast-tests / table_autotest                          OK              8.13s
109/120 DPDK:fast-tests / tailq_autotest                          OK              0.62s
110/120 DPDK:fast-tests / telemetry_data_autotest                 OK              0.62s
111/120 DPDK:fast-tests / telemetry_json_autotest                 OK              0.61s
112/120 DPDK:fast-tests / thash_autotest                          OK              0.62s
113/120 DPDK:fast-tests / threads_autotest                        OK              0.79s
114/120 DPDK:fast-tests / ticketlock_autotest                     OK              0.77s
115/120 DPDK:fast-tests / timer_autotest                          OK              3.88s
116/120 DPDK:fast-tests / trace_autotest                          OK              0.62s
117/120 DPDK:fast-tests / trace_autotest_with_traces              OK              0.61s
118/120 DPDK:fast-tests / vdev_autotest                           OK              0.61s
119/120 DPDK:fast-tests / version_autotest                        OK              0.61s
120/120 DPDK:fast-tests / telemetry_all                           OK              1.33s
Ok:                 113
Expected Fail:      0
Fail:               0
Unexpected Pass:    0
Skipped:            7
Timeout:            0
^ permalink raw reply	[flat|nested] 23+ messages in thread
* |WARNING| pw155804 [PATCH 10/10] app/dma-perf: support specific error info
       [not found] <20250812020708.16186-11-fengchengwen@huawei.com>
  2025-08-12  1:38 ` |SUCCESS| pw155797-155804 [PATCH 10/10] app/dma-perf: support specific error info qemudev
  2025-08-12  1:43 ` qemudev
@ 2025-08-12  2:06 ` checkpatch
  2025-08-12  2:39 ` |SUCCESS| pw155797-155804 [PATCH] [10/10] app/dma-perf: support spec dpdklab
                   ` (19 subsequent siblings)
  22 siblings, 0 replies; 23+ messages in thread
From: checkpatch @ 2025-08-12  2:06 UTC (permalink / raw)
  To: test-report; +Cc: Chengwen Feng
Test-Label: checkpatch
Test-Status: WARNING
http://dpdk.org/patch/155804
_coding style issues_
WARNING:TYPO_SPELLING: 'couldn' may be misspelled - perhaps 'could'?
#81: FILE: app/test-dma-perf/main.c:161:
+/* Exit process if the entry couldn't find in the section. */
total: 0 errors, 1 warnings, 147 lines checked
^ permalink raw reply	[flat|nested] 23+ messages in thread
* |SUCCESS| pw155797-155804 [PATCH] [10/10] app/dma-perf: support spec
       [not found] <20250812020708.16186-11-fengchengwen@huawei.com>
                   ` (2 preceding siblings ...)
  2025-08-12  2:06 ` |WARNING| pw155804 " checkpatch
@ 2025-08-12  2:39 ` dpdklab
  2025-08-12  2:44 ` dpdklab
                   ` (18 subsequent siblings)
  22 siblings, 0 replies; 23+ messages in thread
From: dpdklab @ 2025-08-12  2:39 UTC (permalink / raw)
  To: Test Report; +Cc: dpdk-test-reports
Test-Label: iol-mellanox-Functional
Test-Status: SUCCESS
http://dpdk.org/patch/155804
_Functional Testing PASS_
Submitter: Chengwen Feng <fengchengwen@huawei.com>
Date: Tuesday, August 12 2025 02:07:08 
DPDK git baseline: Repo:dpdk
  Branch: master
  CommitID:38543d33bd47fc0ee21f59db80a8763620741879
155797-155804 --> functional testing pass
Upstream job id: Template-DPDK-DTS-Pipeline#1470
Test environment and result as below:
Ubuntu 24.04
Kernel: 6.8.0-55-generic
Compiler: gcc 13.3.0
NIC: Mellanox ConnectX-5 100000 Mbps
Aggregate Results by Test Suite
+---------------------------------+--------+
|           Test Suite            | Result |
+=================================+========+
| blocklist                       |  PASS  |
+---------------------------------+--------+
| pmd_buffer_scatter              |  PASS  |
+---------------------------------+--------+
| promisc_support                 |  PASS  |
+---------------------------------+--------+
| uni_pkt                         |  PASS  |
+---------------------------------+--------+
| checksum_offload                |  PASS  |
+---------------------------------+--------+
| dynamic_config                  |  PASS  |
+---------------------------------+--------+
| hello_world                     |  PASS  |
+---------------------------------+--------+
| l2fwd                           |  PASS  |
+---------------------------------+--------+
| mtu                             |  PASS  |
+---------------------------------+--------+
| port_restart_config_persistency |  PASS  |
+---------------------------------+--------+
| softnic                         |  PASS  |
+---------------------------------+--------+
| vlan                            |  PASS  |
+---------------------------------+--------+
| packet_capture                  |  PASS  |
+---------------------------------+--------+
To view detailed results, visit:
https://lab.dpdk.org/results/dashboard/patchsets/33859/
UNH-IOL DPDK Community Lab
To manage your email subscriptions, visit: 
https://lab.dpdk.org/results/dashboard/preferences/subscriptions/
^ permalink raw reply	[flat|nested] 23+ messages in thread
* |SUCCESS| pw155797-155804 [PATCH] [10/10] app/dma-perf: support spec
       [not found] <20250812020708.16186-11-fengchengwen@huawei.com>
                   ` (3 preceding siblings ...)
  2025-08-12  2:39 ` |SUCCESS| pw155797-155804 [PATCH] [10/10] app/dma-perf: support spec dpdklab
@ 2025-08-12  2:44 ` dpdklab
  2025-08-12  2:46 ` |PENDING| " dpdklab
                   ` (17 subsequent siblings)
  22 siblings, 0 replies; 23+ messages in thread
From: dpdklab @ 2025-08-12  2:44 UTC (permalink / raw)
  To: Test Report; +Cc: dpdk-test-reports
Test-Label: iol-marvell-Functional
Test-Status: SUCCESS
http://dpdk.org/patch/155804
_Functional Testing PASS_
Submitter: Chengwen Feng <fengchengwen@huawei.com>
Date: Tuesday, August 12 2025 02:07:08 
DPDK git baseline: Repo:dpdk
  Branch: master
  CommitID:38543d33bd47fc0ee21f59db80a8763620741879
155797-155804 --> functional testing pass
Upstream job id: Template-DTS-Pipeline#239995
Test environment and result as below:
Ubuntu 20.04.6
Kernel: 5.4.105
Compiler: gcc 9.4
NIC: Marvell CN106XX 50000 Mbps
Target: arm64-native-linuxapp-gcc
Aggregate Results by Test Suite
+----------------+--------+
|   Test Suite   | Result |
+================+========+
| cmdline        |  PASS  |
+----------------+--------+
| rxtx_callbacks |  PASS  |
+----------------+--------+
To view detailed results, visit:
https://lab.dpdk.org/results/dashboard/patchsets/33859/
UNH-IOL DPDK Community Lab
To manage your email subscriptions, visit: 
https://lab.dpdk.org/results/dashboard/preferences/subscriptions/
^ permalink raw reply	[flat|nested] 23+ messages in thread
* |PENDING| pw155797-155804 [PATCH] [10/10] app/dma-perf: support spec
       [not found] <20250812020708.16186-11-fengchengwen@huawei.com>
                   ` (4 preceding siblings ...)
  2025-08-12  2:44 ` dpdklab
@ 2025-08-12  2:46 ` dpdklab
  2025-08-12  2:46 ` dpdklab
                   ` (16 subsequent siblings)
  22 siblings, 0 replies; 23+ messages in thread
From: dpdklab @ 2025-08-12  2:46 UTC (permalink / raw)
  To: Test Report; +Cc: dpdk-test-reports
Test-Label: iol-compile-amd64-testing
Test-Status: PENDING
http://dpdk.org/patch/155804
_Testing pending_
Submitter: Chengwen Feng <fengchengwen@huawei.com>
Date: Tuesday, August 12 2025 02:07:08 
DPDK git baseline: Repo:dpdk
  Branch: master
  CommitID:38543d33bd47fc0ee21f59db80a8763620741879
155797-155804 --> testing pending
Upstream job id: Generic-DPDK-Compile-Meson#416730
Test environment and result as below:
+-------------------------------+--------------------+-------------------+------------------+
|          Environment          | dpdk_meson_compile | dpdk_compile_spdk | dpdk_compile_ovs |
+===============================+====================+===================+==================+
| CentOS Stream 9               | PEND               | PEND              | SKIPPED          |
+-------------------------------+--------------------+-------------------+------------------+
| CentOS Stream 10              | PASS               | SKIPPED           | SKIPPED          |
+-------------------------------+--------------------+-------------------+------------------+
| Debian GNU/Linux 12           | PEND               | PEND              | SKIPPED          |
+-------------------------------+--------------------+-------------------+------------------+
| Fedora Linux 40               | PEND               | PEND              | SKIPPED          |
+-------------------------------+--------------------+-------------------+------------------+
| Fedora Linux 41               | PEND               | PEND              | PEND             |
+-------------------------------+--------------------+-------------------+------------------+
| Fedora 42 (Clang)             | PEND               | PEND              | PEND             |
+-------------------------------+--------------------+-------------------+------------------+
| Red Hat Enterprise Linux 8.10 | PEND               | SKIPPED           | SKIPPED          |
+-------------------------------+--------------------+-------------------+------------------+
CentOS Stream 9
	Kernel: 5.15
	Compiler: gcc gcc (GCC) 11.5.0 20240719 (Red Hat 11.5.0-7)
CentOS Stream 10
	Kernel: 5.15
	Compiler: gcc gcc (GCC) 14.2.1 20250110 (Red Hat 14.2.1-8)
Debian GNU/Linux 12
	Kernel: 5.15
	Compiler: gcc gcc (Debian 12.2.0-14+deb12u1) 12.2.0
Fedora Linux 40
	Kernel: 5.15
	Compiler: clang gcc (GCC) 14.2.1 20240912 (Red Hat 14.2.1-3)
Fedora Linux 41
	Kernel: 5.15
	Compiler: clang gcc (GCC) 14.3.1 20250523 (Red Hat 14.3.1-1)
Fedora 42 (Clang)
	Kernel: Depends on container host
	Compiler: clang 20.1.3 (Fedora 20.1.3-1.fc42)
Red Hat Enterprise Linux 8.10
	Kernel: 5.15
	Compiler: gcc gcc (GCC) 8.5.0 20210514 (Red Hat 8.5.0-22)
To view detailed results, visit:
https://lab.dpdk.org/results/dashboard/patchsets/33859/
UNH-IOL DPDK Community Lab
To manage your email subscriptions, visit: 
https://lab.dpdk.org/results/dashboard/preferences/subscriptions/
^ permalink raw reply	[flat|nested] 23+ messages in thread
* |PENDING| pw155797-155804 [PATCH] [10/10] app/dma-perf: support spec
       [not found] <20250812020708.16186-11-fengchengwen@huawei.com>
                   ` (5 preceding siblings ...)
  2025-08-12  2:46 ` |PENDING| " dpdklab
@ 2025-08-12  2:46 ` dpdklab
  2025-08-12  2:57 ` |SUCCESS| " dpdklab
                   ` (15 subsequent siblings)
  22 siblings, 0 replies; 23+ messages in thread
From: dpdklab @ 2025-08-12  2:46 UTC (permalink / raw)
  To: Test Report; +Cc: dpdk-test-reports
Test-Label: iol-sample-apps-testing
Test-Status: PENDING
http://dpdk.org/patch/155804
_Testing pending_
Submitter: Chengwen Feng <fengchengwen@huawei.com>
Date: Tuesday, August 12 2025 02:07:08 
DPDK git baseline: Repo:dpdk
  Branch: master
  CommitID:38543d33bd47fc0ee21f59db80a8763620741879
155797-155804 --> testing pending
Upstream job id: Template-DTS-Pipeline#240000
Test environment and result as below:
+--------------+----------------------+----------------------+
| Environment  | dpdk_fips_validation | compressdev_zlib_pmd |
+==============+======================+======================+
| Ubuntu 20.04 | PEND                 | SKIPPED              |
+--------------+----------------------+----------------------+
| Ubuntu 22.04 | SKIPPED              | PASS                 |
+--------------+----------------------+----------------------+
Ubuntu 20.04
	Kernel: 5.15
	Compiler: gcc gcc (Ubuntu 9.4.0-1ubuntu1~20.04.2) 9.4.0
Ubuntu 22.04
	Kernel: 5.15
	Compiler: gcc gcc (Ubuntu 11.4.0-1ubuntu1~22.04) 11.4.0
To view detailed results, visit:
https://lab.dpdk.org/results/dashboard/patchsets/33859/
UNH-IOL DPDK Community Lab
To manage your email subscriptions, visit: 
https://lab.dpdk.org/results/dashboard/preferences/subscriptions/
^ permalink raw reply	[flat|nested] 23+ messages in thread
* |SUCCESS| pw155797-155804 [PATCH] [10/10] app/dma-perf: support spec
       [not found] <20250812020708.16186-11-fengchengwen@huawei.com>
                   ` (6 preceding siblings ...)
  2025-08-12  2:46 ` dpdklab
@ 2025-08-12  2:57 ` dpdklab
  2025-08-12  2:59 ` dpdklab
                   ` (14 subsequent siblings)
  22 siblings, 0 replies; 23+ messages in thread
From: dpdklab @ 2025-08-12  2:57 UTC (permalink / raw)
  To: Test Report; +Cc: dpdk-test-reports
Test-Label: iol-broadcom-Performance
Test-Status: SUCCESS
http://dpdk.org/patch/155804
_Performance Testing PASS_
Submitter: Chengwen Feng <fengchengwen@huawei.com>
Date: Tuesday, August 12 2025 02:07:08 
DPDK git baseline: Repo:dpdk
  Branch: master
  CommitID:38543d33bd47fc0ee21f59db80a8763620741879
155797-155804 --> performance testing pass
Upstream job id: Template-DTS-Pipeline#239993
Test environment and result as below:
Ubuntu 22.04
Kernel: 5.15
Compiler: gcc gcc (Ubuntu 11.4.0-1ubuntu1~22.04) 11.4.0
NIC: Arm Broadcom Inc. brcm_57414 25000 Mbps
Fail/Total: 0/2
Detail performance results: 
+------------+---------+----------+-------------+------------------------------+
| frame_size | txd/rxd | num_cpus | num_threads |  throughput difference from  |
|            |         |          |             |           expected           |
+============+=========+==========+=============+==============================+
| 64         | 512     | 1        | 1           | 0.0%                         |
+------------+---------+----------+-------------+------------------------------+
| 64         | 2048    | 1        | 1           | 0.1%                         |
+------------+---------+----------+-------------+------------------------------+
Ubuntu 22.04
Kernel: 5.15
Compiler: gcc gcc (Ubuntu 11.4.0-1ubuntu1~22.04) 11.4.0
NIC: Broadcom Inc. and subsidiaries BCM57414 NetXtreme-E 10Gb/25Gb RDMA Ethernet Controller 16d7 25 Mbps
Fail/Total: 0/3
Detail performance results: 
+------------+---------+----------+-------------+------------------------------+
| frame_size | txd/rxd | num_cpus | num_threads |  throughput difference from  |
|            |         |          |             |           expected           |
+============+=========+==========+=============+==============================+
| 64         | 128     | 1        | 1           | -0.3%                        |
+------------+---------+----------+-------------+------------------------------+
| 64         | 512     | 1        | 1           | -0.5%                        |
+------------+---------+----------+-------------+------------------------------+
| 64         | 2048    | 1        | 1           | 0.3%                         |
+------------+---------+----------+-------------+------------------------------+
To view detailed results, visit:
https://lab.dpdk.org/results/dashboard/patchsets/33859/
UNH-IOL DPDK Community Lab
To manage your email subscriptions, visit: 
https://lab.dpdk.org/results/dashboard/preferences/subscriptions/
^ permalink raw reply	[flat|nested] 23+ messages in thread
* |SUCCESS| pw155797-155804 [PATCH] [10/10] app/dma-perf: support spec
       [not found] <20250812020708.16186-11-fengchengwen@huawei.com>
                   ` (7 preceding siblings ...)
  2025-08-12  2:57 ` |SUCCESS| " dpdklab
@ 2025-08-12  2:59 ` dpdklab
  2025-08-12  2:59 ` dpdklab
                   ` (13 subsequent siblings)
  22 siblings, 0 replies; 23+ messages in thread
From: dpdklab @ 2025-08-12  2:59 UTC (permalink / raw)
  To: Test Report; +Cc: dpdk-test-reports
Test-Label: iol-intel-Performance
Test-Status: SUCCESS
http://dpdk.org/patch/155804
_Performance Testing PASS_
Submitter: Chengwen Feng <fengchengwen@huawei.com>
Date: Tuesday, August 12 2025 02:07:08 
DPDK git baseline: Repo:dpdk
  Branch: master
  CommitID:38543d33bd47fc0ee21f59db80a8763620741879
155797-155804 --> performance testing pass
Upstream job id: Template-DTS-Pipeline#239991
Test environment and result as below:
Ubuntu 22.04
Kernel: 5.15
Compiler: gcc gcc (Ubuntu 11.4.0-1ubuntu1~22.04) 11.4.0
NIC: Intel E810 100000 Mbps
Fail/Total: 0/2
Detail performance results: 
+------------+---------+----------+-------------+------------------------------+
| frame_size | txd/rxd | num_cpus | num_threads |  throughput difference from  |
|            |         |          |             |           expected           |
+============+=========+==========+=============+==============================+
| 64         | 512     | 1        | 1           | -1.0%                        |
+------------+---------+----------+-------------+------------------------------+
| 64         | 2048    | 1        | 1           | 0.2%                         |
+------------+---------+----------+-------------+------------------------------+
Ubuntu 24.04
Kernel: 6.8
Compiler: gcc gcc (Ubuntu 13.3.0-6ubuntu2~24.04) 13.3.0
NIC: Intel E810 (Arm Grace Server) 100000 Mbps
Fail/Total: 0/2
Detail performance results: 
+------------+---------+----------+-------------+------------------------------+
| frame_size | txd/rxd | num_cpus | num_threads |  throughput difference from  |
|            |         |          |             |           expected           |
+============+=========+==========+=============+==============================+
| 64         | 512     | 1        | 1           | 1.9%                         |
+------------+---------+----------+-------------+------------------------------+
| 64         | 2048    | 1        | 1           | 0.5%                         |
+------------+---------+----------+-------------+------------------------------+
Ubuntu 20.04
Kernel: 5.4
Compiler: gcc gcc (Ubuntu 9.4.0-1ubuntu1~20.04.1) 9.4.0
NIC: Intel Corporation Ethernet Converged Network Adapter XL710-QDA2 40000 Mbps
Fail/Total: 0/4
Detail performance results: 
+----------+-------------+---------+------------+------------------------------+
| num_cpus | num_threads | txd/rxd | frame_size |  throughput difference from  |
|          |             |         |            |           expected           |
+==========+=============+=========+============+==============================+
| 1        | 2           | 512     | 64         | -0.2%                        |
+----------+-------------+---------+------------+------------------------------+
| 1        | 2           | 2048    | 64         | 0.9%                         |
+----------+-------------+---------+------------+------------------------------+
| 1        | 1           | 512     | 64         | -1.9%                        |
+----------+-------------+---------+------------+------------------------------+
| 1        | 1           | 2048    | 64         | 0.9%                         |
+----------+-------------+---------+------------+------------------------------+
To view detailed results, visit:
https://lab.dpdk.org/results/dashboard/patchsets/33859/
UNH-IOL DPDK Community Lab
To manage your email subscriptions, visit: 
https://lab.dpdk.org/results/dashboard/preferences/subscriptions/
^ permalink raw reply	[flat|nested] 23+ messages in thread
* |SUCCESS| pw155797-155804 [PATCH] [10/10] app/dma-perf: support spec
       [not found] <20250812020708.16186-11-fengchengwen@huawei.com>
                   ` (8 preceding siblings ...)
  2025-08-12  2:59 ` dpdklab
@ 2025-08-12  2:59 ` dpdklab
  2025-08-12  2:59 ` dpdklab
                   ` (12 subsequent siblings)
  22 siblings, 0 replies; 23+ messages in thread
From: dpdklab @ 2025-08-12  2:59 UTC (permalink / raw)
  To: Ali Alnubani, Test Report; +Cc: dpdk-test-reports
Test-Label: iol-mellanox-Performance
Test-Status: SUCCESS
http://dpdk.org/patch/155804
_Performance Testing PASS_
Submitter: Chengwen Feng <fengchengwen@huawei.com>
Date: Tuesday, August 12 2025 02:07:08 
DPDK git baseline: Repo:dpdk
  Branch: master
  CommitID:38543d33bd47fc0ee21f59db80a8763620741879
155797-155804 --> performance testing pass
Upstream job id: Template-DTS-Pipeline#239989
Test environment and result as below:
Ubuntu 24.04
Kernel: 6.8
Compiler: gcc gcc (Ubuntu 13.3.0-6ubuntu2~24.04) 13.3.0
NIC: NVIDIA Mellanox ConnectX-7 100000 Mbps
Fail/Total: 0/6
Detail performance results: 
+------------+---------+----------+-------------+------------------------------+
| frame_size | txd/rxd | num_cpus | num_threads |  throughput difference from  |
|            |         |          |             |           expected           |
+============+=========+==========+=============+==============================+
| 64         | 1024    | 1        | 1           | 0.1%                         |
+------------+---------+----------+-------------+------------------------------+
| 128        | 1024    | 1        | 1           | 0.0%                         |
+------------+---------+----------+-------------+------------------------------+
| 256        | 1024    | 1        | 1           | 0.1%                         |
+------------+---------+----------+-------------+------------------------------+
| 512        | 1024    | 1        | 1           | -0.0%                        |
+------------+---------+----------+-------------+------------------------------+
| 1024       | 1024    | 1        | 1           | 0.1%                         |
+------------+---------+----------+-------------+------------------------------+
| 1518       | 1024    | 1        | 1           | 0.1%                         |
+------------+---------+----------+-------------+------------------------------+
Ubuntu 24.04
Kernel: 6.8
Compiler: gcc gcc (Ubuntu 13.3.0-6ubuntu2~24.04) 13.3.0
NIC: Mellanox ConnectX-6 Lx 25000 Mbps
Fail/Total: 0/6
Detail performance results: 
+------------+---------+----------+-------------+------------------------------+
| frame_size | txd/rxd | num_cpus | num_threads |  throughput difference from  |
|            |         |          |             |           expected           |
+============+=========+==========+=============+==============================+
| 64         | 1024    | 1        | 1           | 0.0%                         |
+------------+---------+----------+-------------+------------------------------+
| 128        | 1024    | 1        | 1           | -0.0%                        |
+------------+---------+----------+-------------+------------------------------+
| 256        | 1024    | 1        | 1           | 0.0%                         |
+------------+---------+----------+-------------+------------------------------+
| 512        | 1024    | 1        | 1           | -0.3%                        |
+------------+---------+----------+-------------+------------------------------+
| 1024       | 1024    | 1        | 1           | 0.2%                         |
+------------+---------+----------+-------------+------------------------------+
| 1518       | 1024    | 1        | 1           | 0.1%                         |
+------------+---------+----------+-------------+------------------------------+
To view detailed results, visit:
https://lab.dpdk.org/results/dashboard/patchsets/33859/
UNH-IOL DPDK Community Lab
To manage your email subscriptions, visit: 
https://lab.dpdk.org/results/dashboard/preferences/subscriptions/
^ permalink raw reply	[flat|nested] 23+ messages in thread
* |SUCCESS| pw155797-155804 [PATCH] [10/10] app/dma-perf: support spec
       [not found] <20250812020708.16186-11-fengchengwen@huawei.com>
                   ` (9 preceding siblings ...)
  2025-08-12  2:59 ` dpdklab
@ 2025-08-12  2:59 ` dpdklab
  2025-08-12  3:04 ` |SUCCESS| pw155804 [PATCH 10/10] app/dma-perf: support specific error info 0-day Robot
                   ` (11 subsequent siblings)
  22 siblings, 0 replies; 23+ messages in thread
From: dpdklab @ 2025-08-12  2:59 UTC (permalink / raw)
  To: Test Report; +Cc: dpdk-test-reports
Test-Label: iol-intel-Functional
Test-Status: SUCCESS
http://dpdk.org/patch/155804
_Functional Testing PASS_
Submitter: Chengwen Feng <fengchengwen@huawei.com>
Date: Tuesday, August 12 2025 02:07:08 
DPDK git baseline: Repo:dpdk
  Branch: master
  CommitID:38543d33bd47fc0ee21f59db80a8763620741879
155797-155804 --> functional testing pass
Upstream job id: Template-DTS-Pipeline#239996
Test environment and result as below:
Ubuntu 20.04
Kernel: 5.4
Compiler: gcc gcc (Ubuntu 9.4.0-1ubuntu1~20.04.1) 9.4.0
NIC: Intel Corporation Ethernet Converged Network Adapter XL710-QDA2 40000 Mbps
Aggregate Results by Test Suite
+-----------------------------+--------+
|         Test Suite          | Result |
+=============================+========+
| unit_tests_mbuf             |  PASS  |
+-----------------------------+--------+
| vhost_virtio_user_interrupt |  PASS  |
+-----------------------------+--------+
| virtio_smoke                |  PASS  |
+-----------------------------+--------+
To view detailed results, visit:
https://lab.dpdk.org/results/dashboard/patchsets/33859/
UNH-IOL DPDK Community Lab
To manage your email subscriptions, visit: 
https://lab.dpdk.org/results/dashboard/preferences/subscriptions/
^ permalink raw reply	[flat|nested] 23+ messages in thread
* |SUCCESS| pw155804 [PATCH 10/10] app/dma-perf: support specific error info
       [not found] <20250812020708.16186-11-fengchengwen@huawei.com>
                   ` (10 preceding siblings ...)
  2025-08-12  2:59 ` dpdklab
@ 2025-08-12  3:04 ` 0-day Robot
  2025-08-12  3:09 ` |SUCCESS| pw155797-155804 [PATCH] [10/10] app/dma-perf: support spec dpdklab
                   ` (10 subsequent siblings)
  22 siblings, 0 replies; 23+ messages in thread
From: 0-day Robot @ 2025-08-12  3:04 UTC (permalink / raw)
  To: test-report; +Cc: robot
From: robot@bytheb.org
Test-Label: github-robot: build
Test-Status: SUCCESS
http://patchwork.dpdk.org/patch/155804/
_github build: passed_
Build URL: https://github.com/ovsrobot/dpdk/actions/runs/16897276645
^ permalink raw reply	[flat|nested] 23+ messages in thread
* |SUCCESS| pw155797-155804 [PATCH] [10/10] app/dma-perf: support spec
       [not found] <20250812020708.16186-11-fengchengwen@huawei.com>
                   ` (11 preceding siblings ...)
  2025-08-12  3:04 ` |SUCCESS| pw155804 [PATCH 10/10] app/dma-perf: support specific error info 0-day Robot
@ 2025-08-12  3:09 ` dpdklab
  2025-08-12  3:14 ` dpdklab
                   ` (9 subsequent siblings)
  22 siblings, 0 replies; 23+ messages in thread
From: dpdklab @ 2025-08-12  3:09 UTC (permalink / raw)
  To: Test Report; +Cc: dpdk-test-reports
Test-Label: iol-sample-apps-testing
Test-Status: SUCCESS
http://dpdk.org/patch/155804
_Testing PASS_
Submitter: Chengwen Feng <fengchengwen@huawei.com>
Date: Tuesday, August 12 2025 02:07:08 
DPDK git baseline: Repo:dpdk
  Branch: master
  CommitID:38543d33bd47fc0ee21f59db80a8763620741879
155797-155804 --> testing pass
Upstream job id: ACVP-FIPS-testing#10771
Test environment and result as below:
+--------------+----------------------+----------------------+
| Environment  | dpdk_fips_validation | compressdev_zlib_pmd |
+==============+======================+======================+
| Ubuntu 20.04 | PASS                 | SKIPPED              |
+--------------+----------------------+----------------------+
| Ubuntu 22.04 | SKIPPED              | PASS                 |
+--------------+----------------------+----------------------+
Ubuntu 20.04
	Kernel: 5.15
	Compiler: gcc gcc (Ubuntu 9.4.0-1ubuntu1~20.04.2) 9.4.0
Ubuntu 22.04
	Kernel: 5.15
	Compiler: gcc gcc (Ubuntu 11.4.0-1ubuntu1~22.04) 11.4.0
To view detailed results, visit:
https://lab.dpdk.org/results/dashboard/patchsets/33859/
UNH-IOL DPDK Community Lab
To manage your email subscriptions, visit: 
https://lab.dpdk.org/results/dashboard/preferences/subscriptions/
^ permalink raw reply	[flat|nested] 23+ messages in thread
* |SUCCESS| pw155797-155804 [PATCH] [10/10] app/dma-perf: support spec
       [not found] <20250812020708.16186-11-fengchengwen@huawei.com>
                   ` (12 preceding siblings ...)
  2025-08-12  3:09 ` |SUCCESS| pw155797-155804 [PATCH] [10/10] app/dma-perf: support spec dpdklab
@ 2025-08-12  3:14 ` dpdklab
  2025-08-12  3:17 ` dpdklab
                   ` (8 subsequent siblings)
  22 siblings, 0 replies; 23+ messages in thread
From: dpdklab @ 2025-08-12  3:14 UTC (permalink / raw)
  To: Test Report; +Cc: dpdk-test-reports
Test-Label: iol-unit-amd64-testing
Test-Status: SUCCESS
http://dpdk.org/patch/155804
_Testing PASS_
Submitter: Chengwen Feng <fengchengwen@huawei.com>
Date: Tuesday, August 12 2025 02:07:08 
DPDK git baseline: Repo:dpdk
  Branch: master
  CommitID:38543d33bd47fc0ee21f59db80a8763620741879
155797-155804 --> testing pass
Upstream job id: Generic-Unit-Test-DPDK#362100
Test environment and result as below:
+-------------------------------+----------------+
|          Environment          | dpdk_unit_test |
+===============================+================+
| Fedora Linux 40               | PASS           |
+-------------------------------+----------------+
| CentOS Stream 9               | PASS           |
+-------------------------------+----------------+
| CentOS Stream 10              | PASS           |
+-------------------------------+----------------+
| Debian GNU/Linux 12           | PASS           |
+-------------------------------+----------------+
| Fedora 42                     | PASS           |
+-------------------------------+----------------+
| Fedora Linux 41               | PASS           |
+-------------------------------+----------------+
| Red Hat Enterprise Linux 9.5  | PASS           |
+-------------------------------+----------------+
| Red Hat Enterprise Linux 8.10 | PASS           |
+-------------------------------+----------------+
| Ubuntu 20.04                  | PASS           |
+-------------------------------+----------------+
| Ubuntu 24.04                  | PASS           |
+-------------------------------+----------------+
| Ubuntu 22.04                  | PASS           |
+-------------------------------+----------------+
| Fedora 42 (Clang)             | PASS           |
+-------------------------------+----------------+
| Windows Server 2022           | PASS           |
+-------------------------------+----------------+
Fedora Linux 40
	Kernel: 5.15
	Compiler: gcc gcc (GCC) 14.2.1 20240912 (Red Hat 14.2.1-3)
CentOS Stream 9
	Kernel: 5.15
	Compiler: gcc gcc (GCC) 11.5.0 20240719 (Red Hat 11.5.0-7)
CentOS Stream 10
	Kernel: 5.15
	Compiler: gcc gcc (GCC) 14.2.1 20250110 (Red Hat 14.2.1-8)
Debian GNU/Linux 12
	Kernel: 5.15
	Compiler: gcc gcc (Debian 12.2.0-14+deb12u1) 12.2.0
Fedora 42
	Kernel: Depends on container host
	Compiler: gcc 15.1.1 20250425 (Red Hat 15.1.1-1)
Fedora Linux 41
	Kernel: 5.15
	Compiler: clang gcc (GCC) 14.3.1 20250523 (Red Hat 14.3.1-1)
Red Hat Enterprise Linux 9.5
	Kernel: 5.15
	Compiler: gcc gcc (GCC) 11.5.0 20240719 (Red Hat 11.5.0-2)
Red Hat Enterprise Linux 8.10
	Kernel: 5.15
	Compiler: gcc gcc (GCC) 8.5.0 20210514 (Red Hat 8.5.0-22)
Ubuntu 20.04
	Kernel: 5.15
	Compiler: gcc gcc (Ubuntu 9.4.0-1ubuntu1~20.04.2) 9.4.0
Ubuntu 24.04
	Kernel: 5.15
	Compiler: gcc gcc (Ubuntu 13.3.0-6ubuntu2~24.04) 13.3.0
Ubuntu 22.04
	Kernel: 5.15
	Compiler: gcc gcc (Ubuntu 11.4.0-1ubuntu1~22.04) 11.4.0
Fedora 42 (Clang)
	Kernel: Depends on container host
	Compiler: clang 20.1.3 (Fedora 20.1.3-1.fc42)
Windows Server 2022
	Kernel: 10.0.20348.2031
	Compiler: clang 15.0.7, gcc 14.1.0 (MinGW), and MSVC VS 19.39.33521
To view detailed results, visit:
https://lab.dpdk.org/results/dashboard/patchsets/33859/
UNH-IOL DPDK Community Lab
To manage your email subscriptions, visit: 
https://lab.dpdk.org/results/dashboard/preferences/subscriptions/
^ permalink raw reply	[flat|nested] 23+ messages in thread
* |SUCCESS| pw155797-155804 [PATCH] [10/10] app/dma-perf: support spec
       [not found] <20250812020708.16186-11-fengchengwen@huawei.com>
                   ` (13 preceding siblings ...)
  2025-08-12  3:14 ` dpdklab
@ 2025-08-12  3:17 ` dpdklab
  2025-08-12  3:20 ` dpdklab
                   ` (7 subsequent siblings)
  22 siblings, 0 replies; 23+ messages in thread
From: dpdklab @ 2025-08-12  3:17 UTC (permalink / raw)
  To: Test Report; +Cc: dpdk-test-reports
Test-Label: iol-sample-apps-testing
Test-Status: SUCCESS
http://dpdk.org/patch/155804
_Testing PASS_
Submitter: Chengwen Feng <fengchengwen@huawei.com>
Date: Tuesday, August 12 2025 02:07:08 
DPDK git baseline: Repo:dpdk
  Branch: master
  CommitID:38543d33bd47fc0ee21f59db80a8763620741879
155797-155804 --> testing pass
Upstream job id: Template-DTS-Pipeline#239999
Test environment and result as below:
+--------------+----------------------+----------------------+
| Environment  | dpdk_fips_validation | compressdev_zlib_pmd |
+==============+======================+======================+
| Ubuntu 20.04 | PASS                 | SKIPPED              |
+--------------+----------------------+----------------------+
| Ubuntu 22.04 | SKIPPED              | PASS                 |
+--------------+----------------------+----------------------+
Ubuntu 20.04
	Kernel: 5.15
	Compiler: gcc gcc (Ubuntu 9.4.0-1ubuntu1~20.04.2) 9.4.0
Ubuntu 22.04
	Kernel: 5.15
	Compiler: gcc gcc (Ubuntu 11.4.0-1ubuntu1~22.04) 11.4.0
To view detailed results, visit:
https://lab.dpdk.org/results/dashboard/patchsets/33859/
UNH-IOL DPDK Community Lab
To manage your email subscriptions, visit: 
https://lab.dpdk.org/results/dashboard/preferences/subscriptions/
^ permalink raw reply	[flat|nested] 23+ messages in thread
* |SUCCESS| pw155797-155804 [PATCH] [10/10] app/dma-perf: support spec
       [not found] <20250812020708.16186-11-fengchengwen@huawei.com>
                   ` (14 preceding siblings ...)
  2025-08-12  3:17 ` dpdklab
@ 2025-08-12  3:20 ` dpdklab
  2025-08-12  3:27 ` dpdklab
                   ` (6 subsequent siblings)
  22 siblings, 0 replies; 23+ messages in thread
From: dpdklab @ 2025-08-12  3:20 UTC (permalink / raw)
  To: Test Report; +Cc: dpdk-test-reports
Test-Label: iol-intel-Functional
Test-Status: SUCCESS
http://dpdk.org/patch/155804
_Functional Testing PASS_
Submitter: Chengwen Feng <fengchengwen@huawei.com>
Date: Tuesday, August 12 2025 02:07:08 
DPDK git baseline: Repo:dpdk
  Branch: master
  CommitID:38543d33bd47fc0ee21f59db80a8763620741879
155797-155804 --> functional testing pass
Upstream job id: Template-DTS-Pipeline#239998
Test environment and result as below:
Ubuntu 20.04
Kernel: 5.4
Compiler: gcc gcc (Ubuntu 9.4.0-1ubuntu1~20.04.1) 9.4.0
NIC: Intel Corporation Ethernet Converged Network Adapter XL710-QDA2 40000 Mbps
Aggregate Results by Test Suite
+-----------------------------+--------+
|         Test Suite          | Result |
+=============================+========+
| unit_tests_mbuf             |  PASS  |
+-----------------------------+--------+
| vhost_virtio_user_interrupt |  PASS  |
+-----------------------------+--------+
| virtio_smoke                |  PASS  |
+-----------------------------+--------+
Ubuntu 22.04
Kernel: 5.15
Compiler: gcc gcc (Ubuntu 11.4.0-1ubuntu1~22.04) 11.4.0
NIC: Intel Corporation QAT 8970 0 Mbps
Aggregate Results by Test Suite
+----------------------------+--------+
|         Test Suite         | Result |
+============================+========+
| crypto_perf_cryptodev_perf |  PASS  |
+----------------------------+--------+
To view detailed results, visit:
https://lab.dpdk.org/results/dashboard/patchsets/33859/
UNH-IOL DPDK Community Lab
To manage your email subscriptions, visit: 
https://lab.dpdk.org/results/dashboard/preferences/subscriptions/
^ permalink raw reply	[flat|nested] 23+ messages in thread
* |SUCCESS| pw155797-155804 [PATCH] [10/10] app/dma-perf: support spec
       [not found] <20250812020708.16186-11-fengchengwen@huawei.com>
                   ` (15 preceding siblings ...)
  2025-08-12  3:20 ` dpdklab
@ 2025-08-12  3:27 ` dpdklab
  2025-08-12  3:49 ` dpdklab
                   ` (5 subsequent siblings)
  22 siblings, 0 replies; 23+ messages in thread
From: dpdklab @ 2025-08-12  3:27 UTC (permalink / raw)
  To: Test Report; +Cc: dpdk-test-reports
Test-Label: iol-compile-amd64-testing
Test-Status: SUCCESS
http://dpdk.org/patch/155804
_Testing PASS_
Submitter: Chengwen Feng <fengchengwen@huawei.com>
Date: Tuesday, August 12 2025 02:07:08 
DPDK git baseline: Repo:dpdk
  Branch: master
  CommitID:38543d33bd47fc0ee21f59db80a8763620741879
155797-155804 --> testing pass
Upstream job id: Generic-DPDK-Compile-Meson#416736
Test environment and result as below:
+-------------------------------+--------------------+-------------------+------------------+-------------------------+-------------------+----------------------+
|          Environment          | dpdk_meson_compile | dpdk_compile_spdk | dpdk_compile_ovs | dpdk_llvm_clang_compile | dpdk_msvc_compile | dpdk_mingw64_compile |
+===============================+====================+===================+==================+=========================+===================+======================+
| CentOS Stream 9               | PASS               | PASS              | SKIPPED          | SKIPPED                 | SKIPPED           | SKIPPED              |
+-------------------------------+--------------------+-------------------+------------------+-------------------------+-------------------+----------------------+
| CentOS Stream 10              | PASS               | SKIPPED           | SKIPPED          | SKIPPED                 | SKIPPED           | SKIPPED              |
+-------------------------------+--------------------+-------------------+------------------+-------------------------+-------------------+----------------------+
| Debian GNU/Linux 12           | PASS               | PASS              | SKIPPED          | SKIPPED                 | SKIPPED           | SKIPPED              |
+-------------------------------+--------------------+-------------------+------------------+-------------------------+-------------------+----------------------+
| Fedora Linux 40               | PASS               | PASS              | SKIPPED          | SKIPPED                 | SKIPPED           | SKIPPED              |
+-------------------------------+--------------------+-------------------+------------------+-------------------------+-------------------+----------------------+
| Fedora Linux 41               | PASS               | PASS              | PASS             | SKIPPED                 | SKIPPED           | SKIPPED              |
+-------------------------------+--------------------+-------------------+------------------+-------------------------+-------------------+----------------------+
| Fedora 42 (Clang)             | PASS               | PASS              | PASS             | SKIPPED                 | SKIPPED           | SKIPPED              |
+-------------------------------+--------------------+-------------------+------------------+-------------------------+-------------------+----------------------+
| Red Hat Enterprise Linux 8.10 | PASS               | SKIPPED           | SKIPPED          | SKIPPED                 | SKIPPED           | SKIPPED              |
+-------------------------------+--------------------+-------------------+------------------+-------------------------+-------------------+----------------------+
| openSUSE Leap 15.6            | PASS               | SKIPPED           | SKIPPED          | SKIPPED                 | SKIPPED           | SKIPPED              |
+-------------------------------+--------------------+-------------------+------------------+-------------------------+-------------------+----------------------+
| Red Hat Enterprise Linux 9.5  | PASS               | SKIPPED           | SKIPPED          | SKIPPED                 | SKIPPED           | SKIPPED              |
+-------------------------------+--------------------+-------------------+------------------+-------------------------+-------------------+----------------------+
| Ubuntu 20.04                  | PASS               | SKIPPED           | SKIPPED          | SKIPPED                 | SKIPPED           | SKIPPED              |
+-------------------------------+--------------------+-------------------+------------------+-------------------------+-------------------+----------------------+
| Ubuntu 22.04                  | PASS               | PASS              | SKIPPED          | SKIPPED                 | SKIPPED           | SKIPPED              |
+-------------------------------+--------------------+-------------------+------------------+-------------------------+-------------------+----------------------+
| Ubuntu 24.04                  | PASS               | PASS              | PASS             | SKIPPED                 | SKIPPED           | SKIPPED              |
+-------------------------------+--------------------+-------------------+------------------+-------------------------+-------------------+----------------------+
| FreeBSD 14.2                  | PASS               | SKIPPED           | SKIPPED          | SKIPPED                 | SKIPPED           | SKIPPED              |
+-------------------------------+--------------------+-------------------+------------------+-------------------------+-------------------+----------------------+
| Alpine Linux 3.22.0           | PASS               | SKIPPED           | SKIPPED          | SKIPPED                 | SKIPPED           | SKIPPED              |
+-------------------------------+--------------------+-------------------+------------------+-------------------------+-------------------+----------------------+
| Windows Server 2022           | SKIPPED            | SKIPPED           | SKIPPED          | PASS                    | PASS              | PASS                 |
+-------------------------------+--------------------+-------------------+------------------+-------------------------+-------------------+----------------------+
CentOS Stream 9
	Kernel: 5.15
	Compiler: gcc gcc (GCC) 11.5.0 20240719 (Red Hat 11.5.0-7)
CentOS Stream 10
	Kernel: 5.15
	Compiler: gcc gcc (GCC) 14.2.1 20250110 (Red Hat 14.2.1-8)
Debian GNU/Linux 12
	Kernel: 5.15
	Compiler: gcc gcc (Debian 12.2.0-14+deb12u1) 12.2.0
Fedora Linux 40
	Kernel: 5.15
	Compiler: clang gcc (GCC) 14.2.1 20240912 (Red Hat 14.2.1-3)
Fedora Linux 41
	Kernel: 5.15
	Compiler: clang gcc (GCC) 14.3.1 20250523 (Red Hat 14.3.1-1)
Fedora 42 (Clang)
	Kernel: Depends on container host
	Compiler: clang 20.1.3 (Fedora 20.1.3-1.fc42)
Red Hat Enterprise Linux 8.10
	Kernel: 5.15
	Compiler: gcc gcc (GCC) 8.5.0 20210514 (Red Hat 8.5.0-22)
openSUSE Leap 15.6
	Kernel: 5.15
	Compiler: gcc gcc (SUSE Linux) 7.5.0
Red Hat Enterprise Linux 9.5
	Kernel: 5.15
	Compiler: gcc gcc (GCC) 11.5.0 20240719 (Red Hat 11.5.0-2)
Ubuntu 20.04
	Kernel: 5.15
	Compiler: gcc gcc (Ubuntu 9.4.0-1ubuntu1~20.04.2) 9.4.0
Ubuntu 22.04
	Kernel: 5.15
	Compiler: gcc gcc (Ubuntu 11.4.0-1ubuntu1~22.04) 11.4.0
Ubuntu 24.04
	Kernel: 5.15
	Compiler: gcc gcc (Ubuntu 13.3.0-6ubuntu2~24.04) 13.3.0
FreeBSD 14.2
	Kernel: 14.2-RELEASE
	Compiler: clang 18.1.6
Alpine Linux 3.22.0
	Kernel: 5.15
	Compiler: gcc gcc (Alpine 14.2.0) 14.2.0
Windows Server 2022
	Kernel: 10.0.20348.2031
	Compiler: clang 15.0.7, gcc 14.1.0 (MinGW), and MSVC VS 19.39.33521
To view detailed results, visit:
https://lab.dpdk.org/results/dashboard/patchsets/33859/
UNH-IOL DPDK Community Lab
To manage your email subscriptions, visit: 
https://lab.dpdk.org/results/dashboard/preferences/subscriptions/
^ permalink raw reply	[flat|nested] 23+ messages in thread
* |SUCCESS| pw155797-155804 [PATCH] [10/10] app/dma-perf: support spec
       [not found] <20250812020708.16186-11-fengchengwen@huawei.com>
                   ` (16 preceding siblings ...)
  2025-08-12  3:27 ` dpdklab
@ 2025-08-12  3:49 ` dpdklab
  2025-08-12 11:09 ` dpdklab
                   ` (4 subsequent siblings)
  22 siblings, 0 replies; 23+ messages in thread
From: dpdklab @ 2025-08-12  3:49 UTC (permalink / raw)
  To: Test Report; +Cc: dpdk-test-reports
Test-Label: iol-unit-arm64-testing
Test-Status: SUCCESS
http://dpdk.org/patch/155804
_Testing PASS_
Submitter: Chengwen Feng <fengchengwen@huawei.com>
Date: Tuesday, August 12 2025 02:07:08 
DPDK git baseline: Repo:dpdk
  Branch: master
  CommitID:38543d33bd47fc0ee21f59db80a8763620741879
155797-155804 --> testing pass
Upstream job id: Generic-Unit-Test-DPDK#362097
Test environment and result as below:
+------------------------------+--------------+---------------------------+------------------------------+----------------+
|         Environment          | lpm_autotest | cryptodev_sw_zuc_autotest | cryptodev_sw_snow3g_autotest | dpdk_unit_test |
+==============================+==============+===========================+==============================+================+
| Ubuntu 20.04                 | PASS         | SKIPPED                   | SKIPPED                      | PASS           |
+------------------------------+--------------+---------------------------+------------------------------+----------------+
| Debian 12 (arm)              | SKIPPED      | PASS                      | PASS                         | SKIPPED        |
+------------------------------+--------------+---------------------------+------------------------------+----------------+
| CentOS Stream 9              | SKIPPED      | SKIPPED                   | SKIPPED                      | PASS           |
+------------------------------+--------------+---------------------------+------------------------------+----------------+
| CentOS Stream 10             | SKIPPED      | SKIPPED                   | SKIPPED                      | PASS           |
+------------------------------+--------------+---------------------------+------------------------------+----------------+
| Debian GNU/Linux 12          | SKIPPED      | SKIPPED                   | SKIPPED                      | PASS           |
+------------------------------+--------------+---------------------------+------------------------------+----------------+
| Fedora Linux 41              | SKIPPED      | SKIPPED                   | SKIPPED                      | PASS           |
+------------------------------+--------------+---------------------------+------------------------------+----------------+
| Fedora 42 (ARM)              | SKIPPED      | SKIPPED                   | SKIPPED                      | PASS           |
+------------------------------+--------------+---------------------------+------------------------------+----------------+
| Fedora 42 (ARM Clang)        | SKIPPED      | SKIPPED                   | SKIPPED                      | PASS           |
+------------------------------+--------------+---------------------------+------------------------------+----------------+
| Fedora Linux 40              | SKIPPED      | SKIPPED                   | SKIPPED                      | PASS           |
+------------------------------+--------------+---------------------------+------------------------------+----------------+
| Ubuntu 22.04                 | SKIPPED      | SKIPPED                   | SKIPPED                      | PASS           |
+------------------------------+--------------+---------------------------+------------------------------+----------------+
| Red Hat Enterprise Linux 9.5 | SKIPPED      | SKIPPED                   | SKIPPED                      | PASS           |
+------------------------------+--------------+---------------------------+------------------------------+----------------+
| Ubuntu 24.04                 | SKIPPED      | SKIPPED                   | SKIPPED                      | PASS           |
+------------------------------+--------------+---------------------------+------------------------------+----------------+
Ubuntu 20.04
	Kernel: 5.4
	Compiler: gcc gcc (Ubuntu 9.4.0-1ubuntu1~20.04.2) 9.4.0
Debian 12 (arm)
	Kernel: Depends on container host
	Compiler: gcc (Debian 12.2.0-14) 12.2.0
CentOS Stream 9
	Kernel: 5.4
	Compiler: gcc gcc (GCC) 11.5.0 20240719 (Red Hat 11.5.0-7)
CentOS Stream 10
	Kernel: 5.4
	Compiler: gcc gcc (GCC) 14.2.1 20250110 (Red Hat 14.2.1-8)
Debian GNU/Linux 12
	Kernel: 5.4
	Compiler: gcc gcc (Debian 12.2.0-14+deb12u1) 12.2.0
Fedora Linux 41
	Kernel: 5.4
	Compiler: gcc gcc (GCC) 14.3.1 20250523 (Red Hat 14.3.1-1)
Fedora 42 (ARM)
	Kernel: Depends on container host
	Compiler: gcc 15.1.1 20250425 (Red Hat 15.1.1-1)
Fedora 42 (ARM Clang)
	Kernel: Depends on container host
	Compiler: clang 20.1.3 (Fedora 20.1.3-1.fc42)
Fedora Linux 40
	Kernel: 5.4
	Compiler: gcc gcc (GCC) 14.2.1 20240912 (Red Hat 14.2.1-3)
Ubuntu 22.04
	Kernel: 5.4
	Compiler: gcc gcc (Ubuntu 11.4.0-1ubuntu1~22.04) 11.4.0
Red Hat Enterprise Linux 9.5
	Kernel: 5.4
	Compiler: gcc gcc (GCC) 11.5.0 20240719 (Red Hat 11.5.0-2)
Ubuntu 24.04
	Kernel: 5.4
	Compiler: gcc gcc (Ubuntu 13.3.0-6ubuntu2~24.04) 13.3.0
To view detailed results, visit:
https://lab.dpdk.org/results/dashboard/patchsets/33859/
UNH-IOL DPDK Community Lab
To manage your email subscriptions, visit: 
https://lab.dpdk.org/results/dashboard/preferences/subscriptions/
^ permalink raw reply	[flat|nested] 23+ messages in thread
* |SUCCESS| pw155797-155804 [PATCH] [10/10] app/dma-perf: support spec
       [not found] <20250812020708.16186-11-fengchengwen@huawei.com>
                   ` (17 preceding siblings ...)
  2025-08-12  3:49 ` dpdklab
@ 2025-08-12 11:09 ` dpdklab
  2025-08-12 11:09 ` dpdklab
                   ` (3 subsequent siblings)
  22 siblings, 0 replies; 23+ messages in thread
From: dpdklab @ 2025-08-12 11:09 UTC (permalink / raw)
  To: Test Report; +Cc: dpdk-test-reports
Test-Label: iol-compile-arm64-testing
Test-Status: SUCCESS
http://dpdk.org/patch/155804
_Testing PASS_
Submitter: Chengwen Feng <fengchengwen@huawei.com>
Date: Tuesday, August 12 2025 02:07:08 
DPDK git baseline: Repo:dpdk
  Branch: master
  CommitID:38543d33bd47fc0ee21f59db80a8763620741879
155797-155804 --> testing pass
Upstream job id: Generic-DPDK-Compile-Meson#416753
Test environment and result as below:
+------------------------------+--------------------+
|         Environment          | dpdk_meson_compile |
+==============================+====================+
| Ubuntu 20.04                 | PASS               |
+------------------------------+--------------------+
| Debian GNU/Linux 12          | PASS               |
+------------------------------+--------------------+
| Fedora Linux 40              | PASS               |
+------------------------------+--------------------+
| Fedora Linux 41              | PASS               |
+------------------------------+--------------------+
| Fedora 42 (ARM)              | PASS               |
+------------------------------+--------------------+
| Fedora 42 (ARM Clang)        | PASS               |
+------------------------------+--------------------+
| CentOS Stream 9              | PASS               |
+------------------------------+--------------------+
| Ubuntu 22.04                 | PASS               |
+------------------------------+--------------------+
| Ubuntu 24.04                 | PASS               |
+------------------------------+--------------------+
| CentOS Stream 10             | PASS               |
+------------------------------+--------------------+
| Red Hat Enterprise Linux 9.5 | PASS               |
+------------------------------+--------------------+
Ubuntu 20.04
	Kernel: 5.15
	Compiler: aarch64-linux-gnu-gcc gcc (Ubuntu 9.4.0-1ubuntu1~20.04.2) 9.4.0
Debian GNU/Linux 12
	Kernel: 5.4
	Compiler: gcc gcc (Debian 12.2.0-14+deb12u1) 12.2.0
Fedora Linux 40
	Kernel: 5.4
	Compiler: gcc gcc (GCC) 14.2.1 20240912 (Red Hat 14.2.1-3)
Fedora Linux 41
	Kernel: 5.4
	Compiler: gcc gcc (GCC) 14.3.1 20250523 (Red Hat 14.3.1-1)
Fedora 42 (ARM)
	Kernel: Depends on container host
	Compiler: gcc 15.1.1 20250425 (Red Hat 15.1.1-1)
Fedora 42 (ARM Clang)
	Kernel: Depends on container host
	Compiler: clang 20.1.3 (Fedora 20.1.3-1.fc42)
CentOS Stream 9
	Kernel: 5.4
	Compiler: gcc gcc (GCC) 11.5.0 20240719 (Red Hat 11.5.0-7)
Ubuntu 22.04
	Kernel: 5.4
	Compiler: gcc gcc (Ubuntu 11.4.0-1ubuntu1~22.04) 11.4.0
Ubuntu 24.04
	Kernel: 5.4
	Compiler: gcc gcc (Ubuntu 13.3.0-6ubuntu2~24.04) 13.3.0
CentOS Stream 10
	Kernel: 5.4
	Compiler: gcc gcc (GCC) 14.2.1 20250110 (Red Hat 14.2.1-8)
Red Hat Enterprise Linux 9.5
	Kernel: 5.4
	Compiler: gcc gcc (GCC) 11.5.0 20240719 (Red Hat 11.5.0-2)
To view detailed results, visit:
https://lab.dpdk.org/results/dashboard/patchsets/33859/
UNH-IOL DPDK Community Lab
To manage your email subscriptions, visit: 
https://lab.dpdk.org/results/dashboard/preferences/subscriptions/
^ permalink raw reply	[flat|nested] 23+ messages in thread
* |SUCCESS| pw155797-155804 [PATCH] [10/10] app/dma-perf: support spec
       [not found] <20250812020708.16186-11-fengchengwen@huawei.com>
                   ` (18 preceding siblings ...)
  2025-08-12 11:09 ` dpdklab
@ 2025-08-12 11:09 ` dpdklab
  2025-08-12 11:11 ` dpdklab
                   ` (2 subsequent siblings)
  22 siblings, 0 replies; 23+ messages in thread
From: dpdklab @ 2025-08-12 11:09 UTC (permalink / raw)
  To: Test Report; +Cc: dpdk-test-reports
Test-Label: iol-compile-arm64-testing
Test-Status: SUCCESS
http://dpdk.org/patch/155804
_Testing PASS_
Submitter: Chengwen Feng <fengchengwen@huawei.com>
Date: Tuesday, August 12 2025 02:07:08 
DPDK git baseline: Repo:dpdk
  Branch: master
  CommitID:38543d33bd47fc0ee21f59db80a8763620741879
155797-155804 --> testing pass
Upstream job id: Generic-DPDK-Compile-Meson#416755
Test environment and result as below:
+------------------------------+--------------------+
|         Environment          | dpdk_meson_compile |
+==============================+====================+
| Ubuntu 20.04                 | PASS               |
+------------------------------+--------------------+
| Debian GNU/Linux 12          | PASS               |
+------------------------------+--------------------+
| Fedora Linux 40              | PASS               |
+------------------------------+--------------------+
| Fedora Linux 41              | PASS               |
+------------------------------+--------------------+
| Fedora 42 (ARM)              | PASS               |
+------------------------------+--------------------+
| Fedora 42 (ARM Clang)        | PASS               |
+------------------------------+--------------------+
| CentOS Stream 9              | PASS               |
+------------------------------+--------------------+
| Ubuntu 22.04                 | PASS               |
+------------------------------+--------------------+
| Ubuntu 24.04                 | PASS               |
+------------------------------+--------------------+
| CentOS Stream 10             | PASS               |
+------------------------------+--------------------+
| Red Hat Enterprise Linux 9.5 | PASS               |
+------------------------------+--------------------+
Ubuntu 20.04
	Kernel: 5.15
	Compiler: aarch64-linux-gnu-gcc gcc (Ubuntu 9.4.0-1ubuntu1~20.04.2) 9.4.0
Debian GNU/Linux 12
	Kernel: 5.4
	Compiler: gcc gcc (Debian 12.2.0-14+deb12u1) 12.2.0
Fedora Linux 40
	Kernel: 5.4
	Compiler: gcc gcc (GCC) 14.2.1 20240912 (Red Hat 14.2.1-3)
Fedora Linux 41
	Kernel: 5.4
	Compiler: gcc gcc (GCC) 14.3.1 20250523 (Red Hat 14.3.1-1)
Fedora 42 (ARM)
	Kernel: Depends on container host
	Compiler: gcc 15.1.1 20250425 (Red Hat 15.1.1-1)
Fedora 42 (ARM Clang)
	Kernel: Depends on container host
	Compiler: clang 20.1.3 (Fedora 20.1.3-1.fc42)
CentOS Stream 9
	Kernel: 5.4
	Compiler: gcc gcc (GCC) 11.5.0 20240719 (Red Hat 11.5.0-7)
Ubuntu 22.04
	Kernel: 5.4
	Compiler: gcc gcc (Ubuntu 11.4.0-1ubuntu1~22.04) 11.4.0
Ubuntu 24.04
	Kernel: 5.4
	Compiler: gcc gcc (Ubuntu 13.3.0-6ubuntu2~24.04) 13.3.0
CentOS Stream 10
	Kernel: 5.4
	Compiler: gcc gcc (GCC) 14.2.1 20250110 (Red Hat 14.2.1-8)
Red Hat Enterprise Linux 9.5
	Kernel: 5.4
	Compiler: gcc gcc (GCC) 11.5.0 20240719 (Red Hat 11.5.0-2)
To view detailed results, visit:
https://lab.dpdk.org/results/dashboard/patchsets/33859/
UNH-IOL DPDK Community Lab
To manage your email subscriptions, visit: 
https://lab.dpdk.org/results/dashboard/preferences/subscriptions/
^ permalink raw reply	[flat|nested] 23+ messages in thread
* |SUCCESS| pw155797-155804 [PATCH] [10/10] app/dma-perf: support spec
       [not found] <20250812020708.16186-11-fengchengwen@huawei.com>
                   ` (19 preceding siblings ...)
  2025-08-12 11:09 ` dpdklab
@ 2025-08-12 11:11 ` dpdklab
  2025-08-12 12:51 ` dpdklab
  2025-08-12 17:30 ` dpdklab
  22 siblings, 0 replies; 23+ messages in thread
From: dpdklab @ 2025-08-12 11:11 UTC (permalink / raw)
  To: Test Report; +Cc: dpdk-test-reports
Test-Label: iol-compile-arm64-testing
Test-Status: SUCCESS
http://dpdk.org/patch/155804
_Testing PASS_
Submitter: Chengwen Feng <fengchengwen@huawei.com>
Date: Tuesday, August 12 2025 02:07:08 
DPDK git baseline: Repo:dpdk
  Branch: master
  CommitID:38543d33bd47fc0ee21f59db80a8763620741879
155797-155804 --> testing pass
Upstream job id: Generic-DPDK-Compile-Meson#416751
Test environment and result as below:
+------------------------------+--------------------+
|         Environment          | dpdk_meson_compile |
+==============================+====================+
| Ubuntu 20.04                 | PASS               |
+------------------------------+--------------------+
| Debian GNU/Linux 12          | PASS               |
+------------------------------+--------------------+
| Fedora Linux 40              | PASS               |
+------------------------------+--------------------+
| Fedora Linux 41              | PASS               |
+------------------------------+--------------------+
| Fedora 42 (ARM)              | PASS               |
+------------------------------+--------------------+
| Fedora 42 (ARM Clang)        | PASS               |
+------------------------------+--------------------+
| CentOS Stream 9              | PASS               |
+------------------------------+--------------------+
| Ubuntu 22.04                 | PASS               |
+------------------------------+--------------------+
| Ubuntu 24.04                 | PASS               |
+------------------------------+--------------------+
| CentOS Stream 10             | PASS               |
+------------------------------+--------------------+
| Red Hat Enterprise Linux 9.5 | PASS               |
+------------------------------+--------------------+
Ubuntu 20.04
	Kernel: 5.15
	Compiler: aarch64-linux-gnu-gcc gcc (Ubuntu 9.4.0-1ubuntu1~20.04.2) 9.4.0
Debian GNU/Linux 12
	Kernel: 5.4
	Compiler: gcc gcc (Debian 12.2.0-14+deb12u1) 12.2.0
Fedora Linux 40
	Kernel: 5.4
	Compiler: gcc gcc (GCC) 14.2.1 20240912 (Red Hat 14.2.1-3)
Fedora Linux 41
	Kernel: 5.4
	Compiler: gcc gcc (GCC) 14.3.1 20250523 (Red Hat 14.3.1-1)
Fedora 42 (ARM)
	Kernel: Depends on container host
	Compiler: gcc 15.1.1 20250425 (Red Hat 15.1.1-1)
Fedora 42 (ARM Clang)
	Kernel: Depends on container host
	Compiler: clang 20.1.3 (Fedora 20.1.3-1.fc42)
CentOS Stream 9
	Kernel: 5.4
	Compiler: gcc gcc (GCC) 11.5.0 20240719 (Red Hat 11.5.0-7)
Ubuntu 22.04
	Kernel: 5.4
	Compiler: gcc gcc (Ubuntu 11.4.0-1ubuntu1~22.04) 11.4.0
Ubuntu 24.04
	Kernel: 5.4
	Compiler: gcc gcc (Ubuntu 13.3.0-6ubuntu2~24.04) 13.3.0
CentOS Stream 10
	Kernel: 5.4
	Compiler: gcc gcc (GCC) 14.2.1 20250110 (Red Hat 14.2.1-8)
Red Hat Enterprise Linux 9.5
	Kernel: 5.4
	Compiler: gcc gcc (GCC) 11.5.0 20240719 (Red Hat 11.5.0-2)
To view detailed results, visit:
https://lab.dpdk.org/results/dashboard/patchsets/33859/
UNH-IOL DPDK Community Lab
To manage your email subscriptions, visit: 
https://lab.dpdk.org/results/dashboard/preferences/subscriptions/
^ permalink raw reply	[flat|nested] 23+ messages in thread
* |SUCCESS| pw155797-155804 [PATCH] [10/10] app/dma-perf: support spec
       [not found] <20250812020708.16186-11-fengchengwen@huawei.com>
                   ` (20 preceding siblings ...)
  2025-08-12 11:11 ` dpdklab
@ 2025-08-12 12:51 ` dpdklab
  2025-08-12 17:30 ` dpdklab
  22 siblings, 0 replies; 23+ messages in thread
From: dpdklab @ 2025-08-12 12:51 UTC (permalink / raw)
  To: Test Report; +Cc: dpdk-test-reports
Test-Label: iol-compile-amd64-testing
Test-Status: SUCCESS
http://dpdk.org/patch/155804
_Testing PASS_
Submitter: Chengwen Feng <fengchengwen@huawei.com>
Date: Tuesday, August 12 2025 02:07:08 
DPDK git baseline: Repo:dpdk
  Branch: master
  CommitID:38543d33bd47fc0ee21f59db80a8763620741879
155797-155804 --> testing pass
Upstream job id: Generic-DPDK-Compile-Meson#416965
Test environment and result as below:
+-------------------------------+--------------------+-------------------+------------------+-------------------------+-------------------+----------------------+
|          Environment          | dpdk_meson_compile | dpdk_compile_spdk | dpdk_compile_ovs | dpdk_llvm_clang_compile | dpdk_msvc_compile | dpdk_mingw64_compile |
+===============================+====================+===================+==================+=========================+===================+======================+
| CentOS Stream 9               | PASS               | PASS              | SKIPPED          | SKIPPED                 | SKIPPED           | SKIPPED              |
+-------------------------------+--------------------+-------------------+------------------+-------------------------+-------------------+----------------------+
| CentOS Stream 10              | PASS               | SKIPPED           | SKIPPED          | SKIPPED                 | SKIPPED           | SKIPPED              |
+-------------------------------+--------------------+-------------------+------------------+-------------------------+-------------------+----------------------+
| Debian GNU/Linux 12           | PASS               | PASS              | SKIPPED          | SKIPPED                 | SKIPPED           | SKIPPED              |
+-------------------------------+--------------------+-------------------+------------------+-------------------------+-------------------+----------------------+
| Fedora Linux 40               | PASS               | PASS              | SKIPPED          | SKIPPED                 | SKIPPED           | SKIPPED              |
+-------------------------------+--------------------+-------------------+------------------+-------------------------+-------------------+----------------------+
| Fedora Linux 41               | PASS               | PASS              | PASS             | SKIPPED                 | SKIPPED           | SKIPPED              |
+-------------------------------+--------------------+-------------------+------------------+-------------------------+-------------------+----------------------+
| Fedora 42 (Clang)             | PASS               | PASS              | PASS             | SKIPPED                 | SKIPPED           | SKIPPED              |
+-------------------------------+--------------------+-------------------+------------------+-------------------------+-------------------+----------------------+
| Red Hat Enterprise Linux 8.10 | PASS               | SKIPPED           | SKIPPED          | SKIPPED                 | SKIPPED           | SKIPPED              |
+-------------------------------+--------------------+-------------------+------------------+-------------------------+-------------------+----------------------+
| openSUSE Leap 15.6            | PASS               | SKIPPED           | SKIPPED          | SKIPPED                 | SKIPPED           | SKIPPED              |
+-------------------------------+--------------------+-------------------+------------------+-------------------------+-------------------+----------------------+
| Red Hat Enterprise Linux 9.5  | PASS               | SKIPPED           | SKIPPED          | SKIPPED                 | SKIPPED           | SKIPPED              |
+-------------------------------+--------------------+-------------------+------------------+-------------------------+-------------------+----------------------+
| Ubuntu 20.04                  | PASS               | SKIPPED           | SKIPPED          | SKIPPED                 | SKIPPED           | SKIPPED              |
+-------------------------------+--------------------+-------------------+------------------+-------------------------+-------------------+----------------------+
| Ubuntu 22.04                  | PASS               | PASS              | SKIPPED          | SKIPPED                 | SKIPPED           | SKIPPED              |
+-------------------------------+--------------------+-------------------+------------------+-------------------------+-------------------+----------------------+
| Ubuntu 24.04                  | PASS               | PASS              | PASS             | SKIPPED                 | SKIPPED           | SKIPPED              |
+-------------------------------+--------------------+-------------------+------------------+-------------------------+-------------------+----------------------+
| FreeBSD 14.2                  | PASS               | SKIPPED           | SKIPPED          | SKIPPED                 | SKIPPED           | SKIPPED              |
+-------------------------------+--------------------+-------------------+------------------+-------------------------+-------------------+----------------------+
| Alpine Linux 3.22.0           | PASS               | SKIPPED           | SKIPPED          | SKIPPED                 | SKIPPED           | SKIPPED              |
+-------------------------------+--------------------+-------------------+------------------+-------------------------+-------------------+----------------------+
| Fedora 42                     | PASS               | PASS              | PASS             | SKIPPED                 | SKIPPED           | SKIPPED              |
+-------------------------------+--------------------+-------------------+------------------+-------------------------+-------------------+----------------------+
| Windows Server 2022           | SKIPPED            | SKIPPED           | SKIPPED          | PASS                    | PASS              | PASS                 |
+-------------------------------+--------------------+-------------------+------------------+-------------------------+-------------------+----------------------+
CentOS Stream 9
	Kernel: 5.15
	Compiler: gcc gcc (GCC) 11.5.0 20240719 (Red Hat 11.5.0-7)
CentOS Stream 10
	Kernel: 5.15
	Compiler: gcc gcc (GCC) 14.2.1 20250110 (Red Hat 14.2.1-8)
Debian GNU/Linux 12
	Kernel: 5.15
	Compiler: gcc gcc (Debian 12.2.0-14+deb12u1) 12.2.0
Fedora Linux 40
	Kernel: 5.15
	Compiler: clang gcc (GCC) 14.2.1 20240912 (Red Hat 14.2.1-3)
Fedora Linux 41
	Kernel: 5.15
	Compiler: clang gcc (GCC) 14.3.1 20250523 (Red Hat 14.3.1-1)
Fedora 42 (Clang)
	Kernel: Depends on container host
	Compiler: clang 20.1.3 (Fedora 20.1.3-1.fc42)
Red Hat Enterprise Linux 8.10
	Kernel: 5.15
	Compiler: gcc gcc (GCC) 8.5.0 20210514 (Red Hat 8.5.0-22)
openSUSE Leap 15.6
	Kernel: 5.15
	Compiler: gcc gcc (SUSE Linux) 7.5.0
Red Hat Enterprise Linux 9.5
	Kernel: 5.15
	Compiler: gcc gcc (GCC) 11.5.0 20240719 (Red Hat 11.5.0-2)
Ubuntu 20.04
	Kernel: 5.15
	Compiler: gcc gcc (Ubuntu 9.4.0-1ubuntu1~20.04.2) 9.4.0
Ubuntu 22.04
	Kernel: 5.15
	Compiler: gcc gcc (Ubuntu 11.4.0-1ubuntu1~22.04) 11.4.0
Ubuntu 24.04
	Kernel: 5.15
	Compiler: gcc gcc (Ubuntu 13.3.0-6ubuntu2~24.04) 13.3.0
FreeBSD 14.2
	Kernel: 14.2-RELEASE
	Compiler: clang 18.1.6
Alpine Linux 3.22.0
	Kernel: 5.15
	Compiler: gcc gcc (Alpine 14.2.0) 14.2.0
Fedora 42
	Kernel: Depends on container host
	Compiler: gcc 15.1.1 20250425 (Red Hat 15.1.1-1)
Windows Server 2022
	Kernel: 10.0.20348.2031
	Compiler: clang 15.0.7, gcc 14.1.0 (MinGW), and MSVC VS 19.39.33521
To view detailed results, visit:
https://lab.dpdk.org/results/dashboard/patchsets/33859/
UNH-IOL DPDK Community Lab
To manage your email subscriptions, visit: 
https://lab.dpdk.org/results/dashboard/preferences/subscriptions/
^ permalink raw reply	[flat|nested] 23+ messages in thread
* |SUCCESS| pw155797-155804 [PATCH] [10/10] app/dma-perf: support spec
       [not found] <20250812020708.16186-11-fengchengwen@huawei.com>
                   ` (21 preceding siblings ...)
  2025-08-12 12:51 ` dpdklab
@ 2025-08-12 17:30 ` dpdklab
  22 siblings, 0 replies; 23+ messages in thread
From: dpdklab @ 2025-08-12 17:30 UTC (permalink / raw)
  To: Test Report; +Cc: dpdk-test-reports
Test-Label: iol-intel-Functional
Test-Status: SUCCESS
http://dpdk.org/patch/155804
_Functional Testing PASS_
Submitter: Chengwen Feng <fengchengwen@huawei.com>
Date: Tuesday, August 12 2025 02:07:08 
DPDK git baseline: Repo:dpdk
  Branch: master
  CommitID:38543d33bd47fc0ee21f59db80a8763620741879
155797-155804 --> functional testing pass
Upstream job id: Template-DTS-Pipeline#240001
Test environment and result as below:
Ubuntu 20.04
Kernel: 5.4
Compiler: gcc gcc (Ubuntu 9.4.0-1ubuntu1~20.04.1) 9.4.0
NIC: Intel Corporation Ethernet Converged Network Adapter XL710-QDA2 40000 Mbps
Aggregate Results by Test Suite
+-----------------------------+--------+
|         Test Suite          | Result |
+=============================+========+
| unit_tests_mbuf             |  PASS  |
+-----------------------------+--------+
| vhost_virtio_user_interrupt |  PASS  |
+-----------------------------+--------+
| virtio_smoke                |  PASS  |
+-----------------------------+--------+
Ubuntu 22.04
Kernel: 5.15
Compiler: gcc gcc (Ubuntu 11.4.0-1ubuntu1~22.04) 11.4.0
NIC: Intel Corporation QAT 8970 0 Mbps
Aggregate Results by Test Suite
+----------------------------+--------+
|         Test Suite         | Result |
+============================+========+
| crypto_perf_cryptodev_perf |  PASS  |
+----------------------------+--------+
Ubuntu 24.04
Kernel: 6.8
Compiler: gcc gcc (Ubuntu 13.3.0-6ubuntu2~24.04) 13.3.0
NIC: Intel Corporation 4xxx Series QAT 0 Mbps
Aggregate Results by Test Suite
+----------------------------+--------+
|         Test Suite         | Result |
+============================+========+
| crypto_perf_cryptodev_perf |  PASS  |
+----------------------------+--------+
To view detailed results, visit:
https://lab.dpdk.org/results/dashboard/patchsets/33859/
UNH-IOL DPDK Community Lab
To manage your email subscriptions, visit: 
https://lab.dpdk.org/results/dashboard/preferences/subscriptions/
^ permalink raw reply	[flat|nested] 23+ messages in thread
end of thread, other threads:[~2025-08-12 17:30 UTC | newest]
Thread overview: 23+ messages (download: mbox.gz / follow: Atom feed)
-- links below jump to the message on this page --
     [not found] <20250812020708.16186-11-fengchengwen@huawei.com>
2025-08-12  1:38 ` |SUCCESS| pw155797-155804 [PATCH 10/10] app/dma-perf: support specific error info qemudev
2025-08-12  1:43 ` qemudev
2025-08-12  2:06 ` |WARNING| pw155804 " checkpatch
2025-08-12  2:39 ` |SUCCESS| pw155797-155804 [PATCH] [10/10] app/dma-perf: support spec dpdklab
2025-08-12  2:44 ` dpdklab
2025-08-12  2:46 ` |PENDING| " dpdklab
2025-08-12  2:46 ` dpdklab
2025-08-12  2:57 ` |SUCCESS| " dpdklab
2025-08-12  2:59 ` dpdklab
2025-08-12  2:59 ` dpdklab
2025-08-12  2:59 ` dpdklab
2025-08-12  3:04 ` |SUCCESS| pw155804 [PATCH 10/10] app/dma-perf: support specific error info 0-day Robot
2025-08-12  3:09 ` |SUCCESS| pw155797-155804 [PATCH] [10/10] app/dma-perf: support spec dpdklab
2025-08-12  3:14 ` dpdklab
2025-08-12  3:17 ` dpdklab
2025-08-12  3:20 ` dpdklab
2025-08-12  3:27 ` dpdklab
2025-08-12  3:49 ` dpdklab
2025-08-12 11:09 ` dpdklab
2025-08-12 11:09 ` dpdklab
2025-08-12 11:11 ` dpdklab
2025-08-12 12:51 ` dpdklab
2025-08-12 17:30 ` dpdklab
This is a public inbox, see mirroring instructions
for how to clone and mirror all data and code used for this inbox;
as well as URLs for NNTP newsgroup(s).