From mboxrd@z Thu Jan 1 00:00:00 1970 Return-Path: Received: from mails.dpdk.org (mails.dpdk.org [217.70.189.124]) by inbox.dpdk.org (Postfix) with ESMTP id B35C442B0C for ; Mon, 15 May 2023 07:27:32 +0200 (CEST) Received: from mails.dpdk.org (localhost [127.0.0.1]) by mails.dpdk.org (Postfix) with ESMTP id AED7940395; Mon, 15 May 2023 07:27:32 +0200 (CEST) Received: from mail-oi1-f226.google.com (mail-oi1-f226.google.com [209.85.167.226]) by mails.dpdk.org (Postfix) with ESMTP id 764D640395 for ; Mon, 15 May 2023 07:27:31 +0200 (CEST) Received: by mail-oi1-f226.google.com with SMTP id 5614622812f47-395a957a310so876418b6e.0 for ; Sun, 14 May 2023 22:27:31 -0700 (PDT) DKIM-Signature: v=1; a=rsa-sha256; c=relaxed/relaxed; d=iol.unh.edu; s=unh-iol; t=1684128450; x=1686720450; h=cc:to:from:subject:message-id:date:from:to:cc:subject:date :message-id:reply-to; bh=Qd/ckKfx0jxJyKr2WXSHEeRegtjURtRBfmUOeEtU1ho=; b=OvGwuhJ4gOfFk4ufWfdrxIvW2OICWHwwR/BPN5viBFefaag9IAkWZef7CPfsum0OJw qJid+pBmymXGEu/Sor54vr3TRBg1FOSJRMdOT+UkFgheBmq8kgqDAJXSAJ524kqaQz+1 ZgSPr8M5V/a65ncYpatLNSfpdabUE5xYNtjeE= X-Google-DKIM-Signature: v=1; a=rsa-sha256; c=relaxed/relaxed; d=1e100.net; s=20221208; t=1684128450; x=1686720450; h=cc:to:from:subject:message-id:date:x-gm-message-state:from:to:cc :subject:date:message-id:reply-to; bh=Qd/ckKfx0jxJyKr2WXSHEeRegtjURtRBfmUOeEtU1ho=; b=lsqUXUKlsL0L986/R+tXKjmFsCoZjx6RxgtFtM/tDpTYmnvVRisLzk4xK2Whp1BbZu ybHN3CpZeOG0TtP0m4N+AgIeJ3jajzb3Ic0NLKNDsH8fb0tSy4Al/LzQd7ZtA5/TggcG usV18Q7W0wzRu2goXUTOxYXeltnDaTEbdY4JstACQ5/WFdzGJCh0Z/OeskTLp43/FzT8 WGzbFDkC2y2whHpDD6TRmQQwQnb1W50GnOmTfBHyqrY0bfj+/v3Y0uNWHAK4Ip2hTlrC Bwnc1cnVpG/4Pg7v5eT58hSQEM4D02xWnMLV2dQK4dqYz+meoEluOpxCkcUlM1AplZUi WYig== X-Gm-Message-State: AC+VfDyyPHejcmwX2i0Q7Uf3TVCJPV7aYBsEnbbe8BemSaDQRxE0hY0w gnlu8A5IWrxnYnFyvlsWbFGoLKKRQflPPgTpAqFar4cmFiXCWt5n//byJAAfGq5GRQ== X-Google-Smtp-Source: ACHHUZ7hX7cOppKXVcValiQLO0ckBnFMUfPHkv70Zrzwi5J9zntvpGbAbIPWBjPEurGCOWy24f6Ox9bbh07k X-Received: by 2002:a05:6808:482:b0:38d:fa2c:b9ea with SMTP id z2-20020a056808048200b0038dfa2cb9eamr10461184oid.47.1684128450766; Sun, 14 May 2023 22:27:30 -0700 (PDT) Received: from postal.iol.unh.edu (postal.iol.unh.edu. [2606:4100:3880:1234::84]) by smtp-relay.gmail.com with ESMTPS id f18-20020a4a5812000000b0054688b0d6cfsm1216544oob.10.2023.05.14.22.27.30 (version=TLS1_2 cipher=ECDHE-ECDSA-AES128-GCM-SHA256 bits=128/128); Sun, 14 May 2023 22:27:30 -0700 (PDT) X-Relaying-Domain: iol.unh.edu Date: Sun, 14 May 2023 22:27:30 -0700 (PDT) Message-ID: <6461c2c2.4a0a0220.78737.0084SMTPIN_ADDED_MISSING@mx.google.com> Received: from [172.17.0.2] (unknown [172.18.0.34]) by postal.iol.unh.edu (Postfix) with ESMTP id 4CF6A605246B; Mon, 15 May 2023 01:27:30 -0400 (EDT) Subject: |SUCCESS| [GIT MASTER] 37b4d55f5ec419d172b2d89692a3ce452199afb3 From: dpdklab@iol.unh.edu To: Test Report Cc: dpdk-test-reports@iol.unh.edu, Xueming Li , Christian Ehrhardt , Kevin Traynor , Luca Boccassi Content-Type: text/plain X-BeenThere: test-report@dpdk.org X-Mailman-Version: 2.1.29 Precedence: list List-Id: automatic DPDK test reports List-Unsubscribe: , List-Archive: List-Post: List-Help: List-Subscribe: , Errors-To: test-report-bounces@dpdk.org _Testing PASS_ Branch: tags/v21.11 37b4d55f5ec419d172b2d89692a3ce452199afb3 --> testing pass Test environment and result as below: +-----------------+----------+ | Environment | abi_test | +=================+==========+ | Debian Bullseye | PASS | +-----------------+----------+ | Ubuntu 22.04 | PASS | +-----------------+----------+ | CentOS Stream 9 | PASS | +-----------------+----------+ | CentOS Stream 8 | PASS | +-----------------+----------+ | Debian Buster | PASS | +-----------------+----------+ Debian Bullseye Kernel: 5.4.0-122-generic Compiler: gcc 10.2.1-6 Ubuntu 22.04 Kernel: Container Host Kernel Compiler: clang 14.0.5-1.fc36 CentOS Stream 9 Kernel: 4.18.0-240.10.1.el8_3.x86_64 Compiler: gcc 11.3.1 20220421 CentOS Stream 8 Kernel: 4.18.0-240.10.1.el8_3.x86_64 Compiler: gcc 8.4.1 20200928 Debian Buster Kernel: 5.4.0-122-generic Compiler: gcc 8.3.0-6 To view detailed results, visit: https://lab.dpdk.org/results/dashboard/tarballs/24554/ UNH-IOL DPDK Community Lab To manage your email subscriptions, visit: https://lab.dpdk.org/results/dashboard/preferences/subscriptions/