From: dpdklab@iol.unh.edu
To: Test Report <test-report@dpdk.org>
Cc: dpdk-test-reports@iol.unh.edu
Subject: |SUCCESS| pw126851-126854 [PATCH] [v2, 4/4] bus/pci: add VFIO sparse mmap support
Date: Mon, 15 May 2023 03:43:21 -0700 (PDT) [thread overview]
Message-ID: <64620cc9.170a0220.1b24b.3ffeSMTPIN_ADDED_MISSING@mx.google.com> (raw)
Test-Label: iol-abi-testing
Test-Status: SUCCESS
http://dpdk.org/patch/126854
_Testing PASS_
Submitter: Miao Li <miao.li@intel.com>
Date: Monday, May 15 2023 09:41:24
DPDK git baseline: Repo:dpdk
Branch: master
CommitID:dbff181d62c997f128b75db2bbac9f42e8dd0f8f
126851-126854 --> testing pass
Test environment and result as below:
+-----------------+----------+
| Environment | abi_test |
+=================+==========+
| RHEL 7 | PASS |
+-----------------+----------+
| Debian Bullseye | PASS |
+-----------------+----------+
| RHEL8 | PASS |
+-----------------+----------+
| Ubuntu 22.04 | PASS |
+-----------------+----------+
| CentOS Stream 9 | PASS |
+-----------------+----------+
RHEL 7
Kernel: 4.18.0-240.10.1.el8_3.x86_64
Compiler: gcc 4.8.5 20150623 (Red Hat 4.8.5-44)
Debian Bullseye
Kernel: 5.4.0-122-generic
Compiler: gcc 10.2.1-6
RHEL8
Kernel: 4.18.0-240.10.1.el8_3.x86_64
Compiler: gcc 8.3.1 20191121 (Red Hat 8.3.1-5)
Ubuntu 22.04
Kernel: 4.18.0-240.10.1.el8_3.x86_64
Compiler: gcc 11.3.0
CentOS Stream 9
Kernel: 4.18.0-240.10.1.el8_3.x86_64
Compiler: gcc 11.3.1 20220421
To view detailed results, visit:
https://lab.dpdk.org/results/dashboard/patchsets/26225/
UNH-IOL DPDK Community Lab
To manage your email subscriptions, visit:
https://lab.dpdk.org/results/dashboard/preferences/subscriptions/
next reply other threads:[~2023-05-15 10:43 UTC|newest]
Thread overview: 29+ messages / expand[flat|nested] mbox.gz Atom feed top
2023-05-15 10:43 dpdklab [this message]
-- strict thread matches above, loose matches on Subject: below --
2023-05-15 17:56 dpdklab
2023-05-15 12:01 dpdklab
2023-05-15 11:08 dpdklab
2023-05-15 10:53 dpdklab
2023-05-15 10:52 dpdklab
2023-05-15 10:52 dpdklab
2023-05-15 10:49 dpdklab
2023-05-15 10:46 dpdklab
2023-05-15 10:43 dpdklab
2023-05-15 10:43 dpdklab
2023-05-15 10:43 dpdklab
2023-05-15 10:42 dpdklab
2023-05-15 10:41 dpdklab
2023-05-15 10:38 dpdklab
2023-05-15 10:37 dpdklab
2023-05-15 10:34 dpdklab
2023-05-15 10:25 dpdklab
2023-05-15 10:19 dpdklab
2023-05-15 10:18 dpdklab
2023-05-15 10:18 dpdklab
2023-05-15 10:17 dpdklab
2023-05-15 10:17 dpdklab
2023-05-15 10:14 dpdklab
2023-05-15 10:13 dpdklab
2023-05-15 10:11 dpdklab
2023-05-15 10:09 dpdklab
[not found] <20230515094124.722431-5-miao.li@intel.com>
2023-05-15 9:30 ` |SUCCESS| pw126851-126854 [PATCH v2 " qemudev
2023-05-15 9:34 ` qemudev
Reply instructions:
You may reply publicly to this message via plain-text email
using any one of the following methods:
* Save the following mbox file, import it into your mail client,
and reply-to-all from there: mbox
Avoid top-posting and favor interleaved quoting:
https://en.wikipedia.org/wiki/Posting_style#Interleaved_style
* Reply using the --to, --cc, and --in-reply-to
switches of git-send-email(1):
git send-email \
--in-reply-to=64620cc9.170a0220.1b24b.3ffeSMTPIN_ADDED_MISSING@mx.google.com \
--to=dpdklab@iol.unh.edu \
--cc=dpdk-test-reports@iol.unh.edu \
--cc=test-report@dpdk.org \
/path/to/YOUR_REPLY
https://kernel.org/pub/software/scm/git/docs/git-send-email.html
* If your mail client supports setting the In-Reply-To header
via mailto: links, try the mailto: link
Be sure your reply has a Subject: header at the top and a blank line
before the message body.
This is a public inbox, see mirroring instructions
for how to clone and mirror all data and code used for this inbox;
as well as URLs for NNTP newsgroup(s).