From: dpdklab@iol.unh.edu
To: Test Report <test-report@dpdk.org>
Cc: Gregory Etelson <getelson@nvidia.com>, dpdk-test-reports@iol.unh.edu
Subject: |SUCCESS| pw127638 [PATCH] [v6] ethdev: add indirect list flow actio
Date: Sun, 28 May 2023 09:41:06 -0700 (PDT) [thread overview]
Message-ID: <64738422.0d0a0220.a7ba1.040dSMTPIN_ADDED_MISSING@mx.google.com> (raw)
Test-Label: iol-aarch64-unit-testing
Test-Status: SUCCESS
http://dpdk.org/patch/127638
_Testing PASS_
Submitter: Gregory Etelson <getelson@nvidia.com>
Date: Sunday, May 28 2023 15:43:50
DPDK git baseline: Repo:dpdk
Branch: master
CommitID:c9df59bcc9bec67783de98486879594e52bdc418
127638 --> testing pass
Test environment and result as below:
+-----------------------------+------------------------------+--------------+----------------+---------------------------+
| Environment | cryptodev_sw_snow3g_autotest | lpm_autotest | dpdk_unit_test | cryptodev_sw_zuc_autotest |
+=============================+==============================+==============+================+===========================+
| Debian 11 | PASS | SKIPPED | SKIPPED | PASS |
+-----------------------------+------------------------------+--------------+----------------+---------------------------+
| Ubuntu 20.04 ARM SVE | SKIPPED | PASS | SKIPPED | SKIPPED |
+-----------------------------+------------------------------+--------------+----------------+---------------------------+
| 32 bit ARM - Ubuntu 20.04.4 | SKIPPED | SKIPPED | PASS | SKIPPED |
+-----------------------------+------------------------------+--------------+----------------+---------------------------+
Debian 11
Kernel: Container Host Kernel
Compiler: gcc 10.2.1
Ubuntu 20.04 ARM SVE
Kernel: 5.4.0-80-generic
Compiler: gcc 10.3.0 (Ubuntu 10.3.0-1ubuntu1~20.04)
32 bit ARM - Ubuntu 20.04.4
Kernel: 5.4.0-148-generic aarch64
Compiler: gcc 9.4
To view detailed results, visit:
https://lab.dpdk.org/results/dashboard/patchsets/26422/
UNH-IOL DPDK Community Lab
To manage your email subscriptions, visit:
https://lab.dpdk.org/results/dashboard/preferences/subscriptions/
next reply other threads:[~2023-05-28 16:41 UTC|newest]
Thread overview: 30+ messages / expand[flat|nested] mbox.gz Atom feed top
2023-05-28 16:41 dpdklab [this message]
-- strict thread matches above, loose matches on Subject: below --
2023-05-28 19:20 dpdklab
2023-05-28 17:39 dpdklab
2023-05-28 17:26 dpdklab
2023-05-28 17:12 dpdklab
2023-05-28 17:04 dpdklab
2023-05-28 16:52 dpdklab
2023-05-28 16:50 dpdklab
2023-05-28 16:48 dpdklab
2023-05-28 16:47 dpdklab
2023-05-28 16:47 dpdklab
2023-05-28 16:45 dpdklab
2023-05-28 16:43 dpdklab
2023-05-28 16:40 dpdklab
2023-05-28 16:39 dpdklab
2023-05-28 16:38 dpdklab
2023-05-28 16:37 dpdklab
2023-05-28 16:37 dpdklab
2023-05-28 16:37 dpdklab
2023-05-28 16:36 dpdklab
2023-05-28 16:36 dpdklab
2023-05-28 16:33 dpdklab
2023-05-28 16:26 dpdklab
2023-05-28 16:21 dpdklab
2023-05-28 16:18 dpdklab
2023-05-28 16:17 dpdklab
2023-05-28 16:17 dpdklab
2023-05-28 16:16 dpdklab
2023-05-28 16:16 dpdklab
2023-05-28 16:16 dpdklab
Reply instructions:
You may reply publicly to this message via plain-text email
using any one of the following methods:
* Save the following mbox file, import it into your mail client,
and reply-to-all from there: mbox
Avoid top-posting and favor interleaved quoting:
https://en.wikipedia.org/wiki/Posting_style#Interleaved_style
* Reply using the --to, --cc, and --in-reply-to
switches of git-send-email(1):
git send-email \
--in-reply-to=64738422.0d0a0220.a7ba1.040dSMTPIN_ADDED_MISSING@mx.google.com \
--to=dpdklab@iol.unh.edu \
--cc=dpdk-test-reports@iol.unh.edu \
--cc=getelson@nvidia.com \
--cc=test-report@dpdk.org \
/path/to/YOUR_REPLY
https://kernel.org/pub/software/scm/git/docs/git-send-email.html
* If your mail client supports setting the In-Reply-To header
via mailto: links, try the mailto: link
Be sure your reply has a Subject: header at the top and a blank line
before the message body.
This is a public inbox, see mirroring instructions
for how to clone and mirror all data and code used for this inbox;
as well as URLs for NNTP newsgroup(s).