From: dpdklab@iol.unh.edu
To: Test Report <test-report@dpdk.org>
Cc: dpdk-test-reports@iol.unh.edu
Subject: |SUCCESS| [GIT MASTER] abaa473297cf21cb81e5348185a7694ae2f221e7
Date: Fri, 09 Jun 2023 15:02:22 -0700 (PDT) [thread overview]
Message-ID: <6483a16e.920a0220.9038.8348SMTPIN_ADDED_MISSING@mx.google.com> (raw)
_Testing PASS_
Branch: dpdk
abaa473297cf21cb81e5348185a7694ae2f221e7 --> testing pass
Test environment and result as below:
+-----------------------------+------------------------------+---------------------------+----------------+--------------+
| Environment | cryptodev_sw_snow3g_autotest | cryptodev_sw_zuc_autotest | dpdk_unit_test | lpm_autotest |
+=============================+==============================+===========================+================+==============+
| Debian 11 | PASS | PASS | SKIPPED | SKIPPED |
+-----------------------------+------------------------------+---------------------------+----------------+--------------+
| (32-bit) ARM Ubuntu 20.04.4 | SKIPPED | SKIPPED | PASS | SKIPPED |
+-----------------------------+------------------------------+---------------------------+----------------+--------------+
| Ubuntu 20.04 ARM SVE | SKIPPED | SKIPPED | SKIPPED | PASS |
+-----------------------------+------------------------------+---------------------------+----------------+--------------+
Debian 11
Kernel: Container Host Kernel
Compiler: gcc 10.2.1
(32-bit) ARM Ubuntu 20.04.4
Kernel: 5.4.0-148-generic aarch64
Compiler: gcc 9.4
Ubuntu 20.04 ARM SVE
Kernel: 5.4.0-80-generic
Compiler: gcc 10.3.0 (Ubuntu 10.3.0-1ubuntu1~20.04)
To view detailed results, visit:
https://lab.dpdk.org/results/dashboard/tarballs/24852/
UNH-IOL DPDK Community Lab
To manage your email subscriptions, visit:
https://lab.dpdk.org/results/dashboard/preferences/subscriptions/
next reply other threads:[~2023-06-09 22:02 UTC|newest]
Thread overview: 126+ messages / expand[flat|nested] mbox.gz Atom feed top
2023-06-09 22:02 dpdklab [this message]
-- strict thread matches above, loose matches on Subject: below --
2023-06-09 23:05 dpdklab
2023-06-09 22:31 dpdklab
2023-06-09 22:31 dpdklab
2023-06-09 22:30 dpdklab
2023-06-09 22:30 dpdklab
2023-06-09 22:30 dpdklab
2023-06-09 22:29 dpdklab
2023-06-09 22:20 dpdklab
2023-06-09 22:19 dpdklab
2023-06-09 22:19 dpdklab
2023-06-09 22:19 dpdklab
2023-06-09 22:19 dpdklab
2023-06-09 22:18 dpdklab
2023-06-09 22:14 dpdklab
2023-06-09 22:13 dpdklab
2023-06-09 22:13 dpdklab
2023-06-09 22:12 dpdklab
2023-06-09 22:12 dpdklab
2023-06-09 22:09 dpdklab
2023-06-09 22:07 dpdklab
2023-06-09 22:06 dpdklab
2023-06-09 22:06 dpdklab
2023-06-09 22:06 dpdklab
2023-06-09 22:06 dpdklab
2023-06-09 22:06 dpdklab
2023-06-09 22:02 dpdklab
2023-06-09 22:02 dpdklab
2023-06-09 22:01 dpdklab
2023-06-08 22:02 dpdklab
2023-06-08 22:02 dpdklab
2023-06-08 22:02 dpdklab
2023-06-08 22:01 dpdklab
2023-06-08 22:01 dpdklab
2023-06-08 22:01 dpdklab
2023-06-08 22:00 dpdklab
2023-06-08 22:00 dpdklab
2023-06-08 22:00 dpdklab
2023-06-08 22:00 dpdklab
2023-06-08 22:00 dpdklab
2023-06-08 22:00 dpdklab
2023-06-08 22:00 dpdklab
2023-06-08 22:00 dpdklab
2023-06-08 22:00 dpdklab
2023-06-08 22:00 dpdklab
2023-06-08 22:00 dpdklab
2023-06-08 22:00 dpdklab
2023-06-08 22:00 dpdklab
2023-06-08 22:00 dpdklab
2023-06-08 21:59 dpdklab
2023-06-08 21:59 dpdklab
2023-06-08 21:59 dpdklab
2023-06-08 21:59 dpdklab
2023-06-08 21:59 dpdklab
2023-06-08 21:59 dpdklab
2023-06-08 21:59 dpdklab
2023-06-05 2:03 dpdklab
2023-06-05 1:57 dpdklab
2023-06-05 1:54 dpdklab
2023-06-05 1:37 dpdklab
2023-06-05 1:33 dpdklab
2023-06-05 1:27 dpdklab
2023-06-05 1:23 dpdklab
2023-06-05 1:11 dpdklab
2023-06-05 1:10 dpdklab
2023-06-05 1:05 dpdklab
2023-06-05 1:04 dpdklab
2023-06-05 1:04 dpdklab
2023-06-05 1:03 dpdklab
2023-06-05 1:03 dpdklab
2023-06-04 1:59 dpdklab
2023-06-04 1:54 dpdklab
2023-06-04 1:44 dpdklab
2023-06-04 1:39 dpdklab
2023-06-04 1:35 dpdklab
2023-06-04 1:22 dpdklab
2023-06-04 1:10 dpdklab
2023-06-04 1:10 dpdklab
2023-06-04 1:03 dpdklab
2023-06-04 1:03 dpdklab
2023-06-04 1:02 dpdklab
2023-06-04 0:58 dpdklab
2023-06-04 0:57 dpdklab
2023-06-04 0:56 dpdklab
2023-06-03 2:50 dpdklab
2023-06-03 2:40 dpdklab
2023-06-03 2:35 dpdklab
2023-06-03 2:30 dpdklab
2023-06-03 2:14 dpdklab
2023-06-03 2:10 dpdklab
2023-06-03 1:23 dpdklab
2023-06-03 1:11 dpdklab
2023-06-03 1:10 dpdklab
2023-06-03 1:05 dpdklab
2023-06-03 1:05 dpdklab
2023-06-03 1:05 dpdklab
2023-06-03 1:04 dpdklab
2023-06-03 1:03 dpdklab
2023-06-02 20:54 dpdklab
2023-06-02 20:42 dpdklab
2023-06-02 20:25 dpdklab
2023-06-02 20:18 dpdklab
2023-06-02 20:09 dpdklab
2023-06-02 20:00 dpdklab
2023-06-02 19:48 dpdklab
2023-06-02 19:48 dpdklab
2023-06-02 19:44 dpdklab
2023-06-02 19:41 dpdklab
2023-06-02 19:41 dpdklab
2023-06-02 19:39 dpdklab
2023-06-02 19:35 dpdklab
2023-06-02 19:34 dpdklab
2023-06-02 2:07 dpdklab
2023-06-02 2:06 dpdklab
2023-06-02 1:47 dpdklab
2023-06-02 1:40 dpdklab
2023-06-02 1:23 dpdklab
2023-06-02 1:23 dpdklab
2023-06-02 1:11 dpdklab
2023-06-02 1:10 dpdklab
2023-06-02 1:04 dpdklab
2023-06-02 1:03 dpdklab
2023-06-02 1:02 dpdklab
2023-06-02 0:58 dpdklab
2023-06-02 0:58 dpdklab
2023-06-02 0:57 dpdklab
Reply instructions:
You may reply publicly to this message via plain-text email
using any one of the following methods:
* Save the following mbox file, import it into your mail client,
and reply-to-all from there: mbox
Avoid top-posting and favor interleaved quoting:
https://en.wikipedia.org/wiki/Posting_style#Interleaved_style
* Reply using the --to, --cc, and --in-reply-to
switches of git-send-email(1):
git send-email \
--in-reply-to=6483a16e.920a0220.9038.8348SMTPIN_ADDED_MISSING@mx.google.com \
--to=dpdklab@iol.unh.edu \
--cc=dpdk-test-reports@iol.unh.edu \
--cc=test-report@dpdk.org \
/path/to/YOUR_REPLY
https://kernel.org/pub/software/scm/git/docs/git-send-email.html
* If your mail client supports setting the In-Reply-To header
via mailto: links, try the mailto: link
Be sure your reply has a Subject: header at the top and a blank line
before the message body.
This is a public inbox, see mirroring instructions
for how to clone and mirror all data and code used for this inbox;
as well as URLs for NNTP newsgroup(s).