From: dpdklab@iol.unh.edu
To: Test Report <test-report@dpdk.org>
Cc: dpdk-test-reports@iol.unh.edu
Subject: |SUCCESS| pw128778-128780 [PATCH] [v2,3/3] bus/cdx: fix resource lea
Date: Fri, 16 Jun 2023 06:41:31 -0700 (PDT) [thread overview]
Message-ID: <648c668b.050a0220.87ba3.185cSMTPIN_ADDED_MISSING@mx.google.com> (raw)
Test-Label: iol-abi-testing
Test-Status: SUCCESS
http://dpdk.org/patch/128780
_Testing PASS_
Submitter: Abhijit Gangurde <abhijit.gangurde@amd.com>
Date: Friday, June 16 2023 12:39:10
DPDK git baseline: Repo:dpdk
Branch: master
CommitID:7556a1a355fb377279508735f7afc1faf1d00158
128778-128780 --> testing pass
Test environment and result as below:
+-----------------+----------+
| Environment | abi_test |
+=================+==========+
| CentOS Stream 9 | PASS |
+-----------------+----------+
| Fedora 37 | PASS |
+-----------------+----------+
| CentOS Stream 8 | PASS |
+-----------------+----------+
| Debian Bullseye | PASS |
+-----------------+----------+
| Fedora 38 | PASS |
+-----------------+----------+
| RHEL 7 | PASS |
+-----------------+----------+
| RHEL8 | PASS |
+-----------------+----------+
CentOS Stream 9
Kernel: 4.18.0-240.10.1.el8_3.x86_64
Compiler: gcc 11.3.1 20220421
Fedora 37
Kernel: Depends on container host system
Compiler: gcc 12.3.1
CentOS Stream 8
Kernel: 4.18.0-240.10.1.el8_3.x86_64
Compiler: gcc 8.4.1 20200928
Debian Bullseye
Kernel: 5.4.0-122-generic
Compiler: gcc 10.2.1-6
Fedora 38
Kernel: Depends on container host
Compiler: gcc 13.1.1
RHEL 7
Kernel: 4.18.0-240.10.1.el8_3.x86_64
Compiler: gcc 4.8.5 20150623 (Red Hat 4.8.5-44)
RHEL8
Kernel: 4.18.0-240.10.1.el8_3.x86_64
Compiler: gcc 8.3.1 20191121 (Red Hat 8.3.1-5)
To view detailed results, visit:
https://lab.dpdk.org/results/dashboard/patchsets/26726/
UNH-IOL DPDK Community Lab
To manage your email subscriptions, visit:
https://lab.dpdk.org/results/dashboard/preferences/subscriptions/
next reply other threads:[~2023-06-16 13:41 UTC|newest]
Thread overview: 27+ messages / expand[flat|nested] mbox.gz Atom feed top
2023-06-16 13:41 dpdklab [this message]
-- strict thread matches above, loose matches on Subject: below --
2023-06-18 14:26 dpdklab
2023-06-17 4:21 dpdklab
2023-06-17 4:03 dpdklab
2023-06-17 3:53 dpdklab
2023-06-17 3:49 dpdklab
2023-06-17 3:44 dpdklab
2023-06-16 13:51 dpdklab
2023-06-16 13:50 dpdklab
2023-06-16 13:47 dpdklab
2023-06-16 13:46 dpdklab
2023-06-16 13:44 dpdklab
2023-06-16 13:43 dpdklab
2023-06-16 13:43 dpdklab
2023-06-16 13:42 dpdklab
2023-06-16 13:39 dpdklab
2023-06-16 13:38 dpdklab
2023-06-16 13:35 dpdklab
2023-06-16 13:29 dpdklab
2023-06-16 13:29 dpdklab
2023-06-16 13:24 dpdklab
2023-06-16 13:23 dpdklab
2023-06-16 13:23 dpdklab
2023-06-16 13:20 dpdklab
2023-06-16 13:14 dpdklab
2023-06-16 13:13 dpdklab
2023-06-16 13:13 dpdklab
Reply instructions:
You may reply publicly to this message via plain-text email
using any one of the following methods:
* Save the following mbox file, import it into your mail client,
and reply-to-all from there: mbox
Avoid top-posting and favor interleaved quoting:
https://en.wikipedia.org/wiki/Posting_style#Interleaved_style
* Reply using the --to, --cc, and --in-reply-to
switches of git-send-email(1):
git send-email \
--in-reply-to=648c668b.050a0220.87ba3.185cSMTPIN_ADDED_MISSING@mx.google.com \
--to=dpdklab@iol.unh.edu \
--cc=dpdk-test-reports@iol.unh.edu \
--cc=test-report@dpdk.org \
/path/to/YOUR_REPLY
https://kernel.org/pub/software/scm/git/docs/git-send-email.html
* If your mail client supports setting the In-Reply-To header
via mailto: links, try the mailto: link
Be sure your reply has a Subject: header at the top and a blank line
before the message body.
This is a public inbox, see mirroring instructions
for how to clone and mirror all data and code used for this inbox;
as well as URLs for NNTP newsgroup(s).