From: dpdklab@iol.unh.edu
To: Test Report <test-report@dpdk.org>
Cc: dpdk-test-reports@iol.unh.edu
Subject: |SUCCESS| pw128776 [PATCH] lib: fix coverity for unused variable
Date: Fri, 16 Jun 2023 07:02:10 -0700 (PDT) [thread overview]
Message-ID: <648c6b62.020a0220.32b77.60d4SMTPIN_ADDED_MISSING@mx.google.com> (raw)
Test-Label: iol-abi-testing
Test-Status: SUCCESS
http://dpdk.org/patch/128776
_Testing PASS_
Submitter: Amit Prakash Shukla <amitprakashs@marvell.com>
Date: Friday, June 16 2023 11:06:40
DPDK git baseline: Repo:dpdk
Branch: master
CommitID:7556a1a355fb377279508735f7afc1faf1d00158
128776 --> testing pass
Test environment and result as below:
+-------------+----------+
| Environment | abi_test |
+=============+==========+
| Fedora 37 | PASS |
+-------------+----------+
| RHEL 7 | PASS |
+-------------+----------+
| Fedora 38 | PASS |
+-------------+----------+
Fedora 37
Kernel: Depends on container host system
Compiler: gcc 12.3.1
RHEL 7
Kernel: 4.18.0-240.10.1.el8_3.x86_64
Compiler: gcc 4.8.5 20150623 (Red Hat 4.8.5-44)
Fedora 38
Kernel: Depends on container host
Compiler: clang 16.0.3
To view detailed results, visit:
https://lab.dpdk.org/results/dashboard/patchsets/26725/
UNH-IOL DPDK Community Lab
To manage your email subscriptions, visit:
https://lab.dpdk.org/results/dashboard/preferences/subscriptions/
next reply other threads:[~2023-06-16 14:02 UTC|newest]
Thread overview: 34+ messages / expand[flat|nested] mbox.gz Atom feed top
2023-06-16 14:02 dpdklab [this message]
-- strict thread matches above, loose matches on Subject: below --
2023-06-18 12:58 dpdklab
2023-06-17 5:47 dpdklab
2023-06-17 5:37 dpdklab
2023-06-17 5:11 dpdklab
2023-06-17 4:55 dpdklab
2023-06-17 4:47 dpdklab
2023-06-16 14:47 dpdklab
2023-06-16 14:43 dpdklab
2023-06-16 14:41 dpdklab
2023-06-16 14:24 dpdklab
2023-06-16 14:24 dpdklab
2023-06-16 14:24 dpdklab
2023-06-16 14:23 dpdklab
2023-06-16 14:22 dpdklab
2023-06-16 14:21 dpdklab
2023-06-16 14:19 dpdklab
2023-06-16 14:18 dpdklab
2023-06-16 14:15 dpdklab
2023-06-16 14:10 dpdklab
2023-06-16 14:04 dpdklab
2023-06-16 14:04 dpdklab
2023-06-16 14:02 dpdklab
2023-06-16 13:56 dpdklab
2023-06-16 13:47 dpdklab
2023-06-16 13:41 dpdklab
2023-06-16 13:41 dpdklab
2023-06-16 13:41 dpdklab
2023-06-16 13:39 dpdklab
2023-06-16 13:39 dpdklab
[not found] <20230616110640.3642684-1-amitprakashs@marvell.com>
2023-06-16 10:54 ` qemudev
2023-06-16 10:58 ` qemudev
2023-06-16 11:07 ` checkpatch
2023-06-16 12:19 ` 0-day Robot
Reply instructions:
You may reply publicly to this message via plain-text email
using any one of the following methods:
* Save the following mbox file, import it into your mail client,
and reply-to-all from there: mbox
Avoid top-posting and favor interleaved quoting:
https://en.wikipedia.org/wiki/Posting_style#Interleaved_style
* Reply using the --to, --cc, and --in-reply-to
switches of git-send-email(1):
git send-email \
--in-reply-to=648c6b62.020a0220.32b77.60d4SMTPIN_ADDED_MISSING@mx.google.com \
--to=dpdklab@iol.unh.edu \
--cc=dpdk-test-reports@iol.unh.edu \
--cc=test-report@dpdk.org \
/path/to/YOUR_REPLY
https://kernel.org/pub/software/scm/git/docs/git-send-email.html
* If your mail client supports setting the In-Reply-To header
via mailto: links, try the mailto: link
Be sure your reply has a Subject: header at the top and a blank line
before the message body.
This is a public inbox, see mirroring instructions
for how to clone and mirror all data and code used for this inbox;
as well as URLs for NNTP newsgroup(s).