From: dpdklab@iol.unh.edu
To: Test Report <test-report@dpdk.org>
Cc: dpdk-test-reports@iol.unh.edu
Subject: |SUCCESS| pw129207 [PATCH] app/testpmd: fix invalid queue ID when st
Date: Mon, 03 Jul 2023 09:29:46 -0700 (PDT) [thread overview]
Message-ID: <64a2f77a.810a0220.6a322.9064SMTPIN_ADDED_MISSING@mx.google.com> (raw)
Test-Label: iol-abi-testing
Test-Status: SUCCESS
http://dpdk.org/patch/129207
_Testing PASS_
Submitter: Jie Hai <haijie1@huawei.com>
Date: Monday, July 03 2023 11:02:31
DPDK git baseline: Repo:dpdk
Branch: master
CommitID:93a4b3beba4ee611685148917981f846427cafb2
129207 --> testing pass
Test environment and result as below:
+------------------+----------+
| Environment | abi_test |
+==================+==========+
| Fedora 37 | PASS |
+------------------+----------+
| RHEL 7 | PASS |
+------------------+----------+
| Fedora 38 | PASS |
+------------------+----------+
| openSUSE Leap 15 | PASS |
+------------------+----------+
Fedora 37
Kernel: Depends on container host system
Compiler: gcc 12.3.1
RHEL 7
Kernel: 4.18.0-240.10.1.el8_3.x86_64
Compiler: gcc 4.8.5 20150623 (Red Hat 4.8.5-44)
Fedora 38
Kernel: Depends on container host
Compiler: gcc 13.1.1
openSUSE Leap 15
Kernel: 4.18.0-240.10.1.el8_3.x86_64
Compiler: gcc 7.5.0
To view detailed results, visit:
https://lab.dpdk.org/results/dashboard/patchsets/26931/
UNH-IOL DPDK Community Lab
To manage your email subscriptions, visit:
https://lab.dpdk.org/results/dashboard/preferences/subscriptions/
next reply other threads:[~2023-07-03 16:29 UTC|newest]
Thread overview: 28+ messages / expand[flat|nested] mbox.gz Atom feed top
2023-07-03 16:29 dpdklab [this message]
-- strict thread matches above, loose matches on Subject: below --
2023-07-04 5:30 dpdklab
2023-07-03 22:34 dpdklab
2023-07-03 22:30 dpdklab
2023-07-03 22:19 dpdklab
2023-07-03 21:55 dpdklab
2023-07-03 21:35 dpdklab
2023-07-03 19:42 dpdklab
2023-07-03 17:55 dpdklab
2023-07-03 17:54 dpdklab
2023-07-03 17:18 dpdklab
2023-07-03 17:09 dpdklab
2023-07-03 16:57 dpdklab
2023-07-03 16:45 dpdklab
2023-07-03 16:38 dpdklab
2023-07-03 16:38 dpdklab
2023-07-03 16:34 dpdklab
2023-07-03 16:31 dpdklab
2023-07-03 16:30 dpdklab
2023-07-03 16:30 dpdklab
2023-07-03 16:12 dpdklab
2023-07-03 16:11 dpdklab
2023-07-03 16:02 dpdklab
2023-07-03 15:57 dpdklab
2023-07-03 15:57 dpdklab
2023-07-03 15:56 dpdklab
2023-07-03 15:55 dpdklab
2023-07-03 15:53 dpdklab
Reply instructions:
You may reply publicly to this message via plain-text email
using any one of the following methods:
* Save the following mbox file, import it into your mail client,
and reply-to-all from there: mbox
Avoid top-posting and favor interleaved quoting:
https://en.wikipedia.org/wiki/Posting_style#Interleaved_style
* Reply using the --to, --cc, and --in-reply-to
switches of git-send-email(1):
git send-email \
--in-reply-to=64a2f77a.810a0220.6a322.9064SMTPIN_ADDED_MISSING@mx.google.com \
--to=dpdklab@iol.unh.edu \
--cc=dpdk-test-reports@iol.unh.edu \
--cc=test-report@dpdk.org \
/path/to/YOUR_REPLY
https://kernel.org/pub/software/scm/git/docs/git-send-email.html
* If your mail client supports setting the In-Reply-To header
via mailto: links, try the mailto: link
Be sure your reply has a Subject: header at the top and a blank line
before the message body.
This is a public inbox, see mirroring instructions
for how to clone and mirror all data and code used for this inbox;
as well as URLs for NNTP newsgroup(s).