From mboxrd@z Thu Jan 1 00:00:00 1970 Return-Path: Received: from mails.dpdk.org (mails.dpdk.org [217.70.189.124]) by inbox.dpdk.org (Postfix) with ESMTP id 3B4F842E59 for ; Thu, 13 Jul 2023 03:42:50 +0200 (CEST) Received: from mails.dpdk.org (localhost [127.0.0.1]) by mails.dpdk.org (Postfix) with ESMTP id 33A5E41143; Thu, 13 Jul 2023 03:42:50 +0200 (CEST) Received: from mail-io1-f99.google.com (mail-io1-f99.google.com [209.85.166.99]) by mails.dpdk.org (Postfix) with ESMTP id 85A4A4003C for ; Thu, 13 Jul 2023 03:42:47 +0200 (CEST) Received: by mail-io1-f99.google.com with SMTP id ca18e2360f4ac-783549ef058so2635639f.2 for ; Wed, 12 Jul 2023 18:42:47 -0700 (PDT) DKIM-Signature: v=1; a=rsa-sha256; c=relaxed/relaxed; d=iol.unh.edu; s=unh-iol; t=1689212567; x=1691804567; h=cc:to:from:subject:message-id:date:from:to:cc:subject:date :message-id:reply-to; bh=r9HSSfHWYjBZCyJm2X4qq81tnxloNa1pVk6htgdjOCE=; b=GlGGAsyOBx2jF9pZXZmyhyxLt2E+EhWm76WbkGFnEJR6p1b5zRmo7H5bZ3ocKcFPCY hb2yMvwIPq3yhqIZ0LvJtqG5/DlAI4uLZfWWrWXyXBTFpfIxX7wtL2Tti46NI4IyKkKK 3owtR5F7lcwkvv9uoV6KNZITgj7wmQAFjVtwQ= X-Google-DKIM-Signature: v=1; a=rsa-sha256; c=relaxed/relaxed; d=1e100.net; s=20221208; t=1689212567; x=1691804567; h=cc:to:from:subject:message-id:date:x-gm-message-state:from:to:cc :subject:date:message-id:reply-to; bh=r9HSSfHWYjBZCyJm2X4qq81tnxloNa1pVk6htgdjOCE=; b=D/M0v+kIraMnSPt6KKtr+mXB+0nhVrGhke8wGUpXXVKFMTHTb+YNlPK8lklXAa4rho SF0BRj9qQao8Vps3uxQeHjwUR9YPD8uBT76qWy5AA/zKrWhEPwQAREK5s04UIa4xoZ62 /tTtTYfgI5fh/fe14YXL9mie8k2iykiVDqrXmO06h8ntNPEXKP0gZSYeut/h8vmRiWfA /rMdqJNeEhff7SaTuoXzvc1QyLFJUBGAYQdDOtvRg2dG30yw0GBP2j9rVas8+EFMd92D YXIxa5Svo8Swn2RDtpjttwq+Q/gjzHdITNw8hG0k3lowf3lr77Mn1XlmPRB8+k5md95F bpPA== X-Gm-Message-State: ABy/qLbxR9bnLNj5j0aneyIo89gT/3E49V4xJzChdLWYMyeKE5tDgihS wFMZkATLRikvqAKMeUh6FAglBri9DDOG67pHOwx/vjrhMc6SXTfI9bcILJhIVtXHdbNYkpqbNw= = X-Google-Smtp-Source: APBJJlEr1pvzUqrHUEIt8qTUGxMeuZkTd/QVgTg/RaLcxul7FB7a7Dqi47LRhpZihZNhQEP8OPsT4pjjH9rz X-Received: by 2002:a6b:dd18:0:b0:787:6bd:e590 with SMTP id f24-20020a6bdd18000000b0078706bde590mr530502ioc.3.1689212567020; Wed, 12 Jul 2023 18:42:47 -0700 (PDT) Received: from postal.iol.unh.edu (postal.iol.unh.edu. [2606:4100:3880:1234::84]) by smtp-relay.gmail.com with ESMTPS id i20-20020a02cc54000000b0040b2543be47sm338060jaq.5.2023.07.12.18.42.46 (version=TLS1_2 cipher=ECDHE-ECDSA-AES128-GCM-SHA256 bits=128/128); Wed, 12 Jul 2023 18:42:47 -0700 (PDT) X-Relaying-Domain: iol.unh.edu Date: Wed, 12 Jul 2023 18:42:47 -0700 (PDT) Message-ID: <64af5697.020a0220.8d4d1.824cSMTPIN_ADDED_MISSING@mx.google.com> Received: from [172.21.0.3] (unknown [172.18.0.240]) by postal.iol.unh.edu (Postfix) with ESMTP id 90777605246B; Wed, 12 Jul 2023 21:42:46 -0400 (EDT) Subject: |SUCCESS| [GIT MASTER] 655eb37b18b1b0dc4d106acdf0dfedde01cfb224 From: dpdklab@iol.unh.edu To: Test Report Cc: dpdk-test-reports@iol.unh.edu Content-Type: text/plain X-BeenThere: test-report@dpdk.org X-Mailman-Version: 2.1.29 Precedence: list List-Id: automatic DPDK test reports List-Unsubscribe: , List-Archive: List-Post: List-Help: List-Subscribe: , Errors-To: test-report-bounces@dpdk.org _Testing PASS_ Branch: dpdk 655eb37b18b1b0dc4d106acdf0dfedde01cfb224 --> testing pass Test environment and result as below: +------------------+----------+ | Environment | abi_test | +==================+==========+ | Debian Bullseye | PASS | +------------------+----------+ | CentOS Stream 8 | PASS | +------------------+----------+ | openSUSE Leap 15 | PASS | +------------------+----------+ | Fedora 37 | PASS | +------------------+----------+ | CentOS Stream 9 | PASS | +------------------+----------+ | Fedora 38 | PASS | +------------------+----------+ | RHEL 7 | PASS | +------------------+----------+ | RHEL8 | PASS | +------------------+----------+ | Ubuntu 22.04 | PASS | +------------------+----------+ | Arch Linux | PASS | +------------------+----------+ Debian Bullseye Kernel: 5.4.0-122-generic Compiler: gcc 10.2.1-6 CentOS Stream 8 Kernel: 4.18.0-240.10.1.el8_3.x86_64 Compiler: gcc 8.4.1 20200928 openSUSE Leap 15 Kernel: 4.18.0-240.10.1.el8_3.x86_64 Compiler: gcc 7.5.0 Fedora 37 Kernel: Depends on container host system Compiler: gcc 12.3.1 CentOS Stream 9 Kernel: 4.18.0-240.10.1.el8_3.x86_64 Compiler: gcc 11.3.1 20220421 Fedora 38 Kernel: Depends on container host Compiler: gcc 13.1.1 RHEL 7 Kernel: 4.18.0-240.10.1.el8_3.x86_64 Compiler: gcc 4.8.5 20150623 (Red Hat 4.8.5-44) RHEL8 Kernel: 4.18.0-240.10.1.el8_3.x86_64 Compiler: gcc 8.3.1 20191121 (Red Hat 8.3.1-5) Ubuntu 22.04 Kernel: 4.18.0-240.10.1.el8_3.x86_64 Compiler: gcc 11.3.0 Arch Linux Kernel: 5.4.0-73-generic Compiler: gcc 11.1.0 To view detailed results, visit: https://lab.dpdk.org/results/dashboard/tarballs/25475/ UNH-IOL DPDK Community Lab To manage your email subscriptions, visit: https://lab.dpdk.org/results/dashboard/preferences/subscriptions/