From mboxrd@z Thu Jan 1 00:00:00 1970 Return-Path: Received: from mails.dpdk.org (mails.dpdk.org [217.70.189.124]) by inbox.dpdk.org (Postfix) with ESMTP id 4893042E64 for ; Thu, 13 Jul 2023 19:09:25 +0200 (CEST) Received: from mails.dpdk.org (localhost [127.0.0.1]) by mails.dpdk.org (Postfix) with ESMTP id 4313540DDB; Thu, 13 Jul 2023 19:09:25 +0200 (CEST) Received: from mail-yw1-f227.google.com (mail-yw1-f227.google.com [209.85.128.227]) by mails.dpdk.org (Postfix) with ESMTP id CE7D340DDB for ; Thu, 13 Jul 2023 19:09:23 +0200 (CEST) Received: by mail-yw1-f227.google.com with SMTP id 00721157ae682-5703cb4bcb4so9062007b3.3 for ; Thu, 13 Jul 2023 10:09:23 -0700 (PDT) DKIM-Signature: v=1; a=rsa-sha256; c=relaxed/relaxed; d=iol.unh.edu; s=unh-iol; t=1689268163; x=1691860163; h=cc:to:from:subject:message-id:date:from:to:cc:subject:date :message-id:reply-to; bh=4TQCI57R4QtlTMcUcfxOIA2eawTF78vrhZtIKAPGMlU=; b=M6OKcevU49DEcKpEaSHM/QfhLaEa0sP+NEVvoXuJiGySDJAPUExWG5k9ne8Nx5uGCu jrblCOHo2ctbJMg8iyLcaJFVXm+AbTpHUJdSiwf2zH4k+uWK0qcYu24oqZzTVJZdU2sG T0cTB/E6RFTRC4pMGDOoDUDlk8Gfshcr9CZ3Y= X-Google-DKIM-Signature: v=1; a=rsa-sha256; c=relaxed/relaxed; d=1e100.net; s=20221208; t=1689268163; x=1691860163; h=cc:to:from:subject:message-id:date:x-gm-message-state:from:to:cc :subject:date:message-id:reply-to; bh=4TQCI57R4QtlTMcUcfxOIA2eawTF78vrhZtIKAPGMlU=; b=eE8CQZOX++O0fGW8Yt5CnUjPf79hzSRivb4ecJp/OxP444NRuIA2Eaebkm76I0rY1f BZv5SdWcPre97zVAAndtBJ9eCwjEyX/Uj9IQijtyBIfz7zYql8Y92Gn5wzOdG1ybGjGp 9v2lDpUJQUN7FWz+XefHobisTO/NTMDffRGnc54hGCu+xfIehTC6KxKHxRjbg33mBion gIT/tOG5iEZ6rZoGZD3cO9ukFqiADTGfHDLTlK7xXClaln6wCZEcK3vY3PU0TSgglkA0 6eBJoDA2tKVaEvU4f/ypj0tUXXq/pahxtEZZZEOHvKudRBblXVUruxHS/Bd3MIYlcrP4 zSVw== X-Gm-Message-State: ABy/qLae8XCPNMrsGL0PaR+r6urNEBtaNodA1cBtZIe23313zMdDZX3t gCM8pxNeQoTgjDTp0wQH2sWv2pgSsx9dgvIWixxInlvXv9EVm+QGONbSRA== X-Google-Smtp-Source: APBJJlE2W27Z3wFFYn1h9nscBqvXlLOUc9+dokZVpmjyV13DjYha9hrshf07g9TwjCJOFEYw1+/eTMxn+TBX X-Received: by 2002:a81:4757:0:b0:54f:9cd0:990 with SMTP id u84-20020a814757000000b0054f9cd00990mr2307113ywa.18.1689268163293; Thu, 13 Jul 2023 10:09:23 -0700 (PDT) Received: from postal.iol.unh.edu (postal.iol.unh.edu. [132.177.123.84]) by smtp-relay.gmail.com with ESMTPS id u197-20020a0debce000000b0057005bc0932sm1054770ywe.74.2023.07.13.10.09.23 (version=TLS1_2 cipher=ECDHE-ECDSA-AES128-GCM-SHA256 bits=128/128); Thu, 13 Jul 2023 10:09:23 -0700 (PDT) X-Relaying-Domain: iol.unh.edu Date: Thu, 13 Jul 2023 10:09:23 -0700 (PDT) Message-ID: <64b02fc3.0d0a0220.12489.f3bfSMTPIN_ADDED_MISSING@mx.google.com> Received: from [172.21.0.2] (unknown [172.18.0.240]) by postal.iol.unh.edu (Postfix) with ESMTP id E87A1605246B; Thu, 13 Jul 2023 13:09:22 -0400 (EDT) Subject: |SUCCESS| [GIT MASTER] 655eb37b18b1b0dc4d106acdf0dfedde01cfb224 From: dpdklab@iol.unh.edu To: Test Report Cc: dpdk-test-reports@iol.unh.edu Content-Type: text/plain X-BeenThere: test-report@dpdk.org X-Mailman-Version: 2.1.29 Precedence: list List-Id: automatic DPDK test reports List-Unsubscribe: , List-Archive: List-Post: List-Help: List-Subscribe: , Errors-To: test-report-bounces@dpdk.org _Testing PASS_ Branch: dpdk 655eb37b18b1b0dc4d106acdf0dfedde01cfb224 --> testing pass Test environment and result as below: +-----------------------------+---------------------------+------------------------------+----------------+--------------+ | Environment | cryptodev_sw_zuc_autotest | cryptodev_sw_snow3g_autotest | dpdk_unit_test | lpm_autotest | +=============================+===========================+==============================+================+==============+ | Debian 11 | PASS | PASS | SKIPPED | SKIPPED | +-----------------------------+---------------------------+------------------------------+----------------+--------------+ | (32-bit) ARM Ubuntu 20.04.4 | SKIPPED | SKIPPED | PASS | SKIPPED | +-----------------------------+---------------------------+------------------------------+----------------+--------------+ | Ubuntu 20.04 ARM SVE | SKIPPED | SKIPPED | SKIPPED | PASS | +-----------------------------+---------------------------+------------------------------+----------------+--------------+ Debian 11 Kernel: Container Host Kernel Compiler: gcc 10.2.1 (32-bit) ARM Ubuntu 20.04.4 Kernel: 5.4.0-148-generic aarch64 Compiler: gcc 9.4 Ubuntu 20.04 ARM SVE Kernel: 5.4.0-80-generic Compiler: gcc 10.3.0 (Ubuntu 10.3.0-1ubuntu1~20.04) To view detailed results, visit: https://lab.dpdk.org/results/dashboard/tarballs/25483/ UNH-IOL DPDK Community Lab To manage your email subscriptions, visit: https://lab.dpdk.org/results/dashboard/preferences/subscriptions/