From: dpdklab@iol.unh.edu
To: Test Report <test-report@dpdk.org>
Cc: dpdk-test-reports@iol.unh.edu
Subject: |SUCCESS| pw129534 [PATCH] [1/1] net/sfc: drop redundant null check
Date: Thu, 13 Jul 2023 16:31:14 -0700 (PDT) [thread overview]
Message-ID: <64b08942.170a0220.c59ca.c121SMTPIN_ADDED_MISSING@mx.google.com> (raw)
Test-Label: iol-abi-testing
Test-Status: SUCCESS
http://dpdk.org/patch/129534
_Testing PASS_
Submitter: Ivan Malov <ivan.malov@arknetworks.am>
Date: Thursday, July 13 2023 22:40:02
DPDK git baseline: Repo:dpdk
Branch: master
CommitID:655eb37b18b1b0dc4d106acdf0dfedde01cfb224
129534 --> testing pass
Test environment and result as below:
+------------------+----------+
| Environment | abi_test |
+==================+==========+
| Debian Buster | PASS |
+------------------+----------+
| RHEL 7 | PASS |
+------------------+----------+
| Fedora 37 | PASS |
+------------------+----------+
| RHEL8 | PASS |
+------------------+----------+
| CentOS Stream 9 | PASS |
+------------------+----------+
| Fedora 38 | PASS |
+------------------+----------+
| Debian Bullseye | PASS |
+------------------+----------+
| openSUSE Leap 15 | PASS |
+------------------+----------+
| CentOS Stream 8 | PASS |
+------------------+----------+
Debian Buster
Kernel: 5.4.0-122-generic
Compiler: gcc 8.3.0-6
RHEL 7
Kernel: 4.18.0-240.10.1.el8_3.x86_64
Compiler: gcc 4.8.5 20150623 (Red Hat 4.8.5-44)
Fedora 37
Kernel: Depends on container host system
Compiler: gcc 12.3.1
RHEL8
Kernel: 4.18.0-240.10.1.el8_3.x86_64
Compiler: gcc 8.3.1 20191121 (Red Hat 8.3.1-5)
CentOS Stream 9
Kernel: 4.18.0-240.10.1.el8_3.x86_64
Compiler: gcc 11.3.1 20220421
Fedora 38
Kernel: Depends on container host
Compiler: clang 16.0.3
Debian Bullseye
Kernel: 5.4.0-122-generic
Compiler: gcc 10.2.1-6
openSUSE Leap 15
Kernel: 4.18.0-240.10.1.el8_3.x86_64
Compiler: gcc 7.5.0
CentOS Stream 8
Kernel: 4.18.0-240.10.1.el8_3.x86_64
Compiler: gcc 8.4.1 20200928
To view detailed results, visit:
https://lab.dpdk.org/results/dashboard/patchsets/27071/
UNH-IOL DPDK Community Lab
To manage your email subscriptions, visit:
https://lab.dpdk.org/results/dashboard/preferences/subscriptions/
next reply other threads:[~2023-07-13 23:31 UTC|newest]
Thread overview: 28+ messages / expand[flat|nested] mbox.gz Atom feed top
2023-07-13 23:31 dpdklab [this message]
-- strict thread matches above, loose matches on Subject: below --
2023-07-14 21:18 dpdklab
2023-07-14 21:14 dpdklab
2023-07-14 20:58 dpdklab
2023-07-14 20:52 dpdklab
2023-07-14 20:48 dpdklab
2023-07-14 8:28 dpdklab
2023-07-14 2:05 dpdklab
2023-07-13 23:48 dpdklab
2023-07-13 23:45 dpdklab
2023-07-13 23:44 dpdklab
2023-07-13 23:35 dpdklab
2023-07-13 23:33 dpdklab
2023-07-13 23:30 dpdklab
2023-07-13 23:29 dpdklab
2023-07-13 23:28 dpdklab
2023-07-13 23:26 dpdklab
2023-07-13 23:21 dpdklab
2023-07-13 23:21 dpdklab
2023-07-13 23:20 dpdklab
2023-07-13 23:19 dpdklab
2023-07-13 23:18 dpdklab
2023-07-13 23:17 dpdklab
2023-07-13 23:17 dpdklab
2023-07-13 23:17 dpdklab
2023-07-13 23:17 dpdklab
2023-07-13 23:17 dpdklab
2023-07-13 23:16 dpdklab
Reply instructions:
You may reply publicly to this message via plain-text email
using any one of the following methods:
* Save the following mbox file, import it into your mail client,
and reply-to-all from there: mbox
Avoid top-posting and favor interleaved quoting:
https://en.wikipedia.org/wiki/Posting_style#Interleaved_style
* Reply using the --to, --cc, and --in-reply-to
switches of git-send-email(1):
git send-email \
--in-reply-to=64b08942.170a0220.c59ca.c121SMTPIN_ADDED_MISSING@mx.google.com \
--to=dpdklab@iol.unh.edu \
--cc=dpdk-test-reports@iol.unh.edu \
--cc=test-report@dpdk.org \
/path/to/YOUR_REPLY
https://kernel.org/pub/software/scm/git/docs/git-send-email.html
* If your mail client supports setting the In-Reply-To header
via mailto: links, try the mailto: link
Be sure your reply has a Subject: header at the top and a blank line
before the message body.
This is a public inbox, see mirroring instructions
for how to clone and mirror all data and code used for this inbox;
as well as URLs for NNTP newsgroup(s).