From mboxrd@z Thu Jan 1 00:00:00 1970 Return-Path: Received: from mails.dpdk.org (mails.dpdk.org [217.70.189.124]) by inbox.dpdk.org (Postfix) with ESMTP id 5D82F42E62 for ; Sat, 15 Jul 2023 03:25:54 +0200 (CEST) Received: from mails.dpdk.org (localhost [127.0.0.1]) by mails.dpdk.org (Postfix) with ESMTP id 5791040DFB; Sat, 15 Jul 2023 03:25:54 +0200 (CEST) Received: from mail-yb1-f226.google.com (mail-yb1-f226.google.com [209.85.219.226]) by mails.dpdk.org (Postfix) with ESMTP id D770540DFB for ; Sat, 15 Jul 2023 03:25:52 +0200 (CEST) Received: by mail-yb1-f226.google.com with SMTP id 3f1490d57ef6-cada5e4e3f6so2370708276.3 for ; Fri, 14 Jul 2023 18:25:52 -0700 (PDT) DKIM-Signature: v=1; a=rsa-sha256; c=relaxed/relaxed; d=iol.unh.edu; s=unh-iol; t=1689384352; x=1691976352; h=cc:to:from:subject:message-id:date:from:to:cc:subject:date :message-id:reply-to; bh=gcUe3z9LgxblfXd+oEcwp7UfPMjo7mrY6PuiHoSD8V8=; b=UBbYlAuesxIGXjA80tHwwl1lpDIkXeoGiK9uLiR1SBUpQthu50I36R4iU+EkaMPeL3 JvZQaUj5Uw1oNAUIJcIWpRKXb6YAwqb4Bkvv6V1S/bnUMvK+iIPWm5MB7/3jF+yLpGYO vj4SJ/GENC0om4Nm5asfqCc7O6sGwkIe4OAdk= X-Google-DKIM-Signature: v=1; a=rsa-sha256; c=relaxed/relaxed; d=1e100.net; s=20221208; t=1689384352; x=1691976352; h=cc:to:from:subject:message-id:date:x-gm-message-state:from:to:cc :subject:date:message-id:reply-to; bh=gcUe3z9LgxblfXd+oEcwp7UfPMjo7mrY6PuiHoSD8V8=; b=H1vniJsv3gMbuOTGG+S2DjYu3aZRfVoVd+eD6GVvWox4yQHXHiS4diIJpXQaUgOHm4 Lso1AHq4/WZ+OTCp35tV9cnKH6EL2TPbvq5VboINUw2jxqaCYJ3GKCKA/3KufS4mp7ex YMa4bZJ0oQeHf4NXp94Kjjyv2m+yAuJSBcygLEOk+RfJt+PrmFLG00i2i1uM4renzcrb oudSVf066oZZqhsuRRUL2LCr/giq/pRVbZR4pCjKvcJ3sBlF7TBMvdWqifqE2bgNIX6+ YtlsIbEFiuzGiHhJheXe1lhdzE+rUswe13zCtpDe6yzKHXopF7kZiewRoeN2LVe1oeER W8kQ== X-Gm-Message-State: ABy/qLbUntXs1xqHbVVQ95ZqnNAa7P6XlWDsfWOvulZWtPzner+/sLmG nJ0/9F3KLQoe8N+B5D0Ex7oqzPuzabvWQbOA8xhHdfxymZiwbAaAqbKMUUbAnenJ6uk3hNlv6A= = X-Google-Smtp-Source: APBJJlF+L24qtEwnbPHJVCBBYnib3w3RPBN+13OxoS53DKVAQrVQX6tnpuBBEo/GkWSAyRE7SGD8LwiSJJ8/ X-Received: by 2002:a25:2687:0:b0:ca5:bffd:6cf5 with SMTP id m129-20020a252687000000b00ca5bffd6cf5mr5931336ybm.15.1689384352154; Fri, 14 Jul 2023 18:25:52 -0700 (PDT) Received: from postal.iol.unh.edu (postal.iol.unh.edu. [2606:4100:3880:1234::84]) by smtp-relay.gmail.com with ESMTPS id x195-20020a25e0cc000000b00cc1f9d10640sm100872ybg.24.2023.07.14.18.25.52 (version=TLS1_2 cipher=ECDHE-ECDSA-AES128-GCM-SHA256 bits=128/128); Fri, 14 Jul 2023 18:25:52 -0700 (PDT) X-Relaying-Domain: iol.unh.edu Date: Fri, 14 Jul 2023 18:25:52 -0700 (PDT) Message-ID: <64b1f5a0.250a0220.6b01e.587eSMTPIN_ADDED_MISSING@mx.google.com> Received: from [172.21.0.2] (unknown [172.18.0.240]) by postal.iol.unh.edu (Postfix) with ESMTP id A3383605246B; Fri, 14 Jul 2023 21:25:51 -0400 (EDT) Subject: |SUCCESS| [GIT MASTER] 655eb37b18b1b0dc4d106acdf0dfedde01cfb224 From: dpdklab@iol.unh.edu To: Test Report Cc: dpdk-test-reports@iol.unh.edu Content-Type: text/plain X-BeenThere: test-report@dpdk.org X-Mailman-Version: 2.1.29 Precedence: list List-Id: automatic DPDK test reports List-Unsubscribe: , List-Archive: List-Post: List-Help: List-Subscribe: , Errors-To: test-report-bounces@dpdk.org _Testing PASS_ Branch: dpdk 655eb37b18b1b0dc4d106acdf0dfedde01cfb224 --> testing pass Test environment and result as below: +------------------+----------+ | Environment | abi_test | +==================+==========+ | CentOS Stream 9 | PASS | +------------------+----------+ | Fedora 38 | PASS | +------------------+----------+ | Fedora 37 | PASS | +------------------+----------+ | RHEL8 | PASS | +------------------+----------+ | CentOS Stream 8 | PASS | +------------------+----------+ | RHEL 7 | PASS | +------------------+----------+ | Debian Bullseye | PASS | +------------------+----------+ | openSUSE Leap 15 | PASS | +------------------+----------+ | Arch Linux | PASS | +------------------+----------+ | Debian Buster | PASS | +------------------+----------+ | Ubuntu 22.04 | PASS | +------------------+----------+ CentOS Stream 9 Kernel: 4.18.0-240.10.1.el8_3.x86_64 Compiler: gcc 11.3.1 20220421 Fedora 38 Kernel: Depends on container host Compiler: gcc 13.1.1 Fedora 37 Kernel: Depends on container host system Compiler: gcc 12.3.1 RHEL8 Kernel: 4.18.0-240.10.1.el8_3.x86_64 Compiler: gcc 8.3.1 20191121 (Red Hat 8.3.1-5) CentOS Stream 8 Kernel: 4.18.0-240.10.1.el8_3.x86_64 Compiler: gcc 8.4.1 20200928 RHEL 7 Kernel: 4.18.0-240.10.1.el8_3.x86_64 Compiler: gcc 4.8.5 20150623 (Red Hat 4.8.5-44) Debian Bullseye Kernel: 5.4.0-122-generic Compiler: gcc 10.2.1-6 openSUSE Leap 15 Kernel: 4.18.0-240.10.1.el8_3.x86_64 Compiler: gcc 7.5.0 Arch Linux Kernel: 5.4.0-73-generic Compiler: gcc 11.1.0 Debian Buster Kernel: 5.4.0-122-generic Compiler: gcc 8.3.0-6 Ubuntu 22.04 Kernel: 4.18.0-240.10.1.el8_3.x86_64 Compiler: gcc 11.3.0 To view detailed results, visit: https://lab.dpdk.org/results/dashboard/tarballs/25498/ UNH-IOL DPDK Community Lab To manage your email subscriptions, visit: https://lab.dpdk.org/results/dashboard/preferences/subscriptions/