From mboxrd@z Thu Jan 1 00:00:00 1970 Return-Path: Received: from mails.dpdk.org (mails.dpdk.org [217.70.189.124]) by inbox.dpdk.org (Postfix) with ESMTP id 454C742E9F for ; Tue, 18 Jul 2023 03:45:13 +0200 (CEST) Received: from mails.dpdk.org (localhost [127.0.0.1]) by mails.dpdk.org (Postfix) with ESMTP id 3B17940223; Tue, 18 Jul 2023 03:45:13 +0200 (CEST) Received: from mail-pl1-f225.google.com (mail-pl1-f225.google.com [209.85.214.225]) by mails.dpdk.org (Postfix) with ESMTP id A868E40223 for ; Tue, 18 Jul 2023 03:45:11 +0200 (CEST) Received: by mail-pl1-f225.google.com with SMTP id d9443c01a7336-1b8bd586086so41450905ad.2 for ; Mon, 17 Jul 2023 18:45:11 -0700 (PDT) DKIM-Signature: v=1; a=rsa-sha256; c=relaxed/relaxed; d=iol.unh.edu; s=unh-iol; t=1689644711; x=1692236711; h=cc:to:from:subject:message-id:date:from:to:cc:subject:date :message-id:reply-to; bh=lcElZ9bmbSaIEdC+V6NrFqr4Hl+DEQguxCSZXw4h2KY=; b=a/vuLcrIpAoRz/CmunrT3oof+MtFg7YWFejuUiKYurpbpvSu1ejVUwQiAH5YGu7gpG KAkSDt+qKALLrVysw5GreJ57Vzbv13RIHkk4TLLYEor9WW0useuTlYFiB1V9ayJUbfIc B+kaAka+2ur+6hWZ+XK56wUETIWoyqgU+5wh0= X-Google-DKIM-Signature: v=1; a=rsa-sha256; c=relaxed/relaxed; d=1e100.net; s=20221208; t=1689644711; x=1692236711; h=cc:to:from:subject:message-id:date:x-gm-message-state:from:to:cc :subject:date:message-id:reply-to; bh=lcElZ9bmbSaIEdC+V6NrFqr4Hl+DEQguxCSZXw4h2KY=; b=QoYtAq/7Gn7o2GF5dyg5YiB7THHxsx22CMEmSmyT9A9tPZUpAbqlpgBwOI89bKUa7s VZz41GqMqinV0iOJcDSACPNo5a0Ago67Q0I8666XIq5O1jkQbJ/ovGUeoRUyfOmxEEJP HJbDJ2NzLe/XWG+MI6iPRLF5qYOPfGchwhDlr84++SiDFQSm4YRglQiffQhT42pZn646 H9IMkpoNBVLbg5bQfgSMbICo46Zz8s5LJBptwM3lHiDmWy8e3Szd9lmb+3t8qT3yFjar sDW3626EArqTb0weT2K5Z6O5NzJ43+HyNmLVS6Rc4rWlbrF3Pp8pprNfnbx/NI69xstZ 6WEQ== X-Gm-Message-State: ABy/qLY8zkHsQni5PVVIYRrrXiUYaiHGHZS8Co5oR7vPHsR1sKAwbNHl 5Wl8JcQl4ktNQPfsNiiqK6SVCWbWArWgLW7c00MLZkEQMIeimDE5EJdrbQ== X-Google-Smtp-Source: APBJJlFaxJXwnMg4sZBLiTEBBs9bqRML72K2GaEkAr80mBqbZ7PzzHbUlZoZKvZseE7Vx/ypYZCG34LovxV+ X-Received: by 2002:a17:902:bb98:b0:1b8:9b1d:9e24 with SMTP id m24-20020a170902bb9800b001b89b1d9e24mr13056637pls.22.1689644710881; Mon, 17 Jul 2023 18:45:10 -0700 (PDT) Received: from postal.iol.unh.edu (postal.iol.unh.edu. [132.177.123.84]) by smtp-relay.gmail.com with ESMTPS id u21-20020a170902a61500b001b7e26a164asm78446plq.37.2023.07.17.18.45.10 (version=TLS1_2 cipher=ECDHE-ECDSA-AES128-GCM-SHA256 bits=128/128); Mon, 17 Jul 2023 18:45:10 -0700 (PDT) X-Relaying-Domain: iol.unh.edu Date: Mon, 17 Jul 2023 18:45:10 -0700 (PDT) Message-ID: <64b5eea6.170a0220.e02aa.2325SMTPIN_ADDED_MISSING@mx.google.com> Received: from [172.21.0.2] (unknown [172.18.0.240]) by postal.iol.unh.edu (Postfix) with ESMTP id 4A8FA605246B; Mon, 17 Jul 2023 21:45:10 -0400 (EDT) Subject: |SUCCESS| [GIT MASTER] 655eb37b18b1b0dc4d106acdf0dfedde01cfb224 From: dpdklab@iol.unh.edu To: Test Report Cc: dpdk-test-reports@iol.unh.edu Content-Type: text/plain X-BeenThere: test-report@dpdk.org X-Mailman-Version: 2.1.29 Precedence: list List-Id: automatic DPDK test reports List-Unsubscribe: , List-Archive: List-Post: List-Help: List-Subscribe: , Errors-To: test-report-bounces@dpdk.org _Testing PASS_ Branch: dpdk 655eb37b18b1b0dc4d106acdf0dfedde01cfb224 --> testing pass Test environment and result as below: +---------------------+--------------------+----------------------+ | Environment | dpdk_meson_compile | dpdk_mingw64_compile | +=====================+====================+======================+ | FreeBSD 13 | PASS | SKIPPED | +---------------------+--------------------+----------------------+ | Windows Server 2019 | PASS | PASS | +---------------------+--------------------+----------------------+ | Ubuntu 20.04 | PASS | SKIPPED | +---------------------+--------------------+----------------------+ | CentOS Stream 8 | PASS | SKIPPED | +---------------------+--------------------+----------------------+ | CentOS Stream 9 | PASS | SKIPPED | +---------------------+--------------------+----------------------+ | Fedora 37 | PASS | SKIPPED | +---------------------+--------------------+----------------------+ | Debian Buster | PASS | SKIPPED | +---------------------+--------------------+----------------------+ | Debian Bullseye | PASS | SKIPPED | +---------------------+--------------------+----------------------+ | openSUSE Leap 15 | PASS | SKIPPED | +---------------------+--------------------+----------------------+ | Fedora 38 | PASS | SKIPPED | +---------------------+--------------------+----------------------+ | Ubuntu 22.04 | PASS | SKIPPED | +---------------------+--------------------+----------------------+ | RHEL 7 | PASS | SKIPPED | +---------------------+--------------------+----------------------+ | RHEL8 | PASS | SKIPPED | +---------------------+--------------------+----------------------+ | Arch Linux | PASS | SKIPPED | +---------------------+--------------------+----------------------+ | Alpine | PASS | SKIPPED | +---------------------+--------------------+----------------------+ FreeBSD 13 Kernel: 13.0 Compiler: clang 11.0.1 Windows Server 2019 Kernel: 10.0 Compiler: clang 14.0 and gcc 8.1.0 (MinGW) Ubuntu 20.04 Kernel: 4.18.0-240.10.1.el8_3.x86_64 Compiler: gcc 9.3.0-17ubuntu1~20.04 CentOS Stream 8 Kernel: 4.18.0-240.10.1.el8_3.x86_64 Compiler: gcc 8.4.1 20200928 CentOS Stream 9 Kernel: 4.18.0-240.10.1.el8_3.x86_64 Compiler: gcc 11.3.1 20220421 Fedora 37 Kernel: Depends on container host system Compiler: gcc 12.3.1 Debian Buster Kernel: 5.4.0-122-generic Compiler: gcc 8.3.0-6 Debian Bullseye Kernel: 5.4.0-122-generic Compiler: gcc 10.2.1-6 openSUSE Leap 15 Kernel: 4.18.0-240.10.1.el8_3.x86_64 Compiler: gcc 7.5.0 Fedora 38 Kernel: Depends on container host Compiler: gcc 13.1.1 Ubuntu 22.04 Kernel: 4.18.0-240.10.1.el8_3.x86_64 Compiler: gcc 11.3.0 RHEL 7 Kernel: 4.18.0-240.10.1.el8_3.x86_64 Compiler: gcc 4.8.5 20150623 (Red Hat 4.8.5-44) RHEL8 Kernel: 4.18.0-240.10.1.el8_3.x86_64 Compiler: gcc 8.3.1 20191121 (Red Hat 8.3.1-5) Arch Linux Kernel: 5.4.0-73-generic Compiler: gcc 11.1.0 Alpine Kernel: 5.4.0-73-generic Compiler: gcc (Alpine 10.3.1_git20210424) 10.3.1 20210424 To view detailed results, visit: https://lab.dpdk.org/results/dashboard/tarballs/25516/ UNH-IOL DPDK Community Lab To manage your email subscriptions, visit: https://lab.dpdk.org/results/dashboard/preferences/subscriptions/