From: dpdklab@iol.unh.edu
To: Test Report <test-report@dpdk.org>
Cc: dpdk-test-reports@iol.unh.edu
Subject: |SUCCESS| pw129671 [PATCH] [v3] MAINTAINERS: add status information
Date: Thu, 20 Jul 2023 11:24:44 -0700 (PDT) [thread overview]
Message-ID: <64b97bec.050a0220.7d89.5a65SMTPIN_ADDED_MISSING@mx.google.com> (raw)
Test-Label: iol-x86_64-compile-testing
Test-Status: SUCCESS
http://dpdk.org/patch/129671
_Testing PASS_
Submitter: Stephen Hemminger <stephen@networkplumber.org>
Date: Thursday, July 20 2023 17:21:25
DPDK git baseline: Repo:dpdk
Branch: master
CommitID:035968c78e798aa6fb81ceb45d06a44412a00912
129671 --> testing pass
Test environment and result as below:
+---------------------+--------------------+----------------------+
| Environment | dpdk_meson_compile | dpdk_mingw64_compile |
+=====================+====================+======================+
| FreeBSD 13 | PASS | SKIPPED |
+---------------------+--------------------+----------------------+
| Windows Server 2019 | PASS | PASS |
+---------------------+--------------------+----------------------+
| CentOS Stream 9 | PASS | SKIPPED |
+---------------------+--------------------+----------------------+
| Debian Buster | PASS | SKIPPED |
+---------------------+--------------------+----------------------+
| Debian Bullseye | PASS | SKIPPED |
+---------------------+--------------------+----------------------+
| RHEL8 | PASS | SKIPPED |
+---------------------+--------------------+----------------------+
| CentOS Stream 8 | PASS | SKIPPED |
+---------------------+--------------------+----------------------+
| Ubuntu 22.04 | PASS | SKIPPED |
+---------------------+--------------------+----------------------+
| Alpine | PASS | SKIPPED |
+---------------------+--------------------+----------------------+
| RHEL 7 | PASS | SKIPPED |
+---------------------+--------------------+----------------------+
| Fedora 38 | PASS | SKIPPED |
+---------------------+--------------------+----------------------+
| Ubuntu 20.04 | PASS | SKIPPED |
+---------------------+--------------------+----------------------+
| Fedora 37 | PASS | SKIPPED |
+---------------------+--------------------+----------------------+
| openSUSE Leap 15 | PASS | SKIPPED |
+---------------------+--------------------+----------------------+
FreeBSD 13
Kernel: 13.0
Compiler: clang 11.0.1
Windows Server 2019
Kernel: 10.0
Compiler: clang 14.0 and gcc 8.1.0 (MinGW)
CentOS Stream 9
Kernel: 4.18.0-240.10.1.el8_3.x86_64
Compiler: gcc 11.3.1 20220421
Debian Buster
Kernel: 5.4.0-122-generic
Compiler: gcc 8.3.0-6
Debian Bullseye
Kernel: 5.4.0-122-generic
Compiler: gcc 10.2.1-6
RHEL8
Kernel: 4.18.0-240.10.1.el8_3.x86_64
Compiler: gcc 8.3.1 20191121 (Red Hat 8.3.1-5)
CentOS Stream 8
Kernel: 4.18.0-240.10.1.el8_3.x86_64
Compiler: gcc 8.4.1 20200928
Ubuntu 22.04
Kernel: 4.18.0-240.10.1.el8_3.x86_64
Compiler: gcc 11.3.0
Alpine
Kernel: 5.4.0-73-generic
Compiler: gcc (Alpine 10.3.1_git20210424) 10.3.1 20210424
RHEL 7
Kernel: 4.18.0-240.10.1.el8_3.x86_64
Compiler: gcc 4.8.5 20150623 (Red Hat 4.8.5-44)
Fedora 38
Kernel: Depends on container host
Compiler: gcc 13.1.1
Ubuntu 20.04
Kernel: 4.18.0-240.10.1.el8_3.x86_64
Compiler: gcc 9.3.0-17ubuntu1~20.04
Fedora 37
Kernel: Depends on container host system
Compiler: gcc 12.3.1
openSUSE Leap 15
Kernel: 4.18.0-240.10.1.el8_3.x86_64
Compiler: gcc 7.5.0
To view detailed results, visit:
https://lab.dpdk.org/results/dashboard/patchsets/27115/
UNH-IOL DPDK Community Lab
To manage your email subscriptions, visit:
https://lab.dpdk.org/results/dashboard/preferences/subscriptions/
next reply other threads:[~2023-07-20 18:24 UTC|newest]
Thread overview: 33+ messages / expand[flat|nested] mbox.gz Atom feed top
2023-07-20 18:24 dpdklab [this message]
-- strict thread matches above, loose matches on Subject: below --
2023-07-20 22:26 dpdklab
2023-07-20 22:22 dpdklab
2023-07-20 22:11 dpdklab
2023-07-20 22:06 dpdklab
2023-07-20 22:02 dpdklab
2023-07-20 20:48 dpdklab
2023-07-20 19:54 dpdklab
2023-07-20 19:02 dpdklab
2023-07-20 19:01 dpdklab
2023-07-20 18:32 dpdklab
2023-07-20 18:32 dpdklab
2023-07-20 18:19 dpdklab
2023-07-20 18:19 dpdklab
2023-07-20 18:16 dpdklab
2023-07-20 18:15 dpdklab
2023-07-20 18:14 dpdklab
2023-07-20 18:13 dpdklab
2023-07-20 18:08 dpdklab
2023-07-20 18:05 dpdklab
2023-07-20 18:03 dpdklab
2023-07-20 18:03 dpdklab
2023-07-20 18:02 dpdklab
2023-07-20 18:01 dpdklab
2023-07-20 18:01 dpdklab
2023-07-20 18:01 dpdklab
2023-07-20 18:00 dpdklab
2023-07-20 18:00 dpdklab
2023-07-20 17:59 dpdklab
[not found] <20230720172125.8003-1-stephen@networkplumber.org>
2023-07-20 17:09 ` |SUCCESS| pw129671 [PATCH v3] " qemudev
2023-07-20 17:13 ` qemudev
2023-07-20 17:22 ` checkpatch
2023-07-20 18:18 ` 0-day Robot
Reply instructions:
You may reply publicly to this message via plain-text email
using any one of the following methods:
* Save the following mbox file, import it into your mail client,
and reply-to-all from there: mbox
Avoid top-posting and favor interleaved quoting:
https://en.wikipedia.org/wiki/Posting_style#Interleaved_style
* Reply using the --to, --cc, and --in-reply-to
switches of git-send-email(1):
git send-email \
--in-reply-to=64b97bec.050a0220.7d89.5a65SMTPIN_ADDED_MISSING@mx.google.com \
--to=dpdklab@iol.unh.edu \
--cc=dpdk-test-reports@iol.unh.edu \
--cc=test-report@dpdk.org \
/path/to/YOUR_REPLY
https://kernel.org/pub/software/scm/git/docs/git-send-email.html
* If your mail client supports setting the In-Reply-To header
via mailto: links, try the mailto: link
Be sure your reply has a Subject: header at the top and a blank line
before the message body.
This is a public inbox, see mirroring instructions
for how to clone and mirror all data and code used for this inbox;
as well as URLs for NNTP newsgroup(s).