From mboxrd@z Thu Jan 1 00:00:00 1970 Return-Path: Received: from mails.dpdk.org (mails.dpdk.org [217.70.189.124]) by inbox.dpdk.org (Postfix) with ESMTP id B668242ED6 for ; Fri, 21 Jul 2023 09:51:03 +0200 (CEST) Received: from mails.dpdk.org (localhost [127.0.0.1]) by mails.dpdk.org (Postfix) with ESMTP id 8EAB040DD8; Fri, 21 Jul 2023 09:51:03 +0200 (CEST) Received: from mail-io1-f100.google.com (mail-io1-f100.google.com [209.85.166.100]) by mails.dpdk.org (Postfix) with ESMTP id 1D61040DD8 for ; Fri, 21 Jul 2023 09:51:02 +0200 (CEST) Received: by mail-io1-f100.google.com with SMTP id ca18e2360f4ac-7866189cff1so71937339f.0 for ; Fri, 21 Jul 2023 00:51:02 -0700 (PDT) DKIM-Signature: v=1; a=rsa-sha256; c=relaxed/relaxed; d=iol.unh.edu; s=unh-iol; t=1689925861; x=1690530661; h=cc:to:from:subject:message-id:date:from:to:cc:subject:date :message-id:reply-to; bh=fH8tyoLYIqq+HqbxlY4o6awJ67tT4kHxl08/Yjdayi8=; b=XeRIltDGB2/iia7fq+pr+AYo0AnErrRJdgy4GSf79NzG2Dhv5qa+ff5Fx1/ZIlu/Rj 08BAC0MaFEHqDWexm0P60sXbcWArMFiKZgcNRWqlm8zkvxIiRI1Z4isrS6olAXi2ShLA mEyUddxPB+j4MXeC4wdxKb/JbhAklKGxT+8f4= X-Google-DKIM-Signature: v=1; a=rsa-sha256; c=relaxed/relaxed; d=1e100.net; s=20221208; t=1689925861; x=1690530661; h=cc:to:from:subject:message-id:date:x-gm-message-state:from:to:cc :subject:date:message-id:reply-to; bh=fH8tyoLYIqq+HqbxlY4o6awJ67tT4kHxl08/Yjdayi8=; b=ipAnqDFI/MVeJ+c4xsMgp3kxoJKai0sBKYp6/KjozMMZeMfqBf09CcR2Lc7l2cj2co OQs/2i3DbvzZECE0Y5XUlfph64g5d1jsjZ3Pq/99nGWdIH0mn4Hv59PToeCyj2r9Gfh6 ybeaiKzY/aUPLGFfatkDzYyUck5mpR2lw2gH8/6+q7kjSxEhk2YHWGv+j8UsqhO0db6W /dgFLBrZyrCX/C+HbcLXOSuMlE/5x6n2xr8rtn9Wb0uCaEluTMjaoCGfjcwMEGz4jHm4 K5MT/EfOx96IvBGPO+ah6I9QcTAoNLykfjdz69/Z0U59p5XVRE5ODwuV7eQe9DJ+udRT hmjg== X-Gm-Message-State: ABy/qLZiHg05eLPZFCA9M8vTKQ2AcTvrHO9gIwgWMg2RsSEgrA0jBy9Y z3hhkzzt8R7x2mWbaBGY5hLU7o/OGF4ZFccYA79NHMMWqSS9HvDHDDmx7usW89HrWcqiJgk5xw= = X-Google-Smtp-Source: APBJJlFHyeKjUBELTqrysRAqIQxmWH20q9xpwdCpAQgN6FUIyaa3A2dzDvfYCabXLXjpyFDiqg29nUQ8mv93 X-Received: by 2002:a6b:dd0b:0:b0:787:6bd:e590 with SMTP id f11-20020a6bdd0b000000b0078706bde590mr1020596ioc.3.1689925861442; Fri, 21 Jul 2023 00:51:01 -0700 (PDT) Received: from postal.iol.unh.edu (postal.iol.unh.edu. [2606:4100:3880:1234::84]) by smtp-relay.gmail.com with ESMTPS id s6-20020a02cf26000000b0042b28813815sm123927jar.23.2023.07.21.00.51.01 (version=TLS1_2 cipher=ECDHE-ECDSA-AES128-GCM-SHA256 bits=128/128); Fri, 21 Jul 2023 00:51:01 -0700 (PDT) X-Relaying-Domain: iol.unh.edu Date: Fri, 21 Jul 2023 00:51:01 -0700 (PDT) Message-ID: <64ba38e5.020a0220.eac26.53f4SMTPIN_ADDED_MISSING@mx.google.com> Received: from [172.21.0.2] (unknown [172.18.0.240]) by postal.iol.unh.edu (Postfix) with ESMTP id EE48D605246B; Fri, 21 Jul 2023 03:51:00 -0400 (EDT) Subject: |SUCCESS| pw129676 [PATCH] bus/dpaa: fix outside array bounds error From: dpdklab@iol.unh.edu To: Test Report Cc: dpdk-test-reports@iol.unh.edu Content-Type: text/plain X-BeenThere: test-report@dpdk.org X-Mailman-Version: 2.1.29 Precedence: list List-Id: automatic DPDK test reports List-Unsubscribe: , List-Archive: List-Post: List-Help: List-Subscribe: , Errors-To: test-report-bounces@dpdk.org Test-Label: iol-abi-testing Test-Status: SUCCESS http://dpdk.org/patch/129676 _Testing PASS_ Submitter: Gagandeep Singh Date: Friday, July 21 2023 05:28:10 DPDK git baseline: Repo:dpdk Branch: master CommitID:fbafb3676c482dab60c0b5465b47f2ea33893a36 129676 --> testing pass Test environment and result as below: +------------------+----------+ | Environment | abi_test | +==================+==========+ | CentOS Stream 9 | PASS | +------------------+----------+ | CentOS Stream 8 | PASS | +------------------+----------+ | openSUSE Leap 15 | PASS | +------------------+----------+ | Fedora 38 | PASS | +------------------+----------+ CentOS Stream 9 Kernel: 4.18.0-240.10.1.el8_3.x86_64 Compiler: gcc 11.3.1 20220421 CentOS Stream 8 Kernel: 4.18.0-240.10.1.el8_3.x86_64 Compiler: gcc 8.4.1 20200928 openSUSE Leap 15 Kernel: 4.18.0-240.10.1.el8_3.x86_64 Compiler: gcc 7.5.0 Fedora 38 Kernel: Depends on container host Compiler: clang 16.0.3 To view detailed results, visit: https://lab.dpdk.org/results/dashboard/patchsets/27120/ UNH-IOL DPDK Community Lab To manage your email subscriptions, visit: https://lab.dpdk.org/results/dashboard/preferences/subscriptions/