From mboxrd@z Thu Jan 1 00:00:00 1970 Return-Path: Received: from mails.dpdk.org (mails.dpdk.org [217.70.189.124]) by inbox.dpdk.org (Postfix) with ESMTP id 973C442ED8 for ; Fri, 21 Jul 2023 10:01:38 +0200 (CEST) Received: from mails.dpdk.org (localhost [127.0.0.1]) by mails.dpdk.org (Postfix) with ESMTP id 7C97B40DD8; Fri, 21 Jul 2023 10:01:38 +0200 (CEST) Received: from mail-pl1-f225.google.com (mail-pl1-f225.google.com [209.85.214.225]) by mails.dpdk.org (Postfix) with ESMTP id 2113C40DD8 for ; Fri, 21 Jul 2023 10:01:37 +0200 (CEST) Received: by mail-pl1-f225.google.com with SMTP id d9443c01a7336-1b89600a37fso10761625ad.2 for ; Fri, 21 Jul 2023 01:01:37 -0700 (PDT) DKIM-Signature: v=1; a=rsa-sha256; c=relaxed/relaxed; d=iol.unh.edu; s=unh-iol; t=1689926496; x=1690531296; h=cc:to:from:subject:message-id:date:from:to:cc:subject:date :message-id:reply-to; bh=QJ2g6132sk3Q/KsldmDMojlHORklxuGrJDZcd0nMxWo=; b=Hmk3pSEqSDKANp7di7og1yDLpGf9OCJjT/fAQp21UQNnsHNqNbESSG8EC2vH04GLGr /0ouKcmy54SsgHIVNJ5wFhrahgXO6DkIxS0mZead4aiIktxFb8zVfDyHknasS4ODT7x4 4K2IMb0+9OSBO9IMU5pxK7oim7mo4RRWSxAB8= X-Google-DKIM-Signature: v=1; a=rsa-sha256; c=relaxed/relaxed; d=1e100.net; s=20221208; t=1689926496; x=1690531296; h=cc:to:from:subject:message-id:date:x-gm-message-state:from:to:cc :subject:date:message-id:reply-to; bh=QJ2g6132sk3Q/KsldmDMojlHORklxuGrJDZcd0nMxWo=; b=OWGwn85yP6MmiafRB1gD6dIod0xIq9d+qlGW9ioaKCEKx6sjTj41wl6eLz5xODuYwg /39TJUSb/DJYBLX7f2b8ZK80j/JhrPSZGcGBP24TC7v60d2FXLpjX1ANqY/+epIMofFX cGtRI34wf28XqcHXklYA6nlhajkPmK51HIYfCX8u0MqwPWvhwkdq100f3MivEuEFARiv /pIZkR71re636sW0MfJ98m8Im23rJ/Tu9p9KfmIKJ657p+k6Ky9yMyfwvicbZtuRLslL yuJdYxGrQ0r6+zIu5rt/S+FryA3kE6GmmYwV4SQAQXP1Rl7RSf5T9081Wcqk42nIPA3S 5sSg== X-Gm-Message-State: ABy/qLbWJqpZ8gxWTQvbU7+hQRYcPCK14HUea7hr4pBatT2p49DDkOsz NtNdP2BL86bmTskW9sm/c3EjvvYh78N82oM6PZkIySVoGgXIbzwFQm9SW5JvKEl3QoNf+ln4OQ= = X-Google-Smtp-Source: APBJJlH0PFaxZ5EQwTVG3rb0Fcq8fI+ijVVVxdWcpTbH2rA2z6CJUu6GENzev6Hri06JDTrlQzW5TPXOVWDK X-Received: by 2002:a17:902:9a86:b0:1b9:e97f:38ac with SMTP id w6-20020a1709029a8600b001b9e97f38acmr912705plp.56.1689926496140; Fri, 21 Jul 2023 01:01:36 -0700 (PDT) Received: from postal.iol.unh.edu (postal.iol.unh.edu. [2606:4100:3880:1234::84]) by smtp-relay.gmail.com with ESMTPS id g6-20020a170902740600b001b8a46ec85asm102628pll.123.2023.07.21.01.01.36 (version=TLS1_2 cipher=ECDHE-ECDSA-AES128-GCM-SHA256 bits=128/128); Fri, 21 Jul 2023 01:01:36 -0700 (PDT) X-Relaying-Domain: iol.unh.edu Date: Fri, 21 Jul 2023 01:01:36 -0700 (PDT) Message-ID: <64ba3b60.170a0220.5bce0.3f66SMTPIN_ADDED_MISSING@mx.google.com> Received: from [172.21.0.2] (unknown [172.18.0.240]) by postal.iol.unh.edu (Postfix) with ESMTP id 53A4F605246B; Fri, 21 Jul 2023 04:01:35 -0400 (EDT) Subject: |SUCCESS| pw129676 [PATCH] bus/dpaa: fix outside array bounds error From: dpdklab@iol.unh.edu To: Test Report Cc: Gagandeep Singh Content-Type: text/plain X-BeenThere: test-report@dpdk.org X-Mailman-Version: 2.1.29 Precedence: list List-Id: automatic DPDK test reports List-Unsubscribe: , List-Archive: List-Post: List-Help: List-Subscribe: , Errors-To: test-report-bounces@dpdk.org Test-Label: iol-abi-testing Test-Status: SUCCESS http://dpdk.org/patch/129676 _Testing PASS_ Submitter: Gagandeep Singh Date: Friday, July 21 2023 05:28:10 DPDK git baseline: Repo:dpdk Branch: master CommitID:fbafb3676c482dab60c0b5465b47f2ea33893a36 129676 --> testing pass Test environment and result as below: +------------------+----------+ | Environment | abi_test | +==================+==========+ | CentOS Stream 9 | PASS | +------------------+----------+ | CentOS Stream 8 | PASS | +------------------+----------+ | openSUSE Leap 15 | PASS | +------------------+----------+ | Fedora 38 | PASS | +------------------+----------+ | RHEL8 | PASS | +------------------+----------+ | RHEL 7 | PASS | +------------------+----------+ | Fedora 37 | PASS | +------------------+----------+ | Ubuntu 22.04 | PASS | +------------------+----------+ | Debian Buster | PASS | +------------------+----------+ | Debian Bullseye | PASS | +------------------+----------+ CentOS Stream 9 Kernel: 4.18.0-240.10.1.el8_3.x86_64 Compiler: gcc 11.3.1 20220421 CentOS Stream 8 Kernel: 4.18.0-240.10.1.el8_3.x86_64 Compiler: gcc 8.4.1 20200928 openSUSE Leap 15 Kernel: 4.18.0-240.10.1.el8_3.x86_64 Compiler: gcc 7.5.0 Fedora 38 Kernel: Depends on container host Compiler: clang 16.0.3 RHEL8 Kernel: 4.18.0-240.10.1.el8_3.x86_64 Compiler: gcc 8.3.1 20191121 (Red Hat 8.3.1-5) RHEL 7 Kernel: 4.18.0-240.10.1.el8_3.x86_64 Compiler: gcc 4.8.5 20150623 (Red Hat 4.8.5-44) Fedora 37 Kernel: Depends on container host system Compiler: gcc 12.3.1 Ubuntu 22.04 Kernel: 4.18.0-240.10.1.el8_3.x86_64 Compiler: gcc 11.3.0 Debian Buster Kernel: 5.4.0-122-generic Compiler: gcc 8.3.0-6 Debian Bullseye Kernel: 5.4.0-122-generic Compiler: gcc 10.2.1-6 To view detailed results, visit: https://lab.dpdk.org/results/dashboard/patchsets/27120/ UNH-IOL DPDK Community Lab To manage your email subscriptions, visit: https://lab.dpdk.org/results/dashboard/preferences/subscriptions/