From mboxrd@z Thu Jan 1 00:00:00 1970 Return-Path: Received: from mails.dpdk.org (mails.dpdk.org [217.70.189.124]) by inbox.dpdk.org (Postfix) with ESMTP id 5929242FCE for ; Fri, 4 Aug 2023 09:37:24 +0200 (CEST) Received: from mails.dpdk.org (localhost [127.0.0.1]) by mails.dpdk.org (Postfix) with ESMTP id 2915240E2D; Fri, 4 Aug 2023 09:37:24 +0200 (CEST) Received: from mail-yb1-f225.google.com (mail-yb1-f225.google.com [209.85.219.225]) by mails.dpdk.org (Postfix) with ESMTP id CC86140E2D for ; Fri, 4 Aug 2023 09:37:22 +0200 (CEST) Received: by mail-yb1-f225.google.com with SMTP id 3f1490d57ef6-d16889b3e93so1873148276.0 for ; Fri, 04 Aug 2023 00:37:22 -0700 (PDT) DKIM-Signature: v=1; a=rsa-sha256; c=relaxed/relaxed; d=iol.unh.edu; s=unh-iol; t=1691134642; x=1691739442; h=cc:to:from:subject:message-id:date:from:to:cc:subject:date :message-id:reply-to; bh=/PtsBijXbq0cBv7w23xlmU7QF3fGQKZ5WWVZ6TKbKuo=; b=jaP4r+diiFmddkUX6yXaUDOB4cTJhhgEoAMZjIm4z1OSk7AHT0fxHGaSsIOWz79M03 3qNPba0W7DX68Qop9H/KdHSLWnau2JcVa2zB22nsKNHeC+jdvoyxtbubVqIhoa+Axnfw Ojf4RwJRYXt85dabbbUkcAjn/q7sszbQKtkJg= X-Google-DKIM-Signature: v=1; a=rsa-sha256; c=relaxed/relaxed; d=1e100.net; s=20221208; t=1691134642; x=1691739442; h=cc:to:from:subject:message-id:date:x-gm-message-state:from:to:cc :subject:date:message-id:reply-to; bh=/PtsBijXbq0cBv7w23xlmU7QF3fGQKZ5WWVZ6TKbKuo=; b=VGmEg9zqpYjSzPLh37o4j0MzfbgRMdOVTX/8AqFCBzLA7CI7Qpemy46pGI6tpYzslE cpU7viOOiIyJn+d7MY0eu8ICmEOlnz+aMTRU+qWMvYJ0HTQ2kUISi3mQ3zRQeVIb9aaA m5juozsSb0jM8aL0VSfkf+sBjINMAJCPY/L5rcnJK78nv1fMpxYeWeDtFeo6FX5ZUEJe UaZq8AXmwsInQPA8M0RwugOnOvsDkEjE0YeC2/AvSI2IS4NjoAmrEHokAuJnUWoOdt+I g8o5tlvPNlOfU/5JTWIIoyLb+vfEjxicNYIv+L+hfR8KL620G4MPU8chduLNaywZdcbk 5ifg== X-Gm-Message-State: AOJu0Yx7shW+2hJXTX/+bMCLLt0SQsmiesn4VYTHA/xz8NA7/Xs4gC3L Qud71cTaoTas1pL89lqrJgnqIH4L5aU74KDrzhugQeTPJzHzoDyGcevmuN2HWRndvg== X-Google-Smtp-Source: AGHT+IH0xZiPMCk7OvuV0dD61P2+6CdZwNWO2kn4t3drvdRU+ljZ5Xux7RpwoeMgMEGGbRDCys2gvgIiUnbF X-Received: by 2002:a25:ab71:0:b0:d09:1520:2b5b with SMTP id u104-20020a25ab71000000b00d0915202b5bmr835198ybi.49.1691134642131; Fri, 04 Aug 2023 00:37:22 -0700 (PDT) Received: from postal.iol.unh.edu (postal.iol.unh.edu. [2606:4100:3880:1234::84]) by smtp-relay.gmail.com with ESMTPS id k62-20020a253d41000000b00d2a153cda72sm184998yba.24.2023.08.04.00.37.22 (version=TLS1_2 cipher=ECDHE-ECDSA-AES128-GCM-SHA256 bits=128/128); Fri, 04 Aug 2023 00:37:22 -0700 (PDT) X-Relaying-Domain: iol.unh.edu Date: Fri, 04 Aug 2023 00:37:22 -0700 (PDT) Message-ID: <64ccaab2.250a0220.8a340.63f1SMTPIN_ADDED_MISSING@mx.google.com> Received: from [172.17.0.2] (unknown [172.18.0.217]) by postal.iol.unh.edu (Postfix) with ESMTP id B24366052471; Fri, 4 Aug 2023 03:37:21 -0400 (EDT) Subject: |SUCCESS| [GIT MASTER] 89133ca5b161036ace8fee04dd39ca94533fffc9 From: dpdklab@iol.unh.edu To: Test Report Cc: dpdk-test-reports@iol.unh.edu, Xueming Li , Christian Ehrhardt , Kevin Traynor , Luca Boccassi Content-Type: text/plain X-BeenThere: test-report@dpdk.org X-Mailman-Version: 2.1.29 Precedence: list List-Id: automatic DPDK test reports List-Unsubscribe: , List-Archive: List-Post: List-Help: List-Subscribe: , Errors-To: test-report-bounces@dpdk.org _Testing PASS_ Branch: tags/v21.11 89133ca5b161036ace8fee04dd39ca94533fffc9 --> testing pass Test environment and result as below: +------------------------------------+--------------------+ | Environment | dpdk_meson_compile | +====================================+====================+ | CentOS Stream 9 (ARM) | PASS | +------------------------------------+--------------------+ | Fedora 38 (ARM) | PASS | +------------------------------------+--------------------+ | Ubuntu 20.04 (ARM) | PASS | +------------------------------------+--------------------+ | Fedora 37 (ARM) | PASS | +------------------------------------+--------------------+ | Fedora 38 (ARM Clang) | PASS | +------------------------------------+--------------------+ | Debian 11 (Buster) (ARM) | PASS | +------------------------------------+--------------------+ | Ubuntu 20.04 ARM GCC Cross Compile | PASS | +------------------------------------+--------------------+ | Ubuntu 20.04 ARM SVE | PASS | +------------------------------------+--------------------+ CentOS Stream 9 (ARM) Kernel: Container Host Kernel Compiler: gcc 11.3.1 Fedora 38 (ARM) Kernel: Depends on container host Compiler: gcc 13.1.1 Ubuntu 20.04 (ARM) Kernel: Container Host Kernel Compiler: gcc 9.4.0 Fedora 37 (ARM) Kernel: Depends on container host Compiler: gcc 12.3.1 Fedora 38 (ARM Clang) Kernel: Depends on container host Compiler: clang 16.0.3 Debian 11 (Buster) (ARM) Kernel: Container Host Kernel Compiler: gcc 10.2.1 Ubuntu 20.04 ARM GCC Cross Compile Kernel: 5.4.0-72-generic Compiler: aarch64-linux-gnu-gcc (Ubuntu 9.3.0-17ubuntu1~20.04) 9.3.0 Ubuntu 20.04 ARM SVE Kernel: 5.4.0-80-generic Compiler: gcc 10.3.0 (Ubuntu 10.3.0-1ubuntu1~20.04) To view detailed results, visit: https://lab.dpdk.org/results/dashboard/tarballs/25704/ UNH-IOL DPDK Community Lab To manage your email subscriptions, visit: https://lab.dpdk.org/results/dashboard/preferences/subscriptions/