From mboxrd@z Thu Jan 1 00:00:00 1970 Return-Path: Received: from mails.dpdk.org (mails.dpdk.org [217.70.189.124]) by inbox.dpdk.org (Postfix) with ESMTP id 2B1AD4306E for ; Tue, 15 Aug 2023 09:53:48 +0200 (CEST) Received: from mails.dpdk.org (localhost [127.0.0.1]) by mails.dpdk.org (Postfix) with ESMTP id 27724406B6; Tue, 15 Aug 2023 09:53:48 +0200 (CEST) Received: from mail-pf1-f225.google.com (mail-pf1-f225.google.com [209.85.210.225]) by mails.dpdk.org (Postfix) with ESMTP id D20F6406B6 for ; Tue, 15 Aug 2023 09:53:46 +0200 (CEST) Received: by mail-pf1-f225.google.com with SMTP id d2e1a72fcca58-68706b39c4cso3611250b3a.2 for ; Tue, 15 Aug 2023 00:53:46 -0700 (PDT) DKIM-Signature: v=1; a=rsa-sha256; c=relaxed/relaxed; d=iol.unh.edu; s=unh-iol; t=1692086026; x=1692690826; h=cc:to:from:subject:message-id:date:from:to:cc:subject:date :message-id:reply-to; bh=VcUpX3ODigwyjKUOg3wkA11MHUI5AozKMmH2BmogK3M=; b=C+FY9GjxDNi6xt280y4LZgyNNhc+56Sl9HgAd42GwJc/2ibyugK4WgN4osKjYQ8rKy 2XJSBBIcByt/AojKN17CQuvUldywOJ3TRY/LCFbrPU5tL5iCf1RxixI5grMkvuE2529f jgJnIu8fQeLBhQ7gcWqAEY9VuVfdYag+QwAlQ= X-Google-DKIM-Signature: v=1; a=rsa-sha256; c=relaxed/relaxed; d=1e100.net; s=20221208; t=1692086026; x=1692690826; h=cc:to:from:subject:message-id:date:x-gm-message-state:from:to:cc :subject:date:message-id:reply-to; bh=VcUpX3ODigwyjKUOg3wkA11MHUI5AozKMmH2BmogK3M=; b=HBNA4xbWSRi1zUNryIKb09gbbGAdNRVdC60NyGy5Hu3qTvXCybrCvTKzDP8RYxhy6i dTx/19vq3ngLLstd/ljwYuMI/qCI9LuYVc7wKwzeHR0WkZMMKrKnsDQNNOQZRxFeiKNN oXga4vp3NDbtRtO7KLXwQWrnxAtUavwb71FHySnJJDyz3SFfBpTU3o5R39ayKiFc+20z MAPyN2WRYq6I+kgcywXiZSSOC2HFCC1Uxhev3D7vh/wc1YsqM/CsbUl+4Zlj8C88uBqE n245HosXTdiDbmTV7O9CI0wph/M+4/8BAeAFEQ1pZW4buiI9eblKNnySYbGuWAbtQoex +pQA== X-Gm-Message-State: AOJu0YyHZgbvQ9hjMAQd8R0lqOjf7Uvj15h6pmo9JXQm2a+lAf2n8dMM tDaxLg2Ti+NzE0jokPsBH9R1jnTPWc0hye6Jn+B0JI4oNnWxTQ== X-Google-Smtp-Source: AGHT+IF3F5BsSYnFuLg9xzl3OKIKVASOOvFZNnSWg4gfGhU/WcuuVQU1b3Pf77lbWf1luonjkTwP8Oxl5b0r X-Received: by 2002:a05:6a00:22ca:b0:688:7136:3ad6 with SMTP id f10-20020a056a0022ca00b0068871363ad6mr115247pfj.34.1692086026021; Tue, 15 Aug 2023 00:53:46 -0700 (PDT) Received: from postal.iol.unh.edu (postal.iol.unh.edu. [132.177.123.84]) by smtp-relay.gmail.com with ESMTPS id y23-20020aa79af7000000b00687309dd57dsm754155pfp.10.2023.08.15.00.53.45 (version=TLS1_2 cipher=ECDHE-ECDSA-AES128-GCM-SHA256 bits=128/128); Tue, 15 Aug 2023 00:53:46 -0700 (PDT) X-Relaying-Domain: iol.unh.edu Date: Tue, 15 Aug 2023 00:53:46 -0700 (PDT) Message-ID: <64db2f0a.a70a0220.32f25.0683SMTPIN_ADDED_MISSING@mx.google.com> Received: from [172.21.0.2] (unknown [172.18.0.240]) by postal.iol.unh.edu (Postfix) with ESMTP id 3AC836052471; Tue, 15 Aug 2023 03:53:45 -0400 (EDT) Subject: |SUCCESS| [GIT MASTER] 89133ca5b161036ace8fee04dd39ca94533fffc9 From: dpdklab@iol.unh.edu To: Test Report Cc: dpdk-test-reports@iol.unh.edu, Xueming Li , Christian Ehrhardt , Kevin Traynor , Luca Boccassi Content-Type: text/plain X-BeenThere: test-report@dpdk.org X-Mailman-Version: 2.1.29 Precedence: list List-Id: automatic DPDK test reports List-Unsubscribe: , List-Archive: List-Post: List-Help: List-Subscribe: , Errors-To: test-report-bounces@dpdk.org _Testing PASS_ Branch: tags/v21.11 89133ca5b161036ace8fee04dd39ca94533fffc9 --> testing pass Test environment and result as below: +---------------------+--------------------+----------------------+ | Environment | dpdk_meson_compile | dpdk_mingw64_compile | +=====================+====================+======================+ | FreeBSD 13 | PASS | SKIPPED | +---------------------+--------------------+----------------------+ | Windows Server 2019 | PASS | PASS | +---------------------+--------------------+----------------------+ | CentOS Stream 8 | PASS | SKIPPED | +---------------------+--------------------+----------------------+ | Debian Buster | PASS | SKIPPED | +---------------------+--------------------+----------------------+ | Debian Bullseye | PASS | SKIPPED | +---------------------+--------------------+----------------------+ | CentOS Stream 9 | PASS | SKIPPED | +---------------------+--------------------+----------------------+ | Fedora 37 | PASS | SKIPPED | +---------------------+--------------------+----------------------+ FreeBSD 13 Kernel: 13.0 Compiler: clang 11.0.1 Windows Server 2019 Kernel: 10.0 Compiler: clang 14.0 and gcc 8.1.0 (MinGW) CentOS Stream 8 Kernel: 4.18.0-240.10.1.el8_3.x86_64 Compiler: gcc 8.4.1 20200928 Debian Buster Kernel: 5.4.0-122-generic Compiler: gcc 8.3.0-6 Debian Bullseye Kernel: 5.4.0-122-generic Compiler: gcc 10.2.1-6 CentOS Stream 9 Kernel: 4.18.0-240.10.1.el8_3.x86_64 Compiler: gcc 11.3.1 20220421 Fedora 37 Kernel: Depends on container host system Compiler: gcc 12.3.1 To view detailed results, visit: https://lab.dpdk.org/results/dashboard/tarballs/25823/ UNH-IOL DPDK Community Lab To manage your email subscriptions, visit: https://lab.dpdk.org/results/dashboard/preferences/subscriptions/