From mboxrd@z Thu Jan 1 00:00:00 1970 Return-Path: Received: from mails.dpdk.org (mails.dpdk.org [217.70.189.124]) by inbox.dpdk.org (Postfix) with ESMTP id A68BF4306C for ; Tue, 15 Aug 2023 09:57:56 +0200 (CEST) Received: from mails.dpdk.org (localhost [127.0.0.1]) by mails.dpdk.org (Postfix) with ESMTP id A23EA406B6; Tue, 15 Aug 2023 09:57:56 +0200 (CEST) Received: from mail-yb1-f227.google.com (mail-yb1-f227.google.com [209.85.219.227]) by mails.dpdk.org (Postfix) with ESMTP id 9F555406B6 for ; Tue, 15 Aug 2023 09:57:55 +0200 (CEST) Received: by mail-yb1-f227.google.com with SMTP id 3f1490d57ef6-d64f0c2bc95so4314121276.1 for ; Tue, 15 Aug 2023 00:57:55 -0700 (PDT) DKIM-Signature: v=1; a=rsa-sha256; c=relaxed/relaxed; d=iol.unh.edu; s=unh-iol; t=1692086275; x=1692691075; h=cc:to:from:subject:message-id:date:from:to:cc:subject:date :message-id:reply-to; bh=VI8jEz/Ggcb1z05lqhzCnnebWq5vNidRT5Vpn+Dukrw=; b=h1RVBPopUh4CxSSbHOzZZRILsQ1SnG7UbjmEhbW0rH+FRno1dvZTmYpxojpABD+12a STIF7xs4DzJWIoMyVfJivpvC2q1JcQ4OUiSSafXPeA8AHXXkeQVhcbyy0rYAcHJ0KwA9 H69BuV7S5KJNzp1osyqy3686mPvhgoO9dO9jc= X-Google-DKIM-Signature: v=1; a=rsa-sha256; c=relaxed/relaxed; d=1e100.net; s=20221208; t=1692086275; x=1692691075; h=cc:to:from:subject:message-id:date:x-gm-message-state:from:to:cc :subject:date:message-id:reply-to; bh=VI8jEz/Ggcb1z05lqhzCnnebWq5vNidRT5Vpn+Dukrw=; b=Pp5nJLcy4Xj8b07CbBAj/nXE6Pza7dcJbmMjc5AIlCU6h6jokvRx+0cce1JdTOwUxr p+bbWoXf6HBRrdhYJw4U1RToUJAlCr9CbhV9Zu07lhQoo3WhGFDdrHpTYZj/g84CvSOe Tpr6Hf+sXpV4MN0rbw0OQ639pZ8LLmikOtzi+/LjpEUoUDCRGEjsAhieHKHr5ZkUuHKk uknrkt5VdM7ajg+YZGcud6hGF0p3xpHAXFaG7u8m2Pld5oxsl7HKyJIEy7WhZ9nUc1hg CEbVvztNw8cjxqO3KFxfSiGVl5uqpwovPOYvhikoaORa+mcbORZGvNi4obTjLnizZML2 QAXg== X-Gm-Message-State: AOJu0YyDHZZ0Kw6wKlXv6YzznrzQCqJUfYv54PwIBdRceQM8jeXnLxOJ IpNueZGNSWnw+1UL2dlQoLvML1BkeO9YNoUqtoJih9SdTQUEOXrxdkEPWtYb98VxQQ== X-Google-Smtp-Source: AGHT+IEFRraLshI1SI98abEsin1TRIOycgFRjJ4gCPnsQts8zpc2fhV9sYN6oC6QZWx72l3udcZL7yXozRbc X-Received: by 2002:a0d:e041:0:b0:589:8b55:f7f7 with SMTP id j62-20020a0de041000000b005898b55f7f7mr12540883ywe.39.1692086275078; Tue, 15 Aug 2023 00:57:55 -0700 (PDT) Received: from postal.iol.unh.edu (postal.iol.unh.edu. [2606:4100:3880:1234::84]) by smtp-relay.gmail.com with ESMTPS id s203-20020a815ed4000000b00572c5f69f49sm881964ywb.36.2023.08.15.00.57.55 (version=TLS1_2 cipher=ECDHE-ECDSA-AES128-GCM-SHA256 bits=128/128); Tue, 15 Aug 2023 00:57:55 -0700 (PDT) X-Relaying-Domain: iol.unh.edu Date: Tue, 15 Aug 2023 00:57:55 -0700 (PDT) Message-ID: <64db3003.810a0220.cffdb.c1eeSMTPIN_ADDED_MISSING@mx.google.com> Received: from [172.21.0.2] (unknown [172.18.0.240]) by postal.iol.unh.edu (Postfix) with ESMTP id B641A6052471; Tue, 15 Aug 2023 03:57:54 -0400 (EDT) Subject: |SUCCESS| [GIT MASTER] 89133ca5b161036ace8fee04dd39ca94533fffc9 From: dpdklab@iol.unh.edu To: Test Report Cc: dpdk-test-reports@iol.unh.edu, Xueming Li , Christian Ehrhardt , Kevin Traynor , Luca Boccassi Content-Type: text/plain X-BeenThere: test-report@dpdk.org X-Mailman-Version: 2.1.29 Precedence: list List-Id: automatic DPDK test reports List-Unsubscribe: , List-Archive: List-Post: List-Help: List-Subscribe: , Errors-To: test-report-bounces@dpdk.org _Testing PASS_ Branch: tags/v21.11 89133ca5b161036ace8fee04dd39ca94533fffc9 --> testing pass Test environment and result as below: +----------------------+--------------------+ | Environment | dpdk_meson_compile | +======================+====================+ | Ubuntu 20.04 ARM SVE | PASS | +----------------------+--------------------+ | Fedora 37 (ARM) | PASS | +----------------------+--------------------+ | Fedora 38 (ARM) | PASS | +----------------------+--------------------+ Ubuntu 20.04 ARM SVE Kernel: 5.4.0-80-generic Compiler: gcc 10.3.0 (Ubuntu 10.3.0-1ubuntu1~20.04) Fedora 37 (ARM) Kernel: Depends on container host Compiler: gcc 12.3.1 Fedora 38 (ARM) Kernel: Depends on container host Compiler: gcc 13.1.1 To view detailed results, visit: https://lab.dpdk.org/results/dashboard/tarballs/25823/ UNH-IOL DPDK Community Lab To manage your email subscriptions, visit: https://lab.dpdk.org/results/dashboard/preferences/subscriptions/