From mboxrd@z Thu Jan 1 00:00:00 1970 Return-Path: Received: from mails.dpdk.org (mails.dpdk.org [217.70.189.124]) by inbox.dpdk.org (Postfix) with ESMTP id 72A9D4306E for ; Tue, 15 Aug 2023 10:04:38 +0200 (CEST) Received: from mails.dpdk.org (localhost [127.0.0.1]) by mails.dpdk.org (Postfix) with ESMTP id 6D14F406B6; Tue, 15 Aug 2023 10:04:38 +0200 (CEST) Received: from mail-qt1-f226.google.com (mail-qt1-f226.google.com [209.85.160.226]) by mails.dpdk.org (Postfix) with ESMTP id B757E406B6 for ; Tue, 15 Aug 2023 10:04:36 +0200 (CEST) Received: by mail-qt1-f226.google.com with SMTP id d75a77b69052e-410450b3f55so16488211cf.0 for ; Tue, 15 Aug 2023 01:04:36 -0700 (PDT) DKIM-Signature: v=1; a=rsa-sha256; c=relaxed/relaxed; d=iol.unh.edu; s=unh-iol; t=1692086676; x=1692691476; h=cc:to:from:subject:message-id:date:from:to:cc:subject:date :message-id:reply-to; bh=oNObce+p+Wp4VOJM2bk7H1QZaZxtZ/UUIbj9wZDEiFI=; b=Scy9YVzmdVKkYlOCdYuDVshfSrwo45nrx3By0reV2QlEu8IH10ufGdhWos9EL2iQx0 mLPkv+vJJ0sks2F5wFk18WqBpmdiq5e+L/901a15YkSviqS0ZpKovBub3gx7eMRpmS0Z dJpxjWxl9XbOCn/3SdDho/jDEBM/vIouH0sII= X-Google-DKIM-Signature: v=1; a=rsa-sha256; c=relaxed/relaxed; d=1e100.net; s=20221208; t=1692086676; x=1692691476; h=cc:to:from:subject:message-id:date:x-gm-message-state:from:to:cc :subject:date:message-id:reply-to; bh=oNObce+p+Wp4VOJM2bk7H1QZaZxtZ/UUIbj9wZDEiFI=; b=ZMYpn4R3oLzHl5g18WaLbuMp/C6d4d1ssJRhZA7l4Es9mGtzldltY6QIFC1Ueb1nuJ 8luD0+Mbog3P8f0PUOG1hAFy6go9VqJ4SbyeUa/dW89Ti8PMAv2ZNH8PcFQf8QLehH+K bpMS68yQJ5vORAJt+nsTOKFfGWunCMy5b/tUKQzNTmjh1w3XHTFEXXreyI3YgEgcx3hM hZv8epgsTe82ZSwi0lgtJQesW/CNRBzBqvDppHRxtanOAAgK1mvnV24DdGMWNz+VT0tU 9eZFa4KLRCxmaMKmvezeCeOACdI7Zde4S06NC6vhUtT46K6H8WjCqWyUXdnvFsq6OgoK UXDw== X-Gm-Message-State: AOJu0YxT/Ee8KI0fR+1f+RxKj5AdPlb7KNQ08BKrwgUA9ZNTj+UxMCI6 OJBsHmgXvDHSQ2y94JI0ndXCiA6n6u9KXK7AG4TQVpvNsAp+pSirdR4VvPuHY0kCaQ== X-Google-Smtp-Source: AGHT+IELRnKjW4kIrRNqSh/oIXhSwApVwMzGQOEHSz/1hURV1l8T0Lp+6C97Y9RDWBu5Fg7uV9lzUAtL/Bat X-Received: by 2002:ac8:7f91:0:b0:407:613a:c398 with SMTP id z17-20020ac87f91000000b00407613ac398mr14364791qtj.33.1692086676193; Tue, 15 Aug 2023 01:04:36 -0700 (PDT) Received: from postal.iol.unh.edu (postal.iol.unh.edu. [2606:4100:3880:1234::84]) by smtp-relay.gmail.com with ESMTPS id j13-20020ac8664d000000b00403b2c4347bsm478078qtp.5.2023.08.15.01.04.36 (version=TLS1_2 cipher=ECDHE-ECDSA-AES128-GCM-SHA256 bits=128/128); Tue, 15 Aug 2023 01:04:36 -0700 (PDT) X-Relaying-Domain: iol.unh.edu Date: Tue, 15 Aug 2023 01:04:36 -0700 (PDT) Message-ID: <64db3194.c80a0220.6be09.d786SMTPIN_ADDED_MISSING@mx.google.com> Received: from [172.21.0.3] (unknown [172.18.0.240]) by postal.iol.unh.edu (Postfix) with ESMTP id 99EA16052471; Tue, 15 Aug 2023 04:04:35 -0400 (EDT) Subject: |SUCCESS| [GIT MASTER] 89133ca5b161036ace8fee04dd39ca94533fffc9 From: dpdklab@iol.unh.edu To: Test Report Cc: dpdk-test-reports@iol.unh.edu, Xueming Li , Christian Ehrhardt , Kevin Traynor , Luca Boccassi Content-Type: text/plain X-BeenThere: test-report@dpdk.org X-Mailman-Version: 2.1.29 Precedence: list List-Id: automatic DPDK test reports List-Unsubscribe: , List-Archive: List-Post: List-Help: List-Subscribe: , Errors-To: test-report-bounces@dpdk.org _Testing PASS_ Branch: tags/v21.11 89133ca5b161036ace8fee04dd39ca94533fffc9 --> testing pass Test environment and result as below: +--------------------------+--------------------+ | Environment | dpdk_meson_compile | +==========================+====================+ | Ubuntu 20.04 ARM SVE | PASS | +--------------------------+--------------------+ | Fedora 37 (ARM) | PASS | +--------------------------+--------------------+ | Fedora 38 (ARM) | PASS | +--------------------------+--------------------+ | Ubuntu 20.04 (ARM) | PASS | +--------------------------+--------------------+ | Debian 11 (Buster) (ARM) | PASS | +--------------------------+--------------------+ Ubuntu 20.04 ARM SVE Kernel: 5.4.0-80-generic Compiler: gcc 10.3.0 (Ubuntu 10.3.0-1ubuntu1~20.04) Fedora 37 (ARM) Kernel: Depends on container host Compiler: gcc 12.3.1 Fedora 38 (ARM) Kernel: Depends on container host Compiler: gcc 13.1.1 Ubuntu 20.04 (ARM) Kernel: Container Host Kernel Compiler: gcc 9.4.0 Debian 11 (Buster) (ARM) Kernel: Container Host Kernel Compiler: gcc 10.2.1 To view detailed results, visit: https://lab.dpdk.org/results/dashboard/tarballs/25823/ UNH-IOL DPDK Community Lab To manage your email subscriptions, visit: https://lab.dpdk.org/results/dashboard/preferences/subscriptions/