From mboxrd@z Thu Jan 1 00:00:00 1970 Return-Path: Received: from mails.dpdk.org (mails.dpdk.org [217.70.189.124]) by inbox.dpdk.org (Postfix) with ESMTP id 12A004307B for ; Wed, 16 Aug 2023 08:00:08 +0200 (CEST) Received: from mails.dpdk.org (localhost [127.0.0.1]) by mails.dpdk.org (Postfix) with ESMTP id 06FB4410D0; Wed, 16 Aug 2023 08:00:08 +0200 (CEST) Received: from mail-yw1-f228.google.com (mail-yw1-f228.google.com [209.85.128.228]) by mails.dpdk.org (Postfix) with ESMTP id 55A5C410D0 for ; Wed, 16 Aug 2023 08:00:07 +0200 (CEST) Received: by mail-yw1-f228.google.com with SMTP id 00721157ae682-589e0eef06dso30470577b3.2 for ; Tue, 15 Aug 2023 23:00:07 -0700 (PDT) DKIM-Signature: v=1; a=rsa-sha256; c=relaxed/relaxed; d=iol.unh.edu; s=unh-iol; t=1692165606; x=1692770406; h=cc:to:from:subject:message-id:date:from:to:cc:subject:date :message-id:reply-to; bh=S5S9dsEmV+PU9uJNacDxQIfEtZItN4LTSt0dUDI+8Q0=; b=eD//1YfXmtjhDtlTyyT3hEb/yVRzsFei9VNG26qFTmnKCdVP49x0RSbOA6B0zugvPY 0ViTcMcTfrU6Tx+bh4OCSySa0ylqmQYQdAqQCKwYw4vdzVYQm6s1Hka0b6bMG7iFk8mJ Ol9wdWdfn85ACp5218kOFpLE3smrz04XRc03w= X-Google-DKIM-Signature: v=1; a=rsa-sha256; c=relaxed/relaxed; d=1e100.net; s=20221208; t=1692165606; x=1692770406; h=cc:to:from:subject:message-id:date:x-gm-message-state:from:to:cc :subject:date:message-id:reply-to; bh=S5S9dsEmV+PU9uJNacDxQIfEtZItN4LTSt0dUDI+8Q0=; b=MXgdTUVtXePGpY3sLpFH1f+i89AE3PkaMZyygbLNrA60CncejZlDSwWw2FXOFSLGtM O/eD+mhFekuiLJwo1HyRq2ZWC6DiCkL4Ht06cXNKN6KNzkRdwksnRvSvv43w+zKozd+b 5Pltq5ykqvjfFHZbBFIAH/5Pk9ANkvniWiV+8EAXJimyqONgTfojxhIJEmNFXjzBtJG9 v2IZ1A5eM2msM2HBmVXyA9CecHClu6TbHEHbdBNfwUyrx9SQIZhfMjKOrFJ29tybZM/p Dx+qvRMIxOHUG4pLcsYfW3sdWw7TuD45OWah/ef1cW9j++HvZHiV2g2Jkojk5AekbCCm JDUQ== X-Gm-Message-State: AOJu0YwnC5K/3jwRMHoaFDELCmFp8TZpVpnLVk1S62XR7+gVVSIY6mYs 5Uz9Dlo/JuLpiArqbBhJCoI9pri8Y/gYxuzKIEAThhpWMEm0wy4lTpNS4cZVVZxgBw== X-Google-Smtp-Source: AGHT+IF/51+gEkS6sDtHJgDQC7r4h3RYaAtn0EOFPZRjITsT8yLV3casF1v8X4/TFtes7zMXb5hM4wE1ubQy X-Received: by 2002:a0d:cfc7:0:b0:58a:83cd:115d with SMTP id r190-20020a0dcfc7000000b0058a83cd115dmr760904ywd.50.1692165606801; Tue, 15 Aug 2023 23:00:06 -0700 (PDT) Received: from postal.iol.unh.edu (postal.iol.unh.edu. [2606:4100:3880:1234::84]) by smtp-relay.gmail.com with ESMTPS id d83-20020a814f56000000b00585e3d2ddccsm1046751ywb.21.2023.08.15.23.00.06 (version=TLS1_2 cipher=ECDHE-ECDSA-AES128-GCM-SHA256 bits=128/128); Tue, 15 Aug 2023 23:00:06 -0700 (PDT) X-Relaying-Domain: iol.unh.edu Date: Tue, 15 Aug 2023 23:00:06 -0700 (PDT) Message-ID: <64dc65e6.810a0220.21eaa.6f5bSMTPIN_ADDED_MISSING@mx.google.com> Received: from [172.21.0.3] (unknown [172.18.0.240]) by postal.iol.unh.edu (Postfix) with ESMTP id 717126052471; Wed, 16 Aug 2023 02:00:06 -0400 (EDT) Subject: |SUCCESS| [GIT MASTER] 89133ca5b161036ace8fee04dd39ca94533fffc9 From: dpdklab@iol.unh.edu To: Test Report Cc: dpdk-test-reports@iol.unh.edu, Xueming Li , Christian Ehrhardt , Kevin Traynor , Luca Boccassi Content-Type: text/plain X-BeenThere: test-report@dpdk.org X-Mailman-Version: 2.1.29 Precedence: list List-Id: automatic DPDK test reports List-Unsubscribe: , List-Archive: List-Post: List-Help: List-Subscribe: , Errors-To: test-report-bounces@dpdk.org _Testing PASS_ Branch: tags/v21.11 89133ca5b161036ace8fee04dd39ca94533fffc9 --> testing pass Test environment and result as below: +-----------------+----------+ | Environment | abi_test | +=================+==========+ | Debian Buster | PASS | +-----------------+----------+ | CentOS Stream 8 | PASS | +-----------------+----------+ | Fedora 38 | PASS | +-----------------+----------+ Debian Buster Kernel: 5.4.0-122-generic Compiler: gcc 8.3.0-6 CentOS Stream 8 Kernel: 4.18.0-240.10.1.el8_3.x86_64 Compiler: gcc 8.4.1 20200928 Fedora 38 Kernel: Depends on container host Compiler: clang 16.0.3 To view detailed results, visit: https://lab.dpdk.org/results/dashboard/tarballs/25833/ UNH-IOL DPDK Community Lab To manage your email subscriptions, visit: https://lab.dpdk.org/results/dashboard/preferences/subscriptions/